{"text_format":"1","workbook":"xlsx","n_sheets":22,"sheets":["Indice","B.DATOS (GASTOS)","B.DATOS (INGRESOS)","F.01","F.02","F.03","F.04","F.06","F.05","F.07","F.08","F.09","F.10","F.11","F.12","F.13","F.14","F.15","F.16","F.17","F.18","Hoja3"],"not_rendered":{"charts":0,"images":0,"macros":0,"external_links":3,"defined_names":197,"comments":1,"pivot_tables":0},"unopened":[],"bounds":{"document_bytes":16777216,"sheet_cells":100000,"rows_first":2000,"rows_last":500,"rows_between":2000,"halvings":0,"cell_chars":16384,"cell_head_chars":4096},"cells_cut":0,"cells_raw":0,"read":"whole","date_system":"1900"}

{"sheet":"Indice","index":0,"n_rows":32,"n_cols":10,"rows_kept":32,"cut":false,"hidden":false,"merged":[[1,3,1,7],[2,3,2,7]]}
[]
[null,null,null,"     INDICE DE FORMULARIOS PROYECTO DE PRESUPUESTO 2020"]
[null,null,null,"FORMULARIOS PARA SUSTENTAR LA PROGRAMACION Y FORMULACION DEL PROYECTO DE PRESUPUESTO 2020"]
[]
[null,null,null,"FORMATO","DESCRIPCION DE FORMATO","PRESUP.","PLANIFIC.","ORIGEN"]
[null,null,null," - INDICADORES INSTITUCIONALES"]
[null,"Formul. Nº 4: ",null,"FORMATO Nº 1: ","INDICADORES DE GESTION SEGÚN OBJETIVOS ESTRATEGICOS INSTITUCIONALES AL 2021",null,"X"]
[]
[null,null,null," - DISTRIBUCION DEL GASTO"]
[null,null,null,"FORMATO Nº 2: ","DISTRIBUCION DEL PRESUPUESTO POR CATEGORIA PRESUPUESTAL 2018, 2019 Y PROYECTO 2020","KOKO BASE.DATOS"]
[null,null,null,"FORMATO Nº 3: ","DISTRIBUCION DEL PRESUPUESTO POR FUENTE DE FINANCIAMIENTO 2018, 2019 Y PROYECTO 2020","KOKO BASE.DATOS",null,null,"PIA 2018-2019 CON ACTA DEL MEF, PIM PROYECTADO, 2020 MONTO QUE SE ASIGNE"]
[null,null,null,"FORMATO Nº 4: ","DISTRIBUCION DEL GASTO POR UNIDADES EJECUTORAS /ENTIDAD PUBLICA Y FUENTES DE FINANCIAMIENTO - PROYECTO 2020","KOKO BASE.DATOS",null,null,"SE ACTUALIZA AUTOMATICAMENTE CON LA BASE DE GATOS DE GASTOS   (COMPLETO)","COMPLETO"]
[null,null,null,"FORMATO Nº 5: ","DISTRIBUCION DEL PRESUPUESTO POR PROGRAMAS PRESUPUESTAL 2018, 2019 Y 2020","KOKO BASE.DATOS",null,"MELISSA"]
[null,"Formul. Nº 11: ",null,"FORMATO Nº 6: ","PROGRAMAS SOCIALES PRIORIZADOS SEGÚN EL CICLO DE VIDA POR FUENTE DE FINANCIAMIENTO 2018, 2019 y PROYECTO 2020",null,"Cesar"]
[null,"Formul. Nº 12: ",null,"FORMATO Nº 7: ","RESUMEN POR GRUPO GENERICO Y FUENTES DE FINANCIAMIENTO PROYECTO 2020.","KOKO BASE.DATOS",null,null,"SE ACTUALIZA AUTOMATICAMENTE CON LA BASE DE GATOS DE GASTOS   (COMPLETO)","COMPLETO"]
[null,"Formul. Nº 15: ",null,"FORMATO Nº 8: ","RESUMEN DE PRESUPUESTO POR FUNCIONES PIA 2018, 2019 y PROYECTO 2020","KOKO DIGITADO",null,"MELISSA","INFORMACION DE MELISSA VERIFICANDO LOS PIA DE LOS 2 AÑOS ANTERIORES","COMPLETO"]
[]
[null,null,null," - GASTO DE PERSONAL"]
[null,"Formul. Nº 18: ",null,"FORMATO Nº 9: ","COMPARATIVO DE NUMERO DE PLAZAS EN EL PRESUPUESTO 2018, 2019 y PROYECTO 2020",null,"Richard","R.U."]
[null,"Formul. Nº 21: ",null,"FORMATO Nº 10: ","INFORMACION DE REMUNERACIONES Y NUMERO DE PLAZAS-PRESUPUESTO 2018, 2019 y PROYECTO 2020",null,"LoloC","MELISSA"]
[null,"Formul. Nº 22: ",null,"FORMATO Nº 11: ","INGRESOS MENSUALES POR PERIODO DEL PERSONAL ACTIVO-COMPARATIVO PRESUPUESTO 2018, 2019 y PROYECTO 2020",null,"Ricardo","R.U."]
[]
[null,null,null," - GASTO EN BIENES Y SERVICIOS"]
[null,"Formul. Nº 26: ",null,"FORMATO Nº 12: ","ASIGNACION DE BIENES Y SERVICIOS - COMPARATIVO PRESUPUESTO 2018, 2019 y PROYECTO 2020",null,"Gaston"]
[null,"Formul. Nº 28: ",null,"FORMATO Nº 13: ","CONTRATOS DE OBRAS SUSCRITOS EN LOS AÑOS 2018 y 2019",null,"Contrat."]
[null,"Formul. Nº 29: ",null,"FORMATO Nº 14: ","PRINCIPALES ADQUISICIONES DE BIENES Y SERVICIOS - PRESUPUESTO 2018, 2019 y PROYECTO 2020",null,"Irma","R.U."]
[null,null,null,"FORMATO Nº 15: ","DETALLE DE CONSULTORIAS PERSONAS JURIDICAS Y NATURALES - PRESUPUESTO 2018, 2019 Y PROYECTO 2020"]
[null,"Formul. Nº 32:  ",null,"FORMATO Nº 16: ","TESORERIA - RESUMEN POR GRUPO GENERICO Y FUENTES DE FINANCIAMIENTO 2018 y 2019",null,"Lolo","R.U."]
[]
[null,null,null," - OTROS"]
[null,"Formul. Nº 34: ",null,"FORMATO Nº 17: ","NOMBRE E INGRESOS MENSUALES DE PERSONAL CONTRATADO FUERA DEL PAP EN LOS AÑOS FISCALES 2018 y 2019",null,"Keyla"]
[null,"Formul. Nº 36: ",null,"FORMATO Nº 18: ","ALQUILER DE INMUEBLES EN LOS AÑOS 2018 y 2019",null,"Carolina","R.U."]

{"sheet":"B.DATOS (GASTOS)","index":1,"n_rows":378,"n_cols":24,"rows_kept":378,"cut":false,"hidden":false,"merged":[[335,2,335,4],[347,2,347,4],[278,1,278,12],[282,1,285,1],[282,2,282,6],[282,7,282,9],[282,10,282,11],[282,12,285,12],[275,1,275,12],[276,1,276,12],[277,1,277,12],[228,1,231,1],[228,2,228,6],[228,7,228,9],[228,10,228,11],[228,12,231,12],[228,18,231,18],[228,21,230,22],[174,23,177,23],[221,1,221,12],[222,1,222,12],[223,1,223,12],[224,1,224,12],[228,23,231,23],[228,16,230,17],[226,15,226,18],[226,20,226,23],[172,15,172,18],[172,20,172,23],[174,1,177,1],[174,2,174,6],[174,7,174,9],[174,10,174,11],[174,12,177,12],[174,16,176,17],[174,18,177,18],[174,21,176,22],[170,1,170,12],[116,1,116,12],[118,15,118,18],[118,20,118,23],[120,1,123,1],[120,2,120,6],[120,7,120,9],[120,10,120,11],[120,12,123,12],[120,16,122,17],[120,18,123,18],[120,21,122,22],[120,23,123,23],[167,1,167,12],[168,1,168,12],[169,1,169,12],[65,21,67,22],[65,23,68,23],[113,1,113,12],[114,1,114,12],[115,1,115,12],[65,1,68,1],[65,2,65,6],[65,7,65,9],[65,10,65,11],[65,12,68,12],[65,16,67,17],[65,18,68,18],[63,20,63,23],[3,1,3,12],[4,1,4,12],[5,1,5,12],[6,1,6,12],[10,1,13,1],[10,2,10,6],[10,7,10,9],[10,10,10,11],[10,12,13,12],[58,1,58,12],[59,1,59,12],[60,1,60,12],[61,1,61,12],[63,15,63,18]]}
[null,null,2.1,2.2000000000000002,2.2999999999999998,2.5,null,2.4,2.6,null,2.8]
[]
[]
[null,"FORMULACION PRESUPUESTO AÑO 2020"]
[null,"TECHOS PRESUPUESTALES DE EGRESOS POR UNIDADES EJECUTORAS"]
[null,"PLIEGO : 451 GOBIERNO REGIONAL DEL DEPARTAMENTO DE LA LIBERTAD"]
[null,"( En Nuevos Soles )"]
[]
[null,"FTE.FTO. : 00 RECURSOS ORDINARIOS"]
[]
[null,"UNIDADES EJECUTORAS","GASTOS CORRIENTES",null,null,null,null,"GASTOS DE CAPITAL",null,null,"SERVICIO DE LA DEUDA",null,"TOTAL"]
[null,null,2.1,2.2000000000000002,2.2999999999999998,2.5,null,2.4,2.6,null,2.8]
[null,null,"PERS. Y OBLIG.","PENSIONES Y","BIENES Y","OTROS","SUBTOTAL","DONACIONES","ADQ. ACTIVOS","SUBTOTAL","SERV.DEUDA","SUBTOTAL"]
[null,null,"SOCIALES","OTRAS PREST","SERVICIOS","GASTOS","GTO. CTE","Y TRANSFER.","NO FINCIEROS","GTO. CAP","PUBLICA","GTO. CAP"]
[null,"001 SEDE LA LIBERTAD",34754997,25383163,39461632,527386,{"$f":"SUM(C15:F15)","v":100127178},null,37674422,{"$f":"+H15+I15","v":37674422},null,{"$f":"+K15","v":0},{"$f":"+G15+J15+L15","v":137801600}]
[null,"005 PROYECTO ESPEC.CHAVIMOCHIC",null,null,null,null,{"$f":"SUM(C16:F16)","v":0},null,17000000,{"$f":"+H16+I16","v":17000000},null,{"$f":"+K16","v":0},{"$f":"+G16+J16+L16","v":17000000}]
[null,"100 AGRICULTURA LA LIBERTAD",3313959,5931172,1863768,13000,{"$f":"SUM(C17:F17)","v":11121899},null,null,{"$f":"+H17+I17","v":0},null,{"$f":"+K17","v":0},{"$f":"+G17+J17+L17","v":11121899}]
[null,"200 TRANSPORTES LA LIBERTAD",2165700,1740136,16028871,null,19934707,null,null,0,null,0,19934707]
[]
[null,"EDUCACION",{"$f":"SUM(C21:C37)","v":880347566},134277966,53313255,55084,1067993871,0,0,0,0,0,1067993871]
[null,"300 EDUCACION LA LIBERTAD",42267811,110415265,4839324,null,{"$f":"SUM(C21:F21)","v":157522400},null,null,{"$f":"+H21+I21","v":0},null,{"$f":"+K21","v":0},{"$f":"+G21+J21+L21","v":157522400}]
[null,"301 EDUCACION CHEPEN",47444541,4350145,2324580,null,54119266,null,null,0,null,0,54119266]
[null,"302 EDUCACION PACASMAYO",53232299,5640427,2891127,null,61763853,null,null,0,null,0,61763853]
[null,"303 EDUCACION ASCOPE",66574635,4830711,3824626,25085,75255057,null,null,0,null,0,75255057]
[null,"304 EDUCACION GRAN CHIMU",29051802,994933,1651122,10000,31707857,null,null,0,null,0,31707857]
[null,"305 EDUCACION OTUZCO",57276878,1536850,4465400,null,63279128,null,null,0,null,0,63279128]
[null,"306 EDUCACION SANTIAGO DE CHUCO",43943837,1304282,2598349,null,47846468,null,null,0,null,0,47846468]
[null,"307 EDUCACION SANCHEZ CARRION",109132356,2130928,7080810,null,118344094,null,null,0,null,0,118344094]
[null,"308 EDUCACION PATAZ",69070662,1433355,5074131,null,75578148,null,null,0,null,0,75578148]
[null,"309 EDUCACION BOLIVAR",14505924,438219,1487452,null,16431595,null,null,0,null,0,16431595]
[null,"310 COLEGIO MILITAR RAMON CASTILLA",3002507,20129,901067,1201,3924904,null,null,0,null,0,3924904]
[null,"311 EDUCACION JULCAN",29857953,113590,2425044,null,32396587,null,null,0,null,0,32396587]
[null,"312 EDUCACION VIRU",34379553,39781,2366381,null,36785715,null,null,0,null,0,36785715]
[null,"313 EDUCACION EL PORVENIR",67857630,304250,3283938,15000,71460818,null,null,0,null,0,71460818]
[null,"314 EDUCACION LA ESPERANZA",68358971,211808,2575459,null,71146238,null,null,0,null,0,71146238]
[null,"315 EDUCACION TRUJILLO NOR OESTE",67339561,294297,2709417,null,70343275,null,null,0,null,0,70343275]
[null,"316 EDUCACION TRUJILLO SUR ESTE",77050646,218996,2815028,3798,80088468,null,null,0,null,0,80088468]
[null,null,null,null,null,null,null,null,null,null,null,{"$f":"+K38","v":0},{"$f":"+G38+J38+L38","v":0}]
[null,"SALUD",{"$f":"SUM(C40:C54)","v":278271765},22300240,71221761,181126,371974892,0,144379,144379,0,0,372119271]
[null,"400 SALUD LA LIBERTAD",26213679,2896508,12347615,181126,{"$f":"SUM(C40:F40)","v":41638928},null,36744,{"$f":"+H40+I40","v":36744},null,{"$f":"+K40","v":0},{"$f":"+G40+J40+L40","v":41675672}]
[null,"401 INSTIT. REG.DE OFTALMOLOGIA",3864202,null,1417478,null,5281680,null,null,0,null,0,5281680]
[null,"402 SALUD NORTE ASCOPE",43888815,6117557,5577479,null,55583851,null,null,0,null,0,55583851]
[null,"403 SALUD TRUJILLO SUR OESTE",41532376,9879593,4623962,null,56035931,null,107635,107635,null,0,56143566]
[null,"404 SALUD CHEPEN",14754549,1333940,3773116,null,19861605,null,null,0,null,0,19861605]
[null,"405 SALUD PACASMAYO",16000165,597302,2954040,null,19551507,null,null,0,null,0,19551507]
[null,"406 SALUD SANCHEZ CARRION",14516281,448682,6876138,null,21841101,null,null,0,null,0,21841101]
[null,"407 SALUD SANTIAGO DE CHUCO",7985295,53732,2885071,null,10924098,null,null,0,null,0,10924098]
[null,"408 SALUD OTUZCO",12116698,133789,5918250,null,18168737,null,null,0,null,0,18168737]
[null,"409 SALUD TRUJILLO ESTE",60942531,839137,12858208,null,74639876,null,null,0,null,0,74639876]
[null,"410 INSTIT.REG.DE ENFERM.NEOPLASICAS",11170740,null,5505842,null,16676582,null,null,0,null,0,16676582]
[null,"411 SALUD JULCAN",3324969,null,891557,null,4216526,null,null,0,null,0,4216526]
[null,"412 SALUD VIRU",6901280,null,1960199,null,8861479,null,null,0,null,0,8861479]
[null,"413 SALUD ASCOPE",11265505,null,2516907,null,13782412,null,null,0,null,0,13782412]
[null,"414 SALUD GRAN CHIMU",3794680,null,1115899,null,4910579,null,null,0,null,0,4910579]
[null,"TOTAL PLIEGO",{"$f":"+C15+C16+C17+C18+C20+C39","v":1198853987},189632677,181889287,776596,1571152547,0,54818801,54818801,0,0,1625971348]
[]
[]
[]
[null,{"$f":"+B4","v":"FORMULACION PRESUPUESTO AÑO 2020"}]
[null,{"$f":"+B5","v":"TECHOS PRESUPUESTALES DE EGRESOS POR UNIDADES EJECUTORAS"}]
[null,{"$f":"+B6","v":"PLIEGO : 451 GOBIERNO REGIONAL DEL DEPARTAMENTO DE LA LIBERTAD"}]
[null,"( En Nuevos Soles )"]
[null,null,null,null,null,null,null,null,null,null,null,null,null,null,null,null,{"$f":"+O63-M63","v":0}]
[null,"FTE.FTO. : 09 RECURSOS DIRECTAMENTE RECAUDADOS",null,null,null,null,null,null,null,null,null,null,null,null,null,"FORMULACION 2018",null,null,null,null,"SALDO SEGÚN ACTA 2017"]
[null,null,null,null,null,null,null,null,null,null,null,null,null,null,null,null,{"$f":"+O65-M65","v":0},null,null,null,null,{"$f":"+T65-R65","v":0}]
[null,"UNIDADES EJECUTORAS","GASTOS CORRIENTES",null,null,null,null,"GASTOS DE CAPITAL",null,null,"SERVICIO DE LA DEUDA",null,"TOTAL",null,null,null,"MONTOS APROBADOS EN EL PIA QUE INCLUYE SALDOS DE BALANCE PROYECTADO",null,"TOTAL",null,null,"MONTOS DETERM INADOS SEGÚN ACTA DE CONCILIACION POR UNIDADES EJECUTORAS AÑO 2017",null,"TOTAL"]
[null,null,2.1,2.2000000000000002,2.2999999999999998,2.5,null,2.4,2.6,null,2.8]
[null,null,"PERS. Y OBLIG.","PENSIONES Y","BIENES Y","OTROS","SUBTOTAL","DONACIONES","ADQ. ACTIVOS","SUBTOTAL","SERV.DEUDA","SUBTOTAL"]
[null,null,"SOCIALES","OTRAS PREST","SERVICIOS","GASTOS","GTO. CTE","Y TRANSFER.","NO FINCIEROS","GTO. CAP","PUBLICA","GTO. CAP",null,null,null,null,"ASIGNACION","SALDO BAL.",null,null,null,"AUTORIZADO","SALDO ACTA"]
[null,"001 SEDE LA LIBERTAD",109283,null,6905330,3120,{"$f":"SUM(C70:F70)","v":7017733},null,null,{"$f":"+H70+I70","v":0},null,{"$f":"+K70","v":0},{"$f":"+G70+J70+L70","v":7017733},null,null,"001",{"$f":"+'B.DATOS (INGRESOS)'!Q14","v":5567213},{"$f":"+'B.DATOS (INGRESOS)'!R14","v":1450520},{"$f":"SUM(Q70:R70)","v":7017733},null,"001",{"$f":"+R70","v":1450520},null,{"$f":"+W70-V70","v":-1450520}]
[null,"005 PROYECTO ESPEC.CHAVIMOCHIC",null,null,null,null,{"$f":"SUM(C71:F71)","v":0},null,33738657,{"$f":"+H71+I71","v":33738657},20445916,{"$f":"+K71","v":20445916},{"$f":"+G71+J71+L71","v":54184573},null,null,"005",{"$f":"+'B.DATOS (INGRESOS)'!Q15","v":54184573},{"$f":"+'B.DATOS (INGRESOS)'!R15","v":0},{"$f":"SUM(Q71:R71)","v":54184573},null,"005",{"$f":"+R71","v":0},null,{"$f":"+W71-V71","v":0}]
[null,"100 AGRICULTURA LA LIBERTAD",null,null,221565,null,{"$f":"SUM(C72:F72)","v":221565},null,null,{"$f":"+H72+I72","v":0},null,{"$f":"+K72","v":0},{"$f":"+G72+J72+L72","v":221565},null,null,"100",{"$f":"+'B.DATOS (INGRESOS)'!Q16","v":221565},{"$f":"+'B.DATOS (INGRESOS)'!R16","v":0},{"$f":"SUM(Q72:R72)","v":221565},null,"100",{"$f":"+R72","v":0},null,{"$f":"+W72-V72","v":0}]
[null,"200 TRANSPORTES LA LIBERTAD",null,null,5304528,null,{"$f":"SUM(C73:F73)","v":5304528},null,null,{"$f":"+H73+I73","v":0},null,{"$f":"+K73","v":0},{"$f":"+G73+J73+L73","v":5304528},null,null,"200",{"$f":"+'B.DATOS (INGRESOS)'!Q17","v":4737368},{"$f":"+'B.DATOS (INGRESOS)'!R17","v":567160},{"$f":"SUM(Q73:R73)","v":5304528},null,"200",{"$f":"+R73","v":567160},null,{"$f":"+W73-V73","v":-567160}]
[null,null,null,null,null,null,null,null,null,null,null,null,null,null,null,null,null,null,{"$f":"SUM(Q74:R74)","v":0},null,null,{"$f":"+R74","v":0},null,{"$f":"+W74-V74","v":0}]
[null,"EDUCACION",{"$f":"SUM(C76:C92)","v":0},0,2506182,0,2506182,0,54040,54040,0,0,2560222,null,null,null,{"$f":"SUM(Q76:Q92)","v":2519802},{"$f":"SUM(R76:R92)","v":40420},{"$f":"SUM(S76:S92)","v":2560222},null,null,{"$f":"SUM(V76:V92)","v":40420},{"$f":"SUM(W76:W92)","v":0},{"$f":"SUM(X76:X92)","v":-40420}]
[null,"300 EDUCACION LA LIBERTAD",null,null,406224,null,{"$f":"SUM(C76:F76)","v":406224},null,15000,{"$f":"+H76+I76","v":15000},null,{"$f":"+K76","v":0},{"$f":"+G76+J76+L76","v":421224},null,null,"300",{"$f":"+'B.DATOS (INGRESOS)'!Q20","v":421224},{"$f":"+'B.DATOS (INGRESOS)'!R20","v":0},{"$f":"SUM(Q76:R76)","v":421224},null,"300",{"$f":"+R76","v":0},null,{"$f":"+W76-V76","v":0}]
[null,"301 EDUCACION CHEPEN",null,null,4223,null,4223,null,null,0,null,0,4223,null,null,"301",{"$f":"+'B.DATOS (INGRESOS)'!Q21","v":4223},{"$f":"+'B.DATOS (INGRESOS)'!R21","v":0},4223,null,"301",0,null,0]
[null,"302 EDUCACION PACASMAYO",null,null,10443,null,10443,null,null,0,null,0,10443,null,null,"302",{"$f":"+'B.DATOS (INGRESOS)'!Q22","v":10443},{"$f":"+'B.DATOS (INGRESOS)'!R22","v":0},10443,null,"302",0,null,0]
[null,"303 EDUCACION ASCOPE",null,null,76978,null,76978,null,null,0,null,0,76978,null,null,"303",{"$f":"+'B.DATOS (INGRESOS)'!Q23","v":76978},{"$f":"+'B.DATOS (INGRESOS)'!R23","v":0},76978,null,"303",0,null,0]
[null,"304 EDUCACION GRAN CHIMU",null,null,9336,null,9336,null,null,0,null,0,9336,null,null,"304",{"$f":"+'B.DATOS (INGRESOS)'!Q24","v":9336},{"$f":"+'B.DATOS (INGRESOS)'!R24","v":0},9336,null,"304",0,null,0]
[null,"305 EDUCACION OTUZCO",null,null,15000,null,15000,null,null,0,null,0,15000,null,null,"305",{"$f":"+'B.DATOS (INGRESOS)'!Q25","v":15000},{"$f":"+'B.DATOS (INGRESOS)'!R25","v":0},15000,null,"305",0,null,0]
[null,"306 EDUCACION SANTIAGO DE CHUCO",null,null,28772,null,28772,null,null,0,null,0,28772,null,null,"306",{"$f":"+'B.DATOS (INGRESOS)'!Q26","v":28772},{"$f":"+'B.DATOS (INGRESOS)'!R26","v":0},28772,null,"306",0,null,0]
[null,"307 EDUCACION SANCHEZ CARRION",null,null,114573,null,114573,null,null,0,null,0,114573,null,null,"307",{"$f":"+'B.DATOS (INGRESOS)'!Q27","v":114573},{"$f":"+'B.DATOS (INGRESOS)'!R27","v":0},114573,null,"307",0,null,0]
[null,"308 EDUCACION PATAZ",null,null,77352,null,77352,null,null,0,null,0,77352,null,null,"308",{"$f":"+'B.DATOS (INGRESOS)'!Q28","v":77352},{"$f":"+'B.DATOS (INGRESOS)'!R28","v":0},77352,null,"308",0,null,0]
[null,"309 EDUCACION BOLIVAR",null,null,3640,null,3640,null,null,0,null,0,3640,null,null,"309",{"$f":"+'B.DATOS (INGRESOS)'!Q29","v":3640},{"$f":"+'B.DATOS (INGRESOS)'!R29","v":0},3640,null,"309",0,null,0]
[null,"310 COLEGIO MILITAR RAMON CASTILLA",null,null,1474450,null,1474450,null,39040,39040,null,0,1513490,null,null,"310",{"$f":"+'B.DATOS (INGRESOS)'!Q30","v":1475650},{"$f":"+'B.DATOS (INGRESOS)'!R30","v":37840},1513490,null,"310",37840,null,-37840]
[null,"311 EDUCACION JULCAN",null,null,14910,null,14910,null,null,0,null,0,14910,null,null,"311",{"$f":"+'B.DATOS (INGRESOS)'!Q31","v":14910},{"$f":"+'B.DATOS (INGRESOS)'!R31","v":0},14910,null,"311",0,null,0]
[null,"312 EDUCACION VIRU",null,null,41130,null,41130,null,null,0,null,0,41130,null,null,"312",{"$f":"+'B.DATOS (INGRESOS)'!Q32","v":41130},{"$f":"+'B.DATOS (INGRESOS)'!R32","v":0},41130,null,"312",0,null,0]
[null,"313 EDUCACION EL PORVENIR",null,null,68120,null,68120,null,null,0,null,0,68120,null,null,"313",{"$f":"+'B.DATOS (INGRESOS)'!Q33","v":65540},{"$f":"+'B.DATOS (INGRESOS)'!R33","v":2580},68120,null,"313",2580,null,-2580]
[null,"314 EDUCACION LA ESPERANZA",null,null,47358,null,47358,null,null,0,null,0,47358,null,null,"314",{"$f":"+'B.DATOS (INGRESOS)'!Q34","v":47358},{"$f":"+'B.DATOS (INGRESOS)'!R34","v":0},47358,null,"314",0,null,0]
[null,"315 EDUCACION TRUJILLO NOR OESTE",null,null,76641,null,76641,null,null,0,null,0,76641,null,null,"315",{"$f":"+'B.DATOS (INGRESOS)'!Q35","v":76641},{"$f":"+'B.DATOS (INGRESOS)'!R35","v":0},76641,null,"315",0,null,0]
[null,"316 EDUCACION TRUJILLO SUR ESTE",null,null,37032,null,37032,null,null,0,null,0,37032,null,null,"316",{"$f":"+'B.DATOS (INGRESOS)'!Q36","v":37032},{"$f":"+'B.DATOS (INGRESOS)'!R36","v":0},37032,null,"316",0,null,0]
[null,null,null,null,null,null,null,null,null,null,null,0,0,null,null,null,null,null,0,null,null,0,null,0]
[null,"SALUD",{"$f":"SUM(C95:C109)","v":0},0,27457733,551368,28009101,0,66852,66852,0,0,28075953,null,null,null,{"$f":"SUM(Q95:Q109)","v":24901065},{"$f":"SUM(R95:R109)","v":3174888},{"$f":"SUM(S95:S109)","v":28075953},null,null,{"$f":"SUM(V95:V109)","v":3174888},{"$f":"SUM(W95:W109)","v":0},{"$f":"SUM(X95:X109)","v":-3174888}]
[null,"400 SALUD LA LIBERTAD",null,null,2237590,551368,{"$f":"SUM(C95:F95)","v":2788958},null,35052,{"$f":"+H95+I95","v":35052},null,{"$f":"+K95","v":0},{"$f":"+G95+J95+L95","v":2824010},null,null,"400",{"$f":"+'B.DATOS (INGRESOS)'!Q39","v":2266773},{"$f":"+'B.DATOS (INGRESOS)'!R39","v":557237},{"$f":"SUM(Q95:R95)","v":2824010},null,"400",{"$f":"+R95","v":557237},null,{"$f":"+W95-V95","v":-557237}]
[null,"401 INSTIT. REG.DE OFTALMOLOGIA",null,null,5251198,null,5251198,null,null,0,null,0,5251198,null,null,"401",{"$f":"+'B.DATOS (INGRESOS)'!Q40","v":4614037},{"$f":"+'B.DATOS (INGRESOS)'!R40","v":637161},5251198,null,"401",637161,null,-637161]
[null,"402 SALUD NORTE ASCOPE",null,null,8007845,null,8007845,null,31800,31800,null,0,8039645,null,null,"402",{"$f":"+'B.DATOS (INGRESOS)'!Q41","v":6771408},{"$f":"+'B.DATOS (INGRESOS)'!R41","v":1268237},8039645,null,"402",1268237,null,-1268237]
[null,"403 SALUD TRUJILLO SUR OESTE",null,null,4212462,null,4212462,null,null,0,null,0,4212462,null,null,"403",{"$f":"+'B.DATOS (INGRESOS)'!Q42","v":3985411},{"$f":"+'B.DATOS (INGRESOS)'!R42","v":227051},4212462,null,"403",227051,null,-227051]
[null,"404 SALUD CHEPEN",null,null,724369,null,724369,null,null,0,null,0,724369,null,null,"404",{"$f":"+'B.DATOS (INGRESOS)'!Q43","v":724369},{"$f":"+'B.DATOS (INGRESOS)'!R43","v":0},724369,null,"404",0,null,0]
[null,"405 SALUD PACASMAYO",null,null,391608,null,391608,null,null,0,null,0,391608,null,null,"405",{"$f":"+'B.DATOS (INGRESOS)'!Q44","v":391608},{"$f":"+'B.DATOS (INGRESOS)'!R44","v":0},391608,null,"405",0,null,0]
[null,"406 SALUD SANCHEZ CARRION",null,null,255212,null,255212,null,null,0,null,0,255212,null,null,"406",{"$f":"+'B.DATOS (INGRESOS)'!Q45","v":255212},{"$f":"+'B.DATOS (INGRESOS)'!R45","v":0},255212,null,"406",0,null,0]
[null,"407 SALUD SANTIAGO DE CHUCO",null,null,31041,null,31041,null,null,0,null,0,31041,null,null,"407",{"$f":"+'B.DATOS (INGRESOS)'!Q46","v":31041},{"$f":"+'B.DATOS (INGRESOS)'!R46","v":0},31041,null,"407",0,null,0]
[null,"408 SALUD OTUZCO",null,null,240075,null,240075,null,null,0,null,0,240075,null,null,"408",{"$f":"+'B.DATOS (INGRESOS)'!Q47","v":240075},{"$f":"+'B.DATOS (INGRESOS)'!R47","v":0},240075,null,"408",0,null,0]
[null,"409 SALUD TRUJILLO ESTE",null,null,3733602,null,3733602,null,null,0,null,0,3733602,null,null,"409",{"$f":"+'B.DATOS (INGRESOS)'!Q48","v":3433602},{"$f":"+'B.DATOS (INGRESOS)'!R48","v":300000},3733602,null,"409",300000,null,-300000]
[null,"410 INSTIT.REG.DE ENFERM.NEOPLASICAS",0,null,1554121,null,1554121,null,null,0,null,0,1554121,null,null,"410",{"$f":"+'B.DATOS (INGRESOS)'!Q49","v":1370919},{"$f":"+'B.DATOS (INGRESOS)'!R49","v":183202},1554121,null,"410",183202,null,-183202]
[null,"411 SALUD JULCAN",null,null,2000,null,2000,null,null,0,null,0,2000,null,null,"411",{"$f":"+'B.DATOS (INGRESOS)'!Q50","v":0},{"$f":"+'B.DATOS (INGRESOS)'!R50","v":2000},2000,null,"411",2000,null,-2000]
[null,"412 SALUD VIRU",null,null,526161,null,526161,null,null,0,null,0,526161,null,null,"412",{"$f":"+'B.DATOS (INGRESOS)'!Q51","v":526161},{"$f":"+'B.DATOS (INGRESOS)'!R51","v":0},526161,null,"412",0,null,0]
[null,"413 SALUD ASCOPE",null,null,191875,null,191875,null,null,0,null,0,191875,null,null,"413",{"$f":"+'B.DATOS (INGRESOS)'!Q52","v":191875},{"$f":"+'B.DATOS (INGRESOS)'!R52","v":0},191875,null,"413",0,null,0]
[null,"414 SALUD GRAN CHIMU",null,null,98574,null,98574,null,null,0,null,0,98574,null,null,"414",{"$f":"+'B.DATOS (INGRESOS)'!Q53","v":98574},{"$f":"+'B.DATOS (INGRESOS)'!R53","v":0},98574,null,"414",0,null,0]
[null,"TOTAL PLIEGO",{"$f":"+C70+C71+C72+C73+C75+C94","v":109283},0,42395338,554488,43059109,0,33859549,33859549,20445916,20445916,97364574,null,null,null,{"$f":"+Q70+Q71+Q72+Q73+Q75+Q94","v":92131586},{"$f":"+R70+R71+R72+R73+R75+R94","v":5232988},{"$f":"+S70+S71+S72+S73+S75+S94","v":97364574},null,null,{"$f":"+V70+V71+V72+V73+V75+V94","v":5232988},{"$f":"+W70+W71+W72+W73+W75+W94","v":0},{"$f":"+X70+X71+X72+X73+X75+X94","v":-5232988}]
[null,null,null,null,null,null,null,null,null,null,null,null,null,null,null,null,null,null,null,null,null,null,{"$f":"+R110","v":5232988}]
[]
[null,null,null,null,null,null,null,null,null,null,null,null,null,null,null,null,null,null,null,null,null,null,{"$f":"+W111-W110","v":5232988}]
[null,{"$f":"+B4","v":"FORMULACION PRESUPUESTO AÑO 2020"}]
[null,{"$f":"+B5","v":"TECHOS PRESUPUESTALES DE EGRESOS POR UNIDADES EJECUTORAS"}]
[null,{"$f":"+B6","v":"PLIEGO : 451 GOBIERNO REGIONAL DEL DEPARTAMENTO DE LA LIBERTAD"}]
[null,"( En Nuevos Soles )"]
[]
[null,"FTE.FTO. : 3  RECURSOS POR OPERACIONES OFICIALES DE CREDITO",null,null,null,null,null,null,null,null,null,null,null,null,null,"FORMULACION 2018",null,null,null,null,"SALDO SEGÚN ACTA 2017"]
[null,null,null,null,null,null,null,null,null,null,null,null,null,null,null,null,{"$f":"+O120-M120","v":0},null,null,null,null,{"$f":"+T120-R120","v":0}]
[null,"UNIDADES EJECUTORAS","GASTOS CORRIENTES",null,null,null,null,"GASTOS DE CAPITAL",null,null,"SERVICIO DE LA DEUDA",null,"TOTAL",null,null,null,"MONTOS APROBADOS EN EL PIA QUE INCLUYE SALDOS DE BALANCE PROYECTADO",null,"TOTAL",null,null,"MONTOS DETERM INADOS SEGÚN ACTA DE CONCILIACION POR UNIDADES EJECUTORAS AÑO 2017",null,"TOTAL"]
[null,null,2.1,2.2000000000000002,2.2999999999999998,2.5,null,2.4,2.6,null,2.8]
[null,null,"PERS. Y OBLIG.","PENSIONES Y","BIENES Y","OTROS","SUBTOTAL","DONACIONES","ADQ. ACTIVOS","SUBTOTAL","SERV.DEUDA","SUBTOTAL"]
[null,null,"SOCIALES","OTRAS PREST","SERVICIOS","GASTOS","GTO. CTE","Y TRANSFER.","NO FINCIEROS","GTO. CAP","PUBLICA","GTO. CAP",null,null,null,null,"ASIGNACION","SALDO BAL.",null,null,null,"AUTORIZADO","SALDO ACTA"]
[null,"001 SEDE LA LIBERTAD",null,null,null,null,{"$f":"SUM(C125:F125)","v":0},null,null,{"$f":"+H125+I125","v":0},null,{"$f":"+K125","v":0},{"$f":"+G125+J125+L125","v":0},null,null,"001",null,null,{"$f":"SUM(Q125:R125)","v":0},null,"001",{"$f":"+R125","v":0},null,{"$f":"+W125-V125","v":0}]
[null,"005 PROYECTO ESPEC.CHAVIMOCHIC",null,null,null,null,{"$f":"SUM(C126:F126)","v":0},null,216867115,{"$f":"+H126+I126","v":216867115},null,{"$f":"+K126","v":0},{"$f":"+G126+J126+L126","v":216867115},null,null,"005",{"$f":"+'B.DATOS (INGRESOS)'!Q69","v":216867115},{"$f":"+'B.DATOS (INGRESOS)'!R69","v":0},{"$f":"SUM(Q126:R126)","v":216867115},null,"005",{"$f":"+R126","v":0},null,{"$f":"+W126-V126","v":0}]
[null,"100 AGRICULTURA LA LIBERTAD",null,null,null,null,{"$f":"SUM(C127:F127)","v":0},null,null,{"$f":"+H127+I127","v":0},null,{"$f":"+K127","v":0},{"$f":"+G127+J127+L127","v":0},null,null,"100",{"$f":"+'B.DATOS (INGRESOS)'!Q70","v":0},{"$f":"+'B.DATOS (INGRESOS)'!R70","v":0},{"$f":"SUM(Q127:R127)","v":0},null,"100",{"$f":"+R127","v":0},null,{"$f":"+W127-V127","v":0}]
[null,"200 TRANSPORTES LA LIBERTAD",null,null,null,null,{"$f":"SUM(C128:F128)","v":0},null,null,{"$f":"+H128+I128","v":0},null,{"$f":"+K128","v":0},{"$f":"+G128+J128+L128","v":0},null,null,"200",{"$f":"+'B.DATOS (INGRESOS)'!Q71","v":0},{"$f":"+'B.DATOS (INGRESOS)'!R71","v":0},{"$f":"SUM(Q128:R128)","v":0},null,"200",{"$f":"+R128","v":0},null,{"$f":"+W128-V128","v":0}]
[null,null,null,null,null,null,null,null,null,null,null,null,null,null,null,null,{"$f":"+'B.DATOS (INGRESOS)'!Q72","v":0},{"$f":"+'B.DATOS (INGRESOS)'!R72","v":0},{"$f":"SUM(Q129:R129)","v":0},null,null,{"$f":"+R129","v":0},null,{"$f":"+W129-V129","v":0}]
[null,"EDUCACION",{"$f":"SUM(C131:C147)","v":0},0,0,0,0,0,0,0,0,0,0,null,null,null,{"$f":"+'B.DATOS (INGRESOS)'!Q73","v":0},{"$f":"+'B.DATOS (INGRESOS)'!R73","v":0},{"$f":"SUM(S131:S147)","v":0},null,null,{"$f":"SUM(V131:V147)","v":0},{"$f":"SUM(W131:W147)","v":0},{"$f":"SUM(X131:X147)","v":0}]
[null,"300 EDUCACION LA LIBERTAD",null,null,null,null,{"$f":"SUM(C131:F131)","v":0},null,null,{"$f":"+H131+I131","v":0},null,{"$f":"+K131","v":0},{"$f":"+G131+J131+L131","v":0},null,null,"300",{"$f":"+'B.DATOS (INGRESOS)'!Q74","v":0},{"$f":"+'B.DATOS (INGRESOS)'!R74","v":0},{"$f":"SUM(Q131:R131)","v":0},null,"300",{"$f":"+R131","v":0},null,{"$f":"+W131-V131","v":0}]
[null,"301 EDUCACION CHEPEN",null,null,null,null,0,null,null,0,null,0,0,null,null,"301",{"$f":"+'B.DATOS (INGRESOS)'!Q75","v":0},{"$f":"+'B.DATOS (INGRESOS)'!R75","v":0},0,null,"301",0,null,0]
[null,"302 EDUCACION PACASMAYO",null,null,null,null,0,null,null,0,null,0,0,null,null,"302",{"$f":"+'B.DATOS (INGRESOS)'!Q76","v":0},{"$f":"+'B.DATOS (INGRESOS)'!R76","v":0},0,null,"302",0,null,0]
[null,"303 EDUCACION ASCOPE",null,null,null,null,0,null,null,0,null,0,0,null,null,"303",{"$f":"+'B.DATOS (INGRESOS)'!Q77","v":0},{"$f":"+'B.DATOS (INGRESOS)'!R77","v":0},0,null,"303",0,null,0]
[null,"304 EDUCACION GRAN CHIMU",null,null,null,null,0,null,null,0,null,0,0,null,null,"304",{"$f":"+'B.DATOS (INGRESOS)'!Q78","v":0},{"$f":"+'B.DATOS (INGRESOS)'!R78","v":0},0,null,"304",0,null,0]
[null,"305 EDUCACION OTUZCO",null,null,null,null,0,null,null,0,null,0,0,null,null,"305",{"$f":"+'B.DATOS (INGRESOS)'!Q79","v":0},{"$f":"+'B.DATOS (INGRESOS)'!R79","v":0},0,null,"305",0,null,0]
[null,"306 EDUCACION SANTIAGO DE CHUCO",null,null,null,null,0,null,null,0,null,0,0,null,null,"306",{"$f":"+'B.DATOS (INGRESOS)'!Q80","v":0},{"$f":"+'B.DATOS (INGRESOS)'!R80","v":0},0,null,"306",0,null,0]
[null,"307 EDUCACION SANCHEZ CARRION",null,null,null,null,0,null,null,0,null,0,0,null,null,"307",{"$f":"+'B.DATOS (INGRESOS)'!Q81","v":0},{"$f":"+'B.DATOS (INGRESOS)'!R81","v":0},0,null,"307",0,null,0]
[null,"308 EDUCACION PATAZ",null,null,null,null,0,null,null,0,null,0,0,null,null,"308",{"$f":"+'B.DATOS (INGRESOS)'!Q82","v":0},{"$f":"+'B.DATOS (INGRESOS)'!R82","v":0},0,null,"308",0,null,0]
[null,"309 EDUCACION BOLIVAR",null,null,null,null,0,null,null,0,null,0,0,null,null,"309",{"$f":"+'B.DATOS (INGRESOS)'!Q83","v":0},{"$f":"+'B.DATOS (INGRESOS)'!R83","v":0},0,null,"309",0,null,0]
[null,"310 COLEGIO MILITAR RAMON CASTILLA",null,null,null,null,0,null,null,0,null,0,0,null,null,"310",{"$f":"+'B.DATOS (INGRESOS)'!Q84","v":0},{"$f":"+'B.DATOS (INGRESOS)'!R84","v":0},0,null,"310",0,null,0]
[null,"311 EDUCACION JULCAN",null,null,null,null,0,null,null,0,null,0,0,null,null,"311",{"$f":"+'B.DATOS (INGRESOS)'!Q85","v":0},{"$f":"+'B.DATOS (INGRESOS)'!R85","v":0},0,null,"311",0,null,0]
[null,"312 EDUCACION VIRU",null,null,null,null,0,null,null,0,null,0,0,null,null,"312",{"$f":"+'B.DATOS (INGRESOS)'!Q86","v":0},{"$f":"+'B.DATOS (INGRESOS)'!R86","v":0},0,null,"312",0,null,0]
[null,"313 EDUCACION EL PORVENIR",null,null,null,null,0,null,null,0,null,0,0,null,null,"313",{"$f":"+'B.DATOS (INGRESOS)'!Q87","v":0},{"$f":"+'B.DATOS (INGRESOS)'!R87","v":0},0,null,"313",0,null,0]
[null,"314 EDUCACION LA ESPERANZA",null,null,null,null,0,null,null,0,null,0,0,null,null,"314",{"$f":"+'B.DATOS (INGRESOS)'!Q88","v":0},{"$f":"+'B.DATOS (INGRESOS)'!R88","v":0},0,null,"314",0,null,0]
[null,"315 EDUCACION TRUJILLO NOR OESTE",null,null,null,null,0,null,null,0,null,0,0,null,null,"315",{"$f":"+'B.DATOS (INGRESOS)'!Q89","v":0},{"$f":"+'B.DATOS (INGRESOS)'!R89","v":0},0,null,"315",0,null,0]
[null,"316 EDUCACION TRUJILLO SUR ESTE",null,null,null,null,0,null,null,0,null,0,0,null,null,"316",{"$f":"+'B.DATOS (INGRESOS)'!Q90","v":0},{"$f":"+'B.DATOS (INGRESOS)'!R90","v":0},0,null,"316",0,null,0]
[null,null,null,null,null,null,null,null,null,null,null,0,0,null,null,null,{"$f":"+'B.DATOS (INGRESOS)'!Q91","v":0},{"$f":"+'B.DATOS (INGRESOS)'!R91","v":0},0,null,null,0,null,0]
[null,"SALUD",{"$f":"SUM(C150:C164)","v":0},0,0,0,0,0,0,0,0,0,0,null,null,null,{"$f":"SUM(Q150:Q164)","v":0},{"$f":"SUM(R150:R164)","v":0},{"$f":"SUM(S150:S164)","v":0},null,null,{"$f":"SUM(V150:V164)","v":0},{"$f":"SUM(W150:W164)","v":0},{"$f":"SUM(X150:X164)","v":0}]
[null,"400 SALUD LA LIBERTAD",null,null,null,null,{"$f":"SUM(C150:F150)","v":0},null,null,{"$f":"+H150+I150","v":0},null,{"$f":"+K150","v":0},{"$f":"+G150+J150+L150","v":0},null,null,"400",null,null,{"$f":"SUM(Q150:R150)","v":0},null,"400",{"$f":"+R150","v":0},null,{"$f":"+W150-V150","v":0}]
[null,"401 INSTIT. REG.DE OFTALMOLOGIA",null,null,null,null,0,null,null,0,null,0,0,null,null,"401",null,null,0,null,"401",0,null,0]
[null,"402 SALUD NORTE ASCOPE",null,null,null,null,0,null,null,0,null,0,0,null,null,"402",null,null,0,null,"402",0,null,0]
[null,"403 SALUD TRUJILLO SUR OESTE",null,null,null,null,0,null,null,0,null,0,0,null,null,"403",null,null,0,null,"403",0,null,0]
[null,"404 SALUD CHEPEN",null,null,null,null,0,null,null,0,null,0,0,null,null,"404",null,null,0,null,"404",0,null,0]
[null,"405 SALUD PACASMAYO",null,null,null,null,0,null,null,0,null,0,0,null,null,"405",null,null,0,null,"405",0,null,0]
[null,"406 SALUD SANCHEZ CARRION",null,null,null,null,0,null,null,0,null,0,0,null,null,"406",null,null,0,null,"406",0,null,0]
[null,"407 SALUD SANTIAGO DE CHUCO",null,null,null,null,0,null,null,0,null,0,0,null,null,"407",null,null,0,null,"407",0,null,0]
[null,"408 SALUD OTUZCO",null,null,null,null,0,null,null,0,null,0,0,null,null,"408",null,null,0,null,"408",0,null,0]
[null,"409 SALUD TRUJILLO ESTE",null,null,null,null,0,null,null,0,null,0,0,null,null,"409",null,null,0,null,"409",0,null,0]
[null,"410 INSTIT.REG.DE ENFERM.NEOPL.",null,null,null,null,0,null,null,0,null,0,0,null,null,"410",null,null,0,null,"410",0,null,0]
[null,"411 SALUD JULCAN",null,null,null,null,0,null,null,0,null,0,0,null,null,"411",null,null,0,null,"411",0,null,0]
[null,"412 SALUD VIRU",null,null,null,null,0,null,null,0,null,0,0,null,null,"412",null,null,0,null,"412",0,null,0]
[null,"413 SALUD ASCOPE",null,null,null,null,0,null,null,0,null,0,0,null,null,"413",null,null,0,null,"413",0,null,0]
[null,"414 SALUD GRAN CHIMU",null,null,null,null,0,null,null,0,null,0,0,null,null,"414",null,null,0,null,"414",0,null,0]
[null,"TOTAL PLIEGO",{"$f":"+C125+C126+C127+C128+C130+C149","v":0},0,0,0,0,0,216867115,216867115,0,0,216867115,null,null,null,{"$f":"+Q125+Q126+Q127+Q128+Q130+Q149","v":216867115},{"$f":"+R125+R126+R127+R128+R130+R149","v":0},{"$f":"+S125+S126+S127+S128+S130+S149","v":216867115},null,null,{"$f":"+V125+V126+V127+V128+V130+V149","v":0},{"$f":"+W125+W126+W127+W128+W130+W149","v":0},{"$f":"+X125+X126+X127+X128+X130+X149","v":0}]
[null,null,null,null,null,null,null,null,null,null,null,null,null,null,null,null,null,null,null,null,null,null,{"$f":"+R165","v":0}]
[null,null,null,null,null,null,null,null,null,null,null,null,null,null,null,null,null,null,null,null,null,null,{"$f":"+W166-W165","v":0}]
[null,{"$f":"+B4","v":"FORMULACION PRESUPUESTO AÑO 2020"}]
[null,{"$f":"+B5","v":"TECHOS PRESUPUESTALES DE EGRESOS POR UNIDADES EJECUTORAS"}]
[null,{"$f":"+B6","v":"PLIEGO : 451 GOBIERNO REGIONAL DEL DEPARTAMENTO DE LA LIBERTAD"}]
[null,"( En Nuevos Soles )"]
[]
[null,"FTE.FTO. : 4 DONACIONES Y TRANSFERENCIAS",null,null,null,null,null,null,null,null,null,null,null,null,null,"FORMULACION 2018",null,null,null,null,"SALDO SEGÚN ACTA 2017"]
[null,null,null,null,null,null,null,null,null,null,null,null,null,null,null,null,{"$f":"+O174-M174","v":0},null,null,null,null,{"$f":"+T174-R174","v":0}]
[null,"UNIDADES EJECUTORAS","GASTOS CORRIENTES",null,null,null,null,"GASTOS DE CAPITAL",null,null,"SERVICIO DE LA DEUDA",null,"TOTAL",null,null,null,"MONTOS APROBADOS EN EL PIA QUE INCLUYE SALDOS DE BALANCE PROYECTADO",null,"TOTAL",null,null,"MONTOS DETERM INADOS SEGÚN ACTA DE CONCILIACION POR UNIDADES EJECUTORAS AÑO 2017",null,"TOTAL"]
[null,null,2.1,2.2000000000000002,2.2999999999999998,2.5,null,2.4,2.6,null,2.8]
[null,null,"PERS. Y OBLIG.","PENSIONES Y","BIENES Y","OTROS","SUBTOTAL","DONACIONES","ADQ. ACTIVOS","SUBTOTAL","SERV.DEUDA","SUBTOTAL"]
[null,null,"SOCIALES","OTRAS PREST","SERVICIOS","GASTOS","GTO. CTE","Y TRANSFER.","NO FINCIEROS","GTO. CAP","PUBLICA","GTO. CAP",null,null,null,null,"ASIGNACION","SALDO BAL.",null,null,null,"AUTORIZADO","SALDO ACTA"]
[null,"001 SEDE LA LIBERTAD",null,null,null,null,{"$f":"SUM(C179:F179)","v":0},null,null,{"$f":"+H179+I179","v":0},null,{"$f":"+K179","v":0},{"$f":"+G179+J179+L179","v":0},null,"001","D-0",null,null,{"$f":"SUM(Q179:R179)","v":0},null,"D-0",{"$f":"+R179","v":0},null,{"$f":"+W179-V179","v":0}]
[null,"005 PROYECTO ESPEC.CHAVIMOCHIC",null,null,null,null,{"$f":"SUM(C180:F180)","v":0},null,null,{"$f":"+H180+I180","v":0},null,{"$f":"+K180","v":0},{"$f":"+G180+J180+L180","v":0},null,"005",null,null,{"$f":"+Q180","v":0},{"$f":"SUM(Q180:R180)","v":0},null,null,{"$f":"+R180","v":0},null,{"$f":"+W180-V180","v":0}]
[null,"100 AGRICULTURA LA LIBERTAD",null,null,null,null,{"$f":"SUM(C181:F181)","v":0},null,null,{"$f":"+H181+I181","v":0},null,{"$f":"+K181","v":0},{"$f":"+G181+J181+L181","v":0},null,"100",null,null,{"$f":"+Q181","v":0},{"$f":"SUM(Q181:R181)","v":0},null,null,{"$f":"+R181","v":0},null,{"$f":"+W181-V181","v":0}]
[null,"200 TRANSPORTES LA LIBERTAD",null,null,null,null,{"$f":"SUM(C182:F182)","v":0},null,null,{"$f":"+H182+I182","v":0},null,{"$f":"+K182","v":0},{"$f":"+G182+J182+L182","v":0},null,"200",null,null,{"$f":"+Q182","v":0},{"$f":"SUM(Q182:R182)","v":0},null,null,{"$f":"+R182","v":0},null,{"$f":"+W182-V182","v":0}]
[null,null,null,null,null,null,null,null,null,null,null,null,null,null,null,null,null,null,{"$f":"SUM(Q183:R183)","v":0},null,null,{"$f":"+R183","v":0},null,{"$f":"+W183-V183","v":0}]
[null,"EDUCACION",{"$f":"SUM(C185:C201)","v":0},0,0,0,0,0,0,0,0,0,0,null,null,null,{"$f":"SUM(Q185:Q201)","v":0},{"$f":"SUM(R185:R201)","v":0},{"$f":"SUM(S185:S201)","v":0},null,null,{"$f":"SUM(V185:V201)","v":0},{"$f":"SUM(W185:W201)","v":0},{"$f":"SUM(X185:X201)","v":0}]
[null,"300 EDUCACION LA LIBERTAD",null,null,null,null,{"$f":"SUM(C185:F185)","v":0},null,null,{"$f":"+H185+I185","v":0},null,{"$f":"+K185","v":0},{"$f":"+G185+J185+L185","v":0},null,"300","T-A",null,null,{"$f":"SUM(Q185:R185)","v":0},null,"T-A",{"$f":"+R185","v":0},null,{"$f":"+W185-V185","v":0}]
[null,"301 EDUCACION CHEPEN",null,null,null,null,0,null,null,0,null,0,0,null,"301","D-N",null,null,0,null,"D-N",0,null,0]
[null,"302 EDUCACION PACASMAYO",null,null,null,null,0,null,null,0,null,0,0,null,"302","D-N",null,null,0,null,"D-N",0,null,0]
[null,"303 EDUCACION ASCOPE",null,null,null,null,0,null,null,0,null,0,0,null,"303","D-N",null,null,0,null,"D-N",0,null,0]
[null,"304 EDUCACION GRAN CHIMU",null,null,null,null,0,null,null,0,null,0,0,null,"304","T-A",null,null,0,null,"T-A",0,null,0]
[null,"305 EDUCACION OTUZCO",null,null,null,null,0,null,null,0,null,0,0,null,"305","D-N",null,null,0,null,"D-N",0,null,0]
[null,"306 EDUCACION SANTIAGO DE CHUCO",null,null,null,null,0,null,null,0,null,0,0,null,"306","T-A",null,null,0,null,"T-A",0,null,0]
[null,"307 EDUCACION SANCHEZ CARRION",null,null,null,null,0,null,null,0,null,0,0,null,"307","D-N",null,null,0,null,"D-N",0,null,0]
[null,"308 EDUCACION PATAZ",null,null,null,null,0,null,null,0,null,0,0,null,"308","D-0",null,null,0,null,"D-0",0,null,0]
[null,"309 EDUCACION BOLIVAR",null,null,null,null,0,null,null,0,null,0,0,null,"309",null,null,null,0,null,null,0,null,0]
[null,"310 COLEGIO MILITAR RAMON CASTILLA",null,null,null,null,0,null,null,0,null,0,0,null,"310","T-A",null,null,0,null,"T-A",0,null,0]
[null,"311 EDUCACION JULCAN",null,null,null,null,0,null,null,0,null,0,0,null,"311","T-A",null,null,0,null,"T-A",0,null,0]
[null,"312 EDUCACION VIRU",null,null,null,null,0,null,null,0,null,0,0,null,"312","D-N",null,null,0,null,"D-N",0,null,0]
[null,"313 EDUCACION EL PORVENIR",null,null,null,null,0,null,null,0,null,0,0,null,"313","D-N",null,null,0,null,"D-N",0,null,0]
[null,"314 EDUCACION LA ESPERANZA",null,null,null,null,0,null,null,0,null,0,0,null,"314","D-N",null,null,0,null,"D-N",0,null,0]
[null,"315 EDUCACION TRUJILLO NOR OESTE",null,null,null,null,0,null,null,0,null,0,0,null,"315","D-N",null,null,0,null,"D-N",0,null,0]
[null,"316 EDUCACION TRUJILLO SUR ESTE",null,null,null,null,0,null,null,0,null,0,0,null,"316","D-N",null,null,0,null,"D-N",0,null,0]
[null,null,null,null,null,null,0,null,null,0,null,0,0,null,null,null,null,null,0,null,null,0,null,0]
[null,"SALUD",{"$f":"SUM(C204:C218)","v":0},0,3748466,0,3748466,0,0,0,0,0,3748466,null,null,null,{"$f":"SUM(Q204:Q218)","v":0},{"$f":"SUM(R204:R218)","v":3748466},{"$f":"SUM(S204:S218)","v":3748466},null,null,{"$f":"SUM(V204:V218)","v":3748466},{"$f":"SUM(W204:W218)","v":0},{"$f":"SUM(X204:X218)","v":-3748466}]
[null,"400 SALUD LA LIBERTAD",null,null,3748466,null,{"$f":"SUM(C204:F204)","v":3748466},null,null,{"$f":"+H204+I204","v":0},null,{"$f":"+K204","v":0},{"$f":"+G204+J204+L204","v":3748466},null,"400","T-7",{"$f":"+'B.DATOS (INGRESOS)'!Q147","v":0},{"$f":"+'B.DATOS (INGRESOS)'!R147","v":3748466},{"$f":"SUM(Q204:R204)","v":3748466},null,"T-7",{"$f":"+R204","v":3748466},null,{"$f":"+W204-V204","v":-3748466}]
[null,"401 INSTIT. REG.DE OFTALMOLOGIA",null,null,null,null,0,null,null,0,null,0,0,null,"401","T-7",{"$f":"+'B.DATOS (INGRESOS)'!Q148","v":0},{"$f":"+'B.DATOS (INGRESOS)'!R148","v":0},0,null,"T-7",0,null,0]
[null,"402 SALUD NORTE ASCOPE",null,null,null,null,0,null,null,0,null,0,0,null,"402","T-7",{"$f":"+'B.DATOS (INGRESOS)'!Q149","v":0},{"$f":"+'B.DATOS (INGRESOS)'!R149","v":0},0,null,"T-7",0,null,0]
[null,"403 SALUD TRUJILLO SUR OESTE",null,null,null,null,0,null,null,0,null,0,0,null,"403","T-7",{"$f":"+'B.DATOS (INGRESOS)'!Q150","v":0},{"$f":"+'B.DATOS (INGRESOS)'!R150","v":0},0,null,"T-7",0,null,0]
[null,"404 SALUD CHEPEN",null,null,null,null,0,null,null,0,null,0,0,null,"404","T-7",{"$f":"+'B.DATOS (INGRESOS)'!Q151","v":0},{"$f":"+'B.DATOS (INGRESOS)'!R151","v":0},0,null,"T-7",0,null,0]
[null,"405 SALUD PACASMAYO",null,null,null,null,0,null,null,0,null,0,0,null,"405","T-7",{"$f":"+'B.DATOS (INGRESOS)'!Q152","v":0},{"$f":"+'B.DATOS (INGRESOS)'!R152","v":0},0,null,"T-7",0,null,0]
[null,"406 SALUD SANCHEZ CARRION",null,null,null,null,0,null,null,0,null,0,0,null,"406","T-7",{"$f":"+'B.DATOS (INGRESOS)'!Q153","v":0},{"$f":"+'B.DATOS (INGRESOS)'!R153","v":0},0,null,"T-7",0,null,0]
[null,"407 SALUD SANTIAGO DE CHUCO",null,null,null,null,0,null,null,0,null,0,0,null,"407","T-7",{"$f":"+'B.DATOS (INGRESOS)'!Q154","v":0},{"$f":"+'B.DATOS (INGRESOS)'!R154","v":0},0,null,"T-7",0,null,0]
[null,"408 SALUD OTUZCO",null,null,null,null,0,null,null,0,null,0,0,null,"408","T-7",{"$f":"+'B.DATOS (INGRESOS)'!Q155","v":0},{"$f":"+'B.DATOS (INGRESOS)'!R155","v":0},0,null,"T-7",0,null,0]
[null,"409 SALUD TRUJILLO ESTE",null,null,null,null,0,null,null,0,null,0,0,null,"409","T-7",{"$f":"+'B.DATOS (INGRESOS)'!Q156","v":0},{"$f":"+'B.DATOS (INGRESOS)'!R156","v":0},0,null,"T-7",0,null,0]
[null,"410 INSTIT.REG.DE ENFERM.NEOPLASICAS",null,null,null,null,0,null,null,0,null,0,0,null,"410","T-7",{"$f":"+'B.DATOS (INGRESOS)'!Q157","v":0},{"$f":"+'B.DATOS (INGRESOS)'!R157","v":0},0,null,"T-7",0,null,0]
[null,"411 SALUD JULCAN",null,null,null,null,0,null,null,0,null,0,0,null,"411","T-7",{"$f":"+'B.DATOS (INGRESOS)'!Q158","v":0},{"$f":"+'B.DATOS (INGRESOS)'!R158","v":0},0,null,"T-7",0,null,0]
[null,"412 SALUD VIRU",null,null,null,null,0,null,null,0,null,0,0,null,"412","T-7",{"$f":"+'B.DATOS (INGRESOS)'!Q159","v":0},{"$f":"+'B.DATOS (INGRESOS)'!R159","v":0},0,null,"T-7",0,null,0]
[null,"413 SALUD ASCOPE",null,null,null,null,0,null,null,0,null,0,0,null,"413","T-7",{"$f":"+'B.DATOS (INGRESOS)'!Q160","v":0},{"$f":"+'B.DATOS (INGRESOS)'!R160","v":0},0,null,"T-7",0,null,0]
[null,"414 SALUD GRAN CHIMU",null,null,null,null,0,null,null,0,null,0,0,null,"414","T-7",{"$f":"+'B.DATOS (INGRESOS)'!Q161","v":0},{"$f":"+'B.DATOS (INGRESOS)'!R161","v":0},0,null,"T-7",0,null,0]
[null,"TOTAL PLIEGO",{"$f":"+C179+C180+C181+C182+C184+C203","v":0},0,3748466,0,3748466,0,0,0,0,0,3748466,null,null,null,{"$f":"+Q179+Q180+Q181+Q182+Q184+Q203","v":0},{"$f":"+R179+R180+R181+R182+R184+R203","v":3748466},{"$f":"+S179+S180+S181+S182+S184+S203","v":3748466},null,null,{"$f":"+V179+V180+V181+V182+V184+V203","v":3748466},{"$f":"+W179+W180+W181+W182+W184+W203","v":0},{"$f":"+X179+X180+X181+X182+X184+X203","v":-3748466}]
[null,null,null,null,null,null,null,null,null,null,null,null,null,null,null,null,null,null,null,null,null,null,{"$f":"+R219","v":3748466}]
[null,null,null,null,null,null,null,null,null,null,null,null,null,null,null,null,{"$f":"+O221-M221","v":0},null,null,null,null,null,{"$f":"+W220-W219","v":3748466}]
[null,{"$f":"+B4","v":"FORMULACION PRESUPUESTO AÑO 2020"},null,null,null,null,null,null,null,null,null,null,null,null,null,null,0]
[null,{"$f":"+B5","v":"TECHOS PRESUPUESTALES DE EGRESOS POR UNIDADES EJECUTORAS"},null,null,null,null,null,null,null,null,null,null,null,null,null,null,0]
[null,{"$f":"+B6","v":"PLIEGO : 451 GOBIERNO REGIONAL DEL DEPARTAMENTO DE LA LIBERTAD"},null,null,null,null,null,null,null,null,null,null,null,null,null,null,0,null,null,null,null,{"$f":"+T224-R224","v":0}]
[null,"( En Nuevos Soles )",null,null,null,null,null,null,null,null,null,null,null,null,null,null,0,null,null,null,null,{"$f":"+T225-R225","v":0}]
[null,null,null,null,null,null,null,null,null,null,null,null,null,null,null,null,0,null,null,null,null,{"$f":"+T226-R226","v":0}]
[null,"FTE.FTO. : 5  RECURSOS DETERMINADOS",null,null,null,null,null,null,null,null,null,null,null,null,null,"FORMULACION 2018",null,null,null,null,"SALDO SEGÚN ACTA 2017"]
[null,null,null,null,null,null,null,null,null,null,null,null,null,null,null,null,{"$f":"+O228-M228","v":0},null,null,null,null,{"$f":"+T228-R228","v":0}]
[null,"UNIDADES EJECUTORAS","GASTOS CORRIENTES",null,null,null,null,"GASTOS DE CAPITAL",null,null,"SERVICIO DE LA DEUDA",null,"TOTAL",null,null,null,"MONTOS APROBADOS EN EL PIA QUE INCLUYE SALDOS DE BALANCE PROYECTADO",null,"TOTAL",null,null,"MONTOS DETERM INADOS SEGÚN ACTA DE CONCILIACION POR UNIDADES EJECUTORAS AÑO 2017",null,"TOTAL"]
[null,null,2.1,2.2000000000000002,2.2999999999999998,2.5,null,2.4,2.6,null,2.8]
[null,null,"PERS. Y OBLIG.","PENSIONES Y","BIENES Y","OTROS","SUBTOTAL","DONACIONES","ADQ. ACTIVOS","SUBTOTAL","SERV.DEUDA","SUBTOTAL"]
[null,null,"SOCIALES","OTRAS PREST","SERVICIOS","GASTOS","GTO. CTE","Y TRANSFER.","NO FINCIEROS","GTO. CAP","PUBLICA","GTO. CAP",null,null,null,null,"ASIGNACION","SALDO BAL.",null,null,null,"AUTORIZADO","SALDO ACTA"]
[null,"001 SEDE LA LIBERTAD",null,null,5466099,null,{"$f":"SUM(C233:F233)","v":5466099},null,9381825,{"$f":"+H233+I233","v":9381825},11477014,{"$f":"+K233","v":11477014},{"$f":"+G233+J233+L233","v":26324938},null,null,"001",{"$f":"+'B.DATOS (INGRESOS)'!Q176","v":26324938},{"$f":"+'B.DATOS (INGRESOS)'!R176","v":0},{"$f":"SUM(Q233:R233)","v":26324938},null,"001",{"$f":"+R233","v":0},null,{"$f":"+W233-V233","v":0}]
[null,"005 PROYECTO ESPEC.CHAVIMOCHIC",null,null,null,null,{"$f":"SUM(C234:F234)","v":0},null,35590098,{"$f":"+H234+I234","v":35590098},null,{"$f":"+K234","v":0},{"$f":"+G234+J234+L234","v":35590098},null,null,"005",{"$f":"+'B.DATOS (INGRESOS)'!Q177","v":0},{"$f":"+'B.DATOS (INGRESOS)'!R177","v":20015005},{"$f":"SUM(Q234:R234)","v":20015005},null,"005",{"$f":"+R234","v":20015005},null,{"$f":"+W234-V234","v":-20015005}]
[null,"100 AGRICULTURA LA LIBERTAD",null,null,null,null,{"$f":"SUM(C235:F235)","v":0},null,null,{"$f":"+H235+I235","v":0},null,{"$f":"+K235","v":0},{"$f":"+G235+J235+L235","v":0},null,null,"100",{"$f":"+'B.DATOS (INGRESOS)'!Q178","v":0},{"$f":"+'B.DATOS (INGRESOS)'!R178","v":0},{"$f":"SUM(Q235:R235)","v":0},null,"100",null,null,{"$f":"SUM(V235:W235)","v":0}]
[null,"200 TRANSPORTES LA LIBERTAD",null,null,null,null,{"$f":"SUM(C236:F236)","v":0},null,null,{"$f":"+H236+I236","v":0},null,{"$f":"+K236","v":0},{"$f":"+G236+J236+L236","v":0},null,null,"200",{"$f":"+'B.DATOS (INGRESOS)'!Q179","v":0},{"$f":"+'B.DATOS (INGRESOS)'!R179","v":0},{"$f":"SUM(Q236:R236)","v":0},null,"200",null,null,{"$f":"SUM(V236:W236)","v":0}]
[null,null,null,null,null,null,null,null,null,null,null,null,null,null,null,null,{"$f":"+'B.DATOS (INGRESOS)'!Q180","v":0},{"$f":"+'B.DATOS (INGRESOS)'!R180","v":0},{"$f":"SUM(Q237:R237)","v":0},null,null,null,null,{"$f":"SUM(V237:W237)","v":0}]
[null,"EDUCACION",{"$f":"SUM(C239:C255)","v":0},0,0,0,0,0,0,0,0,0,0,null,null,null,{"$f":"+'B.DATOS (INGRESOS)'!Q181","v":0},{"$f":"+'B.DATOS (INGRESOS)'!R181","v":0},{"$f":"SUM(S239:S255)","v":0},null,null,{"$f":"SUM(V239:V255)","v":0},{"$f":"SUM(W239:W255)","v":0},{"$f":"SUM(X239:X255)","v":0}]
[null,"300 EDUCACION LA LIBERTAD",null,null,null,null,{"$f":"SUM(C239:F239)","v":0},null,null,{"$f":"+H239+I239","v":0},null,{"$f":"+K239","v":0},{"$f":"+G239+J239+L239","v":0},null,null,"300",{"$f":"+'B.DATOS (INGRESOS)'!Q182","v":0},{"$f":"+'B.DATOS (INGRESOS)'!R182","v":0},{"$f":"SUM(Q239:R239)","v":0},null,"300",null,null,{"$f":"SUM(V239:W239)","v":0}]
[null,"301 EDUCACION CHEPEN",null,null,null,null,0,null,null,0,null,0,0,null,null,"301",{"$f":"+'B.DATOS (INGRESOS)'!Q183","v":0},{"$f":"+'B.DATOS (INGRESOS)'!R183","v":0},0,null,"301",null,null,0]
[null,"302 EDUCACION PACASMAYO",null,null,null,null,0,null,null,0,null,0,0,null,null,"302",{"$f":"+'B.DATOS (INGRESOS)'!Q184","v":0},{"$f":"+'B.DATOS (INGRESOS)'!R184","v":0},0,null,"302",null,null,0]
[null,"303 EDUCACION ASCOPE",null,null,null,null,0,null,null,0,null,0,0,null,null,"303",{"$f":"+'B.DATOS (INGRESOS)'!Q185","v":0},{"$f":"+'B.DATOS (INGRESOS)'!R185","v":0},0,null,"303",null,null,0]
[null,"304 EDUCACION GRAN CHIMU",null,null,null,null,0,null,null,0,null,0,0,null,null,"304",{"$f":"+'B.DATOS (INGRESOS)'!Q186","v":0},{"$f":"+'B.DATOS (INGRESOS)'!R186","v":0},0,null,"304",null,null,0]
[null,"305 EDUCACION OTUZCO",null,null,null,null,0,null,null,0,null,0,0,null,null,"305",{"$f":"+'B.DATOS (INGRESOS)'!Q187","v":0},{"$f":"+'B.DATOS (INGRESOS)'!R187","v":0},0,null,"305",null,null,0]
[null,"306 EDUCACION SANTIAGO DE CHUCO",null,null,null,null,0,null,null,0,null,0,0,null,null,"306",{"$f":"+'B.DATOS (INGRESOS)'!Q188","v":0},{"$f":"+'B.DATOS (INGRESOS)'!R188","v":0},0,null,"306",null,null,0]
[null,"307 EDUCACION SANCHEZ CARRION",null,null,null,null,0,null,null,0,null,0,0,null,null,"307",{"$f":"+'B.DATOS (INGRESOS)'!Q189","v":0},{"$f":"+'B.DATOS (INGRESOS)'!R189","v":0},0,null,"307",null,null,0]
[null,"308 EDUCACION PATAZ",null,null,null,null,0,null,null,0,null,0,0,null,null,"308",{"$f":"+'B.DATOS (INGRESOS)'!Q190","v":0},{"$f":"+'B.DATOS (INGRESOS)'!R190","v":0},0,null,"308",null,null,0]
[null,"309 EDUCACION BOLIVAR",null,null,null,null,0,null,null,0,null,0,0,null,null,"309",{"$f":"+'B.DATOS (INGRESOS)'!Q191","v":0},{"$f":"+'B.DATOS (INGRESOS)'!R191","v":0},0,null,"309",null,null,0]
[null,"310 COLEGIO MILITAR RAMON CASTILLA",null,null,null,null,0,null,null,0,null,0,0,null,null,"310",{"$f":"+'B.DATOS (INGRESOS)'!Q192","v":0},{"$f":"+'B.DATOS (INGRESOS)'!R192","v":0},0,null,"310",null,null,0]
[null,"311 EDUCACION JULCAN",null,null,null,null,0,null,null,0,null,0,0,null,null,"311",{"$f":"+'B.DATOS (INGRESOS)'!Q193","v":0},{"$f":"+'B.DATOS (INGRESOS)'!R193","v":0},0,null,"311",null,null,0]
[null,"312 EDUCACION VIRU",null,null,null,null,0,null,null,0,null,0,0,null,null,"312",{"$f":"+'B.DATOS (INGRESOS)'!Q194","v":0},{"$f":"+'B.DATOS (INGRESOS)'!R194","v":0},0,null,"312",null,null,0]
[null,"313 EDUCACION EL PORVENIR",null,null,null,null,0,null,null,0,null,0,0,null,null,"313",{"$f":"+'B.DATOS (INGRESOS)'!Q195","v":0},{"$f":"+'B.DATOS (INGRESOS)'!R195","v":0},0,null,"313",null,null,0]
[null,"314 EDUCACION LA ESPERANZA",null,null,null,null,0,null,null,0,null,0,0,null,null,"314",{"$f":"+'B.DATOS (INGRESOS)'!Q196","v":0},{"$f":"+'B.DATOS (INGRESOS)'!R196","v":0},0,null,"314",null,null,0]
[null,"315 EDUCACION TRUJILLO NOR OESTE",null,null,null,null,0,null,null,0,null,0,0,null,null,"315",{"$f":"+'B.DATOS (INGRESOS)'!Q197","v":0},{"$f":"+'B.DATOS (INGRESOS)'!R197","v":0},0,null,"315",null,null,0]
[null,"316 EDUCACION TRUJILLO SUR ESTE",null,null,null,null,0,null,null,0,null,0,0,null,null,"316",{"$f":"+'B.DATOS (INGRESOS)'!Q198","v":0},{"$f":"+'B.DATOS (INGRESOS)'!R198","v":0},0,null,"316",null,null,0]
[null,null,null,null,null,null,null,null,null,null,null,0,0,null,null,null,{"$f":"+'B.DATOS (INGRESOS)'!Q199","v":0},{"$f":"+'B.DATOS (INGRESOS)'!R199","v":0},0,null,null,null,null,0]
[null,"SALUD",{"$f":"SUM(C258:C272)","v":0},0,0,0,0,0,0,0,0,0,0,null,null,null,{"$f":"SUM(Q258:Q272)","v":0},{"$f":"SUM(R258:R272)","v":0},{"$f":"SUM(S258:S272)","v":0},null,null,{"$f":"SUM(V258:V272)","v":0},{"$f":"SUM(W258:W272)","v":0},{"$f":"SUM(X258:X272)","v":0}]
[null,"400 SALUD LA LIBERTAD",null,null,null,null,{"$f":"SUM(C258:F258)","v":0},null,null,{"$f":"+H258+I258","v":0},null,{"$f":"+K258","v":0},{"$f":"+G258+J258+L258","v":0},null,null,"400",null,null,{"$f":"SUM(Q258:R258)","v":0},null,"400",null,null,{"$f":"SUM(V258:W258)","v":0}]
[null,"401 INSTIT. REG.DE OFTALMOLOGIA",null,null,null,null,0,null,null,0,null,0,0,null,null,"401",null,null,0,null,"401",null,null,0]
[null,"402 SALUD NORTE ASCOPE",null,null,null,null,0,null,null,0,null,0,0,null,null,"402",null,null,0,null,"402",null,null,0]
[null,"403 SALUD TRUJILLO SUR OESTE",null,null,null,null,0,null,null,0,null,0,0,null,null,"403",null,null,0,null,"403",null,null,0]
[null,"404 SALUD CHEPEN",null,null,null,null,0,null,null,0,null,0,0,null,null,"404",null,null,0,null,"404",null,null,0]
[null,"405 SALUD PACASMAYO",null,null,null,null,0,null,null,0,null,0,0,null,null,"405",null,null,0,null,"405",null,null,0]
[null,"406 SALUD SANCHEZ CARRION",null,null,null,null,0,null,null,0,null,0,0,null,null,"406",null,null,0,null,"406",null,null,0]
[null,"407 SALUD SANTIAGO DE CHUCO",null,null,null,null,0,null,null,0,null,0,0,null,null,"407",null,null,0,null,"407",null,null,0]
[null,"408 SALUD OTUZCO",null,null,null,null,0,null,null,0,null,0,0,null,null,"408",null,null,0,null,"408",null,null,0]
[null,"409 SALUD TRUJILLO ESTE",null,null,null,null,0,null,null,0,null,0,0,null,null,"409",null,null,0,null,"409",null,null,0]
[null,"410 INSTIT.REG.DE ENFERM.NEOPL.",null,null,null,null,0,null,null,0,null,0,0,null,null,"410",null,null,0,null,"410",null,null,0]
[null,"411 SALUD JULCAN",null,null,null,null,0,null,null,0,null,0,0,null,null,"411",null,null,0,null,"411",null,null,0]
[null,"412 SALUD VIRU",null,null,null,null,0,null,null,0,null,0,0,null,null,"412",null,null,0,null,"412",null,null,0]
[null,"413 SALUD ASCOPE",null,null,null,null,0,null,null,0,null,0,0,null,null,"413",null,null,0,null,"413",null,null,0]
[null,"414 SALUD GRAN CHIMU",null,null,null,null,0,null,null,0,null,0,0,null,null,"414",null,null,0,null,"414",null,null,0]
[null,"TOTAL PLIEGO",{"$f":"+C233+C234+C235+C236+C238+C257","v":0},0,5466099,0,5466099,0,44971923,44971923,11477014,11477014,61915036,null,null,null,{"$f":"+Q233+Q234+Q235+Q236+Q238+Q257","v":26324938},{"$f":"+R233+R234+R235+R236+R238+R257","v":20015005},{"$f":"+S233+S234+S235+S236+S238+S257","v":46339943},null,null,{"$f":"+V233+V234+V235+V236+V238+V257","v":20015005},{"$f":"+W233+W234+W235+W236+W238+W257","v":0},{"$f":"+X233+X234+X235+X236+X238+X257","v":-20015005}]
[null,null,null,null,null,null,null,null,null,null,null,null,null,null,null,null,null,null,null,null,null,null,{"$f":"+R273","v":20015005}]
[null,null,null,null,null,null,null,null,null,null,null,null,null,null,null,null,null,null,null,null,null,null,{"$f":"+W274-W273","v":20015005}]
[null,{"$f":"+B4","v":"FORMULACION PRESUPUESTO AÑO 2020"}]
[null,{"$f":"+B5","v":"TECHOS PRESUPUESTALES DE EGRESOS POR UNIDADES EJECUTORAS"}]
[null,{"$f":"+B6","v":"PLIEGO : 451 GOBIERNO REGIONAL DEL DEPARTAMENTO DE LA LIBERTAD"}]
[null,"( En Nuevos Soles )"]
[]
[null,"    FTE.FTO. : TODA FUENTE"]
[]
[null,"UNIDADES EJECUTORAS","GASTOS CORRIENTES",null,null,null,null,"GASTOS DE CAPITAL",null,null,"SERVICIO DE LA DEUDA",null,"TOTAL"]
[null,null,2.1,2.2000000000000002,2.2999999999999998,2.5,null,2.4,2.6,null,2.8]
[null,null,"PERS. Y OBLIG.","PENSIONES Y","BIENES Y","OTROS","SUBTOTAL","DONACIONES","ADQ. ACTIVOS","SUBTOTAL","SERV.DEUDA","SUBTOTAL"]
[null,null,"SOCIALES","OTRAS PREST","SERVICIOS","GASTOS","GTO. CTE","Y TRANSFER.","NO FINCIEROS","GTO. CAP","PUBLICA","GTO. CAP"]
[null,"001 SEDE LA LIBERTAD",{"$f":"+C15+C70+C125+C179+C233","v":34864280},25383163,51833061,530506,{"$f":"SUM(C287:F287)","v":112611010},{"$f":"+H15+H70+H125+H179+H233","v":0},47056247,{"$f":"+H287+I287","v":47056247},{"$f":"+K15+K70+K125+K179+K233","v":11477014},{"$f":"+K287","v":11477014},{"$f":"+G287+J287+L287","v":171144271}]
[null,"005 PROYECTO ESPEC.CHAVIMOCHIC",0,0,0,0,{"$f":"SUM(C288:F288)","v":0},0,303195870,{"$f":"+H288+I288","v":303195870},{"$f":"+K16+K71+K126+K180+K234","v":20445916},{"$f":"+K288","v":20445916},{"$f":"+G288+J288+L288","v":323641786}]
[null,"100 AGRICULTURA LA LIBERTAD",3313959,5931172,2085333,13000,{"$f":"SUM(C289:F289)","v":11343464},0,0,{"$f":"+H289+I289","v":0},{"$f":"+K17+K72+K127+K181+K235","v":0},{"$f":"+K289","v":0},{"$f":"+G289+J289+L289","v":11343464}]
[null,"200 TRANSPORTES LA LIBERTAD",2165700,1740136,21333399,0,{"$f":"SUM(C290:F290)","v":25239235},0,0,{"$f":"+H290+I290","v":0},{"$f":"+K18+K73+K128+K182+K236","v":0},{"$f":"+K290","v":0},{"$f":"+G290+J290+L290","v":25239235}]
[]
[null,"EDUCACION",{"$f":"SUM(C293:C309)","v":880347566},134277966,55819437,55084,1070500053,0,54040,54040,0,0,1070554093]
[null,"300 EDUCACION LA LIBERTAD",{"$f":"+C21+C76+C131+C185+C239","v":42267811},110415265,5245548,0,{"$f":"SUM(C293:F293)","v":157928624},{"$f":"+H21+H76+H131+H185+H239","v":0},15000,{"$f":"+H293+I293","v":15000},{"$f":"+K21+K76+K131+K185+K239","v":0},{"$f":"+K293","v":0},{"$f":"+G293+J293+L293","v":157943624}]
[null,"301 EDUCACION CHEPEN",47444541,4350145,2328803,0,54123489,0,0,0,0,0,54123489]
[null,"302 EDUCACION PACASMAYO",53232299,5640427,2901570,0,61774296,0,0,0,0,0,61774296]
[null,"303 EDUCACION ASCOPE",66574635,4830711,3901604,25085,75332035,0,0,0,0,0,75332035]
[null,"304 EDUCACION GRAN CHIMU",29051802,994933,1660458,10000,31717193,0,0,0,0,0,31717193]
[null,"305 EDUCACION OTUZCO",57276878,1536850,4480400,0,63294128,0,0,0,0,0,63294128]
[null,"306 EDUCACION SANTIAGO DE CHUCO",43943837,1304282,2627121,0,47875240,0,0,0,0,0,47875240]
[null,"307 EDUCACION SANCHEZ CARRION",109132356,2130928,7195383,0,118458667,0,0,0,0,0,118458667]
[null,"308 EDUCACION PATAZ",69070662,1433355,5151483,0,75655500,0,0,0,0,0,75655500]
[null,"309 EDUCACION BOLIVAR",14505924,438219,1491092,0,16435235,0,0,0,0,0,16435235]
[null,"310 COLEGIO MILITAR RAMON CASTILLA",3002507,20129,2375517,1201,5399354,0,39040,39040,0,0,5438394]
[null,"311 EDUCACION JULCAN",29857953,113590,2439954,0,32411497,0,0,0,0,0,32411497]
[null,"312 EDUCACION VIRU",34379553,39781,2407511,0,36826845,0,0,0,0,0,36826845]
[null,"313 EDUCACION EL PORVENIR",67857630,304250,3352058,15000,71528938,0,0,0,0,0,71528938]
[null,"314 EDUCACION LA ESPERANZA",68358971,211808,2622817,0,71193596,0,0,0,0,0,71193596]
[null,"315 EDUCACION TRUJILLO NOR OESTE",67339561,294297,2786058,0,70419916,0,0,0,0,0,70419916]
[null,"316 EDUCACION TRUJILLO SUR ESTE",77050646,218996,2852060,3798,80125500,0,0,0,0,0,80125500]
[null,null,0,0,0,0,0,0,0,0,0,0,0]
[null,"SALUD",{"$f":"SUM(C312:C326)","v":278271765},22300240,102427960,732494,403732459,0,211231,211231,0,0,403943690]
[null,"400 SALUD LA LIBERTAD",{"$f":"+C40+C95+C150+C204+C258","v":26213679},2896508,18333671,732494,{"$f":"SUM(C312:F312)","v":48176352},{"$f":"+H40+H95+H150+H204+H258","v":0},71796,{"$f":"+H312+I312","v":71796},{"$f":"+K40+K95+K150+K204+K258","v":0},{"$f":"+K312","v":0},{"$f":"+G312+J312+L312","v":48248148}]
[null,"401 INSTIT. REG.DE OFTALMOLOGIA",3864202,0,6668676,0,10532878,0,0,0,0,0,10532878]
[null,"402 SALUD NORTE ASCOPE",43888815,6117557,13585324,0,63591696,0,31800,31800,0,0,63623496]
[null,"403 SALUD TRUJILLO SUR OESTE",41532376,9879593,8836424,0,60248393,0,107635,107635,0,0,60356028]
[null,"404 SALUD CHEPEN",14754549,1333940,4497485,0,20585974,0,0,0,0,0,20585974]
[null,"405 SALUD PACASMAYO",16000165,597302,3345648,0,19943115,0,0,0,0,0,19943115]
[null,"406 SALUD SANCHEZ CARRION",14516281,448682,7131350,0,22096313,0,0,0,0,0,22096313]
[null,"407 SALUD SANTIAGO DE CHUCO",7985295,53732,2916112,0,10955139,0,0,0,0,0,10955139]
[null,"408 SALUD OTUZCO",12116698,133789,6158325,0,18408812,0,0,0,0,0,18408812]
[null,"409 SALUD TRUJILLO ESTE",60942531,839137,16591810,0,78373478,0,0,0,0,0,78373478]
[null,"410 INSTIT.REG.DE ENFERM.NEOPLASICAS",11170740,0,7059963,0,18230703,0,0,0,0,0,18230703]
[null,"411 SALUD JULCAN",3324969,0,893557,0,4218526,0,0,0,0,0,4218526]
[null,"412 SALUD VIRU",6901280,0,2486360,0,9387640,0,0,0,0,0,9387640]
[null,"413 SALUD ASCOPE",11265505,0,2708782,0,13974287,0,0,0,0,0,13974287]
[null,"414 SALUD GRAN CHIMU",3794680,0,1214473,0,5009153,0,0,0,0,0,5009153]
[null,"TOTAL PLIEGO",{"$f":"+C287+C288+C289+C290+C292+C311","v":1198963270},189632677,233499190,1331084,1623426221,0,350517388,350517388,31922930,31922930,2005866539]
[null,"CIERRE PLGO 2013>MARCO HISTORICO PPTAL 2013(Actividades Generica)>EXCEL XLS"]
[null,"ELABORADO: GERENCIA REGIONAL DE PRESUPUESTO (ENERO 2014)"]
[]
[]
[null,null,"                                               FORMULACION   PRESUPUESTO 2020"]
[null,null,"                  PLIEGO 451 GOBIERNO REGIONAL DEL DEPARTAMENTO LA LIBERTAD"]
[null,null,"                    RESUMEN POR FUENTES DE FINANCIAMIENTO Y GRUPO GENERICO"]
[]
[null,null,"CATEGORIA DEL GASTO / GENERICAS",null,null,"RECURSOS ORDINARIOS","RECURSOS DIREC.RECAUD.","RECUR.OPER.OFIC. CRED","DONACIONES Y TRANSFER","RECURSOS DETERMINADOS","TOTAL"]
[null,null,"   5. GASTOS CORRIENTES",null,null,{"$f":"SUM(F338:F341)","v":1571152547},43059109,0,3748466,5466099,1623426221]
[null,null,"        2.1 Personal y Obligaciones Sociales",null,null,{"$f":"+C55","v":1198853987},{"$f":"+C110","v":109283},{"$f":"+C165","v":0},{"$f":"+C219","v":0},{"$f":"+C273","v":0},{"$f":"SUM(F338:J338)","v":1198963270}]
[null,null,"        2.2 Pensiones y Otras Prestac.Sociales",null,null,{"$f":"+D55","v":189632677},{"$f":"+D110","v":0},{"$f":"+D165","v":0},{"$f":"+D219","v":0},{"$f":"+D273","v":0},{"$f":"SUM(F339:J339)","v":189632677}]
[null,null,"        2.3 Bienes y Servicios",null,null,{"$f":"+E55","v":181889287},{"$f":"+E110","v":42395338},{"$f":"+E165","v":0},{"$f":"+E219","v":3748466},{"$f":"+E273","v":5466099},{"$f":"SUM(F340:J340)","v":233499190}]
[null,null,"        2.5 Otros Gastos",null,null,{"$f":"+F55","v":776596},{"$f":"+F110","v":554488},{"$f":"+F165","v":0},{"$f":"+F219","v":0},{"$f":"+F273","v":0},{"$f":"SUM(F341:J341)","v":1331084}]
[null,null,"   6. GASTOS DE CAPITAL",null,null,{"$f":"SUM(F343:F344)","v":54818801},33859549,216867115,0,44971923,350517388]
[null,null,"        2.4 Donaciones y Transferencias",null,null,{"$f":"+H55","v":0},{"$f":"+H110","v":0},{"$f":"+H165","v":0},{"$f":"+H219","v":0},{"$f":"+H273","v":0},{"$f":"SUM(F343:J343)","v":0}]
[null,null,"        2.6 Adquisicion de Activos No Financieros",null,null,{"$f":"+I55","v":54818801},{"$f":"+I110","v":33859549},{"$f":"+I165","v":216867115},{"$f":"+I219","v":0},{"$f":"+I273","v":44971923},{"$f":"SUM(F344:J344)","v":350517388}]
[null,null,"   7. SERVICIO DE LA DEUDA",null,null,{"$f":"SUM(F346:F347)","v":0},20445916,0,0,11477014,31922930]
[null,null,"        2.8 Servicio de la Deuda Publica",null,null,{"$f":"+K55","v":0},{"$f":"+K110","v":20445916},{"$f":"+K165","v":0},{"$f":"+K219","v":0},{"$f":"+K273","v":11477014},{"$f":"SUM(F346:J346)","v":31922930}]
[null,null,null,null,null,null,null,{"$f":"+I168","v":0},{"$f":"+I222","v":0},{"$f":"+I276","v":0}]
[null,null,"  TOTAL ======== >  S/..",null,null,{"$f":"+F337+F342+F345","v":1625971348},97364574,216867115,3748466,61915036,2005866539]
[]
[]
[null,null,"                                    RESUMEN POR CATEGIORIA PRESUPUESTAL Y FTE DE FTO"]
[null,null,"                                                                       FORMATO N° 02"]
[]
[null,null,null,null,"FUENTES DE FINANCIAMIENTO",null,"P.I.A","P.I.M","EJECUCION"]
[null,null,null,null,"RECURS.ORDINARIOS",null,{"$f":"SUM(G356:G358)","v":1625971348},{"$f":"SUM(H356:H358)","v":0},{"$f":"SUM(I356:I358)","v":0}]
[null,null,null,null,"               ACCION CENTRAL",null,172286044]
[null,null,null,null,"               A.P.N.P.",null,308826492]
[null,null,null,null,"               PRESUPUESTAL",null,1144858812]
[null,null,null,null,"RECURS.DIRECTAM.RECAUD.",null,{"$f":"SUM(G360:G362)","v":97364574},{"$f":"SUM(H360:H362)","v":0},{"$f":"SUM(I360:I362)","v":0}]
[null,null,null,null,"               ACCION CENTRAL",null,19543138]
[null,null,null,null,"               A.P.N.P.",null,73362958]
[null,null,null,null,"               PRESUPUESTAL",null,4458478]
[null,null,null,null,"RECURS. OPER.OFIC.DE CRED.",null,{"$f":"SUM(G364:G366)","v":216867115},{"$f":"SUM(H364:H366)","v":0},{"$f":"SUM(I364:I366)","v":0}]
[null,null,null,null,"               ACCION CENTRAL"]
[null,null,null,null,"               A.P.N.P."]
[null,null,null,null,"               PRESUPUESTAL",null,216867115]
[null,null,null,null,"DONAC.Y TRANSFERENCIAS",null,{"$f":"SUM(G368:G370)","v":3748466},{"$f":"SUM(H368:H370)","v":0},{"$f":"SUM(I368:I370)","v":0}]
[null,null,null,null,"               ACCION CENTRAL"]
[null,null,null,null,"               A.P.N.P.",null,3748466]
[null,null,null,null,"               PRESUPUESTAL"]
[null,null,null,null,"RECURS. DETERMINADOS",null,{"$f":"SUM(G372:G374)","v":61915036},{"$f":"SUM(H372:H374)","v":0},{"$f":"SUM(I372:I374)","v":0}]
[null,null,null,null,"               ACCION CENTRAL"]
[null,null,null,null,"               A.P.N.P.",null,18855949]
[null,null,null,null,"               PRESUPUESTAL",null,43059087]
[null,null,null,null,"PLIEGO",null,{"$f":"SUM(G376:G378)","v":2005866539},{"$f":"SUM(H376:H378)","v":0},0]
[null,null,null,null,"               ACCION CENTRAL",null,{"$f":"+G356+G360+G364+G368+G372","v":191829182},{"$f":"+H356+H360+H364+H368+H372","v":0},0]
[null,null,null,null,"               A.P.N.P.",null,{"$f":"+G357+G361+G365+G369+G373","v":404793865},0,0]
[null,null,null,null,"               PRESUPUESTAL",null,1409243492,0,0]

{"sheet":"B.DATOS (INGRESOS)","index":2,"n_rows":294,"n_cols":24,"rows_kept":294,"cut":false,"hidden":false,"merged":[[281,2,281,4],[293,2,293,4],[226,4,228,4],[226,6,228,6],[226,8,228,8],[226,11,228,11],[218,1,218,12],[219,1,219,12],[220,1,220,12],[221,1,221,12],[225,1,228,1],[225,2,225,4],[225,5,225,6],[225,7,225,8],[225,9,225,11],[225,12,228,12],[171,16,173,17],[171,18,174,18],[171,21,173,22],[171,23,174,23],[172,4,174,4],[172,6,174,6],[172,8,174,8],[172,11,174,11],[171,12,174,12],[171,1,174,1],[171,2,171,4],[171,5,171,6],[171,7,171,8],[171,9,171,11],[164,1,164,12],[165,1,165,12],[166,1,166,12],[167,1,167,12],[169,15,169,18],[169,20,169,23],[117,16,119,17],[117,18,120,18],[117,21,119,22],[117,23,120,23],[117,12,120,12],[110,1,110,12],[111,1,111,12],[112,1,112,12],[113,1,113,12],[118,4,120,4],[118,6,120,6],[118,8,120,8],[118,11,120,11],[117,1,120,1],[117,2,117,4],[117,5,117,6],[117,7,117,8],[117,9,117,11],[115,15,115,18],[115,20,115,23],[63,16,65,17],[63,18,66,18],[63,21,65,22],[63,23,66,23],[63,12,66,12],[56,1,56,12],[57,1,57,12],[58,1,58,12],[59,1,59,12],[64,4,66,4],[64,6,66,6],[64,8,66,8],[64,11,66,11],[63,1,66,1],[63,2,63,4],[63,5,63,6],[63,7,63,8],[63,9,63,11],[61,15,61,18],[61,20,61,23],[9,16,11,17],[9,18,12,18],[9,21,11,22],[9,23,12,23],[7,15,7,18],[7,20,7,23],[9,12,12,12],[2,1,2,12],[3,1,3,12],[4,1,4,12],[5,1,5,12],[10,4,12,4],[10,6,12,6],[10,8,12,8],[10,11,12,11],[9,1,12,1],[9,2,9,4],[9,5,9,6],[9,7,9,8],[9,9,9,11]]}
[]
[null,null,1.3,1.5,null,1.6,null,1.4,null,1.8,1.9]
[null,"FORMULACION PRESUPUESTO AÑO 2020"]
[null,"TECHOS PRESUPUESTALES DE INGRESOS POR UNIDADES EJECUTORAS"]
[null,"PLIEGO : 451 GOBIERNO REGIONAL DEL DEPARTAMENTO DE LA LIBERTAD"]
[null,"( En Nuevos Soles )"]
[]
[null,"FTE.FTO. : 09 RECURSOS DIRECTAMENTE RECAUDADOS",null,null,null,null,null,null,null,null,null,null,null,null,null,"FORMULACION 2020",null,null,null,null,"SALDO SEGÚN ACTA 2018"]
[null,null,null,null,null,null,null,null,null,null,null,null,null,null,null,null,null,null,null,null,null,{"$f":"+T9-R9","v":0}]
[null,"UNIDADES EJECUTORAS","INGRESOS CORRIENTE",null,null,"INGRESOS DE CAPITAL",null,"TRANSFERENCIAS",null,"FINANCIAMIENTO",null,null,"TOTAL",null,null,null,"MONTOS APROBADOS EN EL PIA QUE INCLUYE SALDOS DE BALANCE PROYECTADO",null,"TOTAL",null,null,"MONTOS DETERM INADOS SEGÚN ACTA DE CONCILIACION POR UNIDADES EJECUTORAS AÑO 2018",null,"TOTAL"]
[null,null,1.3,1.5,"SUBTOTAL INGR.CTE.",1.6,"SUBTOTAL INGR.CAP.",1.4,"SUBTOTAL TRANSFER.",1.8,1.9,"SUBTOTAL FINANCIAM."]
[null,null,"VENTA DE","OTROS",null,"VENTA DE",null,"DONAC. Y ",null,"EMDEUD.","ADQ. ACTIVOS"]
[null,null,"BNS Y SERV","INGRESOS",null,"ACT.NO FIN",null,"TRANSFER",null,null,"NO FINCIEROS",null,null,null,null,null,"ASIGNACION","SALDO BAL.",null,null,null,"AUTORIZADO","SALDO ACTA"]
[null,"001 SEDE LA LIBERTAD",3159445,2359768,{"$f":"SUM(C14:D14)","v":5519213},48000,{"$f":"+F14","v":48000},null,{"$f":"+H14","v":0},null,1450520,{"$f":"SUM(J14:K14)","v":1450520},{"$f":"+E14+G14+I14+L14","v":7017733},null,null,"001",{"$f":"+E14+G14","v":5567213},{"$f":"+K14","v":1450520},{"$f":"SUM(Q14:R14)","v":7017733},null,"001",{"$f":"+R14","v":1450520},null,{"$f":"+W14-V14","v":-1450520}]
[null,"005 PROYECTO ESPEC.CHAVIMOCHIC",33738657,null,{"$f":"SUM(C15:D15)","v":33738657},20445916,{"$f":"+F15","v":20445916},null,{"$f":"+H15","v":0},null,null,{"$f":"SUM(J15:K15)","v":0},{"$f":"+E15+G15+I15+L15","v":54184573},null,null,"005",{"$f":"+E15+G15","v":54184573},{"$f":"+K15","v":0},{"$f":"SUM(Q15:R15)","v":54184573},null,"005",{"$f":"+R15","v":0},null,{"$f":"+W15-V15","v":0}]
[null,"100 AGRICULTURA LA LIBERTAD",127300,94265,{"$f":"SUM(C16:D16)","v":221565},null,{"$f":"+F16","v":0},null,{"$f":"+H16","v":0},null,null,{"$f":"SUM(J16:K16)","v":0},{"$f":"+E16+G16+I16+L16","v":221565},null,null,"100",{"$f":"+E16+G16","v":221565},{"$f":"+K16","v":0},{"$f":"SUM(Q16:R16)","v":221565},null,"100",{"$f":"+R16","v":0},null,{"$f":"+W16-V16","v":0}]
[null,"200 TRANSPORTES LA LIBERTAD",4329799,407569,4737368,null,0,null,0,null,567160,567160,5304528,null,null,"200",{"$f":"+E17+G17","v":4737368},567160,{"$f":"SUM(Q17:R17)","v":5304528},null,"200",{"$f":"+R17","v":567160},null,{"$f":"+W17-V17","v":-567160}]
[null,null,null,null,null,null,null,null,null,null,null,null,null,null,null,null,null,null,{"$f":"SUM(Q18:R18)","v":0},null,null,{"$f":"+R18","v":0},null,{"$f":"+W18-V18","v":0}]
[null,"EDUCACION",{"$f":"SUM(C20:C36)","v":2493228},26574,2519802,0,0,0,0,0,40420,40420,2560222,null,null,null,{"$f":"SUM(Q20:Q36)","v":2519802},{"$f":"SUM(R20:R36)","v":40420},{"$f":"SUM(S20:S36)","v":2560222},null,null,{"$f":"SUM(V20:V36)","v":40420},{"$f":"SUM(W20:W36)","v":0},{"$f":"SUM(X20:X36)","v":-40420}]
[null,"300 EDUCACION LA LIBERTAD",398000,23224,{"$f":"SUM(C20:D20)","v":421224},null,{"$f":"+F20","v":0},null,{"$f":"+H20","v":0},null,null,{"$f":"SUM(J20:K20)","v":0},{"$f":"+E20+G20+I20+L20","v":421224},null,null,"300",{"$f":"+E20+G20","v":421224},{"$f":"+K20","v":0},{"$f":"SUM(Q20:R20)","v":421224},null,"300",{"$f":"+R20","v":0},null,{"$f":"+W20-V20","v":0}]
[null,"301 EDUCACION CHEPEN",4223,null,4223,null,0,null,0,null,null,0,4223,null,null,"301",4223,0,4223,null,"301",0,null,0]
[null,"302 EDUCACION PACASMAYO",10443,null,10443,null,0,null,0,null,null,0,10443,null,null,"302",10443,0,10443,null,"302",0,null,0]
[null,"303 EDUCACION ASCOPE",76978,null,76978,null,0,null,0,null,null,0,76978,null,null,"303",76978,0,76978,null,"303",0,null,0]
[null,"304 EDUCACION GRAN CHIMU",9336,null,9336,null,0,null,0,null,null,0,9336,null,null,"304",9336,0,9336,null,"304",0,null,0]
[null,"305 EDUCACION OTUZCO",15000,null,15000,null,0,null,0,null,null,0,15000,null,null,"305",15000,0,15000,null,"305",0,null,0]
[null,"306 EDUCACION SANTIAGO DE CHUCO",28772,null,28772,null,0,null,0,null,null,0,28772,null,null,"306",28772,0,28772,null,"306",0,null,0]
[null,"307 EDUCACION SANCHEZ CARRION",114573,null,114573,null,0,null,0,null,null,0,114573,null,null,"307",114573,0,114573,null,"307",0,null,0]
[null,"308 EDUCACION PATAZ",77352,null,77352,null,0,null,0,null,null,0,77352,null,null,"308",77352,0,77352,null,"308",0,null,0]
[null,"309 EDUCACION BOLIVAR",3640,null,3640,null,0,null,0,null,null,0,3640,null,null,"309",3640,0,3640,null,"309",0,null,0]
[null,"310 COLEGIO MILITAR RAMON CASTILLA",1475650,null,1475650,null,0,null,0,null,37840,37840,1513490,null,null,"310",1475650,37840,1513490,null,"310",37840,null,-37840]
[null,"311 EDUCACION JULCAN",14910,null,14910,null,0,null,0,null,null,0,14910,null,null,"311",14910,0,14910,null,"311",0,null,0]
[null,"312 EDUCACION VIRU",41130,null,41130,null,0,null,0,null,null,0,41130,null,null,"312",41130,0,41130,null,"312",0,null,0]
[null,"313 EDUCACION EL PORVENIR",65540,null,65540,null,0,null,0,null,2580,2580,68120,null,null,"313",65540,2580,68120,null,"313",2580,null,-2580]
[null,"314 EDUCACION LA ESPERANZA",47358,null,47358,null,0,null,0,null,null,0,47358,null,null,"314",47358,0,47358,null,"314",0,null,0]
[null,"315 EDUCACION TRUJILLO NOR OESTE",73291,3350,76641,null,0,null,0,null,null,0,76641,null,null,"315",76641,0,76641,null,"315",0,null,0]
[null,"316 EDUCACION TRUJILLO SUR ESTE",37032,null,37032,null,0,null,0,null,null,0,37032,null,null,"316",37032,0,37032,null,"316",0,null,0]
[null,null,null,null,0,null,0,null,0,null,null,0,0,null,null,null,null,null,0,null,null,0,null,0]
[null,"SALUD",{"$f":"SUM(C39:C53)","v":24233754},667311,24901065,0,0,0,0,0,3174888,3174888,28075953,null,null,null,{"$f":"SUM(Q39:Q53)","v":24901065},{"$f":"SUM(R39:R53)","v":3174888},{"$f":"SUM(S39:S53)","v":28075953},null,null,{"$f":"SUM(V39:V53)","v":3174888},{"$f":"SUM(W39:W53)","v":0},{"$f":"SUM(X39:X53)","v":-3174888}]
[null,"400 SALUD LA LIBERTAD",2116773,150000,{"$f":"SUM(C39:D39)","v":2266773},null,{"$f":"+F39","v":0},null,{"$f":"+H39","v":0},null,557237,{"$f":"SUM(J39:K39)","v":557237},{"$f":"+E39+G39+I39+L39","v":2824010},null,null,"400",{"$f":"+E39+G39","v":2266773},{"$f":"+K39","v":557237},{"$f":"SUM(Q39:R39)","v":2824010},null,"400",{"$f":"+R39","v":557237},null,{"$f":"+W39-V39","v":-557237}]
[null,"401 INSTIT. REG.DE OFTALMOLOGIA",4614037,null,4614037,null,0,null,0,null,637161,637161,5251198,null,null,"401",4614037,637161,5251198,null,"401",637161,null,-637161]
[null,"402 SALUD NORTE ASCOPE",6691408,80000,6771408,null,0,null,0,null,1268237,1268237,8039645,null,null,"402",6771408,1268237,8039645,null,"402",1268237,null,-1268237]
[null,"403 SALUD TRUJILLO SUR OESTE",3583300,402111,3985411,null,0,null,0,null,227051,227051,4212462,null,null,"403",3985411,227051,4212462,null,"403",227051,null,-227051]
[null,"404 SALUD CHEPEN",724369,null,724369,null,0,null,0,null,null,0,724369,null,null,"404",724369,0,724369,null,"404",0,null,0]
[null,"405 SALUD PACASMAYO",390608,1000,391608,null,0,null,0,null,null,0,391608,null,null,"405",391608,0,391608,null,"405",0,null,0]
[null,"406 SALUD SANCHEZ CARRION",251712,3500,255212,null,0,null,0,null,null,0,255212,null,null,"406",255212,0,255212,null,"406",0,null,0]
[null,"407 SALUD SANTIAGO DE CHUCO",31041,null,31041,null,0,null,0,null,null,0,31041,null,null,"407",31041,0,31041,null,"407",0,null,0]
[null,"408 SALUD OTUZCO",240075,null,240075,null,0,null,0,null,null,0,240075,null,null,"408",240075,0,240075,null,"408",0,null,0]
[null,"409 SALUD TRUJILLO ESTE",3433602,null,3433602,null,0,null,0,null,300000,300000,3733602,null,null,"409",3433602,300000,3733602,null,"409",300000,null,-300000]
[null,"410 INSTIT.REG.DE ENFERM.NEOPLASICAS",1341469,29450,1370919,null,0,null,0,null,183202,183202,1554121,null,null,"410",1370919,183202,1554121,null,"410",183202,null,-183202]
[null,"411 SALUD JULCAN",null,null,0,null,0,null,0,null,2000,2000,2000,null,null,"411",0,2000,2000,null,"411",2000,null,-2000]
[null,"412 SALUD VIRU",525411,750,526161,null,0,null,0,null,null,0,526161,null,null,"412",526161,0,526161,null,"412",0,null,0]
[null,"413 SALUD ASCOPE",191375,500,191875,null,0,null,0,null,null,0,191875,null,null,"413",191875,0,191875,null,"413",0,null,0]
[null,"414 SALUD GRAN CHIMU",98574,null,98574,null,0,null,0,null,null,0,98574,null,null,"414",98574,0,98574,null,"414",0,null,0]
[null,"TOTAL PLIEGO",{"$f":"+C14+C15+C16+C17+C19+C38","v":68082183},3555487,71637670,20493916,20493916,0,0,0,5232988,5232988,97364574,null,null,null,{"$f":"+Q14+Q15+Q16+Q17+Q19+Q38","v":92131586},{"$f":"+R14+R15+R16+R17+R19+R38","v":5232988},{"$f":"+S14+S15+S16+S17+S19+S38","v":97364574},null,null,{"$f":"+V14+V15+V16+V17+V19+V38","v":5232988},{"$f":"+W14+W15+W16+W17+W19+W38","v":0},{"$f":"+X14+X15+X16+X17+X19+X38","v":-5232988}]
[null,null,null,null,null,null,null,null,null,null,null,null,null,null,null,null,null,null,null,null,null,null,{"$f":"+R54","v":5232988}]
[null,null,null,null,null,null,null,null,null,null,null,null,null,null,null,null,null,null,null,null,null,null,{"$f":"+W55-W54","v":5232988}]
[null,{"$f":"+B3","v":"FORMULACION PRESUPUESTO AÑO 2020"}]
[null,{"$f":"+B4","v":"TECHOS PRESUPUESTALES DE INGRESOS POR UNIDADES EJECUTORAS"}]
[null,{"$f":"+B5","v":"PLIEGO : 451 GOBIERNO REGIONAL DEL DEPARTAMENTO DE LA LIBERTAD"}]
[null,"( En Nuevos Soles )"]
[]
[null,"FTE.FTO. : 3  RECURSOS POR OPERACIONES OFICIALES DE CREDITO",null,null,null,null,null,null,null,null,null,null,null,null,null,{"$f":"+P8","v":"FORMULACION 2020"},null,null,null,null,{"$f":"+U8","v":"SALDO SEGÚN ACTA 2018"}]
[null,null,null,null,null,null,null,null,null,null,null,null,null,null,null,null,{"$f":"+O63-M63","v":0},null,null,null,null,{"$f":"+T63-R63","v":0}]
[null,"UNIDADES EJECUTORAS","INGRESOS CORRIENTE",null,null,"INGRESOS DE CAPITAL",null,"TRANSFERENCIAS",null,"FINANCIAMIENTO",null,null,"TOTAL",null,null,null,"MONTOS APROBADOS EN EL PIA QUE INCLUYE SALDOS DE BALANCE PROYECTADO",null,"TOTAL",null,null,{"$f":"+V10","v":"MONTOS DETERM INADOS SEGÚN ACTA DE CONCILIACION POR UNIDADES EJECUTORAS AÑO 2018"},null,"TOTAL"]
[null,null,1.3,1.5,"SUBTOTAL INGR.CTE.",1.6,"SUBTOTAL INGR.CAP.",1.4,"SUBTOTAL TRANSFER.",1.8,1.9,"SUBTOTAL FINANCIAM."]
[null,null,"VENTA DE","OTROS",null,"VENTA DE",null,"DONAC. Y ",null,"EMDEUD.","ADQ. ACTIVOS"]
[null,null,"BNS Y SERV","INGRESOS",null,"ACT.NO FIN",null,"TRANSFER",null,null,"NO FINCIEROS",null,null,null,null,null,"ASIGNACION","SALDO BAL.",null,null,null,"AUTORIZADO","SALDO ACTA"]
[null,"001 SEDE LA LIBERTAD",null,null,{"$f":"SUM(C68:D68)","v":0},null,{"$f":"+F68","v":0},null,{"$f":"+H68","v":0},null,null,{"$f":"SUM(J68:K68)","v":0},{"$f":"+E68+G68+I68+L68","v":0},null,null,"001",{"$f":"+J68","v":0},null,{"$f":"SUM(Q68:R68)","v":0},null,"001",{"$f":"+R68","v":0},null,{"$f":"+W68-V68","v":0}]
[null,"005 PROYECTO ESPEC.CHAVIMOCHIC",null,null,{"$f":"SUM(C69:D69)","v":0},null,{"$f":"+F69","v":0},null,{"$f":"+H69","v":0},216867115,null,{"$f":"SUM(J69:K69)","v":216867115},{"$f":"+E69+G69+I69+L69","v":216867115},null,null,"005",{"$f":"+J69","v":216867115},{"$f":"+K69","v":0},{"$f":"SUM(Q69:R69)","v":216867115},null,"005",{"$f":"+R69","v":0},null,{"$f":"+W69-V69","v":0}]
[null,"100 AGRICULTURA LA LIBERTAD",null,null,{"$f":"SUM(C70:D70)","v":0},null,{"$f":"+F70","v":0},null,{"$f":"+H70","v":0},null,null,{"$f":"SUM(J70:K70)","v":0},{"$f":"+E70+G70+I70+L70","v":0},null,null,"100",null,null,{"$f":"SUM(Q70:R70)","v":0},null,"100",{"$f":"+R70","v":0},null,{"$f":"+W70-V70","v":0}]
[null,"200 TRANSPORTES LA LIBERTAD",null,null,{"$f":"SUM(C71:D71)","v":0},null,{"$f":"+F71","v":0},null,{"$f":"+H71","v":0},null,null,{"$f":"SUM(J71:K71)","v":0},{"$f":"+E71+G71+I71+L71","v":0},null,null,"200",null,null,{"$f":"SUM(Q71:R71)","v":0},null,"200",{"$f":"+R71","v":0},null,{"$f":"+W71-V71","v":0}]
[null,null,null,null,null,null,null,null,null,null,null,null,null,null,null,null,null,null,{"$f":"SUM(Q72:R72)","v":0},null,null,{"$f":"+R72","v":0},null,{"$f":"+W72-V72","v":0}]
[null,"EDUCACION",{"$f":"SUM(C74:C90)","v":0},0,0,0,0,0,0,0,0,0,0,null,null,null,{"$f":"SUM(Q74:Q90)","v":0},{"$f":"SUM(R74:R90)","v":0},{"$f":"SUM(S74:S90)","v":0},null,null,{"$f":"SUM(V74:V90)","v":0},{"$f":"SUM(W74:W90)","v":0},{"$f":"SUM(X74:X90)","v":0}]
[null,"300 EDUCACION LA LIBERTAD",null,null,{"$f":"SUM(C74:D74)","v":0},null,{"$f":"+F74","v":0},null,{"$f":"+H74","v":0},null,null,{"$f":"SUM(J74:K74)","v":0},{"$f":"+E74+G74+I74+L74","v":0},null,null,"300",null,null,{"$f":"SUM(Q74:R74)","v":0},null,"300",{"$f":"+R74","v":0},null,{"$f":"+W74-V74","v":0}]
[null,"301 EDUCACION CHEPEN",null,null,0,null,0,null,0,null,null,0,0,null,null,"301",null,null,0,null,"301",0,null,0]
[null,"302 EDUCACION PACASMAYO",null,null,0,null,0,null,0,null,null,0,0,null,null,"302",null,null,0,null,"302",0,null,0]
[null,"303 EDUCACION ASCOPE",null,null,0,null,0,null,0,null,null,0,0,null,null,"303",null,null,0,null,"303",0,null,0]
[null,"304 EDUCACION GRAN CHIMU",null,null,0,null,0,null,0,null,null,0,0,null,null,"304",null,null,0,null,"304",0,null,0]
[null,"305 EDUCACION OTUZCO",null,null,0,null,0,null,0,null,null,0,0,null,null,"305",null,null,0,null,"305",0,null,0]
[null,"306 EDUCACION SANTIAGO DE CHUCO",null,null,0,null,0,null,0,null,null,0,0,null,null,"306",null,null,0,null,"306",0,null,0]
[null,"307 EDUCACION SANCHEZ CARRION",null,null,0,null,0,null,0,null,null,0,0,null,null,"307",null,null,0,null,"307",0,null,0]
[null,"308 EDUCACION PATAZ",null,null,0,null,0,null,0,null,null,0,0,null,null,"308",null,null,0,null,"308",0,null,0]
[null,"309 EDUCACION BOLIVAR",null,null,0,null,0,null,0,null,null,0,0,null,null,"309",null,null,0,null,"309",0,null,0]
[null,"310 COLEGIO MILITAR RAMON CASTILLA",null,null,0,null,0,null,0,null,null,0,0,null,null,"310",null,null,0,null,"310",0,null,0]
[null,"311 EDUCACION JULCAN",null,null,0,null,0,null,0,null,null,0,0,null,null,"311",null,null,0,null,"311",0,null,0]
[null,"312 EDUCACION VIRU",null,null,0,null,0,null,0,null,null,0,0,null,null,"312",null,null,0,null,"312",0,null,0]
[null,"313 EDUCACION EL PORVENIR",null,null,0,null,0,null,0,null,null,0,0,null,null,"313",null,null,0,null,"313",0,null,0]
[null,"314 EDUCACION LA ESPERANZA",null,null,0,null,0,null,0,null,null,0,0,null,null,"314",null,null,0,null,"314",0,null,0]
[null,"315 EDUCACION TRUJILLO NOR OESTE",null,null,0,null,0,null,0,null,null,0,0,null,null,"315",null,null,0,null,"315",0,null,0]
[null,"316 EDUCACION TRUJILLO SUR ESTE",null,null,0,null,0,null,0,null,null,0,0,null,null,"316",null,null,0,null,"316",0,null,0]
[null,null,null,null,null,null,0,null,0,null,null,null,{"$f":"+E91+G91+L91","v":0},null,null,null,null,null,0,null,null,0,null,0]
[null,"SALUD",{"$f":"SUM(C93:C107)","v":0},0,0,0,0,0,0,0,0,0,0,null,null,null,{"$f":"SUM(Q93:Q107)","v":0},{"$f":"SUM(R93:R107)","v":0},{"$f":"SUM(S93:S107)","v":0},null,null,{"$f":"SUM(V93:V107)","v":0},{"$f":"SUM(W93:W107)","v":0},{"$f":"SUM(X93:X107)","v":0}]
[null,"400 SALUD LA LIBERTAD",null,null,{"$f":"SUM(C93:D93)","v":0},null,{"$f":"+F93","v":0},null,{"$f":"+H93","v":0},null,null,{"$f":"SUM(J93:K93)","v":0},{"$f":"+E93+G93+I93+L93","v":0},null,null,"400",null,null,{"$f":"SUM(Q93:R93)","v":0},null,"400",{"$f":"+R93","v":0},null,{"$f":"+W93-V93","v":0}]
[null,"401 INSTIT. REG.DE OFTALMOLOGIA",null,null,0,null,0,null,0,null,null,0,0,null,null,"401",null,null,0,null,"401",0,null,0]
[null,"402 SALUD NORTE ASCOPE",null,null,0,null,0,null,0,null,null,0,0,null,null,"402",null,null,0,null,"402",0,null,0]
[null,"403 SALUD TRUJILLO SUR OESTE",null,null,0,null,0,null,0,null,null,0,0,null,null,"403",null,null,0,null,"403",0,null,0]
[null,"404 SALUD CHEPEN",null,null,0,null,0,null,0,null,null,0,0,null,null,"404",null,null,0,null,"404",0,null,0]
[null,"405 SALUD PACASMAYO",null,null,0,null,0,null,0,null,null,0,0,null,null,"405",null,null,0,null,"405",0,null,0]
[null,"406 SALUD SANCHEZ CARRION",null,null,0,null,0,null,0,null,null,0,0,null,null,"406",null,null,0,null,"406",0,null,0]
[null,"407 SALUD SANTIAGO DE CHUCO",null,null,0,null,0,null,0,null,null,0,0,null,null,"407",null,null,0,null,"407",0,null,0]
[null,"408 SALUD OTUZCO",null,null,0,null,0,null,0,null,null,0,0,null,null,"408",null,null,0,null,"408",0,null,0]
[null,"409 SALUD TRUJILLO ESTE",null,null,0,null,0,null,0,null,null,0,0,null,null,"409",null,null,0,null,"409",0,null,0]
[null,"410 INSTIT.REG.DE ENFERM.NEOPLASICAS",null,null,0,null,0,null,0,null,null,0,0,null,null,"410",null,null,0,null,"410",0,null,0]
[null,"411 SALUD JULCAN",null,null,0,null,0,null,0,null,null,0,0,null,null,"411",null,null,0,null,"411",0,null,0]
[null,"412 SALUD VIRU",null,null,0,null,0,null,0,null,null,0,0,null,null,"412",null,null,0,null,"412",0,null,0]
[null,"413 SALUD ASCOPE",null,null,0,null,0,null,0,null,null,0,0,null,null,"413",null,null,0,null,"413",0,null,0]
[null,"414 SALUD GRAN CHIMU",null,null,0,null,0,null,0,null,null,0,0,null,null,"414",null,null,0,null,"414",0,null,0]
[null,"TOTAL PLIEGO",{"$f":"+C68+C69+C70+C71+C73+C92","v":0},0,0,0,0,0,0,216867115,0,216867115,216867115,null,null,null,{"$f":"+Q68+Q69+Q70+Q71+Q73+Q92","v":216867115},{"$f":"+R68+R69+R70+R71+R73+R92","v":0},{"$f":"+S68+S69+S70+S71+S73+S92","v":216867115},null,null,{"$f":"+V68+V69+V70+V71+V73+V92","v":0},{"$f":"+W68+W69+W70+W71+W73+W92","v":0},{"$f":"+X68+X69+X70+X71+X73+X92","v":0}]
[null,null,null,null,null,null,null,null,null,null,null,null,null,null,null,null,null,null,null,null,null,null,{"$f":"+R108","v":0}]
[null,null,null,null,null,null,null,null,null,null,null,null,null,null,null,null,null,null,null,null,null,null,{"$f":"+W109-W108","v":0}]
[null,{"$f":"+B3","v":"FORMULACION PRESUPUESTO AÑO 2020"}]
[null,{"$f":"+B4","v":"TECHOS PRESUPUESTALES DE INGRESOS POR UNIDADES EJECUTORAS"}]
[null,{"$f":"+B5","v":"PLIEGO : 451 GOBIERNO REGIONAL DEL DEPARTAMENTO DE LA LIBERTAD"}]
[null,"( En Nuevos Soles )"]
[]
[null,"FTE.FTO. : 4 DONACIONES Y TRANSFERENCIAS",null,null,null,null,null,null,null,null,null,null,null,null,null,{"$f":"+P8","v":"FORMULACION 2020"},null,null,null,null,{"$f":"+U8","v":"SALDO SEGÚN ACTA 2018"}]
[null,null,null,null,null,null,null,null,null,null,null,null,null,null,null,null,{"$f":"+O117-M117","v":0},null,null,null,null,{"$f":"+T117-R117","v":0}]
[null,"UNIDADES EJECUTORAS","INGRESOS CORRIENTE",null,null,"INGRESOS DE CAPITAL",null,"TRANSFERENCIAS",null,"FINANCIAMIENTO",null,null,"TOTAL",null,null,null,"MONTOS APROBADOS EN EL PIA QUE INCLUYE SALDOS DE BALANCE PROYECTADO",null,"TOTAL",null,null,{"$f":"+V10","v":"MONTOS DETERM INADOS SEGÚN ACTA DE CONCILIACION POR UNIDADES EJECUTORAS AÑO 2018"},null,"TOTAL"]
[null,null,1.3,1.5,"SUBTOTAL INGR.CTE.",1.6,"SUBTOTAL INGR.CAP.",1.4,"SUBTOTAL TRANSFER.",1.8,1.9,"SUBTOTAL FINANCIAM."]
[null,null,"VENTA DE","OTROS",null,"VENTA DE",null,"DONAC. Y ",null,"EMDEUD.","ADQ. ACTIVOS"]
[null,null,"BNS Y SERV","INGRESOS",null,"ACT.NO FIN",null,"TRANSFER",null,null,"NO FINCIEROS",null,null,null,null,null,"ASIGNACION","SALDO BAL.",null,null,null,"AUTORIZADO","SALDO ACTA"]
[null,"001 SEDE LA LIBERTAD",null,null,{"$f":"SUM(C122:D122)","v":0},null,{"$f":"+F122","v":0},null,{"$f":"+H122","v":0},null,null,{"$f":"SUM(J122:K122)","v":0},{"$f":"+E122+G122+I122+L122","v":0},null,"001","D-0",null,null,{"$f":"SUM(Q122:R122)","v":0},null,"D-0",{"$f":"+R122","v":0},null,{"$f":"+W122-V122","v":0}]
[null,"005 PROYECTO ESPEC.CHAVIMOCHIC",null,null,{"$f":"SUM(C123:D123)","v":0},null,{"$f":"+F123","v":0},null,{"$f":"+H123","v":0},null,null,{"$f":"SUM(J123:K123)","v":0},{"$f":"+E123+G123+I123+L123","v":0},null,"005",null,null,{"$f":"+Q123","v":0},{"$f":"SUM(Q123:R123)","v":0},null,null,{"$f":"+R123","v":0},null,{"$f":"+W123-V123","v":0}]
[null,"100 AGRICULTURA LA LIBERTAD",null,null,{"$f":"SUM(C124:D124)","v":0},null,{"$f":"+F124","v":0},null,{"$f":"+H124","v":0},null,null,{"$f":"SUM(J124:K124)","v":0},{"$f":"+E124+G124+I124+L124","v":0},null,"100",null,null,{"$f":"+Q124","v":0},{"$f":"SUM(Q124:R124)","v":0},null,null,{"$f":"+R124","v":0},null,{"$f":"+W124-V124","v":0}]
[null,"200 TRANSPORTES LA LIBERTAD",null,null,{"$f":"SUM(C125:D125)","v":0},null,{"$f":"+F125","v":0},null,{"$f":"+H125","v":0},null,null,{"$f":"SUM(J125:K125)","v":0},{"$f":"+E125+G125+I125+L125","v":0},null,"200",null,null,{"$f":"+Q125","v":0},{"$f":"SUM(Q125:R125)","v":0},null,null,{"$f":"+R125","v":0},null,{"$f":"+W125-V125","v":0}]
[null,null,null,null,null,null,null,null,null,null,null,null,null,null,null,null,null,null,{"$f":"SUM(Q126:R126)","v":0},null,null,{"$f":"+R126","v":0},null,{"$f":"+W126-V126","v":0}]
[null,"EDUCACION",{"$f":"SUM(C128:C144)","v":0},0,0,0,0,0,0,0,0,0,0,null,null,null,{"$f":"SUM(Q128:Q144)","v":0},{"$f":"SUM(R128:R144)","v":0},{"$f":"SUM(S128:S144)","v":0},null,null,{"$f":"SUM(V128:V144)","v":0},{"$f":"SUM(W128:W144)","v":0},{"$f":"SUM(X128:X144)","v":0}]
[null,"300 EDUCACION LA LIBERTAD",null,null,{"$f":"SUM(C128:D128)","v":0},null,{"$f":"+F128","v":0},null,{"$f":"+H128","v":0},null,null,{"$f":"SUM(J128:K128)","v":0},{"$f":"+E128+G128+I128+L128","v":0},null,"300","T-A",null,null,{"$f":"SUM(Q128:R128)","v":0},null,"T-A",{"$f":"+R128","v":0},null,{"$f":"+W128-V128","v":0}]
[null,"301 EDUCACION CHEPEN",null,null,0,null,0,null,0,null,null,0,0,null,"301","D-N",null,null,0,null,"D-N",0,null,0]
[null,"302 EDUCACION PACASMAYO",null,null,0,null,0,null,0,null,null,0,0,null,"302","D-N",null,null,0,null,"D-N",0,null,0]
[null,"303 EDUCACION ASCOPE",null,null,0,null,0,null,0,null,null,0,0,null,"303","D-N",null,null,0,null,"D-N",0,null,0]
[null,"304 EDUCACION GRAN CHIMU",null,null,0,null,0,null,0,null,null,0,0,null,"304","T-A",null,null,0,null,"T-A",0,null,0]
[null,"305 EDUCACION OTUZCO",null,null,0,null,0,null,0,null,null,0,0,null,"305","D-N",null,null,0,null,"D-N",0,null,0]
[null,"306 EDUCACION SANTIAGO DE CHUCO",null,null,0,null,0,null,0,null,null,0,0,null,"306","T-A",null,null,0,null,"T-A",0,null,0]
[null,"307 EDUCACION SANCHEZ CARRION",null,null,0,null,0,null,0,null,null,0,0,null,"307","D-N",null,null,0,null,"D-N",0,null,0]
[null,"308 EDUCACION PATAZ",null,null,0,null,0,null,0,null,null,0,0,null,"308","D-0",null,null,0,null,"D-0",0,null,0]
[null,"309 EDUCACION BOLIVAR",null,null,0,null,0,null,0,null,null,0,0,null,"309",null,null,null,0,null,null,0,null,0]
[null,"310 COLEGIO MILITAR RAMON CASTILLA",null,null,0,null,0,null,0,null,null,0,0,null,"310","T-A",null,null,0,null,"T-A",0,null,0]
[null,"311 EDUCACION JULCAN",null,null,0,null,0,null,0,null,null,0,0,null,"311","T-A",null,null,0,null,"T-A",0,null,0]
[null,"312 EDUCACION VIRU",null,null,0,null,0,null,0,null,null,0,0,null,"312","D-N",null,null,0,null,"D-N",0,null,0]
[null,"313 EDUCACION EL PORVENIR",null,null,0,null,0,null,0,null,null,0,0,null,"313","D-N",null,null,0,null,"D-N",0,null,0]
[null,"314 EDUCACION LA ESPERANZA",null,null,0,null,0,null,0,null,null,0,0,null,"314","D-N",null,null,0,null,"D-N",0,null,0]
[null,"315 EDUCACION TRUJILLO NOR OESTE",null,null,0,null,0,null,0,null,null,0,0,null,"315","D-N",null,null,0,null,"D-N",0,null,0]
[null,"316 EDUCACION TRUJILLO SUR ESTE",null,null,0,null,0,null,0,null,null,0,0,null,"316","D-N",null,null,0,null,"D-N",0,null,0]
[null,null,null,null,null,null,0,null,0,null,null,null,{"$f":"+E145+G145+L145","v":0},null,null,null,null,null,0,null,null,0,null,0]
[null,"SALUD",{"$f":"SUM(C147:C161)","v":0},0,0,0,0,0,0,0,3748466,3748466,3748466,null,null,null,{"$f":"SUM(Q147:Q161)","v":0},{"$f":"SUM(R147:R161)","v":3748466},{"$f":"SUM(S147:S161)","v":3748466},null,null,{"$f":"SUM(V147:V161)","v":3748466},{"$f":"SUM(W147:W161)","v":0},{"$f":"SUM(X147:X161)","v":-3748466}]
[null,"400 SALUD LA LIBERTAD",null,null,{"$f":"SUM(C147:D147)","v":0},null,{"$f":"+F147","v":0},null,{"$f":"+H147","v":0},null,3748466,{"$f":"SUM(J147:K147)","v":3748466},{"$f":"+E147+G147+I147+L147","v":3748466},null,"400","T-7",null,{"$f":"+K147","v":3748466},{"$f":"SUM(Q147:R147)","v":3748466},null,"T-7",{"$f":"+R147","v":3748466},null,{"$f":"+W147-V147","v":-3748466}]
[null,"401 INSTIT. REG.DE OFTALMOLOGIA",null,null,0,null,0,null,0,null,null,0,0,null,"401","T-7",null,null,0,null,"T-7",0,null,0]
[null,"402 SALUD NORTE ASCOPE",null,null,0,null,0,null,0,null,null,0,0,null,"402","T-7",null,null,0,null,"T-7",0,null,0]
[null,"403 SALUD TRUJILLO SUR OESTE",null,null,0,null,0,null,0,null,null,0,0,null,"403","T-7",null,null,0,null,"T-7",0,null,0]
[null,"404 SALUD CHEPEN",null,null,0,null,0,null,0,null,null,0,0,null,"404","T-7",null,null,0,null,"T-7",0,null,0]
[null,"405 SALUD PACASMAYO",null,null,0,null,0,null,0,null,null,0,0,null,"405","T-7",null,null,0,null,"T-7",0,null,0]
[null,"406 SALUD SANCHEZ CARRION",null,null,0,null,0,null,0,null,null,0,0,null,"406","T-7",null,null,0,null,"T-7",0,null,0]
[null,"407 SALUD SANTIAGO DE CHUCO",null,null,0,null,0,null,0,null,null,0,0,null,"407","T-7",null,null,0,null,"T-7",0,null,0]
[null,"408 SALUD OTUZCO",null,null,0,null,0,null,0,null,null,0,0,null,"408","T-7",null,null,0,null,"T-7",0,null,0]
[null,"409 SALUD TRUJILLO ESTE",null,null,0,null,0,null,0,null,null,0,0,null,"409","T-7",null,null,0,null,"T-7",0,null,0]
[null,"410 INSTIT.REG.DE ENFERM.NEOPLASICAS",null,null,0,null,0,null,0,null,null,0,0,null,"410","T-7",null,null,0,null,"T-7",0,null,0]
[null,"411 SALUD JULCAN",null,null,0,null,0,null,0,null,null,0,0,null,"411","T-7",null,null,0,null,"T-7",0,null,0]
[null,"412 SALUD VIRU",null,null,0,null,0,null,0,null,null,0,0,null,"412","T-7",null,null,0,null,"T-7",0,null,0]
[null,"413 SALUD ASCOPE",null,null,0,null,0,null,0,null,null,0,0,null,"413","T-7",null,null,0,null,"T-7",0,null,0]
[null,"414 SALUD GRAN CHIMU",null,null,0,null,0,null,0,null,null,0,0,null,"414","T-7",null,null,0,null,"T-7",0,null,0]
[null,"TOTAL PLIEGO",{"$f":"+C122+C123+C124+C125+C127+C146","v":0},0,0,0,0,0,0,0,3748466,3748466,3748466,null,null,null,{"$f":"+Q122+Q123+Q124+Q125+Q127+Q146","v":0},{"$f":"+R122+R123+R124+R125+R127+R146","v":3748466},{"$f":"+S122+S123+S124+S125+S127+S146","v":3748466},null,null,{"$f":"+V122+V123+V124+V125+V127+V146","v":3748466},{"$f":"+W122+W123+W124+W125+W127+W146","v":0},{"$f":"+X122+X123+X124+X125+X127+X146","v":-3748466}]
[null,null,null,null,null,null,null,null,null,null,null,null,null,null,null,null,null,null,null,null,null,null,{"$f":"+R162","v":3748466}]
[null,null,null,null,null,null,null,null,null,null,null,null,null,null,null,null,{"$f":"+O164-M164","v":0},null,null,null,null,null,{"$f":"+W163-W162","v":3748466}]
[null,{"$f":"+B3","v":"FORMULACION PRESUPUESTO AÑO 2020"}]
[null,{"$f":"+B4","v":"TECHOS PRESUPUESTALES DE INGRESOS POR UNIDADES EJECUTORAS"}]
[null,{"$f":"+B5","v":"PLIEGO : 451 GOBIERNO REGIONAL DEL DEPARTAMENTO DE LA LIBERTAD"}]
[null,"( En Nuevos Soles )"]
[]
[null,"FTE.FTO. : 5  RECURSOS DETERMINADOS",null,null,null,null,null,null,null,null,null,null,null,null,null,"FORMULACION 2018",null,null,null,null,{"$f":"+U8","v":"SALDO SEGÚN ACTA 2018"}]
[null,null,null,null,null,null,null,null,null,null,null,null,null,null,null,null,{"$f":"+O171-M171","v":0},null,null,null,null,{"$f":"+T171-R171","v":0}]
[null,"UNIDADES EJECUTORAS","INGRESOS CORRIENTE",null,null,"INGRESOS DE CAPITAL",null,"TRANSFERENCIAS",null,"FINANCIAMIENTO",null,null,"TOTAL",null,null,null,"MONTOS APROBADOS EN EL PIA QUE INCLUYE SALDOS DE BALANCE PROYECTADO",null,"TOTAL",null,null,{"$f":"+V10","v":"MONTOS DETERM INADOS SEGÚN ACTA DE CONCILIACION POR UNIDADES EJECUTORAS AÑO 2018"},null,"TOTAL"]
[null,null,1.3,1.5,"SUBTOTAL INGR.CTE.",1.6,"SUBTOTAL INGR.CAP.",1.4,"SUBTOTAL TRANSFER.",1.8,1.9,"SUBTOTAL FINANCIAM."]
[null,null,"VENTA DE","OTROS",null,"VENTA DE",null,"DONAC. Y ",null,"EMDEUD.","ADQ. ACTIVOS"]
[null,null,"BNS Y SERV","INGRESOS",null,"ACT.NO FIN",null,"TRANSFER",null,null,"NO FINCIEROS",null,null,null,null,null,"ASIGNACION","SALDO BAL.",null,null,null,"AUTORIZADO","SALDO ACTA"]
[null,"001 SEDE LA LIBERTAD",null,null,{"$f":"SUM(C176:D176)","v":0},null,{"$f":"+F176","v":0},26324938,{"$f":"+H176","v":26324938},null,null,{"$f":"SUM(J176:K176)","v":0},{"$f":"+E176+G176+I176+L176","v":26324938},null,null,"001",{"$f":"+I176","v":26324938},{"$f":"+K176","v":0},{"$f":"SUM(Q176:R176)","v":26324938},null,"001",{"$f":"+R176","v":0},null,{"$f":"+W176-V176","v":0}]
[null,"005 PROYECTO ESPEC.CHAVIMOCHIC",null,null,{"$f":"SUM(C177:D177)","v":0},null,{"$f":"+F177","v":0},15575093,{"$f":"+H177","v":15575093},null,20015005,{"$f":"SUM(J177:K177)","v":20015005},{"$f":"+E177+G177+I177+L177","v":35590098},null,null,"005",null,{"$f":"+K177","v":20015005},{"$f":"SUM(Q177:R177)","v":20015005},null,"005",{"$f":"+R177","v":20015005},null,{"$f":"+W177-V177","v":-20015005}]
[null,"100 AGRICULTURA LA LIBERTAD",null,null,{"$f":"SUM(C178:D178)","v":0},null,{"$f":"+F178","v":0},null,{"$f":"+H178","v":0},null,null,{"$f":"SUM(J178:K178)","v":0},{"$f":"+E178+G178+I178+L178","v":0},null,null,"100",null,null,{"$f":"SUM(Q178:R178)","v":0},null,"100",null,null,{"$f":"SUM(V178:W178)","v":0}]
[null,"200 TRANSPORTES LA LIBERTAD",null,null,{"$f":"SUM(C179:D179)","v":0},null,{"$f":"+F179","v":0},null,{"$f":"+H179","v":0},null,null,{"$f":"SUM(J179:K179)","v":0},{"$f":"+E179+G179+I179+L179","v":0},null,null,"200",null,null,{"$f":"SUM(Q179:R179)","v":0},null,"200",null,null,{"$f":"SUM(V179:W179)","v":0}]
[null,null,null,null,null,null,null,null,null,null,null,null,null,null,null,null,null,null,{"$f":"SUM(Q180:R180)","v":0},null,null,null,null,{"$f":"SUM(V180:W180)","v":0}]
[null,"EDUCACION",{"$f":"SUM(C182:C198)","v":0},0,0,0,0,0,0,0,0,0,0,null,null,null,{"$f":"SUM(Q182:Q198)","v":0},{"$f":"SUM(R182:R198)","v":0},{"$f":"SUM(S182:S198)","v":0},null,null,{"$f":"SUM(V182:V198)","v":0},{"$f":"SUM(W182:W198)","v":0},{"$f":"SUM(X182:X198)","v":0}]
[null,"300 EDUCACION LA LIBERTAD",null,null,{"$f":"SUM(C182:D182)","v":0},null,{"$f":"+F182","v":0},null,{"$f":"+H182","v":0},null,null,{"$f":"SUM(J182:K182)","v":0},{"$f":"+E182+G182+I182+L182","v":0},null,null,"300",null,null,{"$f":"SUM(Q182:R182)","v":0},null,"300",null,null,{"$f":"SUM(V182:W182)","v":0}]
[null,"301 EDUCACION CHEPEN",null,null,0,null,0,null,0,null,null,0,0,null,null,"301",null,null,0,null,"301",null,null,0]
[null,"302 EDUCACION PACASMAYO",null,null,0,null,0,null,0,null,null,0,0,null,null,"302",null,null,0,null,"302",null,null,0]
[null,"303 EDUCACION ASCOPE",null,null,0,null,0,null,0,null,null,0,0,null,null,"303",null,null,0,null,"303",null,null,0]
[null,"304 EDUCACION GRAN CHIMU",null,null,0,null,0,null,0,null,null,0,0,null,null,"304",null,null,0,null,"304",null,null,0]
[null,"305 EDUCACION OTUZCO",null,null,0,null,0,null,0,null,null,0,0,null,null,"305",null,null,0,null,"305",null,null,0]
[null,"306 EDUCACION SANTIAGO DE CHUCO",null,null,0,null,0,null,0,null,null,0,0,null,null,"306",null,null,0,null,"306",null,null,0]
[null,"307 EDUCACION SANCHEZ CARRION",null,null,0,null,0,null,0,null,null,0,0,null,null,"307",null,null,0,null,"307",null,null,0]
[null,"308 EDUCACION PATAZ",null,null,0,null,0,null,0,null,null,0,0,null,null,"308",null,null,0,null,"308",null,null,0]
[null,"309 EDUCACION BOLIVAR",null,null,0,null,0,null,0,null,null,0,0,null,null,"309",null,null,0,null,"309",null,null,0]
[null,"310 COLEGIO MILITAR RAMON CASTILLA",null,null,0,null,0,null,0,null,null,0,0,null,null,"310",null,null,0,null,"310",null,null,0]
[null,"311 EDUCACION JULCAN",null,null,0,null,0,null,0,null,null,0,0,null,null,"311",null,null,0,null,"311",null,null,0]
[null,"312 EDUCACION VIRU",null,null,0,null,0,null,0,null,null,0,0,null,null,"312",null,null,0,null,"312",null,null,0]
[null,"313 EDUCACION EL PORVENIR",null,null,0,null,0,null,0,null,null,0,0,null,null,"313",null,null,0,null,"313",null,null,0]
[null,"314 EDUCACION LA ESPERANZA",null,null,0,null,0,null,0,null,null,0,0,null,null,"314",null,null,0,null,"314",null,null,0]
[null,"315 EDUCACION TRUJILLO NOR OESTE",null,null,0,null,0,null,0,null,null,0,0,null,null,"315",null,null,0,null,"315",null,null,0]
[null,"316 EDUCACION TRUJILLO SUR ESTE",null,null,0,null,0,null,0,null,null,0,0,null,null,"316",null,null,0,null,"316",null,null,0]
[null,null,null,null,null,null,0,null,0,null,null,null,{"$f":"+E199+G199+L199","v":0},null,null,null,null,null,0,null,null,null,null,0]
[null,"SALUD",{"$f":"SUM(C201:C215)","v":0},0,0,0,0,0,0,0,0,0,0,null,null,null,{"$f":"SUM(Q201:Q215)","v":0},{"$f":"SUM(R201:R215)","v":0},{"$f":"SUM(S201:S215)","v":0},null,null,{"$f":"SUM(V201:V215)","v":0},{"$f":"SUM(W201:W215)","v":0},{"$f":"SUM(X201:X215)","v":0}]
[null,"400 SALUD LA LIBERTAD",null,null,{"$f":"SUM(C201:D201)","v":0},null,{"$f":"+F201","v":0},null,{"$f":"+H201","v":0},null,null,{"$f":"SUM(J201:K201)","v":0},{"$f":"+E201+G201+I201+L201","v":0},null,null,"400",null,null,{"$f":"SUM(Q201:R201)","v":0},null,"400",null,null,{"$f":"SUM(V201:W201)","v":0}]
[null,"401 INSTIT. REG.DE OFTALMOLOGIA",null,null,0,null,0,null,0,null,null,0,0,null,null,"401",null,null,0,null,"401",null,null,0]
[null,"402 SALUD NORTE ASCOPE",null,null,0,null,0,null,0,null,null,0,0,null,null,"402",null,null,0,null,"402",null,null,0]
[null,"403 SALUD TRUJILLO SUR OESTE",null,null,0,null,0,null,0,null,null,0,0,null,null,"403",null,null,0,null,"403",null,null,0]
[null,"404 SALUD CHEPEN",null,null,0,null,0,null,0,null,null,0,0,null,null,"404",null,null,0,null,"404",null,null,0]
[null,"405 SALUD PACASMAYO",null,null,0,null,0,null,0,null,null,0,0,null,null,"405",null,null,0,null,"405",null,null,0]
[null,"406 SALUD SANCHEZ CARRION",null,null,0,null,0,null,0,null,null,0,0,null,null,"406",null,null,0,null,"406",null,null,0]
[null,"407 SALUD SANTIAGO DE CHUCO",null,null,0,null,0,null,0,null,null,0,0,null,null,"407",null,null,0,null,"407",null,null,0]
[null,"408 SALUD OTUZCO",null,null,0,null,0,null,0,null,null,0,0,null,null,"408",null,null,0,null,"408",null,null,0]
[null,"409 SALUD TRUJILLO ESTE",null,null,0,null,0,null,0,null,null,0,0,null,null,"409",null,null,0,null,"409",null,null,0]
[null,"410 INSTIT.REG.DE ENFERM.NEOPLASICAS",null,null,0,null,0,null,0,null,null,0,0,null,null,"410",null,null,0,null,"410",null,null,0]
[null,"411 SALUD JULCAN",null,null,0,null,0,null,0,null,null,0,0,null,null,"411",null,null,0,null,"411",null,null,0]
[null,"412 SALUD VIRU",null,null,0,null,0,null,0,null,null,0,0,null,null,"412",null,null,0,null,"412",null,null,0]
[null,"413 SALUD ASCOPE",null,null,0,null,0,null,0,null,null,0,0,null,null,"413",null,null,0,null,"413",null,null,0]
[null,"414 SALUD GRAN CHIMU",null,null,0,null,0,null,0,null,null,0,0,null,null,"414",null,null,0,null,"414",null,null,0]
[null,"TOTAL PLIEGO",{"$f":"+C176+C177+C178+C179+C181+C200","v":0},0,0,0,0,41900031,41900031,0,20015005,20015005,61915036,null,null,null,{"$f":"+Q176+Q177+Q178+Q179+Q181+Q200","v":26324938},{"$f":"+R176+R177+R178+R179+R181+R200","v":20015005},{"$f":"+S176+S177+S178+S179+S181+S200","v":46339943},null,null,{"$f":"+V176+V177+V178+V179+V181+V200","v":20015005},{"$f":"+W176+W177+W178+W179+W181+W200","v":0},{"$f":"+X176+X177+X178+X179+X181+X200","v":-20015005}]
[null,null,null,null,null,null,null,null,null,null,null,null,null,null,null,null,null,null,null,null,null,null,{"$f":"+R216","v":20015005}]
[null,null,null,null,null,null,null,null,null,null,null,null,null,null,null,null,null,null,null,null,null,null,{"$f":"+W217-W216","v":20015005}]
[null,{"$f":"+B3","v":"FORMULACION PRESUPUESTO AÑO 2020"}]
[null,{"$f":"+B4","v":"TECHOS PRESUPUESTALES DE INGRESOS POR UNIDADES EJECUTORAS"}]
[null,{"$f":"+B5","v":"PLIEGO : 451 GOBIERNO REGIONAL DEL DEPARTAMENTO DE LA LIBERTAD"}]
[null,"( En Nuevos Soles )"]
[]
[null,"    FTE.FTO. : TODA FUENTE"]
[]
[null,"UNIDADES EJECUTORAS","INGRESOS CORRIENTE",null,null,"INGRESOS DE CAPITAL",null,"TRANSFERENCIAS",null,"FINANCIAMIENTO",null,null,"TOTAL"]
[null,null,1.3,1.5,"SUBTOTAL INGR.CTE.",1.6,"SUBTOTAL INGR.CAP.",1.4,"SUBTOTAL TRANSFER.",1.8,1.9,"SUBTOTAL FINANCIAM."]
[null,null,"VENTA DE","OTROS",null,"VENTA DE",null,"DONAC. Y ",null,"EMDEUD.","ADQ. ACTIVOS"]
[null,null,"BNS Y SERV","INGRESOS",null,"ACT.NO FIN",null,"TRANSFER",null,null,"NO FINCIEROS"]
[null,"001 SEDE LA LIBERTAD",{"$f":"+C14+C68+C122+C176","v":3159445},2359768,{"$f":"SUM(C230:D230)","v":5519213},{"$f":"+F14+F68+F122+F176","v":48000},{"$f":"+F230","v":48000},{"$f":"+H14+H68+H122+H176","v":26324938},{"$f":"+H230","v":26324938},{"$f":"+J14+J68+J122+J176","v":0},1450520,{"$f":"SUM(J230:K230)","v":1450520},{"$f":"+E230+G230+I230+L230","v":33342671}]
[null,"005 PROYECTO ESPEC.CHAVIMOCHIC",33738657,0,{"$f":"SUM(C231:D231)","v":33738657},{"$f":"+F15+F69+F123+F177","v":20445916},{"$f":"+F231","v":20445916},{"$f":"+H15+H69+H123+H177","v":15575093},{"$f":"+H231","v":15575093},216867115,20015005,{"$f":"SUM(J231:K231)","v":236882120},{"$f":"+E231+G231+I231+L231","v":306641786}]
[null,"100 AGRICULTURA LA LIBERTAD",127300,94265,{"$f":"SUM(C232:D232)","v":221565},{"$f":"+F16+F70+F124+F178","v":0},{"$f":"+F232","v":0},{"$f":"+H16+H70+H124+H178","v":0},{"$f":"+H232","v":0},0,0,{"$f":"SUM(J232:K232)","v":0},{"$f":"+E232+G232+I232+L232","v":221565}]
[null,"200 TRANSPORTES LA LIBERTAD",4329799,407569,{"$f":"SUM(C233:D233)","v":4737368},{"$f":"+F17+F71+F125+F179","v":0},{"$f":"+F233","v":0},{"$f":"+H17+H71+H125+H179","v":0},{"$f":"+H233","v":0},0,567160,{"$f":"SUM(J233:K233)","v":567160},{"$f":"+E233+G233+I233+L233","v":5304528}]
[]
[null,"EDUCACION",{"$f":"SUM(C236:C252)","v":2493228},26574,2519802,0,0,0,0,0,40420,40420,2560222]
[null,"300 EDUCACION LA LIBERTAD",{"$f":"+C20+C74+C128+C182","v":398000},23224,{"$f":"SUM(C236:D236)","v":421224},{"$f":"+F20+F74+F128+F182","v":0},{"$f":"+F236","v":0},{"$f":"+H20+H74+H128+H182","v":0},{"$f":"+H236","v":0},{"$f":"+J20+J74+J128+J182","v":0},0,{"$f":"SUM(J236:K236)","v":0},{"$f":"+E236+G236+I236+L236","v":421224}]
[null,"301 EDUCACION CHEPEN",4223,0,4223,0,0,0,0,0,0,0,4223]
[null,"302 EDUCACION PACASMAYO",10443,0,10443,0,0,0,0,0,0,0,10443]
[null,"303 EDUCACION ASCOPE",76978,0,76978,0,0,0,0,0,0,0,76978]
[null,"304 EDUCACION GRAN CHIMU",9336,0,9336,0,0,0,0,0,0,0,9336]
[null,"305 EDUCACION OTUZCO",15000,0,15000,0,0,0,0,0,0,0,15000]
[null,"306 EDUCACION SANTIAGO DE CHUCO",28772,0,28772,0,0,0,0,0,0,0,28772]
[null,"307 EDUCACION SANCHEZ CARRION",114573,0,114573,0,0,0,0,0,0,0,114573]
[null,"308 EDUCACION PATAZ",77352,0,77352,0,0,0,0,0,0,0,77352]
[null,"309 EDUCACION BOLIVAR",3640,0,3640,0,0,0,0,0,0,0,3640]
[null,"310 COLEGIO MILITAR RAMON CASTILLA",1475650,0,1475650,0,0,0,0,0,37840,37840,1513490]
[null,"311 EDUCACION JULCAN",14910,0,14910,0,0,0,0,0,0,0,14910]
[null,"312 EDUCACION VIRU",41130,0,41130,0,0,0,0,0,0,0,41130]
[null,"313 EDUCACION EL PORVENIR",65540,0,65540,0,0,0,0,0,2580,2580,68120]
[null,"314 EDUCACION LA ESPERANZA",47358,0,47358,0,0,0,0,0,0,0,47358]
[null,"315 EDUCACION TRUJILLO NOR OESTE",73291,3350,76641,0,0,0,0,0,0,0,76641]
[null,"316 EDUCACION TRUJILLO SUR ESTE",37032,0,37032,0,0,0,0,0,0,0,37032]
[null,null,0,0,0,0,0,0,0,0,0,0,0]
[null,"SALUD",{"$f":"SUM(C255:C269)","v":24233754},667311,24901065,0,0,0,0,0,6923354,6923354,31824419]
[null,"400 SALUD LA LIBERTAD",{"$f":"+C39+C93+C147+C201","v":2116773},150000,{"$f":"SUM(C255:D255)","v":2266773},{"$f":"+F39+F93+F147+F201","v":0},{"$f":"+F255","v":0},{"$f":"+H39+H93+H147+H201","v":0},{"$f":"+H255","v":0},{"$f":"+J39+J93+J147+J201","v":0},4305703,{"$f":"SUM(J255:K255)","v":4305703},{"$f":"+E255+G255+I255+L255","v":6572476}]
[null,"401 INSTIT. REG.DE OFTALMOLOGIA",4614037,0,4614037,0,0,0,0,0,637161,637161,5251198]
[null,"402 SALUD NORTE ASCOPE",6691408,80000,6771408,0,0,0,0,0,1268237,1268237,8039645]
[null,"403 SALUD TRUJILLO SUR OESTE",3583300,402111,3985411,0,0,0,0,0,227051,227051,4212462]
[null,"404 SALUD CHEPEN",724369,0,724369,0,0,0,0,0,0,0,724369]
[null,"405 SALUD PACASMAYO",390608,1000,391608,0,0,0,0,0,0,0,391608]
[null,"406 SALUD SANCHEZ CARRION",251712,3500,255212,0,0,0,0,0,0,0,255212]
[null,"407 SALUD SANTIAGO DE CHUCO",31041,0,31041,0,0,0,0,0,0,0,31041]
[null,"408 SALUD OTUZCO",240075,0,240075,0,0,0,0,0,0,0,240075]
[null,"409 SALUD TRUJILLO ESTE",3433602,0,3433602,0,0,0,0,0,300000,300000,3733602]
[null,"410 INSTIT.REG.DE ENFERM.NEOPLASICAS",1341469,29450,1370919,0,0,0,0,0,183202,183202,1554121]
[null,"411 SALUD JULCAN",0,0,0,0,0,0,0,0,2000,2000,2000]
[null,"412 SALUD VIRU",525411,750,526161,0,0,0,0,0,0,0,526161]
[null,"413 SALUD ASCOPE",191375,500,191875,0,0,0,0,0,0,0,191875]
[null,"414 SALUD GRAN CHIMU",98574,0,98574,0,0,0,0,0,0,0,98574]
[null,"TOTAL PLIEGO",{"$f":"+C230+C231+C232+C233+C235+C254","v":68082183},3555487,71637670,20493916,20493916,41900031,41900031,216867115,28996459,245863574,379895191]
[]
[null,"ELABORADO: GERENCIA REGIONAL DE PRESUPUESTO (ENERO 2014)"]
[]
[]
[]
[]
[]
[null,null,"                                          FORMULACION  PRESUPUESTO 2020"]
[null,null,"         PLIEGO 451 GOBIERNO REGIONAL DEL DEPARTAMENTO LA LIBERTAD"]
[null,null,"           RESUMEN POR FUENTES DE FINANCIAMIENTO Y GRUPO GENERICO"]
[]
[null,null,"CATEGORIA DEL INGRESO / GENERICAS",null,null,"RECURSOS DIREC.RECAUD.","RECUR.OPER OFIC. CRED","DONACIONES Y TRANSFER","RECURSOS DETERMINADOS","TOTAL"]
[null,null,"   5. INGRESOS CORRIENTES",null,null,{"$f":"SUM(F284:F285)","v":71637670},{"$f":"SUM(G284:G285)","v":0},{"$f":"SUM(H284:H285)","v":0},{"$f":"SUM(I284:I285)","v":0},{"$f":"SUM(J284:J285)","v":71637670}]
[null,null,"        1.3 Venta de Bienes y Servicios",null,null,{"$f":"+C54","v":68082183},null,null,null,{"$f":"SUM(E284:I284)","v":68082183}]
[null,null,"        1.5 Otros Ingresos",null,null,{"$f":"+D54","v":3555487},null,{"$f":"+D162","v":0},null,{"$f":"SUM(E285:I285)","v":3555487}]
[null,null,"   6. INGRESOS DE CAPITAL",null,null,{"$f":"SUM(F287:F287)","v":20493916},{"$f":"SUM(G287:G287)","v":0},{"$f":"SUM(H287:H287)","v":0},{"$f":"SUM(I287:I287)","v":0},{"$f":"SUM(J287:J287)","v":20493916}]
[null,null,"        1.6 Venta de Activos No Financieros",null,null,{"$f":"+F54","v":20493916},null,null,null,{"$f":"SUM(E287:I287)","v":20493916}]
[null,null,"   7. TRANSFERENCIAS",null,null,{"$f":"SUM(F289:F289)","v":0},{"$f":"SUM(G289:G289)","v":0},{"$f":"SUM(H289:H289)","v":0},{"$f":"SUM(I289:I289)","v":41900031},{"$f":"SUM(J289:J289)","v":41900031}]
[null,null,"        1.4 Donaciones y Transferencias",null,null,null,null,{"$f":"+H162","v":0},{"$f":"+H216","v":41900031},{"$f":"SUM(E289:I289)","v":41900031}]
[null,null,"   7. FINANCIAMIENTO",null,null,{"$f":"SUM(F291:F292)","v":5232988},{"$f":"SUM(G291:G292)","v":216867115},{"$f":"SUM(H291:H292)","v":3748466},{"$f":"SUM(I291:I292)","v":20015005},{"$f":"SUM(J291:J292)","v":245863574}]
[null,null,"        1.8 Endeudamiento",null,null,null,{"$f":"+J108","v":216867115},null,null,{"$f":"SUM(E291:I291)","v":216867115}]
[null,null,"        1.9 Saldos de Balance",null,null,{"$f":"+K54","v":5232988},{"$f":"+K108","v":0},{"$f":"+K162","v":3748466},{"$f":"+K216","v":20015005},{"$f":"SUM(E292:I292)","v":28996459}]
[]
[null,null,"  TOTAL ======== >  S/..",null,null,{"$f":"+F283+F286+F288+F290","v":97364574},{"$f":"+G283+G286+G288+G290","v":216867115},{"$f":"+H283+H286+H288+H290","v":3748466},{"$f":"+I283+I286+I288+I290","v":61915036},{"$f":"+J283+J286+J288+J290","v":379895191}]

{"sheet":"F.01","index":3,"n_rows":37,"n_cols":15,"rows_kept":37,"cut":false,"hidden":false,"merged":[[26,2,28,2],[26,3,28,3],[35,2,36,2],[35,3,36,3],[35,8,36,8],[31,2,32,2],[31,3,32,3],[31,8,32,8],[33,2,34,2],[33,3,34,3],[21,3,22,3],[21,7,22,7],[21,8,22,8],[23,2,25,2],[23,3,25,3],[23,8,25,8],[1,1,1,14],[2,1,2,14],[7,1,8,1],[7,2,8,2],[7,11,7,12],[7,3,8,3],[7,4,8,4],[7,5,8,5],[7,6,8,6],[7,7,8,7],[7,8,8,8],[9,1,36,1],[9,2,10,2],[9,3,10,3],[9,8,10,8],[7,9,7,10],[11,8,12,8],[13,8,14,8],[11,2,12,2],[13,2,14,2],[13,3,14,3],[16,2,17,2],[16,3,17,3],[11,3,12,3],[18,2,19,2],[18,3,19,3],[21,2,22,2]]}
[]
[null,"FORMATO 01"]
[null,"INDICADORES DE GESTION SEGÚN OBJETIVOS ESTRATEGICOS INSTITUCIONALES AL 2021"]
[]
[null,"SECTOR:    99 GOBIERNOS REGIONALES"]
[null,"PLIEGO  : 451 GOBIERNO REGIONAL LA LIBERTAD"]
[]
[null,"PLIEGO ","Objetivo Estrategico Sectorial\n(Código)","Objetivo Estrategico Institucional\n(Código y Enunciado)","Nombre del Indicador","Linea Base","Meta 2021","Fuente de Información","Responsable",2018,null,2019,null,2020,2021]
[null,null,null,null,null,null,null,null,null,"Meta","Resultado","Meta","Proyectado","Meta","Meta"]
[null,"GOBIERNO REGIONAL LA LIBERTAD",null,"OEI.01 Garantizar servicios de salud integral a la población de La Libertad","Prevalencia de Desnutrición crónica en niños menores de 5 años",0.14799999999999999,0.08,"Encuesta Nacional de Hogares (ENAHO, INEI) ","GR de Salud/Subgerencia de Cuidado Integral",0.14799999999999999,0.14799999999999999,0.14799999999999999,0.14799999999999999,0.1,0.08]
[null,null,null,null,"Porcentaje de anemia en menores de 36 meses",0.379,0.22,"ENDES",null,0.379,0.435,0.379,0.379,0.27,0.22]
[null,null,null,"OEI.02 Mejorar el servicio educativo de calidad a la población estudiantil de La Libertad","Porcentaje de estudiantes de 2° grado de primaria de instituciones educativas públicas y privadas, que se encuentran en el nivel satisfactorio en comprensión lectora",0.39800000000000002,0.48,"Evaluación Censal de Estudiantes (ECE)","GR de Educación ",0.39800000000000002,0.39800000000000002,0.39800000000000002,0.39800000000000002,0.43,0.48]
[null,null,null,null,"Porcentaje de estudiantes de 2° grado de primaria de instituciones educativas públicas y privadas, que se encuentran en el nivel satisfactorio en habilidades matemáticas",0.30499999999999999,0.48,"Evaluación Censal de Estudiantes (ECE)",null,0.30499999999999999,0.30499999999999999,0.30499999999999999,0.30499999999999999,0.43,0.48]
[null,null,null,"OEI.03 Mejorar el acceso, cobertura y calidad de los servicios básicos de manera sostenible en La Libertad","Porcentaje de viviendas con acceso al servicios de agua potable por red pública",0.82069999999999999,0.86070000000000002,"Encuesta demográfica y salud familiar ENDES ","Gerencia Regional de Vivienda, Construcción y Saneamiento",0.82069999999999999,0.82069999999999999,0.82069999999999999,0.82069999999999999,0.85070000000000001,0.86070000000000002]
[null,null,null,null,"Porcentaje de viviendas  con acceso a alcantarillado por red pública",0.67949999999999999,0.71950000000000003,"Encuesta demográfica y salud familiar ENDES ",null,0.67949999999999999,0.67949999999999999,0.67949999999999999,0.67949999999999999,0.70950000000000002,0.71950000000000003]
[null,null,null,"OEI.04 Promover el acceso y cobertura integral de los servicios sociales a la población de la región La Libertad","Porcentaje de distritos priorizados en los quintiles 1 y 2 de pobreza",0.15,0.5,"Encuesta demográfica y salud familiar ENDES ","Gerencia Regional de Desarrollo e Inclusión Social",0.15,0.15,0.15,0.15,0.3,0.5]
[null,null,null,"OEI.05 Promover la competitividad del agro y la seguridad jurídica de la propiedad de los productores agrarios de la libertad","Porcentaje de pequeños productores que aplican tecnología innovadora para la obtención de productos de calidad",0.27,0.35,"Reporte de logros en competitividad de productores agrarios","Gerencia Regional de Agricultura (GRA)-Sub Gerencia de Competitividad Agraria",0.27,0.27,0.27,0.27,0.32,0.35]
[null,null,null,null,"Número de hectáreas con plantación forestal con técnicas adecuadas y, de aprovechamiento  con documentos de gestión aprobados",651,1218,"Reporte de hectáreas que cuentan con plantación forestal ","Gerencia Regional de Agricultura (GRA)- Sub Gerencia de Desarrollo de Recursos Naturales e Infraestructura Agraria",651,651,651,651,1108,1218]
[null,null,null,"OEI.06 Asegurar el acceso integral y de calidad a los servicios públicos de Transporte y Telecomunicaciones en La Libertad","Tasa de accidentes de tránsito por cada 10,000 vehículos",231,137,"Reporte de accidentes de tránsito PNP","Gerencia Regional de Transportes y Comunicaciones",231,231,231,231,160,137]
[null,null,null,null,"Porcentaje de Gobiernos Locales con acceso a internet",0.89159999999999995,0.93979999999999997,"Informe semestral de conectividad","Gerencia Regional de Transportes y Comunicaciones",0.89159999999999995,0.89159999999999995,0.89159999999999995,0.89159999999999995,0.91569999999999996,0.93979999999999997]
[null,null,null,"OEI.07  Fortalecer la productividad e innovación de los agentes económicos en La Libertad","Porcentaje de Gasto público en investigación y desarrollo ",4.1599999999999998E-2,5.6000000000000001E-2,"Reporte de innovación y productividad en la región","Gerencia Regional de La Producción",4.1599999999999998E-2,4.1599999999999998E-2,4.1599999999999998E-2,4.1599999999999998E-2,5.0999999999999997E-2,5.6000000000000001E-2]
[null,null,null,"OEI.08 Promover el empleo digno y productivo y la formalización  laboral en La Libertad","Porcentaje de PEA ocupada adecuadamente",0.44,0.70399999999999996,"Perú Perfil Sociodemográfico La Libertad ","Gerencia Regional de Trabajo y Promoción del Empleo.",0.44,0.44,0.44,0.44,0.65,0.70399999999999996]
[null,null,null,null,"Tasa de informalidad laboral",0.75,0.73,null,null,0.75,0.75,0.75,0.75,0.74,0.73]
[null,null,null,"OEI.09 Promover el acceso al mercado de los destinos turísticos, productos exportables y artesanales de la región La Libertad","Porcentaje de productos exportables promovidos",0.05,0.3,"Informe regional de Actividad exportadora ","Gerencia Regional de Comercio Exterior, Turismo y Artesanía",0.05,0.05,0.05,0.05,0.2,0.3]
[null,null,null,null,"Porcentaje de recursos turísticos inventariados intervenidos ",4.2700000000000002E-2,7.6899999999999996E-2,"Reporte de recursos turísticos inventariados La Libertad ",null,4.2700000000000002E-2,4.2700000000000002E-2,4.2700000000000002E-2,4.2700000000000002E-2,5.9799999999999999E-2,7.6899999999999996E-2]
[null,null,null,null,"Porcentaje de líneas artesanales fortalecidas en diseño, modelaje y comercialización ",0.45,0.35,"Registro de productores artesanales de La Libertad",null,0.45,0.45,0.45,0.45,0.38,0.35]
[null,null,null,"OEI. 10.Promover, evaluar y fiscalizar  actividades sostenibles en los sectores minería, energía e hidrocarburos en La Libertad","Porcentaje de productores mineros formalizados",7.0000000000000007E-2,1,"Registro de resoluciones emitidas por Subgerencia de Minería","Sub Gerencia de Minas",7.0000000000000007E-2,7.0000000000000007E-2,7.0000000000000007E-2,7.0000000000000007E-2,1,1]
[null,null,null,null,"Porcentaje de certificaciones ambientales emitidas, para proyectos energéticos","nd",1,"Resoluciones finales emitidas por Subgerencia de Energía e Hidrocarburos","Sub Gerente de Energía e Hidrocarburos","nd","nd","nd","nd",1,1]
[null,null,null,null,"Porcentaje de certificaciones ambientales emitidas, para inversiones en hidrocarburos","nd",1,"Registro de resoluciones emitidas por la Subgerencia de Energía e Hidrocarburos","Sub Gerente de Energía e Hidrocarburos","nd","nd","nd","nd",1,1]
[null,null,null,"OEI. 11.Mejorar la infraestructura en beneficio de la población de La Libertad","Porcentaje de avance en ejecución financiera de proyectos de inversión",0.35,0.78,"Programa Multianual de Inversiones","Gerencia Regional de Infraestructura",0.35,0.35,0.35,0.35,0.65,0.78]
[null,null,null,"OEI. 12.Promover la conservación y el aprovechamiento sostenible de los recursos naturales en La Libertad","Porcentaje de Instrumentos implementados para la mejora de la Gestión Ambiental Regional",0.4,0.8,"Sistema de Información Ambiental Regional La Libertad y del MINAM.","Sub Gerencia de Recursos Naturales y Sub Gerencia de Gestión Ambiental ",0.4,0.4,0.4,0.4,0.6,0.8]
[null,null,null,"OEI. 13.Fortalecer espacios de coordinación interinstitucional articulados en la gestión de riesgo de desastres en La Libertad","Porcentaje de Gobiernos Locales y sus plataformas de defensa civil con capacidades fortalecidas en Gestión del Riesgo de Desastres",0.5,1,"Informe de articulación en Gestión de Riesgo de Desastres","Sub Gerencia de Defensa Civil",0.5,0.5,0.5,0.5,1,1]
[null,null,null,null,"Porcentaje de organizaciones de primera respuesta con capacidades fortalecidas en  Gestión del Riesgo de Desastres",0.5,1,"Informe de articulación en Gestión de Riesgo de Desastres",null,0.5,0.5,0.5,0.5,1,1]
[null,null,null,"OEI. 14.Fortalecer una gestión institucional moderna,  transparente y participativa","Porcentaje de la población adulta que considera que la gestión pública del Gobierno Regional es buena o muy buena",0.26500000000000001,0.4,"Memoria institucional","Gerencia Regional de Planeamiento y Acondicionamiento Territorial",0.26500000000000001,0.26500000000000001,0.26500000000000001,0.26500000000000001,0.35,0.4]
[null,null,null,null,"Número  de servidoras/es civiles que han sido sancionadas/os por la Contraloría General de la República-CGR",26,10,"Informe Recursos Humanos ","Subgerencia de Recursos Humanos",26,26,26,26,12,10]
[null,null,null,"OEI. 15.Fortalecer integral y oportunamente a las instituciones comprometidas con la seguridad ciudadana de la región La Libertad","Porcentaje de Gobiernos Locales Provinciales con capacidades fortalecidas de gestión en seguridad ciudadana ",1,1,"Informe de capacidades fortalecidas en seguridad ciudadana","Sub Gerencia de Seguridad Ciudadana",1,1,1,1,1,1]
[null,null,null,null,"Numero de organizaciones  sociales (Rondas Campesinas y Juntas Vecinales) con capacidades fortalecidas en gestión de seguridad ciudadana",100,250,"Informe de capacidades fortalecidas en seguridad ciudadana",null,100,100,100,100,200,250]

{"sheet":"F.02","index":4,"n_rows":47,"n_cols":7,"rows_kept":47,"cut":false,"hidden":false,"merged":[[1,1,1,4],[2,1,2,4],[3,1,3,4],[7,2,8,2],[7,3,8,3],[7,4,8,4],[19,2,20,2],[19,3,20,3],[19,4,20,4],[31,2,32,2],[31,3,32,3],[31,4,32,4]]}
[]
[null,"FORMATO N° 02"]
[null,"DISTRIBUCION DEL PRESUPUESTO POR CATEGORIA PRESUPUESTAL 2018, 2019 Y PROYECTO 2020"]
[null,"PROYECTO DE PRESUPUESTO - 2020"]
[null,"SECTOR : 99 GOBIERNOS REGIONALES"]
[null,"PLIEGO  : 451 GOBIERNO REGIONAL LA LIBERTAD"]
[null,"FTE FTO : "]
[null,"P.I.A.",2018,2019,2020]
[null,"POR CATEGORIA PRESUPUESTAL",null,null,null,null,2019]
[null,null,null,null,null,null,"FALTA INGRESAR PIM "]
[null," 1: Acciones Centrales (AC)",127565933,186496981,191829182,null,"FALTA INGRESAR EJECUCION PROYECTADA "]
[]
[null," 2: Asignaciones Presupuestales que No Resultan en Productos (APNP)",427766559,396014201,404793865]
[null,null,null,null,null,null,"AÑO 2020"]
[null," 3: Programas Presupuestales",1460148628,1284161818,1409243492]
[null,null,null,null,null,null,"PIM : SE INGRESO EL MISMO IMPORTE DEL PIA"]
[null,"PIA TOTAL S/    ",{"$f":"SUM(C11:C16)","v":2015481120},{"$f":"SUM(D11:D16)","v":1866673000},2005866539,null,"EJECUCION PROYECTADA : SE INGRESOS EL MISMO IMPORTE DEL PIA"]
[]
[]
[null,"P.I.M.",2018,2019,2020]
[null,"POR CATEGORIA PRESUPUESTAL"]
[]
[null," 1: Acciones Centrales (AC)",225452498,240344719,191829182]
[]
[null," 2: Asignaciones Presupuestales que No Resultan en Productos (APNP)",586029001,499276735,404793865]
[]
[null," 3: Programas Presupuestales",1754548817,1469132772,1409243492]
[]
[null,"PIM TOTAL S/    ",{"$f":"SUM(C23:C28)","v":2566030316},{"$f":"SUM(D23:D28)","v":2208754226},{"$f":"SUM(E23:E28)","v":2005866539}]
[]
[]
[null,"EJECUCION",2018,2019,2020]
[null,"POR CATEGORIA PRESUPUESTAL"]
[]
[null," 1: Acciones Centrales (AC)",214982963.88,211132956,191829182]
[]
[null," 2: Asignaciones Presupuestales que No Resultan en Productos (APNP)",471073048.38,427640661,404793865]
[]
[null," 3: Programas Presupuestales",1169868783.6400001,1272318895,1409243492]
[]
[null,"EJECUCION TOTAL S/    ",{"$f":"SUM(C35:C40)","v":1855924795.9000001},{"$f":"SUM(D35:D40)","v":1911092512},{"$f":"SUM(E35:E40)","v":2005866539}]
[]
[null," (*)  Proyeccion a 31/12/2019","OK","OK","OK"]
[null,"(**) Proyecto 2020"]
[]
[null,"PROYECTO DE PRESUPUESTO PARA EL AÑO FISCAL 2020"]
[null,"INFORMACION PARA LA COMISION DE PRESUPUESTO Y CUENTA GENERAL DE LA REPUBLICA DEL CONGRESO DE LA REPUBLICA"]

{"sheet":"F.03","index":5,"n_rows":314,"n_cols":9,"rows_kept":314,"cut":false,"hidden":false,"merged":[[1,3,1,6],[2,3,2,6],[3,3,3,6],[7,4,8,4],[7,5,8,5],[7,6,8,6],[209,4,210,4],[209,5,210,5],[209,6,210,6],[108,4,109,4],[108,5,109,5],[108,6,109,6]]}
[]
[null,null,null,"FORMATO N° 03"]
[null,null,null,"DISTRIBUCION DEL PRESUPUESTO POR FUENTE DE FINANCIAMIENTO 2018, 2019 Y PROYECTO 2020"]
[null,null,null,"PROYECTO DE PRESUPUESTO - 2020"]
[null,null,null,"SECTOR : 99 GOBIERNOS REGIONALES"]
[null,null,null,"PLIEGO  : 451 GOBIERNO REGIONAL LA LIBERTAD"]
[]
[null,null,null,"P.I.A.",2018,2019,2020]
[null,null,null,"POR FUENTE DE FINANCIAMIENTO"]
[null,null,null,"CONSOLIDADO",{"$f":"+E11+E18+E23","v":2015481120},{"$f":"+F11+F18+F23","v":1866673000},{"$f":"+G11+G18+G23","v":2005866539},null,"AÑO 2019"]
[null,null,null,"GASTOS CORRIENTES",{"$f":"SUM(E12:E17)","v":1407809059},{"$f":"SUM(F12:F17)","v":1497634211},1623426221,null,"FALTA INGRESAR PIM "]
[null,null,null,"        1: Reserva de ContingenciaAcciones Centrales (AC)",{"$f":"+E28+E44+E60+E76+E92","v":0},{"$f":"+F28+F44+F60+F76+F92","v":0},{"$f":"+G28+G44+G60+G76+G92","v":0}]
[null,2.1,null,"        2: Personal y Obligaciones Sociales",{"$f":"+E29+E45+E61+E77+E93","v":1007863475},1091124191,1198963270,null,"FALTA INGRESAR EJECUCION PROYECTADA "]
[null,2.2000000000000002,null,"        3: Pensiones y Prestaciones Sociales",{"$f":"+E30+E46+E62+E78+E94","v":179231072},184605850,189632677]
[null,2.2999999999999998,null,"        4: Bienes y Servicios",{"$f":"+E31+E47+E63+E79+E95","v":214395686},{"$f":"+F31+F47+F63+F79+F95","v":215693312},233499190,null,"AÑO 2020"]
[null,2.4,null,"        5: Donaciones y Transferencias (corrientes)",{"$f":"+E32+E48+E64+E80+E96","v":0},0,0]
[null,2.5,null,"        6: Otros Gastos (corrientes)",{"$f":"+E33+E49+E65+E81+E97","v":6318826},6210858,1331084,null,"PIM : SE INGRESO EL MISMO IMPORTE DEL PIA"]
[null,null,null,"GASTOS DE CAPITAL",{"$f":"SUM(E19:E22)","v":597201526},{"$f":"SUM(F19:F22)","v":343447131},350517388,null,"EJECUCION PROYECTADA : SE INGRESOS EL MISMO IMPORTE DEL PIA"]
[null,2.4,null,"        7: Donaciones y Transferencias (de capital)",{"$f":"+E35+E51+E67+E83+E99","v":0},10080749,0]
[null,2.5,null,"        8: Otros Gastos (de capital)",{"$f":"+E36+E52+E68+E84+E100","v":0},0,0]
[null,2.6,null,"        9: Adquisiciones de Activos No Financieros",{"$f":"+E37+E53+E69+E85+E101","v":597201526},333366382,350517388]
[null,2.7,null,"      10: Adquisiciones de Activos Financieros",{"$f":"+E38+E54+E70+E86+E102","v":0},0,0]
[null,null,null,"SERVICIO DE DEUDA",{"$f":"+E24","v":10470535},{"$f":"+F24","v":25591658},31922930]
[null,2.8,null,"      11: Servicio de Deuda",{"$f":"+E40+E56+E72+E88+E104","v":10470535},{"$f":"+F40+F56+F72+F88+F104","v":25591658},31922930]
[]
[null,null,null,"RECURSOS ORDINARIOS",{"$f":"+E27+E34+E39","v":1370490992},{"$f":"+F27+F34+F39","v":1479117577},{"$f":"+G27+G34+G39","v":1625971348}]
[null,null,null,"GASTOS CORRIENTES",{"$f":"SUM(E28:E33)","v":1317254327},{"$f":"SUM(F28:F33)","v":1429912434},{"$f":"SUM(G28:G33)","v":1571152547}]
[null,null,null,"        1: Reserva de ContingenciaAcciones Centrales (AC)"]
[null,2.1,null,"        2: Personal y Obligaciones Sociales",1007471170,1091014908,{"$f":"+'B.DATOS (GASTOS)'!F338","v":1198853987}]
[null,2.2000000000000002,null,"        3: Pensiones y Prestaciones Sociales",179231072,184605850,{"$f":"+'B.DATOS (GASTOS)'!F339","v":189632677}]
[null,2.2999999999999998,null,"        4: Bienes y Servicios",129620979,153260570,{"$f":"+'B.DATOS (GASTOS)'!F340","v":181889287}]
[null,2.4,null,"        5: Donaciones y Transferencias (corrientes)"]
[null,2.5,null,"        6: Otros Gastos (corrientes)",931106,1031106,{"$f":"+'B.DATOS (GASTOS)'!F341","v":776596}]
[null,null,null,"GASTOS DE CAPITAL",{"$f":"SUM(E35:E38)","v":53236665},{"$f":"SUM(F35:F38)","v":49205143},54818801]
[null,2.4,null,"        7: Donaciones y Transferencias (de capital)"]
[null,2.5,null,"        8: Otros Gastos (de capital)"]
[null,2.6,null,"        9: Adquisiciones de Activos No Financieros",53236665,49205143,{"$f":"+'B.DATOS (GASTOS)'!F344","v":54818801}]
[null,2.7,null,"      10: Adquisiciones de Activos Financieros"]
[null,null,null,"SERVICIO DE DEUDA",{"$f":"+E40","v":0},{"$f":"+F40","v":0},0]
[null,2.8,null,"      11: Servicio de Deuda",null,null,{"$f":"+'B.DATOS (GASTOS)'!F346","v":0}]
[]
[null,null,null,"RECURSOS DIRECTAMENTE RECAUDADOS",{"$f":"+E43+E50+E55","v":143590395},{"$f":"+F43+F50+F55","v":113629273},{"$f":"+G43+G50+G55","v":97364574}]
[null,null,null,"GASTOS CORRIENTES",{"$f":"SUM(E44:E49)","v":59744745},{"$f":"SUM(F44:F49)","v":59786835},43059109]
[null,null,null,"        1: Reserva de ContingenciaAcciones Centrales (AC)"]
[null,2.1,null,"        2: Personal y Obligaciones Sociales",null,109283,{"$f":"+'B.DATOS (GASTOS)'!G338","v":109283}]
[null,2.2000000000000002,null,"        3: Pensiones y Prestaciones Sociales",null,null,{"$f":"+'B.DATOS (GASTOS)'!G339","v":0}]
[null,2.2999999999999998,null,"        4: Bienes y Servicios",54557025,54497800,{"$f":"+'B.DATOS (GASTOS)'!G340","v":42395338}]
[null,2.4,null,"        5: Donaciones y Transferencias (corrientes)"]
[null,2.5,null,"        6: Otros Gastos (corrientes)",5187720,5179752,{"$f":"+'B.DATOS (GASTOS)'!G341","v":554488}]
[null,null,null,"GASTOS DE CAPITAL",{"$f":"SUM(E51:E54)","v":73375115},{"$f":"SUM(F51:F54)","v":43371903},33859549]
[null,2.4,null,"        7: Donaciones y Transferencias (de capital)"]
[null,2.5,null,"        8: Otros Gastos (de capital)"]
[null,2.6,null,"        9: Adquisiciones de Activos No Financieros",73375115,43371903,{"$f":"+'B.DATOS (GASTOS)'!G344","v":33859549}]
[null,2.7,null,"      10: Adquisiciones de Activos Financieros"]
[null,null,null,"SERVICIO DE DEUDA",{"$f":"+E56","v":10470535},{"$f":"+F56","v":10470535},20445916]
[null,2.8,null,"      11: Servicio de Deuda",10470535,10470535,{"$f":"+'B.DATOS (GASTOS)'!G346","v":20445916}]
[]
[null,null,null,"RECURSOS POR OPERACIONES OFICIALES DE  CREDITO",{"$f":"+E59+E66+E71","v":341521200},{"$f":"+F59+F66+F71","v":179223861},{"$f":"+G59+G66+G71","v":216867115}]
[null,null,null,"GASTOS CORRIENTES",{"$f":"SUM(E60:E65)","v":0},{"$f":"SUM(F60:F65)","v":0},0]
[null,null,null,"        1: Reserva de ContingenciaAcciones Centrales (AC)"]
[null,2.1,null,"        2: Personal y Obligaciones Sociales",null,null,{"$f":"+'B.DATOS (GASTOS)'!H338","v":0}]
[null,2.2000000000000002,null,"        3: Pensiones y Prestaciones Sociales",null,null,{"$f":"+'B.DATOS (GASTOS)'!H339","v":0}]
[null,2.2999999999999998,null,"        4: Bienes y Servicios",null,null,{"$f":"+'B.DATOS (GASTOS)'!H340","v":0}]
[null,2.4,null,"        5: Donaciones y Transferencias (corrientes)"]
[null,2.5,null,"        6: Otros Gastos (corrientes)",null,null,{"$f":"+'B.DATOS (GASTOS)'!H341","v":0}]
[null,null,null,"GASTOS DE CAPITAL",{"$f":"SUM(E67:E70)","v":341521200},{"$f":"SUM(F67:F70)","v":179223861},216867115]
[null,2.4,null,"        7: Donaciones y Transferencias (de capital)"]
[null,2.5,null,"        8: Otros Gastos (de capital)"]
[null,2.6,null,"        9: Adquisiciones de Activos No Financieros",341521200,179223861,{"$f":"+'B.DATOS (GASTOS)'!H344","v":216867115}]
[null,2.7,null,"      10: Adquisiciones de Activos Financieros"]
[null,null,null,"SERVICIO DE DEUDA",{"$f":"+E72","v":0},{"$f":"+F72","v":0},0]
[null,2.8,null,"      11: Servicio de Deuda",null,null,{"$f":"+'B.DATOS (GASTOS)'!H346","v":0}]
[]
[null,null,null,"DONACIONES Y TRANSFERENCIAS",{"$f":"+E75+E82+E87","v":51411305},{"$f":"+F75+F82+F87","v":0},{"$f":"+G75+G82+G87","v":3748466}]
[null,null,null,"GASTOS CORRIENTES",{"$f":"SUM(E76:E81)","v":9116541},{"$f":"SUM(F76:F81)","v":0},3748466]
[null,null,null,"        1: Reserva de ContingenciaAcciones Centrales (AC)"]
[null,2.1,null,"        2: Personal y Obligaciones Sociales",392305,null,{"$f":"+'B.DATOS (GASTOS)'!I338","v":0}]
[null,2.2000000000000002,null,"        3: Pensiones y Prestaciones Sociales",null,null,{"$f":"+'B.DATOS (GASTOS)'!I339","v":0}]
[null,2.2999999999999998,null,"        4: Bienes y Servicios",8524236,null,{"$f":"+'B.DATOS (GASTOS)'!I340","v":3748466}]
[null,2.4,null,"        5: Donaciones y Transferencias (corrientes)"]
[null,2.5,null,"        6: Otros Gastos (corrientes)",200000,null,{"$f":"+'B.DATOS (GASTOS)'!I341","v":0}]
[null,null,null,"GASTOS DE CAPITAL",{"$f":"SUM(E83:E86)","v":42294764},{"$f":"SUM(F83:F86)","v":0},0]
[null,2.4,null,"        7: Donaciones y Transferencias (de capital)"]
[null,2.5,null,"        8: Otros Gastos (de capital)"]
[null,2.6,null,"        9: Adquisiciones de Activos No Financieros",42294764,null,{"$f":"+'B.DATOS (GASTOS)'!I344","v":0}]
[null,2.7,null,"      10: Adquisiciones de Activos Financieros"]
[null,null,null,"SERVICIO DE DEUDA",{"$f":"+E88","v":0},{"$f":"+F88","v":0},0]
[null,2.8,null,"      11: Servicio de Deuda",null,null,{"$f":"+'B.DATOS (GASTOS)'!I346","v":0}]
[]
[null,null,null,"RECURSOS DETERMINADOS",{"$f":"+E91+E98+E103","v":108467228},{"$f":"+F91+F98+F103","v":94702289},{"$f":"+G91+G98+G103","v":61915036}]
[null,null,null,"GASTOS CORRIENTES",{"$f":"SUM(E92:E97)","v":21693446},{"$f":"SUM(F92:F97)","v":7934942},5466099]
[null,null,null,"        1: Reserva de ContingenciaAcciones Centrales (AC)"]
[null,2.1,null,"        2: Personal y Obligaciones Sociales",null,null,{"$f":"+'B.DATOS (GASTOS)'!J338","v":0}]
[null,2.2000000000000002,null,"        3: Pensiones y Prestaciones Sociales",null,null,{"$f":"+'B.DATOS (GASTOS)'!J339","v":0}]
[null,2.2999999999999998,null,"        4: Bienes y Servicios",21693446,7934942,{"$f":"+'B.DATOS (GASTOS)'!J340","v":5466099}]
[null,2.4,null,"        5: Donaciones y Transferencias (corrientes)"]
[null,2.5,null,"        6: Otros Gastos (corrientes)",null,null,{"$f":"+'B.DATOS (GASTOS)'!J341","v":0}]
[null,null,null,"GASTOS DE CAPITAL",{"$f":"SUM(E99:E102)","v":86773782},{"$f":"SUM(F99:F102)","v":71646224},44971923]
[null,2.4,null,"        7: Donaciones y Transferencias (de capital)",null,10080749]
[null,2.5,null,"        8: Otros Gastos (de capital)"]
[null,2.6,null,"        9: Adquisiciones de Activos No Financieros",86773782,61565475,{"$f":"+'B.DATOS (GASTOS)'!J344","v":44971923}]
[null,2.7,null,"      10: Adquisiciones de Activos Financieros"]
[null,null,null,"SERVICIO DE DEUDA",{"$f":"+E104","v":0},{"$f":"+F104","v":15121123},11477014]
[null,2.8,null,"      11: Servicio de Deuda",null,15121123,{"$f":"+'B.DATOS (GASTOS)'!J346","v":11477014}]
[]
[null,null,null,"PIA TOTAL S/    ",{"$f":"+E10","v":2015481120},{"$f":"+F10","v":1866673000},{"$f":"+G10","v":2005866539}]
[]
[]
[null,null,null,"P.I.M.",2018,"2019 (*)","2020 (**)"]
[null,null,null,"POR FUENTE DE FINANCIAMIENTO"]
[null,null,null,"CONSOLIDADO",{"$f":"+E112+E119+E124","v":2566030316},{"$f":"+F112+F119+F124","v":2208754226},{"$f":"+G112+G119+G124","v":2005866539}]
[null,null,null,"GASTOS CORRIENTES",{"$f":"SUM(E113:E118)","v":1728032165},{"$f":"SUM(F113:F118)","v":1756697003},1623426221]
[null,null,null,"        1: Reserva de ContingenciaAcciones Centrales (AC)",{"$f":"+E129+E145+E161+E177+E193","v":0},{"$f":"+F129+F145+F161+F177+F193","v":0},0]
[null,2.1,null,"        2: Personal y Obligaciones Sociales",{"$f":"+E130+E146+E162+E178+E194","v":1122929518},{"$f":"+F130+F146+F162+F178+F194","v":1176066893},1198963270]
[null,2.2000000000000002,null,"        3: Pensiones y Prestaciones Sociales",{"$f":"+E131+E147+E163+E179+E195","v":179293669},{"$f":"+F131+F147+F163+F179+F195","v":183567012},189632677]
[null,2.2999999999999998,null,"        4: Bienes y Servicios",{"$f":"+E132+E148+E164+E180+E196","v":366705632},{"$f":"+F132+F148+F164+F180+F196","v":340838548},233499190]
[null,2.4,null,"        5: Donaciones y Transferencias (corrientes)",{"$f":"+E133+E149+E165+E181+E197","v":0},{"$f":"+F133+F149+F165+F181+F197","v":10743435},0]
[null,2.5,null,"        6: Otros Gastos (corrientes)",{"$f":"+E134+E150+E166+E182+E198","v":59103346},{"$f":"+F134+F150+F166+F182+F198","v":45481115},1331084]
[null,null,null,"GASTOS DE CAPITAL",{"$f":"SUM(E120:E123)","v":791830300},{"$f":"SUM(F120:F123)","v":426465565},350517388]
[null,2.4,null,"        7: Donaciones y Transferencias (de capital)",{"$f":"+E136+E152+E168+E184+E200","v":18386443},{"$f":"+F136+F152+F168+F184+F200","v":0},0]
[null,2.5,null,"        8: Otros Gastos (de capital)",{"$f":"+E137+E153+E169+E185+E201","v":0},{"$f":"+F137+F153+F169+F185+F201","v":0},0]
[null,2.6,null,"        9: Adquisiciones de Activos No Financieros",{"$f":"+E138+E154+E170+E186+E202","v":773443857},{"$f":"+F138+F154+F170+F186+F202","v":426465565},350517388]
[null,2.7,null,"      10: Adquisiciones de Activos Financieros",{"$f":"+E139+E155+E171+E187+E203","v":0},{"$f":"+F139+F155+F171+F187+F203","v":0},0]
[null,null,null,"SERVICIO DE DEUDA",{"$f":"+E125","v":46167851},{"$f":"+F125","v":25591658},31922930]
[null,2.8,null,"      11: Servicio de Deuda",{"$f":"+E141+E157+E173+E189+E205","v":46167851},{"$f":"+F141+F157+F173+F189+F205","v":25591658},31922930]
[]
[null,null,null,"RECURSOS ORDINARIOS",{"$f":"+E128+E135+E140","v":1604244844},{"$f":"+F128+F135+F140","v":1665818872},{"$f":"+G128+G135+G140","v":1625971348}]
[null,null,null,"GASTOS CORRIENTES",{"$f":"SUM(E129:E134)","v":1516161630},{"$f":"SUM(F129:F134)","v":1574526328},1571152547]
[null,null,null,"        1: Reserva de ContingenciaAcciones Centrales (AC)"]
[null,2.1,null,"        2: Personal y Obligaciones Sociales",1122427930,1175536671,{"$f":"+G29","v":1198853987}]
[null,2.2000000000000002,null,"        3: Pensiones y Prestaciones Sociales",179293669,{"$f":"188718010-5150998","v":183567012},{"$f":"+G30","v":189632677}]
[null,2.2999999999999998,null,"        4: Bienes y Servicios",161343739,174757491,181889287]
[null,2.4,null,"        5: Donaciones y Transferencias (corrientes)",null,457686,0]
[null,2.5,null,"        6: Otros Gastos (corrientes)",53096292,40207468,776596]
[null,null,null,"GASTOS DE CAPITAL",{"$f":"SUM(E136:E139)","v":88083214},{"$f":"SUM(F136:F139)","v":91292544},54818801]
[null,2.4,null,"        7: Donaciones y Transferencias (de capital)",5633100,null,{"$f":"+G35","v":0}]
[null,2.5,null,"        8: Otros Gastos (de capital)",null,null,0]
[null,2.6,null,"        9: Adquisiciones de Activos No Financieros",82450114,91292544,54818801]
[null,2.7,null,"      10: Adquisiciones de Activos Financieros",null,null,0]
[null,null,null,"SERVICIO DE DEUDA",{"$f":"+E141","v":0},{"$f":"+F141","v":0},0]
[null,2.8,null,"      11: Servicio de Deuda"]
[]
[null,null,null,"RECURSOS DIRECTAMENTE RECAUDADOS",{"$f":"+E144+E151+E156","v":146763926},{"$f":"+F144+F151+F156","v":126837169},{"$f":"+G144+G151+G156","v":97364574}]
[null,null,null,"GASTOS CORRIENTES",{"$f":"SUM(E145:E150)","v":63918455},{"$f":"SUM(F145:F150)","v":68970131},43059109]
[null,null,null,"        1: Reserva de ContingenciaAcciones Centrales (AC)"]
[null,2.1,null,"        2: Personal y Obligaciones Sociales",109283,109283,{"$f":"+G45","v":109283}]
[null,2.2000000000000002,null,"        3: Pensiones y Prestaciones Sociales",null,null,0]
[null,2.2999999999999998,null,"        4: Bienes y Servicios",58038232,63618201,42395338]
[null,2.4,null,"        5: Donaciones y Transferencias (corrientes)",null,205000,0]
[null,2.5,null,"        6: Otros Gastos (corrientes)",5770940,5037647,554488]
[null,null,null,"GASTOS DE CAPITAL",{"$f":"SUM(E152:E155)","v":71991629},{"$f":"SUM(F152:F155)","v":47396503},33859549]
[null,2.4,null,"        7: Donaciones y Transferencias (de capital)",null,null,{"$f":"+G51","v":0}]
[null,2.5,null,"        8: Otros Gastos (de capital)",null,null,0]
[null,2.6,null,"        9: Adquisiciones de Activos No Financieros",71991629,47396503,33859549]
[null,2.7,null,"      10: Adquisiciones de Activos Financieros",null,null,0]
[null,null,null,"SERVICIO DE DEUDA",{"$f":"+E157","v":10853842},{"$f":"+F157","v":10470535},20445916]
[null,2.8,null,"      11: Servicio de Deuda",10853842,10470535,{"$f":"+G56","v":20445916}]
[]
[null,null,null,"RECURSOS POR OPERACIONES OFICIALES DE  CREDITO",{"$f":"+E160+E167+E172","v":488947423},{"$f":"+F160+F167+F172","v":203677089},{"$f":"+G160+G167+G172","v":216867115}]
[null,null,null,"GASTOS CORRIENTES",{"$f":"SUM(E161:E166)","v":0},{"$f":"SUM(F161:F166)","v":0},0]
[null,null,null,"        1: Reserva de ContingenciaAcciones Centrales (AC)"]
[null,2.1,null,"        2: Personal y Obligaciones Sociales",null,null,{"$f":"+G61","v":0}]
[null,2.2000000000000002,null,"        3: Pensiones y Prestaciones Sociales",null,null,0]
[null,2.2999999999999998,null,"        4: Bienes y Servicios",null,null,0]
[null,2.4,null,"        5: Donaciones y Transferencias (corrientes)",null,null,0]
[null,2.5,null,"        6: Otros Gastos (corrientes)",null,null,0]
[null,null,null,"GASTOS DE CAPITAL",{"$f":"SUM(E168:E171)","v":488947423},{"$f":"SUM(F168:F171)","v":203677089},216867115]
[null,2.4,null,"        7: Donaciones y Transferencias (de capital)",null,null,{"$f":"+G67","v":0}]
[null,2.5,null,"        8: Otros Gastos (de capital)",null,null,0]
[null,2.6,null,"        9: Adquisiciones de Activos No Financieros",488947423,203677089,216867115]
[null,2.7,null,"      10: Adquisiciones de Activos Financieros",null,null,0]
[null,null,null,"SERVICIO DE DEUDA",{"$f":"+E173","v":0},{"$f":"+F173","v":0},0]
[null,2.8,null,"      11: Servicio de Deuda",null,null,{"$f":"+G72","v":0}]
[]
[null,null,null,"DONACIONES Y TRANSFERENCIAS",{"$f":"+E176+E183+E188","v":180311964},{"$f":"+F176+F183+F188","v":109661782},{"$f":"+G176+G183+G188","v":3748466}]
[null,null,null,"GASTOS CORRIENTES",{"$f":"SUM(E177:E182)","v":120876627},{"$f":"SUM(F177:F182)","v":89651098},3748466]
[null,null,null,"        1: Reserva de ContingenciaAcciones Centrales (AC)"]
[null,2.1,null,"        2: Personal y Obligaciones Sociales",392305,420939,{"$f":"+G77","v":0}]
[null,2.2000000000000002,null,"        3: Pensiones y Prestaciones Sociales",null,null,0]
[null,2.2999999999999998,null,"        4: Bienes y Servicios",120248208,{"$f":"88994136+23","v":88994159},3748466]
[null,2.4,null,"        5: Donaciones y Transferencias (corrientes)",null,null,0]
[null,2.5,null,"        6: Otros Gastos (corrientes)",236114,236000,0]
[null,null,null,"GASTOS DE CAPITAL",{"$f":"SUM(E184:E187)","v":59435337},{"$f":"SUM(F184:F187)","v":20010684},0]
[null,2.4,null,"        7: Donaciones y Transferencias (de capital)",null,null,{"$f":"+G83","v":0}]
[null,2.5,null,"        8: Otros Gastos (de capital)",null,null,0]
[null,2.6,null,"        9: Adquisiciones de Activos No Financieros",59435337,20010684,0]
[null,2.7,null,"      10: Adquisiciones de Activos Financieros",null,null,0]
[null,null,null,"SERVICIO DE DEUDA",{"$f":"+E189","v":0},{"$f":"+F189","v":0},0]
[null,2.8,null,"      11: Servicio de Deuda",null,null,{"$f":"+G88","v":0}]
[]
[null,null,null,"RECURSOS DETERMINADOS",{"$f":"+E192+E199+E204","v":145762159},{"$f":"+F192+F199+F204","v":102759314},{"$f":"+G192+G199+G204","v":61915036}]
[null,null,null,"GASTOS CORRIENTES",{"$f":"SUM(E193:E198)","v":27075453},{"$f":"SUM(F193:F198)","v":23549446},5466099]
[null,null,null,"        1: Reserva de ContingenciaAcciones Centrales (AC)"]
[null,2.1,null,"        2: Personal y Obligaciones Sociales",null,null,{"$f":"+G93","v":0}]
[null,2.2000000000000002,null,"        3: Pensiones y Prestaciones Sociales",null,null,0]
[null,2.2999999999999998,null,"        4: Bienes y Servicios",27075453,13468697,5466099]
[null,2.4,null,"        5: Donaciones y Transferencias (corrientes)",null,10080749,0]
[null,2.5,null,"        6: Otros Gastos (corrientes)",null,null,0]
[null,null,null,"GASTOS DE CAPITAL",{"$f":"SUM(E200:E203)","v":83372697},{"$f":"SUM(F200:F203)","v":64088745},44971923]
[null,2.4,null,"        7: Donaciones y Transferencias (de capital)",12753343,null,0]
[null,2.5,null,"        8: Otros Gastos (de capital)",null,null,0]
[null,2.6,null,"        9: Adquisiciones de Activos No Financieros",70619354,64088745,44971923]
[null,2.7,null,"      10: Adquisiciones de Activos Financieros",null,null,0]
[null,null,null,"SERVICIO DE DEUDA",{"$f":"+E205","v":35314009},{"$f":"+F205","v":15121123},11477014]
[null,2.8,null,"      11: Servicio de Deuda",35314009,15121123,11477014]
[]
[null,null,null,"PIM TOTAL S/    ",{"$f":"+E111","v":2566030316},{"$f":"+F111","v":2208754226},2005866539]
[null,null,null,null,null,2208754226]
[null,null,null,null,null,{"$f":"+F207-F208","v":0}]
[null,null,null,"EJECUCION",2018,"2019 (*)","2020 (**)"]
[null,null,null,"POR FUENTE DE FINANCIAMIENTO"]
[null,null,null,"CONSOLIDADO",{"$f":"+E213+E220+E225","v":1855924795.9000001},{"$f":"+F213+F220+F225","v":1911092512},{"$f":"+G213+G220+G225","v":2005866539}]
[null,null,null,"GASTOS CORRIENTES",{"$f":"SUM(E214:E219)","v":1638702133.46},{"$f":"SUM(F214:F219)","v":1659755731},1623426221]
[null,null,null,"        1: Reserva de ContingenciaAcciones Centrales (AC)",{"$f":"+E230+E246+E262+E278+E294","v":0},{"$f":"+F230+F246+F262+F278+F294","v":0},0]
[null,2.1,null,"        2: Personal y Obligaciones Sociales",{"$f":"+E231+E247+E263+E279+E295","v":1120582291.46},{"$f":"+F231+F247+F263+F279+F295","v":1169666425},1198963270]
[null,2.2000000000000002,null,"        3: Pensiones y Prestaciones Sociales",{"$f":"+E232+E248+E264+E280+E296","v":178341053},{"$f":"+F232+F248+F264+F280+F296","v":186986823},189632677]
[null,2.2999999999999998,null,"        4: Bienes y Servicios",{"$f":"+E233+E249+E265+E281+E297","v":283217945.25000006},{"$f":"+F233+F249+F265+F281+F297","v":254056451.00000003},233499190]
[null,2.4,null,"        5: Donaciones y Transferencias (corrientes)",{"$f":"+E234+E250+E266+E282+E298","v":0},{"$f":"+F234+F250+F266+F282+F298","v":5944896},0]
[null,2.5,null,"        6: Otros Gastos (corrientes)",{"$f":"+E235+E251+E267+E283+E299","v":56560843.749999993},{"$f":"+F235+F251+F267+F283+F299","v":43101136},1331084]
[null,null,null,"GASTOS DE CAPITAL",{"$f":"SUM(E221:E224)","v":171079279.65000001},{"$f":"SUM(F221:F224)","v":225745123},350517388]
[null,2.4,null,"        7: Donaciones y Transferencias (de capital)",{"$f":"+E237+E253+E269+E285+E301","v":2765837.27},{"$f":"+F237+F253+F269+F285+F301","v":0},0]
[null,2.5,null,"        8: Otros Gastos (de capital)",{"$f":"+E238+E254+E270+E286+E302","v":0},{"$f":"+F238+F254+F270+F286+F302","v":0},0]
[null,2.6,null,"        9: Adquisiciones de Activos No Financieros",{"$f":"+E239+E255+E271+E287+E303","v":168313442.38},{"$f":"+F239+F255+F271+F287+F303","v":225745123},350517388]
[null,2.7,null,"      10: Adquisiciones de Activos Financieros",{"$f":"+E240+E256+E272+E288+E304","v":0},{"$f":"+F240+F256+F272+F288+F304","v":0},0]
[null,null,null,"SERVICIO DE DEUDA",{"$f":"+E226","v":46143382.790000007},25591658,31922930]
[null,2.8,null,"      11: Servicio de Deuda",{"$f":"+E242+E258+E274+E290+E306","v":46143382.790000007},{"$f":"+F242+F258+F274+F290+F306","v":25591658},31922930]
[]
[null,null,null,"RECURSOS ORDINARIOS",{"$f":"+E229+E236+E241","v":1542060566.1900001},{"$f":"+F229+F236+F241","v":1002951692.8000002},{"$f":"+G229+G236+G241","v":1625971348}]
[null,null,null,"GASTOS CORRIENTES",{"$f":"SUM(E230:E235)","v":1499576876.8099999},{"$f":"SUM(F230:F235)","v":987972184.85000014},1571152547]
[null,null,null,"        1: Reserva de ContingenciaAcciones Centrales (AC)"]
[null,2.1,null,"        2: Personal y Obligaciones Sociales",1120124908.6500001,753976299.46000004,{"$f":"+G130","v":1198853987}]
[null,2.2000000000000002,null,"        3: Pensiones y Prestaciones Sociales",178341053,113386800.20999999,189632677]
[null,2.2999999999999998,null,"        4: Bienes y Servicios",149395493.37,82292922.730000004,181889287]
[null,2.4,null,"        5: Donaciones y Transferencias (corrientes)",null,368178,0]
[null,2.5,null,"        6: Otros Gastos (corrientes)",51715421.789999999,37947984.450000003,776596]
[null,null,null,"GASTOS DE CAPITAL",{"$f":"SUM(E237:E240)","v":42483689.380000003},{"$f":"SUM(F237:F240)","v":14979507.949999999},54818801]
[null,2.4,null,"        7: Donaciones y Transferencias (de capital)",2765837.27,null,{"$f":"+G136","v":0}]
[null,2.5,null,"        8: Otros Gastos (de capital)",null,null,0]
[null,2.6,null,"        9: Adquisiciones de Activos No Financieros",39717852.109999999,14979507.949999999,54818801]
[null,2.7,null,"      10: Adquisiciones de Activos Financieros",null,null,0]
[null,null,null,"SERVICIO DE DEUDA",{"$f":"+E242","v":0},{"$f":"+F242","v":0},0]
[null,2.8,null,"      11: Servicio de Deuda",null,null,{"$f":"+G141","v":0}]
[]
[null,null,null,"RECURSOS DIRECTAMENTE RECAUDADOS",{"$f":"+E245+E252+E257","v":97310976.680000007},{"$f":"+F245+F252+F257","v":825723311.71000004},{"$f":"+G245+G252+G257","v":97364574}]
[null,null,null,"GASTOS CORRIENTES",{"$f":"SUM(E246:E251)","v":43499341.410000011},{"$f":"SUM(F246:F251)","v":632387495.03999996},43059109]
[null,null,null,"        1: Reserva de ContingenciaAcciones Centrales (AC)"]
[null,2.1,null,"        2: Personal y Obligaciones Sociales",97592.84,415476197.5,{"$f":"+G146","v":109283}]
[null,2.2000000000000002,null,"        3: Pensiones y Prestaciones Sociales",null,73600022.790000007,0]
[null,2.2999999999999998,null,"        4: Bienes y Servicios",38792417.090000004,{"$f":"20362083.15+112455322.05","v":132817405.19999999},42395338]
[null,2.4,null,"        5: Donaciones y Transferencias (corrientes)",null,{"$f":"205000+5371718","v":5576718},0]
[null,2.5,null,"        6: Otros Gastos (corrientes)",4609331.4800000004,{"$f":"3552717.55+1364434","v":4917151.55},554488]
[null,null,null,"GASTOS DE CAPITAL",{"$f":"SUM(E253:E256)","v":42975222.109999999},{"$f":"SUM(F253:F256)","v":182865281.67000002},33859549]
[null,2.4,null,"        7: Donaciones y Transferencias (de capital)",null,null,{"$f":"+G152","v":0}]
[null,2.5,null,"        8: Otros Gastos (de capital)",null,null,0]
[null,2.6,null,"        9: Adquisiciones de Activos No Financieros",42975222.109999999,{"$f":"30903661.06+151961620.61","v":182865281.67000002},33859549]
[null,2.7,null,"      10: Adquisiciones de Activos Financieros",null,null,0]
[null,null,null,"SERVICIO DE DEUDA",{"$f":"+E258","v":10836413.16},{"$f":"+F258","v":10470535},20445916]
[null,2.8,null,"      11: Servicio de Deuda",10836413.16,{"$f":"5734779.8+4735755.2","v":10470535},{"$f":"+G157","v":20445916}]
[]
[null,null,null,"RECURSOS POR OPERACIONES OFICIALES DE  CREDITO",{"$f":"+E261+E268+E273","v":33591173.380000003},{"$f":"+F261+F268+F273","v":15410354.380000001},{"$f":"+G261+G268+G273","v":216867115}]
[null,null,null,"GASTOS CORRIENTES",{"$f":"SUM(E262:E267)","v":0},{"$f":"SUM(F262:F267)","v":0},0]
[null,null,null,"        1: Reserva de ContingenciaAcciones Centrales (AC)"]
[null,2.1,null,"        2: Personal y Obligaciones Sociales",null,null,{"$f":"+G162","v":0}]
[null,2.2000000000000002,null,"        3: Pensiones y Prestaciones Sociales",null,null,0]
[null,2.2999999999999998,null,"        4: Bienes y Servicios",null,null,0]
[null,2.4,null,"        5: Donaciones y Transferencias (corrientes)",null,null,0]
[null,2.5,null,"        6: Otros Gastos (corrientes)",null,null,0]
[null,null,null,"GASTOS DE CAPITAL",{"$f":"SUM(E269:E272)","v":33591173.380000003},{"$f":"SUM(F269:F272)","v":15410354.380000001},216867115]
[null,2.4,null,"        7: Donaciones y Transferencias (de capital)",null,null,{"$f":"+G168","v":0}]
[null,2.5,null,"        8: Otros Gastos (de capital)",null,null,0]
[null,2.6,null,"        9: Adquisiciones de Activos No Financieros",33591173.380000003,15410354.380000001,216867115]
[null,2.7,null,"      10: Adquisiciones de Activos Financieros",null,null,0]
[null,null,null,"SERVICIO DE DEUDA",{"$f":"+E274","v":0},{"$f":"+F274","v":0},0]
[null,2.8,null,"      11: Servicio de Deuda",null,null,{"$f":"+G173","v":0}]
[]
[null,null,null,"DONACIONES Y TRANSFERENCIAS",{"$f":"+E277+E284+E289","v":110917164.20999999},{"$f":"+F277+F284+F289","v":39011298.710000001},{"$f":"+G277+G284+G289","v":3748466}]
[null,null,null,"GASTOS CORRIENTES",{"$f":"SUM(E278:E283)","v":86651037.329999998},{"$f":"SUM(F278:F283)","v":35464151.810000002},3748466]
[null,null,null,"        1: Reserva de ContingenciaAcciones Centrales (AC)"]
[null,2.1,null,"        2: Personal y Obligaciones Sociales",359789.97,213928.04,{"$f":"+G178","v":0}]
[null,2.2000000000000002,null,"        3: Pensiones y Prestaciones Sociales",null,null,0]
[null,2.2999999999999998,null,"        4: Bienes y Servicios",86055156.879999995,35014223.770000003,3748466]
[null,2.4,null,"        5: Donaciones y Transferencias (corrientes)",null,{"$f":"236000-236000","v":0},0]
[null,2.5,null,"        6: Otros Gastos (corrientes)",236090.48,236000,0]
[null,null,null,"GASTOS DE CAPITAL",{"$f":"SUM(E285:E288)","v":24266126.879999999},{"$f":"SUM(F285:F288)","v":3547146.9},0]
[null,2.4,null,"        7: Donaciones y Transferencias (de capital)",null,null,{"$f":"+G184","v":0}]
[null,2.5,null,"        8: Otros Gastos (de capital)",null,null,0]
[null,2.6,null,"        9: Adquisiciones de Activos No Financieros",24266126.879999999,3547146.9,0]
[null,2.7,null,"      10: Adquisiciones de Activos Financieros",null,null,0]
[null,null,null,"SERVICIO DE DEUDA",{"$f":"+E290","v":0},{"$f":"+F290","v":0},0]
[null,2.8,null,"      11: Servicio de Deuda",null,null,{"$f":"+G189","v":0}]
[]
[null,null,null,"RECURSOS DETERMINADOS",{"$f":"+E293+E300+E305","v":72044915.439999998},{"$f":"+F293+F300+F305","v":27995854.399999999},{"$f":"+G293+G300+G305","v":61915036}]
[null,null,null,"GASTOS CORRIENTES",{"$f":"SUM(E294:E299)","v":8974877.9100000001},{"$f":"SUM(F294:F299)","v":3931899.3},5466099]
[null,null,null,"        1: Reserva de ContingenciaAcciones Centrales (AC)"]
[null,2.1,null,"        2: Personal y Obligaciones Sociales",null,null,{"$f":"+G194","v":0}]
[null,2.2000000000000002,null,"        3: Pensiones y Prestaciones Sociales",null,null,0]
[null,2.2999999999999998,null,"        4: Bienes y Servicios",8974877.9100000001,3931899.3,5466099]
[null,2.4,null,"        5: Donaciones y Transferencias (corrientes)",null,null,0]
[null,2.5,null,"        6: Otros Gastos (corrientes)",null,null,0]
[null,null,null,"GASTOS DE CAPITAL",{"$f":"SUM(E301:E304)","v":27763067.899999999},{"$f":"SUM(F301:F304)","v":8942832.0999999996},44971923]
[null,2.4,null,"        7: Donaciones y Transferencias (de capital)",null,null,0]
[null,2.5,null,"        8: Otros Gastos (de capital)",null,null,0]
[null,2.6,null,"        9: Adquisiciones de Activos No Financieros",27763067.899999999,8942832.0999999996,44971923]
[null,2.7,null,"      10: Adquisiciones de Activos Financieros",null,null,0]
[null,null,null,"SERVICIO DE DEUDA",{"$f":"+E306","v":35306969.630000003},{"$f":"+F306","v":15121123},11477014]
[null,2.8,null,"      11: Servicio de Deuda",35306969.630000003,15121123,11477014]
[]
[null,null,null,"EJECUCION TOTAL S/    ",{"$f":"+E212","v":1855924795.9000001},{"$f":"+F212","v":1911092512},2005866539]
[]
[null,null,null," (*)  Proyeccion a 31/12/2019"]
[null,null,null,"(**) Proyecto 2020"]
[]
[null,null,null,"PROYECTO DE PRESUPUESTO PARA EL AÑO FISCAL 2020"]
[null,null,null,"INFORMACION PARA LA COMISION DE PRESUPUESTO Y CUENTA GENERAL DE LA REPUBLICA DEL CONGRESO DE LA REPUBLICA"]

{"sheet":"F.04","index":6,"n_rows":271,"n_cols":19,"rows_kept":271,"cut":false,"hidden":false,"merged":[[2,1,2,8],[3,1,3,18],[4,1,4,18],[5,1,5,18],[9,2,10,2],[9,3,9,9],[9,10,9,14],[9,15,9,16],[9,17,9,18],[9,1,10,1],[53,17,53,18],[97,1,98,1],[97,2,98,2],[97,3,97,9],[97,10,97,14],[97,15,97,16],[97,17,97,18],[53,1,54,1],[53,2,54,2],[53,3,53,9],[53,10,53,14],[53,15,53,16],[141,17,141,18],[185,1,186,1],[185,2,186,2],[185,3,185,9],[185,10,185,14],[185,15,185,16],[185,17,185,18],[141,1,142,1],[141,2,142,2],[141,3,141,9],[141,10,141,14],[141,15,141,16],[229,17,229,18],[229,1,230,1],[229,2,230,2],[229,3,229,9],[229,10,229,14],[229,15,229,16]]}
[]
[null,null,null,null,2.1,2.2000000000000002,2.2999999999999998,null,2.5,null,2.4,null,2.6,null,null,2.8]
[]
[null,"FORMATO N° 04"]
[null,"DISTRIBUCION DE GASTO POR UNIDADES EJECUTORAS / ENTIDAD PUBLICA Y FUENTES DE FINANCIAMIENTO - PROYECTO 2020"]
[null,"PROYECTO DE PRESUPUESTO - 2020"]
[]
[null,"SECTOR : 99 GOBIERNOS REGIONALES"]
[null,"FTE FTO CONSOLIDADO"]
[null,"PLIEGOS DEL SECTOR O GOBIERNO REGIONAL","UNIDADES EJECUTORAS O ENTIDADES PUBLICAS ADSCRITAS AL SECTOR","GASTOS CORRIENTES */",null,null,null,null,null,null,"GASTOS DE CAPITAL",null,null,null,null,"SERVICIO DE DEUDA",null,"TOTAL"]
[null,null,null,"1: Reserva de Contingencia","2: Personal y Obligaciones Sociales","3: Pensiones y Prestaciones Sociales","4: Bienes y Servicios","5: Donaciones y Transferencias","6: Otros Gastos","SUB TOTAL GASTOS   CORRIENTES","7: Donaciones y Transferencias","8: Otros Gastos","9: Adquisiciones de Activos No Financieros","10: Adquisiciones de Activos Financieros","SUB TOTAL GASTOS DE CAPITAL","11: Servicio de la Deuda","SUB TOTAL SERVICIO DE DEUDA","TOTAL GASTOS UNIDAD EJECUTORA /ENTIDAD PUBLICA","PART. %"]
[null,"451 GOBIERNO REGIONAL ","001 SEDE LA LIBERTAD",null,{"$f":"+E56+E100+E144+E188+E232","v":34864280},25383163,51833061,0,530506,112611010,0,0,47056247,0,47056247,11477014,11477014,171144271,{"$f":"+R12*100/R49","v":8.5321863480170457}]
[null,"       LA LIBERTAD","005 PROYECTO ESPEC.CHAVIMOCHIC",null,{"$f":"+E57+E101+E145+E189+E233","v":0},0,0,0,0,0,0,0,303195870,0,303195870,20445916,20445916,323641786,{"$f":"+R13*100/R49","v":16.134761695628445}]
[null,null,"100 AGRICULTURA LA LIBERTAD",null,{"$f":"+E58+E102+E146+E190+E234","v":3313959},5931172,2085333,0,13000,11343464,0,0,0,0,0,0,0,11343464,{"$f":"+R14*100/R49","v":0.56551439387663072}]
[null,null,"200 TRANSPORTES LA LIBERTAD",null,{"$f":"+E59+E103+E147+E191+E235","v":2165700},1740136,21333399,0,0,25239235,0,0,0,0,0,0,0,25239235,{"$f":"+R15*100/R49","v":1.2582709023394303}]
[null,null,"300 EDUCACION LA LIBERTAD",null,{"$f":"+E60+E104+E148+E192+E236","v":42267811},110415265,5245548,0,0,157928624,0,0,15000,0,15000,0,0,157943624,{"$f":"+R16*100/R49","v":7.8740843884230127}]
[null,null,"301 EDUCACION CHEPEN",null,{"$f":"+E61+E105+E149+E193+E237","v":47444541},4350145,2328803,0,0,54123489,0,0,0,0,0,0,0,54123489,{"$f":"+R17*100/R49","v":2.6982597270395963}]
[null,null,"302 EDUCACION PACASMAYO",null,{"$f":"+E62+E106+E150+E194+E238","v":53232299},5640427,2901570,0,0,61774296,0,0,0,0,0,0,0,61774296,{"$f":"+R18*100/R49","v":3.0796812648760179}]
[null,null,"303 EDUCACION ASCOPE",null,{"$f":"+E63+E107+E151+E195+E239","v":66574635},4830711,3901604,0,25085,75332035,0,0,0,0,0,0,0,75332035,{"$f":"+R19*100/R49","v":3.7555856052893657}]
[null,null,"304 EDUCACION GRAN CHIMU",null,{"$f":"+E64+E108+E152+E196+E240","v":29051802},994933,1660458,0,10000,31717193,0,0,0,0,0,0,0,31717193,{"$f":"+R20*100/R49","v":1.5812215011977924}]
[null,null,"305 EDUCACION OTUZCO",null,{"$f":"+E65+E109+E153+E197+E241","v":57276878},1536850,4480400,0,0,63294128,0,0,0,0,0,0,0,63294128,{"$f":"+R21*100/R49","v":3.1554506129582531}]
[null,null,"306 EDUCACION SANTIAGO DE CHUCO",null,{"$f":"+E66+E110+E154+E198+E242","v":43943837},1304282,2627121,0,0,47875240,0,0,0,0,0,0,0,47875240,{"$f":"+R22*100/R49","v":2.3867609867936483}]
[null,null,"307 EDUCACION SANCHEZ CARRION",null,{"$f":"+E67+E111+E155+E199+E243","v":109132356},2130928,7195383,0,0,118458667,0,0,0,0,0,0,0,118458667,{"$f":"+R23*100/R49","v":5.9056106025406905}]
[null,null,"308 EDUCACION PATAZ",null,{"$f":"+E68+E112+E156+E200+E244","v":69070662},1433355,5151483,0,0,75655500,0,0,0,0,0,0,0,75655500,{"$f":"+R24*100/R49","v":3.7717115535372119}]
[null,null,"309 EDUCACION BOLIVAR",null,{"$f":"+E69+E113+E157+E201+E245","v":14505924},438219,1491092,0,0,16435235,0,0,0,0,0,0,0,16435235,{"$f":"+R25*100/R49","v":0.81935835113903355}]
[null,null,"310 COLEGIO MILITAR RAMON CASTILLA",null,{"$f":"+E70+E114+E158+E202+E246","v":3002507},20129,2375517,0,1201,5399354,0,0,39040,0,39040,0,0,5438394,{"$f":"+R26*100/R49","v":0.27112441901100981}]
[null,null,"311 EDUCACION JULCAN",null,{"$f":"+E71+E115+E159+E203+E247","v":29857953},113590,2439954,0,0,32411497,0,0,0,0,0,0,0,32411497,{"$f":"+R27*100/R49","v":1.6158351699788736}]
[null,null,"312 EDUCACION VIRU",null,{"$f":"+E72+E116+E160+E204+E248","v":34379553},39781,2407511,0,0,36826845,0,0,0,0,0,0,0,36826845,{"$f":"+R28*100/R49","v":1.8359568936405695}]
[null,null,"313 EDUCACION EL PORVENIR",null,{"$f":"+E73+E117+E161+E205+E249","v":67857630},304250,3352058,0,15000,71528938,0,0,0,0,0,0,0,71528938,{"$f":"+R29*100/R49","v":3.5659868993906181}]
[null,null,"314 EDUCACION LA ESPERANZA",null,{"$f":"+E74+E118+E162+E206+E250","v":68358971},211808,2622817,0,0,71193596,0,0,0,0,0,0,0,71193596,{"$f":"+R30*100/R49","v":3.5492688379702813}]
[null,null,"315 EDUCACION TRUJILLO NOR OESTE",null,{"$f":"+E75+E119+E163+E207+E251","v":67339561},294297,2786058,0,0,70419916,0,0,0,0,0,0,0,70419916,{"$f":"+R31*100/R49","v":3.5106979767012305}]
[null,null,"316 EDUCACION TRUJILLO SUR ESTE",null,{"$f":"+E76+E120+E164+E208+E252","v":77050646},218996,2852060,0,3798,80125500,0,0,0,0,0,0,0,80125500,{"$f":"+R32*100/R49","v":3.9945578851893893}]
[null,null,"400 SALUD LA LIBERTAD",null,{"$f":"+E77+E121+E165+E209+E253","v":26213679},2896508,18333671,0,732494,48176352,0,0,71796,0,71796,0,0,48248148,{"$f":"+R33*100/R49","v":2.4053518547676416}]
[null,null,"401 INSTIT. REG.DE OFTALMOLOGIA",null,{"$f":"+E78+E122+E166+E210+E254","v":3864202},0,6668676,0,0,10532878,0,0,0,0,0,0,0,10532878,{"$f":"+R34*100/R49","v":0.52510362953913359}]
[null,null,"402 SALUD NORTE ASCOPE",null,{"$f":"+E79+E123+E167+E211+E255","v":43888815},6117557,13585324,0,0,63591696,0,0,31800,0,31800,0,0,63623496,{"$f":"+R35*100/R49","v":3.1718708479836706}]
[null,null,"403 SALUD TRUJILLO SUR OESTE",null,{"$f":"+E80+E124+E168+E212+E256","v":41532376},9879593,8836424,0,0,60248393,0,0,107635,0,107635,0,0,60356028,{"$f":"+R36*100/R49","v":3.0089752646300063}]
[null,null,"404 SALUD CHEPEN",null,{"$f":"+E81+E125+E169+E213+E257","v":14754549},1333940,4497485,0,0,20585974,0,0,0,0,0,0,0,20585974,{"$f":"+R37*100/R49","v":1.0262883197734025}]
[null,null,"405 SALUD PACASMAYO",null,{"$f":"+E82+E126+E170+E214+E258","v":16000165},597302,3345648,0,0,19943115,0,0,0,0,0,0,0,19943115,{"$f":"+R38*100/R49","v":0.99423937795693995}]
[null,null,"406 SALUD SANCHEZ CARRION",null,{"$f":"+E83+E127+E171+E215+E259","v":14516281},448682,7131350,0,0,22096313,0,0,0,0,0,0,0,22096313,{"$f":"+R39*100/R49","v":1.1015844060600286}]
[null,null,"407 SALUD SANTIAGO DE CHUCO",null,{"$f":"+E84+E128+E172+E216+E260","v":7985295},53732,2916112,0,0,10955139,0,0,0,0,0,0,0,10955139,{"$f":"+R40*100/R49","v":0.54615493040038199}]
[null,null,"408 SALUD OTUZCO",null,{"$f":"+E85+E129+E173+E217+E261","v":12116698},133789,6158325,0,0,18408812,0,0,0,0,0,0,0,18408812,{"$f":"+R41*100/R49","v":0.91774859603458392}]
[null,null,"409 SALUD TRUJILLO ESTE",null,{"$f":"+E86+E130+E174+E218+E262","v":60942531},839137,16591810,0,0,78373478,0,0,0,0,0,0,0,78373478,{"$f":"+R42*100/R49","v":3.9072129913026084}]
[null,null,"410 INSTIT.REG.DE ENFERM.NEOPLASICAS",null,{"$f":"+E87+E131+E175+E219+E263","v":11170740},0,7059963,0,0,18230703,0,0,0,0,0,0,0,18230703,{"$f":"+R43*100/R49","v":0.90886919172043679}]
[null,null,"411 SALUD JULCAN",null,{"$f":"+E88+E132+E176+E220+E264","v":3324969},0,893557,0,0,4218526,0,0,0,0,0,0,0,4218526,{"$f":"+R44*100/R49","v":0.2103094058343031}]
[null,null,"412 SALUD VIRU",null,{"$f":"+E89+E133+E177+E221+E265","v":6901280},0,2486360,0,0,9387640,0,0,0,0,0,0,0,9387640,{"$f":"+R45*100/R49","v":0.46800920287947434}]
[null,null,"413 SALUD ASCOPE",null,{"$f":"+E90+E134+E178+E222+E266","v":11265505},0,2708782,0,0,13974287,0,0,0,0,0,0,0,13974287,{"$f":"+R46*100/R49","v":0.6966708267124645}]
[null,null,"414 SALUD GRAN CHIMU",null,{"$f":"+E91+E135+E179+E223+E267","v":3794680},0,1214473,0,0,5009153,0,0,0,0,0,0,0,5009153,{"$f":"+R47*100/R49","v":0.2497251388667788}]
[]
[null,"TOTAL SECTOR","TOTAL SECTOR",{"$f":"SUM(D12:D48)","v":0},1198963270,189632677,233499190,0,1331084,1623426221,0,0,350517388,0,350517388,31922930,31922930,2005866539,{"$f":"+R49*100/R49","v":100}]
[null,"PROYECTO DE PRESUPUESTO PARA EL AÑO FISCAL 2020"]
[null,"INFORMACION PARA LA COMISION DE PRESUPUESTO Y CUENTA GENERAL DE LA REPUBLICA DEL CONGRESO DE LA REPUBLICA"]
[]
[null,"FTE FTO RECURSOS ORDINARIOS"]
[null,"PLIEGOS DEL SECTOR O GOBIERNO REGIONAL","UNIDADES EJECUTORAS O ENTIDADES PUBLICAS ADSCRITAS AL SECTOR","GASTOS CORRIENTES */",null,null,null,null,null,null,"GASTOS DE CAPITAL",null,null,null,null,"SERVICIO DE DEUDA",null,"TOTAL"]
[null,null,null,"1: Reserva de Contingencia","2: Personal y Obligaciones Sociales","3: Pensiones y Prestaciones Sociales","4: Bienes y Servicios","5: Donaciones y Transferencias","6: Otros Gastos","SUB TOTAL GASTOS   CORRIENTES","7: Donaciones y Transferencias","8: Otros Gastos","9: Adquisiciones de Activos No Financieros","10: Adquisiciones de Activos Financieros","SUB TOTAL GASTOS DE CAPITAL","11: Servicio de la Deuda","SUB TOTAL SERVICIO DE DEUDA","TOTAL GASTOS UNIDAD EJECUTORA /ENTIDAD PUBLICA","PART. %"]
[null,"451 GOBIERNO REGIONAL ","001 SEDE LA LIBERTAD",null,{"$f":"+'B.DATOS (GASTOS)'!C15","v":34754997},{"$f":"+'B.DATOS (GASTOS)'!D15","v":25383163},{"$f":"+'B.DATOS (GASTOS)'!E15","v":39461632},null,{"$f":"+'B.DATOS (GASTOS)'!F15","v":527386},{"$f":"+D56+E56+F56+G56+H56+I56","v":100127178},{"$f":"+'B.DATOS (GASTOS)'!H15","v":0},null,{"$f":"+'B.DATOS (GASTOS)'!I15","v":37674422},null,{"$f":"+K56+L56+M56+N56","v":37674422},{"$f":"+'B.DATOS (GASTOS)'!K15","v":0},{"$f":"+P56","v":0},{"$f":"+J56+O56+Q56","v":137801600},{"$f":"+R56*100/R93","v":8.475032488702869}]
[null,"       LA LIBERTAD","005 PROYECTO ESPEC.CHAVIMOCHIC",null,{"$f":"+'B.DATOS (GASTOS)'!C16","v":0},{"$f":"+'B.DATOS (GASTOS)'!D16","v":0},{"$f":"+'B.DATOS (GASTOS)'!E16","v":0},null,{"$f":"+'B.DATOS (GASTOS)'!F16","v":0},{"$f":"+D57+E57+F57+G57+H57+I57","v":0},{"$f":"+'B.DATOS (GASTOS)'!H16","v":0},null,{"$f":"+'B.DATOS (GASTOS)'!I16","v":17000000},null,{"$f":"+K57+L57+M57+N57","v":17000000},{"$f":"+'B.DATOS (GASTOS)'!K16","v":0},{"$f":"+P57","v":0},{"$f":"+J57+O57+Q57","v":17000000},{"$f":"+R57*100/R93","v":1.0455288785322434}]
[null,null,"100 AGRICULTURA LA LIBERTAD",null,{"$f":"+'B.DATOS (GASTOS)'!C17","v":3313959},{"$f":"+'B.DATOS (GASTOS)'!D17","v":5931172},{"$f":"+'B.DATOS (GASTOS)'!E17","v":1863768},null,{"$f":"+'B.DATOS (GASTOS)'!F17","v":13000},11121899,{"$f":"+'B.DATOS (GASTOS)'!H17","v":0},null,{"$f":"+'B.DATOS (GASTOS)'!I17","v":0},null,0,{"$f":"+'B.DATOS (GASTOS)'!K17","v":0},0,11121899,{"$f":"+R58*100/R93","v":0.68401568168346349}]
[null,null,"200 TRANSPORTES LA LIBERTAD",null,{"$f":"+'B.DATOS (GASTOS)'!C18","v":2165700},{"$f":"+'B.DATOS (GASTOS)'!D18","v":1740136},{"$f":"+'B.DATOS (GASTOS)'!E18","v":16028871},null,{"$f":"+'B.DATOS (GASTOS)'!F18","v":0},19934707,{"$f":"+'B.DATOS (GASTOS)'!H18","v":0},null,{"$f":"+'B.DATOS (GASTOS)'!I18","v":0},null,0,{"$f":"+'B.DATOS (GASTOS)'!K18","v":0},0,19934707,{"$f":"+R59*100/R93","v":1.2260183443281683}]
[null,null,"300 EDUCACION LA LIBERTAD",null,{"$f":"+'B.DATOS (GASTOS)'!C21","v":42267811},{"$f":"+'B.DATOS (GASTOS)'!D21","v":110415265},{"$f":"+'B.DATOS (GASTOS)'!E21","v":4839324},null,{"$f":"+'B.DATOS (GASTOS)'!F21","v":0},{"$f":"+D60+E60+F60+G60+H60+I60","v":157522400},{"$f":"+'B.DATOS (GASTOS)'!H21","v":0},null,{"$f":"+'B.DATOS (GASTOS)'!I21","v":0},null,{"$f":"+K60+L60+M60+N60","v":0},{"$f":"+'B.DATOS (GASTOS)'!K21","v":0},0,{"$f":"+J60+O60+Q60","v":157522400},{"$f":"+R60*100/R93","v":9.6878951891592617}]
[null,null,"301 EDUCACION CHEPEN",null,{"$f":"+'B.DATOS (GASTOS)'!C22","v":47444541},{"$f":"+'B.DATOS (GASTOS)'!D22","v":4350145},{"$f":"+'B.DATOS (GASTOS)'!E22","v":2324580},null,{"$f":"+'B.DATOS (GASTOS)'!F22","v":0},{"$f":"+D61+E61+F61+G61+H61+I61","v":54119266},{"$f":"+'B.DATOS (GASTOS)'!H22","v":0},null,{"$f":"+'B.DATOS (GASTOS)'!I22","v":0},null,{"$f":"+K61+L61+M61+N61","v":0},{"$f":"+'B.DATOS (GASTOS)'!K22","v":0},0,{"$f":"+J61+O61+Q61","v":54119266},{"$f":"+R61*100/R93","v":3.3284267934098923}]
[null,null,"302 EDUCACION PACASMAYO",null,{"$f":"+'B.DATOS (GASTOS)'!C23","v":53232299},{"$f":"+'B.DATOS (GASTOS)'!D23","v":5640427},{"$f":"+'B.DATOS (GASTOS)'!E23","v":2891127},null,{"$f":"+'B.DATOS (GASTOS)'!F23","v":0},61763853,{"$f":"+'B.DATOS (GASTOS)'!H23","v":0},null,{"$f":"+'B.DATOS (GASTOS)'!I23","v":0},null,0,{"$f":"+'B.DATOS (GASTOS)'!K23","v":0},0,61763853,{"$f":"+R62*100/R93","v":3.7985818800541375}]
[null,null,"303 EDUCACION ASCOPE",null,{"$f":"+'B.DATOS (GASTOS)'!C24","v":66574635},{"$f":"+'B.DATOS (GASTOS)'!D24","v":4830711},{"$f":"+'B.DATOS (GASTOS)'!E24","v":3824626},null,{"$f":"+'B.DATOS (GASTOS)'!F24","v":25085},75255057,{"$f":"+'B.DATOS (GASTOS)'!H24","v":0},null,{"$f":"+'B.DATOS (GASTOS)'!I24","v":0},null,0,{"$f":"+'B.DATOS (GASTOS)'!K24","v":0},0,75255057,{"$f":"+R63*100/R93","v":4.6283138440641203}]
[null,null,"304 EDUCACION GRAN CHIMU",null,{"$f":"+'B.DATOS (GASTOS)'!C25","v":29051802},{"$f":"+'B.DATOS (GASTOS)'!D25","v":994933},{"$f":"+'B.DATOS (GASTOS)'!E25","v":1651122},null,{"$f":"+'B.DATOS (GASTOS)'!F25","v":10000},31707857,{"$f":"+'B.DATOS (GASTOS)'!H25","v":0},null,{"$f":"+'B.DATOS (GASTOS)'!I25","v":0},null,0,{"$f":"+'B.DATOS (GASTOS)'!K25","v":0},0,31707857,{"$f":"+R64*100/R93","v":1.950087068815926}]
[null,null,"305 EDUCACION OTUZCO",null,{"$f":"+'B.DATOS (GASTOS)'!C26","v":57276878},{"$f":"+'B.DATOS (GASTOS)'!D26","v":1536850},{"$f":"+'B.DATOS (GASTOS)'!E26","v":4465400},null,{"$f":"+'B.DATOS (GASTOS)'!F26","v":0},63279128,{"$f":"+'B.DATOS (GASTOS)'!H26","v":0},null,{"$f":"+'B.DATOS (GASTOS)'!I26","v":0},null,0,{"$f":"+'B.DATOS (GASTOS)'!K26","v":0},0,63279128,{"$f":"+R65*100/R93","v":3.8917738666081343}]
[null,null,"306 EDUCACION SANTIAGO DE CHUCO",null,{"$f":"+'B.DATOS (GASTOS)'!C27","v":43943837},{"$f":"+'B.DATOS (GASTOS)'!D27","v":1304282},{"$f":"+'B.DATOS (GASTOS)'!E27","v":2598349},null,{"$f":"+'B.DATOS (GASTOS)'!F27","v":0},47846468,{"$f":"+'B.DATOS (GASTOS)'!H27","v":0},null,{"$f":"+'B.DATOS (GASTOS)'!I27","v":0},null,0,{"$f":"+'B.DATOS (GASTOS)'!K27","v":0},0,47846468,{"$f":"+R66*100/R93","v":2.9426390605746393}]
[null,null,"307 EDUCACION SANCHEZ CARRION",null,{"$f":"+'B.DATOS (GASTOS)'!C28","v":109132356},{"$f":"+'B.DATOS (GASTOS)'!D28","v":2130928},{"$f":"+'B.DATOS (GASTOS)'!E28","v":7080810},null,{"$f":"+'B.DATOS (GASTOS)'!F28","v":0},118344094,{"$f":"+'B.DATOS (GASTOS)'!H28","v":0},null,{"$f":"+'B.DATOS (GASTOS)'!I28","v":0},null,0,{"$f":"+'B.DATOS (GASTOS)'!K28","v":0},0,118344094,{"$f":"+R67*100/R93","v":7.2783628165137877}]
[null,null,"308 EDUCACION PATAZ",null,{"$f":"+'B.DATOS (GASTOS)'!C29","v":69070662},{"$f":"+'B.DATOS (GASTOS)'!D29","v":1433355},{"$f":"+'B.DATOS (GASTOS)'!E29","v":5074131},null,{"$f":"+'B.DATOS (GASTOS)'!F29","v":0},75578148,{"$f":"+'B.DATOS (GASTOS)'!H29","v":0},null,{"$f":"+'B.DATOS (GASTOS)'!I29","v":0},null,0,{"$f":"+'B.DATOS (GASTOS)'!K29","v":0},0,75578148,{"$f":"+R68*100/R93","v":4.6481844894108182}]
[null,null,"309 EDUCACION BOLIVAR",null,{"$f":"+'B.DATOS (GASTOS)'!C30","v":14505924},{"$f":"+'B.DATOS (GASTOS)'!D30","v":438219},{"$f":"+'B.DATOS (GASTOS)'!E30","v":1487452},null,{"$f":"+'B.DATOS (GASTOS)'!F30","v":0},16431595,{"$f":"+'B.DATOS (GASTOS)'!H30","v":0},null,{"$f":"+'B.DATOS (GASTOS)'!I30","v":0},null,0,{"$f":"+'B.DATOS (GASTOS)'!K30","v":0},0,16431595,{"$f":"+R69*100/R93","v":1.0105710054615304}]
[null,null,"310 COLEGIO MILITAR RAMON CASTILLA",null,{"$f":"+'B.DATOS (GASTOS)'!C31","v":3002507},{"$f":"+'B.DATOS (GASTOS)'!D31","v":20129},{"$f":"+'B.DATOS (GASTOS)'!E31","v":901067},null,{"$f":"+'B.DATOS (GASTOS)'!F31","v":1201},3924904,{"$f":"+'B.DATOS (GASTOS)'!H31","v":0},null,{"$f":"+'B.DATOS (GASTOS)'!I31","v":0},null,0,{"$f":"+'B.DATOS (GASTOS)'!K31","v":0},0,3924904,{"$f":"+R70*100/R93","v":0.24138826338039507}]
[null,null,"311 EDUCACION JULCAN",null,{"$f":"+'B.DATOS (GASTOS)'!C32","v":29857953},{"$f":"+'B.DATOS (GASTOS)'!D32","v":113590},{"$f":"+'B.DATOS (GASTOS)'!E32","v":2425044},null,{"$f":"+'B.DATOS (GASTOS)'!F32","v":0},32396587,{"$f":"+'B.DATOS (GASTOS)'!H32","v":0},null,{"$f":"+'B.DATOS (GASTOS)'!I32","v":0},null,0,{"$f":"+'B.DATOS (GASTOS)'!K32","v":0},0,32396587,{"$f":"+R71*100/R93","v":1.9924451337871913}]
[null,null,"312 EDUCACION VIRU",null,{"$f":"+'B.DATOS (GASTOS)'!C33","v":34379553},{"$f":"+'B.DATOS (GASTOS)'!D33","v":39781},{"$f":"+'B.DATOS (GASTOS)'!E33","v":2366381},null,{"$f":"+'B.DATOS (GASTOS)'!F33","v":0},36785715,{"$f":"+'B.DATOS (GASTOS)'!H33","v":0},null,{"$f":"+'B.DATOS (GASTOS)'!I33","v":0},null,0,{"$f":"+'B.DATOS (GASTOS)'!K33","v":0},0,36785715,{"$f":"+R72*100/R93","v":2.2623839617621599}]
[null,null,"313 EDUCACION EL PORVENIR",null,{"$f":"+'B.DATOS (GASTOS)'!C34","v":67857630},{"$f":"+'B.DATOS (GASTOS)'!D34","v":304250},{"$f":"+'B.DATOS (GASTOS)'!E34","v":3283938},null,{"$f":"+'B.DATOS (GASTOS)'!F34","v":15000},71460818,{"$f":"+'B.DATOS (GASTOS)'!H34","v":0},null,{"$f":"+'B.DATOS (GASTOS)'!I34","v":0},null,0,{"$f":"+'B.DATOS (GASTOS)'!K34","v":0},0,71460818,{"$f":"+R73*100/R93","v":4.3949617001492207}]
[null,null,"314 EDUCACION LA ESPERANZA",null,{"$f":"+'B.DATOS (GASTOS)'!C35","v":68358971},{"$f":"+'B.DATOS (GASTOS)'!D35","v":211808},{"$f":"+'B.DATOS (GASTOS)'!E35","v":2575459},null,{"$f":"+'B.DATOS (GASTOS)'!F35","v":0},71146238,{"$f":"+'B.DATOS (GASTOS)'!H35","v":0},null,{"$f":"+'B.DATOS (GASTOS)'!I35","v":0},null,0,{"$f":"+'B.DATOS (GASTOS)'!K35","v":0},0,71146238,{"$f":"+R74*100/R93","v":4.375614495760475}]
[null,null,"315 EDUCACION TRUJILLO NOR OESTE",null,{"$f":"+'B.DATOS (GASTOS)'!C36","v":67339561},{"$f":"+'B.DATOS (GASTOS)'!D36","v":294297},{"$f":"+'B.DATOS (GASTOS)'!E36","v":2709417},null,{"$f":"+'B.DATOS (GASTOS)'!F36","v":0},70343275,{"$f":"+'B.DATOS (GASTOS)'!H36","v":0},null,{"$f":"+'B.DATOS (GASTOS)'!I36","v":0},null,0,{"$f":"+'B.DATOS (GASTOS)'!K36","v":0},0,70343275,{"$f":"+R75*100/R93","v":4.3262309072373641}]
[null,null,"316 EDUCACION TRUJILLO SUR ESTE",null,{"$f":"+'B.DATOS (GASTOS)'!C37","v":77050646},{"$f":"+'B.DATOS (GASTOS)'!D37","v":218996},{"$f":"+'B.DATOS (GASTOS)'!E37","v":2815028},null,{"$f":"+'B.DATOS (GASTOS)'!F37","v":3798},80088468,{"$f":"+'B.DATOS (GASTOS)'!H37","v":0},null,{"$f":"+'B.DATOS (GASTOS)'!I37","v":0},null,0,{"$f":"+'B.DATOS (GASTOS)'!K37","v":0},0,80088468,{"$f":"+R76*100/R93","v":4.9255768312591446}]
[null,null,"400 SALUD LA LIBERTAD",null,{"$f":"+'B.DATOS (GASTOS)'!C40","v":26213679},{"$f":"+'B.DATOS (GASTOS)'!D40","v":2896508},{"$f":"+'B.DATOS (GASTOS)'!E40","v":12347615},null,{"$f":"+'B.DATOS (GASTOS)'!F40","v":181126},{"$f":"+D77+E77+F77+G77+H77+I77","v":41638928},{"$f":"+'B.DATOS (GASTOS)'!H40","v":0},null,{"$f":"+'B.DATOS (GASTOS)'!I40","v":36744},null,{"$f":"+K77+L77+M77+N77","v":36744},{"$f":"+'B.DATOS (GASTOS)'!K40","v":0},0,{"$f":"+J77+O77+Q77","v":41675672},{"$f":"+R77*100/R93","v":2.5631246240139776}]
[null,null,"401 INSTIT. REG.DE OFTALMOLOGIA",null,{"$f":"+'B.DATOS (GASTOS)'!C41","v":3864202},{"$f":"+'B.DATOS (GASTOS)'!D41","v":0},{"$f":"+'B.DATOS (GASTOS)'!E41","v":1417478},null,{"$f":"+'B.DATOS (GASTOS)'!F41","v":0},{"$f":"+D78+E78+F78+G78+H78+I78","v":5281680},{"$f":"+'B.DATOS (GASTOS)'!H41","v":0},null,{"$f":"+'B.DATOS (GASTOS)'!I41","v":0},null,{"$f":"+K78+L78+M78+N78","v":0},{"$f":"+'B.DATOS (GASTOS)'!K41","v":0},0,{"$f":"+J78+O78+Q78","v":5281680},{"$f":"+R78*100/R93","v":0.32483229218624582}]
[null,null,"402 SALUD NORTE ASCOPE",null,{"$f":"+'B.DATOS (GASTOS)'!C42","v":43888815},{"$f":"+'B.DATOS (GASTOS)'!D42","v":6117557},{"$f":"+'B.DATOS (GASTOS)'!E42","v":5577479},null,{"$f":"+'B.DATOS (GASTOS)'!F42","v":0},55583851,{"$f":"+'B.DATOS (GASTOS)'!H42","v":0},null,{"$f":"+'B.DATOS (GASTOS)'!I42","v":0},null,0,{"$f":"+'B.DATOS (GASTOS)'!K42","v":0},0,55583851,{"$f":"+R79*100/R93","v":3.4185012588549006}]
[null,null,"403 SALUD TRUJILLO SUR OESTE",null,{"$f":"+'B.DATOS (GASTOS)'!C43","v":41532376},{"$f":"+'B.DATOS (GASTOS)'!D43","v":9879593},{"$f":"+'B.DATOS (GASTOS)'!E43","v":4623962},null,{"$f":"+'B.DATOS (GASTOS)'!F43","v":0},56035931,{"$f":"+'B.DATOS (GASTOS)'!H43","v":0},null,{"$f":"+'B.DATOS (GASTOS)'!I43","v":107635},null,107635,{"$f":"+'B.DATOS (GASTOS)'!K43","v":0},0,56143566,{"$f":"+R80*100/R93","v":3.4529246821635877}]
[null,null,"404 SALUD CHEPEN",null,{"$f":"+'B.DATOS (GASTOS)'!C44","v":14754549},{"$f":"+'B.DATOS (GASTOS)'!D44","v":1333940},{"$f":"+'B.DATOS (GASTOS)'!E44","v":3773116},null,{"$f":"+'B.DATOS (GASTOS)'!F44","v":0},19861605,{"$f":"+'B.DATOS (GASTOS)'!H44","v":0},null,{"$f":"+'B.DATOS (GASTOS)'!I44","v":0},null,0,{"$f":"+'B.DATOS (GASTOS)'!K44","v":0},0,19861605,{"$f":"+R81*100/R93","v":1.2215224471470822}]
[null,null,"405 SALUD PACASMAYO",null,{"$f":"+'B.DATOS (GASTOS)'!C45","v":16000165},{"$f":"+'B.DATOS (GASTOS)'!D45","v":597302},{"$f":"+'B.DATOS (GASTOS)'!E45","v":2954040},null,{"$f":"+'B.DATOS (GASTOS)'!F45","v":0},19551507,{"$f":"+'B.DATOS (GASTOS)'!H45","v":0},null,{"$f":"+'B.DATOS (GASTOS)'!I45","v":0},null,0,{"$f":"+'B.DATOS (GASTOS)'!K45","v":0},0,19551507,{"$f":"+R82*100/R93","v":1.2024508933720768}]
[null,null,"406 SALUD SANCHEZ CARRION",null,{"$f":"+'B.DATOS (GASTOS)'!C46","v":14516281},{"$f":"+'B.DATOS (GASTOS)'!D46","v":448682},{"$f":"+'B.DATOS (GASTOS)'!E46","v":6876138},null,{"$f":"+'B.DATOS (GASTOS)'!F46","v":0},21841101,{"$f":"+'B.DATOS (GASTOS)'!H46","v":0},null,{"$f":"+'B.DATOS (GASTOS)'!I46","v":0},null,0,{"$f":"+'B.DATOS (GASTOS)'!K46","v":0},0,21841101,{"$f":"+R83*100/R93","v":1.3432648137905565}]
[null,null,"407 SALUD SANTIAGO DE CHUCO",null,{"$f":"+'B.DATOS (GASTOS)'!C47","v":7985295},{"$f":"+'B.DATOS (GASTOS)'!D47","v":53732},{"$f":"+'B.DATOS (GASTOS)'!E47","v":2885071},null,{"$f":"+'B.DATOS (GASTOS)'!F47","v":0},10924098,{"$f":"+'B.DATOS (GASTOS)'!H47","v":0},null,{"$f":"+'B.DATOS (GASTOS)'!I47","v":0},null,0,{"$f":"+'B.DATOS (GASTOS)'!K47","v":0},0,10924098,{"$f":"+R84*100/R93","v":0.67185058417154842}]
[null,null,"408 SALUD OTUZCO",null,{"$f":"+'B.DATOS (GASTOS)'!C48","v":12116698},{"$f":"+'B.DATOS (GASTOS)'!D48","v":133789},{"$f":"+'B.DATOS (GASTOS)'!E48","v":5918250},null,{"$f":"+'B.DATOS (GASTOS)'!F48","v":0},18168737,{"$f":"+'B.DATOS (GASTOS)'!H48","v":0},null,{"$f":"+'B.DATOS (GASTOS)'!I48","v":0},null,0,{"$f":"+'B.DATOS (GASTOS)'!K48","v":0},0,18168737,{"$f":"+R85*100/R93","v":1.1174081894092516}]
[null,null,"409 SALUD TRUJILLO ESTE",null,{"$f":"+'B.DATOS (GASTOS)'!C49","v":60942531},{"$f":"+'B.DATOS (GASTOS)'!D49","v":839137},{"$f":"+'B.DATOS (GASTOS)'!E49","v":12858208},null,{"$f":"+'B.DATOS (GASTOS)'!F49","v":0},74639876,{"$f":"+'B.DATOS (GASTOS)'!H49","v":0},null,{"$f":"+'B.DATOS (GASTOS)'!I49","v":0},null,0,{"$f":"+'B.DATOS (GASTOS)'!K49","v":0},0,74639876,{"$f":"+R86*100/R93","v":4.5904791675332772}]
[null,null,"410 INSTIT.REG.DE ENFERM.NEOPLASICAS",null,{"$f":"+'B.DATOS (GASTOS)'!C50","v":11170740},{"$f":"+'B.DATOS (GASTOS)'!D50","v":0},{"$f":"+'B.DATOS (GASTOS)'!E50","v":5505842},null,{"$f":"+'B.DATOS (GASTOS)'!F50","v":0},16676582,{"$f":"+'B.DATOS (GASTOS)'!H50","v":0},null,{"$f":"+'B.DATOS (GASTOS)'!I50","v":0},null,0,{"$f":"+'B.DATOS (GASTOS)'!K50","v":0},0,16676582,{"$f":"+R87*100/R93","v":1.0256381221300586}]
[null,null,"411 SALUD JULCAN",null,{"$f":"+'B.DATOS (GASTOS)'!C51","v":3324969},{"$f":"+'B.DATOS (GASTOS)'!D51","v":0},{"$f":"+'B.DATOS (GASTOS)'!E51","v":891557},null,{"$f":"+'B.DATOS (GASTOS)'!F51","v":0},4216526,{"$f":"+'B.DATOS (GASTOS)'!H51","v":0},null,{"$f":"+'B.DATOS (GASTOS)'!I51","v":0},null,0,{"$f":"+'B.DATOS (GASTOS)'!K51","v":0},0,4216526,{"$f":"+R88*100/R93","v":0.25932351176953211}]
[null,null,"412 SALUD VIRU",null,{"$f":"+'B.DATOS (GASTOS)'!C52","v":6901280},{"$f":"+'B.DATOS (GASTOS)'!D52","v":0},{"$f":"+'B.DATOS (GASTOS)'!E52","v":1960199},null,{"$f":"+'B.DATOS (GASTOS)'!F52","v":0},8861479,{"$f":"+'B.DATOS (GASTOS)'!H52","v":0},null,{"$f":"+'B.DATOS (GASTOS)'!I52","v":0},null,0,{"$f":"+'B.DATOS (GASTOS)'!K52","v":0},0,8861479,{"$f":"+R89*100/R93","v":0.54499601182394264}]
[null,null,"413 SALUD ASCOPE",null,{"$f":"+'B.DATOS (GASTOS)'!C53","v":11265505},{"$f":"+'B.DATOS (GASTOS)'!D53","v":0},{"$f":"+'B.DATOS (GASTOS)'!E53","v":2516907},null,{"$f":"+'B.DATOS (GASTOS)'!F53","v":0},13782412,{"$f":"+'B.DATOS (GASTOS)'!H53","v":0},null,{"$f":"+'B.DATOS (GASTOS)'!I53","v":0},null,0,{"$f":"+'B.DATOS (GASTOS)'!K53","v":0},0,13782412,{"$f":"+R90*100/R93","v":0.84764175069584313}]
[null,null,"414 SALUD GRAN CHIMU",null,{"$f":"+'B.DATOS (GASTOS)'!C54","v":3794680},{"$f":"+'B.DATOS (GASTOS)'!D54","v":0},{"$f":"+'B.DATOS (GASTOS)'!E54","v":1115899},null,{"$f":"+'B.DATOS (GASTOS)'!F54","v":0},4910579,{"$f":"+'B.DATOS (GASTOS)'!H54","v":0},null,{"$f":"+'B.DATOS (GASTOS)'!I54","v":0},null,0,{"$f":"+'B.DATOS (GASTOS)'!K54","v":0},0,4910579,{"$f":"+R91*100/R93","v":0.30200895028317559}]
[]
[null,"TOTAL SECTOR","TOTAL SECTOR",{"$f":"SUM(D56:D92)","v":0},1198853987,189632677,181889287,0,776596,1571152547,0,0,54818801,0,54818801,0,0,1625971348,{"$f":"+R93*100/R93","v":100}]
[null,"PROYECTO DE PRESUPUESTO PARA EL AÑO FISCAL 2020"]
[null,"INFORMACION PARA LA COMISION DE PRESUPUESTO Y CUENTA GENERAL DE LA REPUBLICA DEL CONGRESO DE LA REPUBLICA"]
[]
[null,"FTE FTO RECURSOS DIRECTAMENTE RECAUDADOS"]
[null,"PLIEGOS DEL SECTOR O GOBIERNO REGIONAL","UNIDADES EJECUTORAS O ENTIDADES PUBLICAS ADSCRITAS AL SECTOR","GASTOS CORRIENTES */",null,null,null,null,null,null,"GASTOS DE CAPITAL",null,null,null,null,"SERVICIO DE DEUDA",null,"TOTAL"]
[null,null,null,"1: Reserva de Contingencia","2: Personal y Obligaciones Sociales","3: Pensiones y Prestaciones Sociales","4: Bienes y Servicios","5: Donaciones y Transferencias","6: Otros Gastos","SUB TOTAL GASTOS   CORRIENTES","7: Donaciones y Transferencias","8: Otros Gastos","9: Adquisiciones de Activos No Financieros","10: Adquisiciones de Activos Financieros","SUB TOTAL GASTOS DE CAPITAL","11: Servicio de la Deuda","SUB TOTAL SERVICIO DE DEUDA","TOTAL GASTOS UNIDAD EJECUTORA /ENTIDAD PUBLICA","PART. %"]
[null,"451 GOBIERNO REGIONAL ","001 SEDE LA LIBERTAD",null,{"$f":"+'B.DATOS (GASTOS)'!C70","v":109283},{"$f":"+'B.DATOS (GASTOS)'!D70","v":0},{"$f":"+'B.DATOS (GASTOS)'!E70","v":6905330},null,{"$f":"+'B.DATOS (GASTOS)'!F70","v":3120},{"$f":"+D100+E100+F100+G100+H100+I100","v":7017733},{"$f":"+'B.DATOS (GASTOS)'!H70","v":0},null,{"$f":"+'B.DATOS (GASTOS)'!I70","v":0},null,{"$f":"+K100+L100+M100+N100","v":0},{"$f":"+'B.DATOS (GASTOS)'!K70","v":0},{"$f":"+P100","v":0},{"$f":"+J100+O100+Q100","v":7017733},{"$f":"+R100*100/R137","v":7.2076862370907104}]
[null,"       LA LIBERTAD","005 PROYECTO ESPEC.CHAVIMOCHIC",null,{"$f":"+'B.DATOS (GASTOS)'!C71","v":0},{"$f":"+'B.DATOS (GASTOS)'!D71","v":0},{"$f":"+'B.DATOS (GASTOS)'!E71","v":0},null,{"$f":"+'B.DATOS (GASTOS)'!F71","v":0},{"$f":"+D101+E101+F101+G101+H101+I101","v":0},{"$f":"+'B.DATOS (GASTOS)'!H71","v":0},null,{"$f":"+'B.DATOS (GASTOS)'!I71","v":33738657},null,{"$f":"+K101+L101+M101+N101","v":33738657},{"$f":"+'B.DATOS (GASTOS)'!K71","v":20445916},{"$f":"+P101","v":20445916},{"$f":"+J101+O101+Q101","v":54184573},{"$f":"+R101*100/R137","v":55.651219713650676}]
[null,null,"100 AGRICULTURA LA LIBERTAD",null,{"$f":"+'B.DATOS (GASTOS)'!C72","v":0},{"$f":"+'B.DATOS (GASTOS)'!D72","v":0},{"$f":"+'B.DATOS (GASTOS)'!E72","v":221565},null,{"$f":"+'B.DATOS (GASTOS)'!F72","v":0},221565,{"$f":"+'B.DATOS (GASTOS)'!H72","v":0},null,{"$f":"+'B.DATOS (GASTOS)'!I72","v":0},null,0,{"$f":"+'B.DATOS (GASTOS)'!K72","v":0},{"$f":"+P102","v":0},221565,{"$f":"+R102*100/R137","v":0.22756223428862329}]
[null,null,"200 TRANSPORTES LA LIBERTAD",null,{"$f":"+'B.DATOS (GASTOS)'!C73","v":0},{"$f":"+'B.DATOS (GASTOS)'!D73","v":0},{"$f":"+'B.DATOS (GASTOS)'!E73","v":5304528},null,{"$f":"+'B.DATOS (GASTOS)'!F73","v":0},5304528,{"$f":"+'B.DATOS (GASTOS)'!H73","v":0},null,{"$f":"+'B.DATOS (GASTOS)'!I73","v":0},null,0,{"$f":"+'B.DATOS (GASTOS)'!K73","v":0},0,5304528,{"$f":"+R103*100/R137","v":5.448108877875848}]
[null,null,"300 EDUCACION LA LIBERTAD",null,{"$f":"+'B.DATOS (GASTOS)'!C76","v":0},{"$f":"+'B.DATOS (GASTOS)'!D76","v":0},{"$f":"+'B.DATOS (GASTOS)'!E76","v":406224},null,{"$f":"+'B.DATOS (GASTOS)'!F76","v":0},406224,{"$f":"+'B.DATOS (GASTOS)'!H76","v":0},null,{"$f":"+'B.DATOS (GASTOS)'!I76","v":15000},null,15000,{"$f":"+'B.DATOS (GASTOS)'!K76","v":0},0,421224,{"$f":"+R104*100/R137","v":0.43262552558387407}]
[null,null,"301 EDUCACION CHEPEN",null,{"$f":"+'B.DATOS (GASTOS)'!C77","v":0},{"$f":"+'B.DATOS (GASTOS)'!D77","v":0},{"$f":"+'B.DATOS (GASTOS)'!E77","v":4223},null,{"$f":"+'B.DATOS (GASTOS)'!F77","v":0},{"$f":"+D105+E105+F105+G105+H105+I105","v":4223},{"$f":"+'B.DATOS (GASTOS)'!H77","v":0},null,{"$f":"+'B.DATOS (GASTOS)'!I77","v":0},null,{"$f":"+K105+L105+M105+N105","v":0},{"$f":"+'B.DATOS (GASTOS)'!K77","v":0},0,{"$f":"+J105+O105+Q105","v":4223},{"$f":"+R105*100/R137","v":4.337306503287325E-3}]
[null,null,"302 EDUCACION PACASMAYO",null,{"$f":"+'B.DATOS (GASTOS)'!C78","v":0},{"$f":"+'B.DATOS (GASTOS)'!D78","v":0},{"$f":"+'B.DATOS (GASTOS)'!E78","v":10443},null,{"$f":"+'B.DATOS (GASTOS)'!F78","v":0},10443,{"$f":"+'B.DATOS (GASTOS)'!H78","v":0},null,{"$f":"+'B.DATOS (GASTOS)'!I78","v":0},null,0,{"$f":"+'B.DATOS (GASTOS)'!K78","v":0},0,10443,{"$f":"+R106*100/R137","v":1.0725667017245923E-2}]
[null,null,"303 EDUCACION ASCOPE",null,{"$f":"+'B.DATOS (GASTOS)'!C79","v":0},{"$f":"+'B.DATOS (GASTOS)'!D79","v":0},{"$f":"+'B.DATOS (GASTOS)'!E79","v":76978},null,{"$f":"+'B.DATOS (GASTOS)'!F79","v":0},76978,{"$f":"+'B.DATOS (GASTOS)'!H79","v":0},null,{"$f":"+'B.DATOS (GASTOS)'!I79","v":0},null,0,{"$f":"+'B.DATOS (GASTOS)'!K79","v":0},0,76978,{"$f":"+R107*100/R137","v":7.9061610232074753E-2}]
[null,null,"304 EDUCACION GRAN CHIMU",null,{"$f":"+'B.DATOS (GASTOS)'!C80","v":0},{"$f":"+'B.DATOS (GASTOS)'!D80","v":0},{"$f":"+'B.DATOS (GASTOS)'!E80","v":9336},null,{"$f":"+'B.DATOS (GASTOS)'!F80","v":0},9336,{"$f":"+'B.DATOS (GASTOS)'!H80","v":0},null,{"$f":"+'B.DATOS (GASTOS)'!I80","v":0},null,0,{"$f":"+'B.DATOS (GASTOS)'!K80","v":0},0,9336,{"$f":"+R108*100/R137","v":9.5887031765783722E-3}]
[null,null,"305 EDUCACION OTUZCO",null,{"$f":"+'B.DATOS (GASTOS)'!C81","v":0},{"$f":"+'B.DATOS (GASTOS)'!D81","v":0},{"$f":"+'B.DATOS (GASTOS)'!E81","v":15000},null,{"$f":"+'B.DATOS (GASTOS)'!F81","v":0},15000,{"$f":"+'B.DATOS (GASTOS)'!H81","v":0},null,{"$f":"+'B.DATOS (GASTOS)'!I81","v":0},null,0,{"$f":"+'B.DATOS (GASTOS)'!K81","v":0},0,15000,{"$f":"+R109*100/R137","v":1.5406014101186331E-2}]
[null,null,"306 EDUCACION SANTIAGO DE CHUCO",null,{"$f":"+'B.DATOS (GASTOS)'!C82","v":0},{"$f":"+'B.DATOS (GASTOS)'!D82","v":0},{"$f":"+'B.DATOS (GASTOS)'!E82","v":28772},null,{"$f":"+'B.DATOS (GASTOS)'!F82","v":0},28772,{"$f":"+'B.DATOS (GASTOS)'!H82","v":0},null,{"$f":"+'B.DATOS (GASTOS)'!I82","v":0},null,0,{"$f":"+'B.DATOS (GASTOS)'!K82","v":0},0,28772,{"$f":"+R110*100/R137","v":2.9550789181288874E-2}]
[null,null,"307 EDUCACION SANCHEZ CARRION",null,{"$f":"+'B.DATOS (GASTOS)'!C83","v":0},{"$f":"+'B.DATOS (GASTOS)'!D83","v":0},{"$f":"+'B.DATOS (GASTOS)'!E83","v":114573},null,{"$f":"+'B.DATOS (GASTOS)'!F83","v":0},114573,{"$f":"+'B.DATOS (GASTOS)'!H83","v":0},null,{"$f":"+'B.DATOS (GASTOS)'!I83","v":0},null,0,{"$f":"+'B.DATOS (GASTOS)'!K83","v":0},0,114573,{"$f":"+R111*100/R137","v":0.11767421690768143}]
[null,null,"308 EDUCACION PATAZ",null,{"$f":"+'B.DATOS (GASTOS)'!C84","v":0},{"$f":"+'B.DATOS (GASTOS)'!D84","v":0},{"$f":"+'B.DATOS (GASTOS)'!E84","v":77352},null,{"$f":"+'B.DATOS (GASTOS)'!F84","v":0},77352,{"$f":"+'B.DATOS (GASTOS)'!H84","v":0},null,{"$f":"+'B.DATOS (GASTOS)'!I84","v":0},null,0,{"$f":"+'B.DATOS (GASTOS)'!K84","v":0},0,77352,{"$f":"+R112*100/R137","v":7.9445733516997671E-2}]
[null,null,"309 EDUCACION BOLIVAR",null,{"$f":"+'B.DATOS (GASTOS)'!C85","v":0},{"$f":"+'B.DATOS (GASTOS)'!D85","v":0},{"$f":"+'B.DATOS (GASTOS)'!E85","v":3640},null,{"$f":"+'B.DATOS (GASTOS)'!F85","v":0},3640,{"$f":"+'B.DATOS (GASTOS)'!H85","v":0},null,{"$f":"+'B.DATOS (GASTOS)'!I85","v":0},null,0,{"$f":"+'B.DATOS (GASTOS)'!K85","v":0},0,3640,{"$f":"+R113*100/R137","v":3.7385260885545498E-3}]
[null,null,"310 COLEGIO MILITAR RAMON CASTILLA",null,{"$f":"+'B.DATOS (GASTOS)'!C86","v":0},{"$f":"+'B.DATOS (GASTOS)'!D86","v":0},{"$f":"+'B.DATOS (GASTOS)'!E86","v":1474450},null,{"$f":"+'B.DATOS (GASTOS)'!F86","v":0},1474450,{"$f":"+'B.DATOS (GASTOS)'!H86","v":0},null,{"$f":"+'B.DATOS (GASTOS)'!I86","v":39040},null,39040,{"$f":"+'B.DATOS (GASTOS)'!K86","v":0},0,1513490,{"$f":"+R114*100/R137","v":1.5544565521336333}]
[null,null,"311 EDUCACION JULCAN",null,{"$f":"+'B.DATOS (GASTOS)'!C87","v":0},{"$f":"+'B.DATOS (GASTOS)'!D87","v":0},{"$f":"+'B.DATOS (GASTOS)'!E87","v":14910},null,{"$f":"+'B.DATOS (GASTOS)'!F87","v":0},14910,{"$f":"+'B.DATOS (GASTOS)'!H87","v":0},null,{"$f":"+'B.DATOS (GASTOS)'!I87","v":0},null,0,{"$f":"+'B.DATOS (GASTOS)'!K87","v":0},0,14910,{"$f":"+R115*100/R137","v":1.5313578016579213E-2}]
[null,null,"312 EDUCACION VIRU",null,{"$f":"+'B.DATOS (GASTOS)'!C88","v":0},{"$f":"+'B.DATOS (GASTOS)'!D88","v":0},{"$f":"+'B.DATOS (GASTOS)'!E88","v":41130},null,{"$f":"+'B.DATOS (GASTOS)'!F88","v":0},41130,{"$f":"+'B.DATOS (GASTOS)'!H88","v":0},null,{"$f":"+'B.DATOS (GASTOS)'!I88","v":0},null,0,{"$f":"+'B.DATOS (GASTOS)'!K88","v":0},0,41130,{"$f":"+R116*100/R137","v":4.2243290665452918E-2}]
[null,null,"313 EDUCACION EL PORVENIR",null,{"$f":"+'B.DATOS (GASTOS)'!C89","v":0},{"$f":"+'B.DATOS (GASTOS)'!D89","v":0},{"$f":"+'B.DATOS (GASTOS)'!E89","v":68120},null,{"$f":"+'B.DATOS (GASTOS)'!F89","v":0},68120,{"$f":"+'B.DATOS (GASTOS)'!H89","v":0},null,{"$f":"+'B.DATOS (GASTOS)'!I89","v":0},null,0,{"$f":"+'B.DATOS (GASTOS)'!K89","v":0},0,68120,{"$f":"+R117*100/R137","v":6.9963845371520852E-2}]
[null,null,"314 EDUCACION LA ESPERANZA",null,{"$f":"+'B.DATOS (GASTOS)'!C90","v":0},{"$f":"+'B.DATOS (GASTOS)'!D90","v":0},{"$f":"+'B.DATOS (GASTOS)'!E90","v":47358},null,{"$f":"+'B.DATOS (GASTOS)'!F90","v":0},47358,{"$f":"+'B.DATOS (GASTOS)'!H90","v":0},null,{"$f":"+'B.DATOS (GASTOS)'!I90","v":0},null,0,{"$f":"+'B.DATOS (GASTOS)'!K90","v":0},0,47358,{"$f":"+R118*100/R137","v":4.8639867720265482E-2}]
[null,null,"315 EDUCACION TRUJILLO NOR OESTE",null,{"$f":"+'B.DATOS (GASTOS)'!C91","v":0},{"$f":"+'B.DATOS (GASTOS)'!D91","v":0},{"$f":"+'B.DATOS (GASTOS)'!E91","v":76641},null,{"$f":"+'B.DATOS (GASTOS)'!F91","v":0},76641,{"$f":"+'B.DATOS (GASTOS)'!H91","v":0},null,{"$f":"+'B.DATOS (GASTOS)'!I91","v":0},null,0,{"$f":"+'B.DATOS (GASTOS)'!K91","v":0},0,76641,{"$f":"+R119*100/R137","v":7.8715488448601434E-2}]
[null,null,"316 EDUCACION TRUJILLO SUR ESTE",null,{"$f":"+'B.DATOS (GASTOS)'!C92","v":0},{"$f":"+'B.DATOS (GASTOS)'!D92","v":0},{"$f":"+'B.DATOS (GASTOS)'!E92","v":37032},null,{"$f":"+'B.DATOS (GASTOS)'!F92","v":0},37032,{"$f":"+'B.DATOS (GASTOS)'!H92","v":0},null,{"$f":"+'B.DATOS (GASTOS)'!I92","v":0},null,0,{"$f":"+'B.DATOS (GASTOS)'!K92","v":0},0,37032,{"$f":"+R120*100/R137","v":3.8034367613008817E-2}]
[null,null,"400 SALUD LA LIBERTAD",null,{"$f":"+'B.DATOS (GASTOS)'!C95","v":0},{"$f":"+'B.DATOS (GASTOS)'!D95","v":0},{"$f":"+'B.DATOS (GASTOS)'!E95","v":2237590},null,{"$f":"+'B.DATOS (GASTOS)'!F95","v":551368},2788958,{"$f":"+'B.DATOS (GASTOS)'!H95","v":0},null,{"$f":"+'B.DATOS (GASTOS)'!I95","v":35052},null,35052,{"$f":"+'B.DATOS (GASTOS)'!K95","v":0},0,2824010,{"$f":"+R121*100/R137","v":2.9004491921260809}]
[null,null,"401 INSTIT. REG.DE OFTALMOLOGIA",null,{"$f":"+'B.DATOS (GASTOS)'!C96","v":0},{"$f":"+'B.DATOS (GASTOS)'!D96","v":0},{"$f":"+'B.DATOS (GASTOS)'!E96","v":5251198},null,{"$f":"+'B.DATOS (GASTOS)'!F96","v":0},{"$f":"+D122+E122+F122+G122+H122+I122","v":5251198},{"$f":"+'B.DATOS (GASTOS)'!H96","v":0},null,{"$f":"+'B.DATOS (GASTOS)'!I96","v":0},null,{"$f":"+K122+L122+M122+N122","v":0},{"$f":"+'B.DATOS (GASTOS)'!K96","v":0},0,{"$f":"+J122+O122+Q122","v":5251198},{"$f":"+R122*100/R137","v":5.3933353624080969}]
[null,null,"402 SALUD NORTE ASCOPE",null,{"$f":"+'B.DATOS (GASTOS)'!C97","v":0},{"$f":"+'B.DATOS (GASTOS)'!D97","v":0},{"$f":"+'B.DATOS (GASTOS)'!E97","v":8007845},null,{"$f":"+'B.DATOS (GASTOS)'!F97","v":0},8007845,{"$f":"+'B.DATOS (GASTOS)'!H97","v":0},null,{"$f":"+'B.DATOS (GASTOS)'!I97","v":31800},null,31800,{"$f":"+'B.DATOS (GASTOS)'!K97","v":0},0,8039645,{"$f":"+R123*100/R137","v":8.257258949235478}]
[null,null,"403 SALUD TRUJILLO SUR OESTE",null,{"$f":"+'B.DATOS (GASTOS)'!C98","v":0},{"$f":"+'B.DATOS (GASTOS)'!D98","v":0},{"$f":"+'B.DATOS (GASTOS)'!E98","v":4212462},null,{"$f":"+'B.DATOS (GASTOS)'!F98","v":0},4212462,{"$f":"+'B.DATOS (GASTOS)'!H98","v":0},null,{"$f":"+'B.DATOS (GASTOS)'!I98","v":0},null,0,{"$f":"+'B.DATOS (GASTOS)'!K98","v":0},0,4212462,{"$f":"+R124*100/R137","v":4.3264832648474378}]
[null,null,"404 SALUD CHEPEN",null,{"$f":"+'B.DATOS (GASTOS)'!C99","v":0},{"$f":"+'B.DATOS (GASTOS)'!D99","v":0},{"$f":"+'B.DATOS (GASTOS)'!E99","v":724369},null,{"$f":"+'B.DATOS (GASTOS)'!F99","v":0},724369,{"$f":"+'B.DATOS (GASTOS)'!H99","v":0},null,{"$f":"+'B.DATOS (GASTOS)'!I99","v":0},null,0,{"$f":"+'B.DATOS (GASTOS)'!K99","v":0},0,724369,{"$f":"+R125*100/R137","v":0.74397593523081607}]
[null,null,"405 SALUD PACASMAYO",null,{"$f":"+'B.DATOS (GASTOS)'!C100","v":0},{"$f":"+'B.DATOS (GASTOS)'!D100","v":0},{"$f":"+'B.DATOS (GASTOS)'!E100","v":391608},null,{"$f":"+'B.DATOS (GASTOS)'!F100","v":0},391608,{"$f":"+'B.DATOS (GASTOS)'!H100","v":0},null,{"$f":"+'B.DATOS (GASTOS)'!I100","v":0},null,0,{"$f":"+'B.DATOS (GASTOS)'!K100","v":0},0,391608,{"$f":"+R126*100/R137","v":0.4022078913424918}]
[null,null,"406 SALUD SANCHEZ CARRION",null,{"$f":"+'B.DATOS (GASTOS)'!C101","v":0},{"$f":"+'B.DATOS (GASTOS)'!D101","v":0},{"$f":"+'B.DATOS (GASTOS)'!E101","v":255212},null,{"$f":"+'B.DATOS (GASTOS)'!F101","v":0},255212,{"$f":"+'B.DATOS (GASTOS)'!H101","v":0},null,{"$f":"+'B.DATOS (GASTOS)'!I101","v":0},null,0,{"$f":"+'B.DATOS (GASTOS)'!K101","v":0},0,255212,{"$f":"+R127*100/R137","v":0.26211997805279774}]
[null,null,"407 SALUD SANTIAGO DE CHUCO",null,{"$f":"+'B.DATOS (GASTOS)'!C102","v":0},{"$f":"+'B.DATOS (GASTOS)'!D102","v":0},{"$f":"+'B.DATOS (GASTOS)'!E102","v":31041},null,{"$f":"+'B.DATOS (GASTOS)'!F102","v":0},31041,{"$f":"+'B.DATOS (GASTOS)'!H102","v":0},null,{"$f":"+'B.DATOS (GASTOS)'!I102","v":0},null,0,{"$f":"+'B.DATOS (GASTOS)'!K102","v":0},0,31041,{"$f":"+R128*100/R137","v":3.1881205580994991E-2}]
[null,null,"408 SALUD OTUZCO",null,{"$f":"+'B.DATOS (GASTOS)'!C103","v":0},{"$f":"+'B.DATOS (GASTOS)'!D103","v":0},{"$f":"+'B.DATOS (GASTOS)'!E103","v":240075},null,{"$f":"+'B.DATOS (GASTOS)'!F103","v":0},240075,{"$f":"+'B.DATOS (GASTOS)'!H103","v":0},null,{"$f":"+'B.DATOS (GASTOS)'!I103","v":0},null,0,{"$f":"+'B.DATOS (GASTOS)'!K103","v":0},0,240075,{"$f":"+R129*100/R137","v":0.24657325568948724}]
[null,null,"409 SALUD TRUJILLO ESTE",null,{"$f":"+'B.DATOS (GASTOS)'!C104","v":0},{"$f":"+'B.DATOS (GASTOS)'!D104","v":0},{"$f":"+'B.DATOS (GASTOS)'!E104","v":3733602},null,{"$f":"+'B.DATOS (GASTOS)'!F104","v":0},3733602,{"$f":"+'B.DATOS (GASTOS)'!H104","v":0},null,{"$f":"+'B.DATOS (GASTOS)'!I104","v":0},null,0,{"$f":"+'B.DATOS (GASTOS)'!K104","v":0},0,3733602,{"$f":"+R130*100/R137","v":3.8346616706811658}]
[null,null,"410 INSTIT.REG.DE ENFERM.NEOPLASICAS",null,{"$f":"+'B.DATOS (GASTOS)'!C105","v":0},{"$f":"+'B.DATOS (GASTOS)'!D105","v":0},{"$f":"+'B.DATOS (GASTOS)'!E105","v":1554121},null,{"$f":"+'B.DATOS (GASTOS)'!F105","v":0},1554121,{"$f":"+'B.DATOS (GASTOS)'!H105","v":0},null,{"$f":"+'B.DATOS (GASTOS)'!I105","v":0},null,0,{"$f":"+'B.DATOS (GASTOS)'!K105","v":0},0,1554121,{"$f":"+R131*100/R137","v":1.5961873360633201}]
[null,null,"411 SALUD JULCAN",null,{"$f":"+'B.DATOS (GASTOS)'!C106","v":0},{"$f":"+'B.DATOS (GASTOS)'!D106","v":0},{"$f":"+'B.DATOS (GASTOS)'!E106","v":2000},null,{"$f":"+'B.DATOS (GASTOS)'!F106","v":0},2000,{"$f":"+'B.DATOS (GASTOS)'!H106","v":0},null,{"$f":"+'B.DATOS (GASTOS)'!I106","v":0},null,0,{"$f":"+'B.DATOS (GASTOS)'!K106","v":0},0,2000,{"$f":"+R132*100/R137","v":2.0541352134915108E-3}]
[null,null,"412 SALUD VIRU",null,{"$f":"+'B.DATOS (GASTOS)'!C107","v":0},{"$f":"+'B.DATOS (GASTOS)'!D107","v":0},{"$f":"+'B.DATOS (GASTOS)'!E107","v":526161},null,{"$f":"+'B.DATOS (GASTOS)'!F107","v":0},526161,{"$f":"+'B.DATOS (GASTOS)'!H107","v":0},null,{"$f":"+'B.DATOS (GASTOS)'!I107","v":0},null,0,{"$f":"+'B.DATOS (GASTOS)'!K107","v":0},0,526161,{"$f":"+R133*100/R137","v":0.54040291903295345}]
[null,null,"413 SALUD ASCOPE",null,{"$f":"+'B.DATOS (GASTOS)'!C108","v":0},{"$f":"+'B.DATOS (GASTOS)'!D108","v":0},{"$f":"+'B.DATOS (GASTOS)'!E108","v":191875},null,{"$f":"+'B.DATOS (GASTOS)'!F108","v":0},191875,{"$f":"+'B.DATOS (GASTOS)'!H108","v":0},null,{"$f":"+'B.DATOS (GASTOS)'!I108","v":0},null,0,{"$f":"+'B.DATOS (GASTOS)'!K108","v":0},0,191875,{"$f":"+R134*100/R137","v":0.19706859704434182}]
[null,null,"414 SALUD GRAN CHIMU",null,{"$f":"+'B.DATOS (GASTOS)'!C109","v":0},{"$f":"+'B.DATOS (GASTOS)'!D109","v":0},{"$f":"+'B.DATOS (GASTOS)'!E109","v":98574},null,{"$f":"+'B.DATOS (GASTOS)'!F109","v":0},98574,{"$f":"+'B.DATOS (GASTOS)'!H109","v":0},null,{"$f":"+'B.DATOS (GASTOS)'!I109","v":0},null,0,{"$f":"+'B.DATOS (GASTOS)'!K109","v":0},0,98574,{"$f":"+R135*100/R137","v":0.10124216226735609}]
[]
[null,"TOTAL SECTOR","TOTAL SECTOR",{"$f":"SUM(D100:D136)","v":0},109283,0,42395338,0,554488,43059109,0,0,33859549,0,33859549,20445916,20445916,97364574,{"$f":"+R137*100/R137","v":100}]
[null,"PROYECTO DE PRESUPUESTO PARA EL AÑO FISCAL 2020"]
[null,"INFORMACION PARA LA COMISION DE PRESUPUESTO Y CUENTA GENERAL DE LA REPUBLICA DEL CONGRESO DE LA REPUBLICA"]
[]
[null,"FTE FTO DONACIONES Y TRANSFERENCIAS"]
[null,"PLIEGOS DEL SECTOR O GOBIERNO REGIONAL","UNIDADES EJECUTORAS O ENTIDADES PUBLICAS ADSCRITAS AL SECTOR","GASTOS CORRIENTES */",null,null,null,null,null,null,"GASTOS DE CAPITAL",null,null,null,null,"SERVICIO DE DEUDA",null,"TOTAL"]
[null,null,null,"1: Reserva de Contingencia","2: Personal y Obligaciones Sociales","3: Pensiones y Prestaciones Sociales","4: Bienes y Servicios","5: Donaciones y Transferencias","6: Otros Gastos","SUB TOTAL GASTOS   CORRIENTES","7: Donaciones y Transferencias","8: Otros Gastos","9: Adquisiciones de Activos No Financieros","10: Adquisiciones de Activos Financieros","SUB TOTAL GASTOS DE CAPITAL","11: Servicio de la Deuda","SUB TOTAL SERVICIO DE DEUDA","TOTAL GASTOS UNIDAD EJECUTORA /ENTIDAD PUBLICA","PART. %"]
[null,"451 GOBIERNO REGIONAL ","001 SEDE LA LIBERTAD",null,{"$f":"+'B.DATOS (GASTOS)'!C179","v":0},{"$f":"+'B.DATOS (GASTOS)'!D179","v":0},{"$f":"+'B.DATOS (GASTOS)'!E179","v":0},null,{"$f":"+'B.DATOS (GASTOS)'!F179","v":0},{"$f":"+D144+E144+F144+G144+H144+I144","v":0},{"$f":"+'B.DATOS (GASTOS)'!H179","v":0},null,{"$f":"+'B.DATOS (GASTOS)'!I179","v":0},null,{"$f":"+K144+L144+M144+N144","v":0},{"$f":"+'B.DATOS (GASTOS)'!K179","v":0},{"$f":"+P144","v":0},{"$f":"+J144+O144+Q144","v":0},{"$f":"+R144*100/R147","v":{"$error":"#DIV/0!"}}]
[null,"       LA LIBERTAD","005 PROYECTO ESPEC.CHAVIMOCHIC",null,{"$f":"+'B.DATOS (GASTOS)'!C180","v":0},{"$f":"+'B.DATOS (GASTOS)'!D180","v":0},{"$f":"+'B.DATOS (GASTOS)'!E180","v":0},null,{"$f":"+'B.DATOS (GASTOS)'!F180","v":0},{"$f":"+D145+E145+F145+G145+H145+I145","v":0},{"$f":"+'B.DATOS (GASTOS)'!H180","v":0},null,{"$f":"+'B.DATOS (GASTOS)'!I180","v":0},null,{"$f":"+K145+L145+M145+N145","v":0},{"$f":"+'B.DATOS (GASTOS)'!K180","v":0},0,{"$f":"+J145+O145+Q145","v":0},{"$f":"+R145*100/R148","v":{"$error":"#DIV/0!"}}]
[null,null,"100 AGRICULTURA LA LIBERTAD",null,{"$f":"+'B.DATOS (GASTOS)'!C181","v":0},{"$f":"+'B.DATOS (GASTOS)'!D181","v":0},{"$f":"+'B.DATOS (GASTOS)'!E181","v":0},null,{"$f":"+'B.DATOS (GASTOS)'!F181","v":0},0,{"$f":"+'B.DATOS (GASTOS)'!H181","v":0},null,{"$f":"+'B.DATOS (GASTOS)'!I181","v":0},null,0,{"$f":"+'B.DATOS (GASTOS)'!K181","v":0},0,0,{"$error":"#DIV/0!"}]
[null,null,"200 TRANSPORTES LA LIBERTAD",null,{"$f":"+'B.DATOS (GASTOS)'!C182","v":0},{"$f":"+'B.DATOS (GASTOS)'!D182","v":0},{"$f":"+'B.DATOS (GASTOS)'!E182","v":0},null,{"$f":"+'B.DATOS (GASTOS)'!F182","v":0},0,{"$f":"+'B.DATOS (GASTOS)'!H182","v":0},null,{"$f":"+'B.DATOS (GASTOS)'!I182","v":0},null,0,{"$f":"+'B.DATOS (GASTOS)'!K182","v":0},0,0,{"$error":"#DIV/0!"}]
[null,null,"300 EDUCACION LA LIBERTAD",null,{"$f":"+'B.DATOS (GASTOS)'!C185","v":0},{"$f":"+'B.DATOS (GASTOS)'!D185","v":0},{"$f":"+'B.DATOS (GASTOS)'!E185","v":0},null,{"$f":"+'B.DATOS (GASTOS)'!F185","v":0},0,{"$f":"+'B.DATOS (GASTOS)'!H185","v":0},null,{"$f":"+'B.DATOS (GASTOS)'!I185","v":0},null,0,{"$f":"+'B.DATOS (GASTOS)'!K185","v":0},0,0,{"$error":"#DIV/0!"}]
[null,null,"301 EDUCACION CHEPEN",null,{"$f":"+'B.DATOS (GASTOS)'!C186","v":0},{"$f":"+'B.DATOS (GASTOS)'!D186","v":0},{"$f":"+'B.DATOS (GASTOS)'!E186","v":0},null,{"$f":"+'B.DATOS (GASTOS)'!F186","v":0},{"$f":"+D149+E149+F149+G149+H149+I149","v":0},{"$f":"+'B.DATOS (GASTOS)'!H186","v":0},null,{"$f":"+'B.DATOS (GASTOS)'!I186","v":0},null,{"$f":"+K149+L149+M149+N149","v":0},{"$f":"+'B.DATOS (GASTOS)'!K186","v":0},0,{"$f":"+J149+O149+Q149","v":0},{"$error":"#DIV/0!"}]
[null,null,"302 EDUCACION PACASMAYO",null,{"$f":"+'B.DATOS (GASTOS)'!C187","v":0},{"$f":"+'B.DATOS (GASTOS)'!D187","v":0},{"$f":"+'B.DATOS (GASTOS)'!E187","v":0},null,{"$f":"+'B.DATOS (GASTOS)'!F187","v":0},0,{"$f":"+'B.DATOS (GASTOS)'!H187","v":0},null,{"$f":"+'B.DATOS (GASTOS)'!I187","v":0},null,0,{"$f":"+'B.DATOS (GASTOS)'!K187","v":0},0,0,{"$error":"#DIV/0!"}]
[null,null,"303 EDUCACION ASCOPE",null,{"$f":"+'B.DATOS (GASTOS)'!C188","v":0},{"$f":"+'B.DATOS (GASTOS)'!D188","v":0},{"$f":"+'B.DATOS (GASTOS)'!E188","v":0},null,{"$f":"+'B.DATOS (GASTOS)'!F188","v":0},0,{"$f":"+'B.DATOS (GASTOS)'!H188","v":0},null,{"$f":"+'B.DATOS (GASTOS)'!I188","v":0},null,0,{"$f":"+'B.DATOS (GASTOS)'!K188","v":0},0,0,{"$error":"#DIV/0!"}]
[null,null,"304 EDUCACION GRAN CHIMU",null,{"$f":"+'B.DATOS (GASTOS)'!C189","v":0},{"$f":"+'B.DATOS (GASTOS)'!D189","v":0},{"$f":"+'B.DATOS (GASTOS)'!E189","v":0},null,{"$f":"+'B.DATOS (GASTOS)'!F189","v":0},0,{"$f":"+'B.DATOS (GASTOS)'!H189","v":0},null,{"$f":"+'B.DATOS (GASTOS)'!I189","v":0},null,0,{"$f":"+'B.DATOS (GASTOS)'!K189","v":0},0,0,{"$error":"#DIV/0!"}]
[null,null,"305 EDUCACION OTUZCO",null,{"$f":"+'B.DATOS (GASTOS)'!C190","v":0},{"$f":"+'B.DATOS (GASTOS)'!D190","v":0},{"$f":"+'B.DATOS (GASTOS)'!E190","v":0},null,{"$f":"+'B.DATOS (GASTOS)'!F190","v":0},0,{"$f":"+'B.DATOS (GASTOS)'!H190","v":0},null,{"$f":"+'B.DATOS (GASTOS)'!I190","v":0},null,0,{"$f":"+'B.DATOS (GASTOS)'!K190","v":0},0,0,{"$error":"#DIV/0!"}]
[null,null,"306 EDUCACION SANTIAGO DE CHUCO",null,{"$f":"+'B.DATOS (GASTOS)'!C191","v":0},{"$f":"+'B.DATOS (GASTOS)'!D191","v":0},{"$f":"+'B.DATOS (GASTOS)'!E191","v":0},null,{"$f":"+'B.DATOS (GASTOS)'!F191","v":0},0,{"$f":"+'B.DATOS (GASTOS)'!H191","v":0},null,{"$f":"+'B.DATOS (GASTOS)'!I191","v":0},null,0,{"$f":"+'B.DATOS (GASTOS)'!K191","v":0},0,0,{"$error":"#DIV/0!"}]
[null,null,"307 EDUCACION SANCHEZ CARRION",null,{"$f":"+'B.DATOS (GASTOS)'!C192","v":0},{"$f":"+'B.DATOS (GASTOS)'!D192","v":0},{"$f":"+'B.DATOS (GASTOS)'!E192","v":0},null,{"$f":"+'B.DATOS (GASTOS)'!F192","v":0},0,{"$f":"+'B.DATOS (GASTOS)'!H192","v":0},null,{"$f":"+'B.DATOS (GASTOS)'!I192","v":0},null,0,{"$f":"+'B.DATOS (GASTOS)'!K192","v":0},0,0,{"$error":"#DIV/0!"}]
[null,null,"308 EDUCACION PATAZ",null,{"$f":"+'B.DATOS (GASTOS)'!C193","v":0},{"$f":"+'B.DATOS (GASTOS)'!D193","v":0},{"$f":"+'B.DATOS (GASTOS)'!E193","v":0},null,{"$f":"+'B.DATOS (GASTOS)'!F193","v":0},0,{"$f":"+'B.DATOS (GASTOS)'!H193","v":0},null,{"$f":"+'B.DATOS (GASTOS)'!I193","v":0},null,0,{"$f":"+'B.DATOS (GASTOS)'!K193","v":0},0,0,{"$error":"#DIV/0!"}]
[null,null,"309 EDUCACION BOLIVAR",null,{"$f":"+'B.DATOS (GASTOS)'!C194","v":0},{"$f":"+'B.DATOS (GASTOS)'!D194","v":0},{"$f":"+'B.DATOS (GASTOS)'!E194","v":0},null,{"$f":"+'B.DATOS (GASTOS)'!F194","v":0},0,{"$f":"+'B.DATOS (GASTOS)'!H194","v":0},null,{"$f":"+'B.DATOS (GASTOS)'!I194","v":0},null,0,{"$f":"+'B.DATOS (GASTOS)'!K194","v":0},0,0,{"$error":"#DIV/0!"}]
[null,null,"310 COLEGIO MILITAR RAMON CASTILLA",null,{"$f":"+'B.DATOS (GASTOS)'!C195","v":0},{"$f":"+'B.DATOS (GASTOS)'!D195","v":0},{"$f":"+'B.DATOS (GASTOS)'!E195","v":0},null,{"$f":"+'B.DATOS (GASTOS)'!F195","v":0},0,{"$f":"+'B.DATOS (GASTOS)'!H195","v":0},null,{"$f":"+'B.DATOS (GASTOS)'!I195","v":0},null,0,{"$f":"+'B.DATOS (GASTOS)'!K195","v":0},0,0,{"$error":"#DIV/0!"}]
[null,null,"311 EDUCACION JULCAN",null,{"$f":"+'B.DATOS (GASTOS)'!C196","v":0},{"$f":"+'B.DATOS (GASTOS)'!D196","v":0},{"$f":"+'B.DATOS (GASTOS)'!E196","v":0},null,{"$f":"+'B.DATOS (GASTOS)'!F196","v":0},0,{"$f":"+'B.DATOS (GASTOS)'!H196","v":0},null,{"$f":"+'B.DATOS (GASTOS)'!I196","v":0},null,0,{"$f":"+'B.DATOS (GASTOS)'!K196","v":0},0,0,{"$error":"#DIV/0!"}]
[null,null,"312 EDUCACION VIRU",null,{"$f":"+'B.DATOS (GASTOS)'!C197","v":0},{"$f":"+'B.DATOS (GASTOS)'!D197","v":0},{"$f":"+'B.DATOS (GASTOS)'!E197","v":0},null,{"$f":"+'B.DATOS (GASTOS)'!F197","v":0},0,{"$f":"+'B.DATOS (GASTOS)'!H197","v":0},null,{"$f":"+'B.DATOS (GASTOS)'!I197","v":0},null,0,{"$f":"+'B.DATOS (GASTOS)'!K197","v":0},0,0,{"$error":"#DIV/0!"}]
[null,null,"313 EDUCACION EL PORVENIR",null,{"$f":"+'B.DATOS (GASTOS)'!C198","v":0},{"$f":"+'B.DATOS (GASTOS)'!D198","v":0},{"$f":"+'B.DATOS (GASTOS)'!E198","v":0},null,{"$f":"+'B.DATOS (GASTOS)'!F198","v":0},0,{"$f":"+'B.DATOS (GASTOS)'!H198","v":0},null,{"$f":"+'B.DATOS (GASTOS)'!I198","v":0},null,0,{"$f":"+'B.DATOS (GASTOS)'!K198","v":0},0,0,{"$error":"#DIV/0!"}]
[null,null,"314 EDUCACION LA ESPERANZA",null,{"$f":"+'B.DATOS (GASTOS)'!C199","v":0},{"$f":"+'B.DATOS (GASTOS)'!D199","v":0},{"$f":"+'B.DATOS (GASTOS)'!E199","v":0},null,{"$f":"+'B.DATOS (GASTOS)'!F199","v":0},0,{"$f":"+'B.DATOS (GASTOS)'!H199","v":0},null,{"$f":"+'B.DATOS (GASTOS)'!I199","v":0},null,0,{"$f":"+'B.DATOS (GASTOS)'!K199","v":0},0,0,0]
[null,null,"315 EDUCACION TRUJILLO NOR OESTE",null,{"$f":"+'B.DATOS (GASTOS)'!C200","v":0},{"$f":"+'B.DATOS (GASTOS)'!D200","v":0},{"$f":"+'B.DATOS (GASTOS)'!E200","v":0},null,{"$f":"+'B.DATOS (GASTOS)'!F200","v":0},0,{"$f":"+'B.DATOS (GASTOS)'!H200","v":0},null,{"$f":"+'B.DATOS (GASTOS)'!I200","v":0},null,0,{"$f":"+'B.DATOS (GASTOS)'!K200","v":0},0,0,{"$error":"#DIV/0!"}]
[null,null,"316 EDUCACION TRUJILLO SUR ESTE",null,{"$f":"+'B.DATOS (GASTOS)'!C201","v":0},{"$f":"+'B.DATOS (GASTOS)'!D201","v":0},{"$f":"+'B.DATOS (GASTOS)'!E201","v":0},null,{"$f":"+'B.DATOS (GASTOS)'!F201","v":0},0,{"$f":"+'B.DATOS (GASTOS)'!H201","v":0},null,{"$f":"+'B.DATOS (GASTOS)'!I201","v":0},null,0,{"$f":"+'B.DATOS (GASTOS)'!K201","v":0},0,0,{"$error":"#DIV/0!"}]
[null,"451 GOBIERNO REGIONAL ","400 SALUD LA LIBERTAD",null,{"$f":"+'B.DATOS (GASTOS)'!C204","v":0},{"$f":"+'B.DATOS (GASTOS)'!D204","v":0},{"$f":"+'B.DATOS (GASTOS)'!E204","v":3748466},null,{"$f":"+'B.DATOS (GASTOS)'!F204","v":0},3748466,{"$f":"+'B.DATOS (GASTOS)'!H204","v":0},null,{"$f":"+'B.DATOS (GASTOS)'!I204","v":0},null,0,{"$f":"+'B.DATOS (GASTOS)'!K204","v":0},0,3748466,{"$error":"#DIV/0!"}]
[null,"       LA LIBERTAD","401 INSTIT. REG.DE OFTALMOLOGIA",null,{"$f":"+'B.DATOS (GASTOS)'!C205","v":0},{"$f":"+'B.DATOS (GASTOS)'!D205","v":0},{"$f":"+'B.DATOS (GASTOS)'!E205","v":0},null,{"$f":"+'B.DATOS (GASTOS)'!F205","v":0},{"$f":"+D166+E166+F166+G166+H166+I166","v":0},{"$f":"+'B.DATOS (GASTOS)'!H205","v":0},null,{"$f":"+'B.DATOS (GASTOS)'!I205","v":0},null,{"$f":"+K166+L166+M166+N166","v":0},{"$f":"+'B.DATOS (GASTOS)'!K205","v":0},0,{"$f":"+J166+O166+Q166","v":0},{"$f":"+R166*100/R181","v":0}]
[null,null,"402 SALUD NORTE ASCOPE",null,{"$f":"+'B.DATOS (GASTOS)'!C206","v":0},{"$f":"+'B.DATOS (GASTOS)'!D206","v":0},{"$f":"+'B.DATOS (GASTOS)'!E206","v":0},null,{"$f":"+'B.DATOS (GASTOS)'!F206","v":0},0,{"$f":"+'B.DATOS (GASTOS)'!H206","v":0},null,{"$f":"+'B.DATOS (GASTOS)'!I206","v":0},null,0,{"$f":"+'B.DATOS (GASTOS)'!K206","v":0},0,0,{"$f":"+R167*100/R181","v":0}]
[null,null,"403 SALUD TRUJILLO SUR OESTE",null,{"$f":"+'B.DATOS (GASTOS)'!C207","v":0},{"$f":"+'B.DATOS (GASTOS)'!D207","v":0},{"$f":"+'B.DATOS (GASTOS)'!E207","v":0},null,{"$f":"+'B.DATOS (GASTOS)'!F207","v":0},0,{"$f":"+'B.DATOS (GASTOS)'!H207","v":0},null,{"$f":"+'B.DATOS (GASTOS)'!I207","v":0},null,0,{"$f":"+'B.DATOS (GASTOS)'!K207","v":0},0,0,{"$f":"+R168*100/R181","v":0}]
[null,null,"404 SALUD CHEPEN",null,{"$f":"+'B.DATOS (GASTOS)'!C208","v":0},{"$f":"+'B.DATOS (GASTOS)'!D208","v":0},{"$f":"+'B.DATOS (GASTOS)'!E208","v":0},null,{"$f":"+'B.DATOS (GASTOS)'!F208","v":0},0,{"$f":"+'B.DATOS (GASTOS)'!H208","v":0},null,{"$f":"+'B.DATOS (GASTOS)'!I208","v":0},null,0,{"$f":"+'B.DATOS (GASTOS)'!K208","v":0},0,0,{"$f":"+R169*100/R181","v":0}]
[null,null,"405 SALUD PACASMAYO",null,{"$f":"+'B.DATOS (GASTOS)'!C209","v":0},{"$f":"+'B.DATOS (GASTOS)'!D209","v":0},{"$f":"+'B.DATOS (GASTOS)'!E209","v":0},null,{"$f":"+'B.DATOS (GASTOS)'!F209","v":0},0,{"$f":"+'B.DATOS (GASTOS)'!H209","v":0},null,{"$f":"+'B.DATOS (GASTOS)'!I209","v":0},null,0,{"$f":"+'B.DATOS (GASTOS)'!K209","v":0},0,0,{"$f":"+R170*100/R181","v":0}]
[null,null,"406 SALUD SANCHEZ CARRION",null,{"$f":"+'B.DATOS (GASTOS)'!C210","v":0},{"$f":"+'B.DATOS (GASTOS)'!D210","v":0},{"$f":"+'B.DATOS (GASTOS)'!E210","v":0},null,{"$f":"+'B.DATOS (GASTOS)'!F210","v":0},0,{"$f":"+'B.DATOS (GASTOS)'!H210","v":0},null,{"$f":"+'B.DATOS (GASTOS)'!I210","v":0},null,0,{"$f":"+'B.DATOS (GASTOS)'!K210","v":0},0,0,{"$f":"+R171*100/R181","v":0}]
[null,null,"407 SALUD SANTIAGO DE CHUCO",null,{"$f":"+'B.DATOS (GASTOS)'!C211","v":0},{"$f":"+'B.DATOS (GASTOS)'!D211","v":0},{"$f":"+'B.DATOS (GASTOS)'!E211","v":0},null,{"$f":"+'B.DATOS (GASTOS)'!F211","v":0},0,{"$f":"+'B.DATOS (GASTOS)'!H211","v":0},null,{"$f":"+'B.DATOS (GASTOS)'!I211","v":0},null,0,{"$f":"+'B.DATOS (GASTOS)'!K211","v":0},0,0,{"$f":"+R172*100/R181","v":0}]
[null,null,"408 SALUD OTUZCO",null,{"$f":"+'B.DATOS (GASTOS)'!C212","v":0},{"$f":"+'B.DATOS (GASTOS)'!D212","v":0},{"$f":"+'B.DATOS (GASTOS)'!E212","v":0},null,{"$f":"+'B.DATOS (GASTOS)'!F212","v":0},0,{"$f":"+'B.DATOS (GASTOS)'!H212","v":0},null,{"$f":"+'B.DATOS (GASTOS)'!I212","v":0},null,0,{"$f":"+'B.DATOS (GASTOS)'!K212","v":0},0,0,{"$f":"+R173*100/R181","v":0}]
[null,null,"409 SALUD TRUJILLO ESTE",null,{"$f":"+'B.DATOS (GASTOS)'!C213","v":0},{"$f":"+'B.DATOS (GASTOS)'!D213","v":0},{"$f":"+'B.DATOS (GASTOS)'!E213","v":0},null,{"$f":"+'B.DATOS (GASTOS)'!F213","v":0},0,{"$f":"+'B.DATOS (GASTOS)'!H213","v":0},null,{"$f":"+'B.DATOS (GASTOS)'!I213","v":0},null,0,{"$f":"+'B.DATOS (GASTOS)'!K213","v":0},0,0,{"$f":"+R174*100/R181","v":0}]
[null,null,"410 INSTIT.REG.DE ENFERM.NEOPLASICAS",null,{"$f":"+'B.DATOS (GASTOS)'!C214","v":0},{"$f":"+'B.DATOS (GASTOS)'!D214","v":0},{"$f":"+'B.DATOS (GASTOS)'!E214","v":0},null,{"$f":"+'B.DATOS (GASTOS)'!F214","v":0},0,{"$f":"+'B.DATOS (GASTOS)'!H214","v":0},null,{"$f":"+'B.DATOS (GASTOS)'!I214","v":0},null,0,{"$f":"+'B.DATOS (GASTOS)'!K214","v":0},0,0,{"$f":"+R175*100/R181","v":0}]
[null,null,"411 SALUD JULCAN",null,{"$f":"+'B.DATOS (GASTOS)'!C215","v":0},{"$f":"+'B.DATOS (GASTOS)'!D215","v":0},{"$f":"+'B.DATOS (GASTOS)'!E215","v":0},null,{"$f":"+'B.DATOS (GASTOS)'!F215","v":0},0,{"$f":"+'B.DATOS (GASTOS)'!H215","v":0},null,{"$f":"+'B.DATOS (GASTOS)'!I215","v":0},null,0,{"$f":"+'B.DATOS (GASTOS)'!K215","v":0},0,0,{"$f":"+R176*100/R181","v":0}]
[null,null,"412 SALUD VIRU",null,{"$f":"+'B.DATOS (GASTOS)'!C216","v":0},{"$f":"+'B.DATOS (GASTOS)'!D216","v":0},{"$f":"+'B.DATOS (GASTOS)'!E216","v":0},null,{"$f":"+'B.DATOS (GASTOS)'!F216","v":0},0,{"$f":"+'B.DATOS (GASTOS)'!H216","v":0},null,{"$f":"+'B.DATOS (GASTOS)'!I216","v":0},null,0,{"$f":"+'B.DATOS (GASTOS)'!K216","v":0},0,0,{"$f":"+R177*100/R181","v":0}]
[null,null,"413 SALUD ASCOPE",null,{"$f":"+'B.DATOS (GASTOS)'!C217","v":0},{"$f":"+'B.DATOS (GASTOS)'!D217","v":0},{"$f":"+'B.DATOS (GASTOS)'!E217","v":0},null,{"$f":"+'B.DATOS (GASTOS)'!F217","v":0},0,{"$f":"+'B.DATOS (GASTOS)'!H217","v":0},null,{"$f":"+'B.DATOS (GASTOS)'!I217","v":0},null,0,{"$f":"+'B.DATOS (GASTOS)'!K217","v":0},0,0,{"$f":"+R178*100/R181","v":0}]
[null,null,"414 SALUD GRAN CHIMU",null,{"$f":"+'B.DATOS (GASTOS)'!C218","v":0},{"$f":"+'B.DATOS (GASTOS)'!D218","v":0},{"$f":"+'B.DATOS (GASTOS)'!E218","v":0},null,{"$f":"+'B.DATOS (GASTOS)'!F218","v":0},0,{"$f":"+'B.DATOS (GASTOS)'!H218","v":0},null,{"$f":"+'B.DATOS (GASTOS)'!I218","v":0},null,0,{"$f":"+'B.DATOS (GASTOS)'!K218","v":0},0,0,{"$f":"+R179*100/R181","v":0}]
[]
[null,"TOTAL SECTOR","TOTAL SECTOR",{"$f":"SUM(D144:D180)","v":0},0,0,3748466,0,0,3748466,0,0,0,0,0,0,0,3748466,{"$f":"+R181*100/R181","v":100}]
[null,"PROYECTO DE PRESUPUESTO PARA EL AÑO FISCAL 2020"]
[null,"INFORMACION PARA LA COMISION DE PRESUPUESTO Y CUENTA GENERAL DE LA REPUBLICA DEL CONGRESO DE LA REPUBLICA"]
[]
[null,"FTE FTO RECURSOS DETERMINADOS"]
[null,"PLIEGOS DEL SECTOR O GOBIERNO REGIONAL","UNIDADES EJECUTORAS O ENTIDADES PUBLICAS ADSCRITAS AL SECTOR","GASTOS CORRIENTES */",null,null,null,null,null,null,"GASTOS DE CAPITAL",null,null,null,null,"SERVICIO DE DEUDA",null,"TOTAL"]
[null,null,null,"1: Reserva de Contingencia","2: Personal y Obligaciones Sociales","3: Pensiones y Prestaciones Sociales","4: Bienes y Servicios","5: Donaciones y Transferencias","6: Otros Gastos","SUB TOTAL GASTOS   CORRIENTES","7: Donaciones y Transferencias","8: Otros Gastos","9: Adquisiciones de Activos No Financieros","10: Adquisiciones de Activos Financieros","SUB TOTAL GASTOS DE CAPITAL","11: Servicio de la Deuda","SUB TOTAL SERVICIO DE DEUDA","TOTAL GASTOS UNIDAD EJECUTORA /ENTIDAD PUBLICA","PART. %"]
[null,"451 GOBIERNO REGIONAL ","001 SEDE LA LIBERTAD",null,{"$f":"+'B.DATOS (GASTOS)'!C233","v":0},{"$f":"+'B.DATOS (GASTOS)'!D233","v":0},{"$f":"+'B.DATOS (GASTOS)'!E233","v":5466099},null,{"$f":"+'B.DATOS (GASTOS)'!F233","v":0},{"$f":"+D188+E188+F188+G188+H188+I188","v":5466099},{"$f":"+'B.DATOS (GASTOS)'!H233","v":0},null,{"$f":"+'B.DATOS (GASTOS)'!I233","v":9381825},null,{"$f":"+K188+L188+M188+N188","v":9381825},{"$f":"+'B.DATOS (GASTOS)'!K233","v":11477014},{"$f":"+P188","v":11477014},{"$f":"+J188+O188+Q188","v":26324938},{"$f":"+R188*100/R225","v":42.517843323227659}]
[null,"       LA LIBERTAD","005 PROYECTO ESPEC.CHAVIMOCHIC",null,{"$f":"+'B.DATOS (GASTOS)'!C234","v":0},{"$f":"+'B.DATOS (GASTOS)'!D234","v":0},{"$f":"+'B.DATOS (GASTOS)'!E234","v":0},null,{"$f":"+'B.DATOS (GASTOS)'!F234","v":0},{"$f":"+D189+E189+F189+G189+H189+I189","v":0},{"$f":"+'B.DATOS (GASTOS)'!H234","v":0},null,{"$f":"+'B.DATOS (GASTOS)'!I234","v":35590098},null,{"$f":"+K189+L189+M189+N189","v":35590098},{"$f":"+'B.DATOS (GASTOS)'!K234","v":0},0,{"$f":"+J189+O189+Q189","v":35590098},{"$f":"+R189*100/R225","v":57.482156676772341}]
[null,null,"100 AGRICULTURA LA LIBERTAD",null,{"$f":"+'B.DATOS (GASTOS)'!C235","v":0},{"$f":"+'B.DATOS (GASTOS)'!D235","v":0},{"$f":"+'B.DATOS (GASTOS)'!E235","v":0},null,{"$f":"+'B.DATOS (GASTOS)'!F235","v":0},0,{"$f":"+'B.DATOS (GASTOS)'!H235","v":0},null,{"$f":"+'B.DATOS (GASTOS)'!I235","v":0},null,0,{"$f":"+'B.DATOS (GASTOS)'!K235","v":0},0,0,{"$f":"+R190*100/R225","v":0}]
[null,null,"200 TRANSPORTES LA LIBERTAD",null,{"$f":"+'B.DATOS (GASTOS)'!C236","v":0},{"$f":"+'B.DATOS (GASTOS)'!D236","v":0},{"$f":"+'B.DATOS (GASTOS)'!E236","v":0},null,{"$f":"+'B.DATOS (GASTOS)'!F236","v":0},0,{"$f":"+'B.DATOS (GASTOS)'!H236","v":0},null,{"$f":"+'B.DATOS (GASTOS)'!I236","v":0},null,0,{"$f":"+'B.DATOS (GASTOS)'!K236","v":0},0,0,{"$f":"+R191*100/R225","v":0}]
[null,null,"300 EDUCACION LA LIBERTAD",null,{"$f":"+'B.DATOS (GASTOS)'!C239","v":0},{"$f":"+'B.DATOS (GASTOS)'!D239","v":0},{"$f":"+'B.DATOS (GASTOS)'!E239","v":0},null,{"$f":"+'B.DATOS (GASTOS)'!F239","v":0},0,{"$f":"+'B.DATOS (GASTOS)'!H239","v":0},null,{"$f":"+'B.DATOS (GASTOS)'!I239","v":0},null,0,{"$f":"+'B.DATOS (GASTOS)'!K239","v":0},0,0,{"$f":"+R192*100/R225","v":0}]
[null,null,"301 EDUCACION CHEPEN",null,{"$f":"+'B.DATOS (GASTOS)'!C240","v":0},{"$f":"+'B.DATOS (GASTOS)'!D240","v":0},{"$f":"+'B.DATOS (GASTOS)'!E240","v":0},null,{"$f":"+'B.DATOS (GASTOS)'!F240","v":0},{"$f":"+D193+E193+F193+G193+H193+I193","v":0},{"$f":"+'B.DATOS (GASTOS)'!H240","v":0},null,{"$f":"+'B.DATOS (GASTOS)'!I240","v":0},null,{"$f":"+K193+L193+M193+N193","v":0},{"$f":"+'B.DATOS (GASTOS)'!K240","v":0},0,{"$f":"+J193+O193+Q193","v":0},{"$f":"+R193*100/R225","v":0}]
[null,null,"302 EDUCACION PACASMAYO",null,{"$f":"+'B.DATOS (GASTOS)'!C241","v":0},{"$f":"+'B.DATOS (GASTOS)'!D241","v":0},{"$f":"+'B.DATOS (GASTOS)'!E241","v":0},null,{"$f":"+'B.DATOS (GASTOS)'!F241","v":0},0,{"$f":"+'B.DATOS (GASTOS)'!H241","v":0},null,{"$f":"+'B.DATOS (GASTOS)'!I241","v":0},null,0,{"$f":"+'B.DATOS (GASTOS)'!K241","v":0},0,0,{"$f":"+R194*100/R225","v":0}]
[null,null,"303 EDUCACION ASCOPE",null,{"$f":"+'B.DATOS (GASTOS)'!C242","v":0},{"$f":"+'B.DATOS (GASTOS)'!D242","v":0},{"$f":"+'B.DATOS (GASTOS)'!E242","v":0},null,{"$f":"+'B.DATOS (GASTOS)'!F242","v":0},0,{"$f":"+'B.DATOS (GASTOS)'!H242","v":0},null,{"$f":"+'B.DATOS (GASTOS)'!I242","v":0},null,0,{"$f":"+'B.DATOS (GASTOS)'!K242","v":0},0,0,{"$f":"+R195*100/R225","v":0}]
[null,null,"304 EDUCACION GRAN CHIMU",null,{"$f":"+'B.DATOS (GASTOS)'!C243","v":0},{"$f":"+'B.DATOS (GASTOS)'!D243","v":0},{"$f":"+'B.DATOS (GASTOS)'!E243","v":0},null,{"$f":"+'B.DATOS (GASTOS)'!F243","v":0},0,{"$f":"+'B.DATOS (GASTOS)'!H243","v":0},null,{"$f":"+'B.DATOS (GASTOS)'!I243","v":0},null,0,{"$f":"+'B.DATOS (GASTOS)'!K243","v":0},0,0,{"$f":"+R196*100/R225","v":0}]
[null,null,"305 EDUCACION OTUZCO",null,{"$f":"+'B.DATOS (GASTOS)'!C244","v":0},{"$f":"+'B.DATOS (GASTOS)'!D244","v":0},{"$f":"+'B.DATOS (GASTOS)'!E244","v":0},null,{"$f":"+'B.DATOS (GASTOS)'!F244","v":0},0,{"$f":"+'B.DATOS (GASTOS)'!H244","v":0},null,{"$f":"+'B.DATOS (GASTOS)'!I244","v":0},null,0,{"$f":"+'B.DATOS (GASTOS)'!K244","v":0},0,0,{"$f":"+R197*100/R225","v":0}]
[null,null,"306 EDUCACION SANTIAGO DE CHUCO",null,{"$f":"+'B.DATOS (GASTOS)'!C245","v":0},{"$f":"+'B.DATOS (GASTOS)'!D245","v":0},{"$f":"+'B.DATOS (GASTOS)'!E245","v":0},null,{"$f":"+'B.DATOS (GASTOS)'!F245","v":0},0,{"$f":"+'B.DATOS (GASTOS)'!H245","v":0},null,{"$f":"+'B.DATOS (GASTOS)'!I245","v":0},null,0,{"$f":"+'B.DATOS (GASTOS)'!K245","v":0},0,0,{"$f":"+R198*100/R225","v":0}]
[null,null,"307 EDUCACION SANCHEZ CARRION",null,{"$f":"+'B.DATOS (GASTOS)'!C246","v":0},{"$f":"+'B.DATOS (GASTOS)'!D246","v":0},{"$f":"+'B.DATOS (GASTOS)'!E246","v":0},null,{"$f":"+'B.DATOS (GASTOS)'!F246","v":0},0,{"$f":"+'B.DATOS (GASTOS)'!H246","v":0},null,{"$f":"+'B.DATOS (GASTOS)'!I246","v":0},null,0,{"$f":"+'B.DATOS (GASTOS)'!K246","v":0},0,0,{"$f":"+R199*100/R225","v":0}]
[null,null,"308 EDUCACION PATAZ",null,{"$f":"+'B.DATOS (GASTOS)'!C247","v":0},{"$f":"+'B.DATOS (GASTOS)'!D247","v":0},{"$f":"+'B.DATOS (GASTOS)'!E247","v":0},null,{"$f":"+'B.DATOS (GASTOS)'!F247","v":0},0,{"$f":"+'B.DATOS (GASTOS)'!H247","v":0},null,{"$f":"+'B.DATOS (GASTOS)'!I247","v":0},null,0,{"$f":"+'B.DATOS (GASTOS)'!K247","v":0},0,0,{"$f":"+R200*100/R225","v":0}]
[null,null,"309 EDUCACION BOLIVAR",null,{"$f":"+'B.DATOS (GASTOS)'!C248","v":0},{"$f":"+'B.DATOS (GASTOS)'!D248","v":0},{"$f":"+'B.DATOS (GASTOS)'!E248","v":0},null,{"$f":"+'B.DATOS (GASTOS)'!F248","v":0},0,{"$f":"+'B.DATOS (GASTOS)'!H248","v":0},null,{"$f":"+'B.DATOS (GASTOS)'!I248","v":0},null,0,{"$f":"+'B.DATOS (GASTOS)'!K248","v":0},0,0,{"$f":"+R201*100/R225","v":0}]
[null,null,"310 COLEGIO MILITAR RAMON CASTILLA",null,{"$f":"+'B.DATOS (GASTOS)'!C249","v":0},{"$f":"+'B.DATOS (GASTOS)'!D249","v":0},{"$f":"+'B.DATOS (GASTOS)'!E249","v":0},null,{"$f":"+'B.DATOS (GASTOS)'!F249","v":0},0,{"$f":"+'B.DATOS (GASTOS)'!H249","v":0},null,{"$f":"+'B.DATOS (GASTOS)'!I249","v":0},null,0,{"$f":"+'B.DATOS (GASTOS)'!K249","v":0},0,0,{"$f":"+R202*100/R225","v":0}]
[null,null,"311 EDUCACION JULCAN",null,{"$f":"+'B.DATOS (GASTOS)'!C250","v":0},{"$f":"+'B.DATOS (GASTOS)'!D250","v":0},{"$f":"+'B.DATOS (GASTOS)'!E250","v":0},null,{"$f":"+'B.DATOS (GASTOS)'!F250","v":0},0,{"$f":"+'B.DATOS (GASTOS)'!H250","v":0},null,{"$f":"+'B.DATOS (GASTOS)'!I250","v":0},null,0,{"$f":"+'B.DATOS (GASTOS)'!K250","v":0},0,0,{"$f":"+R203*100/R225","v":0}]
[null,null,"312 EDUCACION VIRU",null,{"$f":"+'B.DATOS (GASTOS)'!C251","v":0},{"$f":"+'B.DATOS (GASTOS)'!D251","v":0},{"$f":"+'B.DATOS (GASTOS)'!E251","v":0},null,{"$f":"+'B.DATOS (GASTOS)'!F251","v":0},0,{"$f":"+'B.DATOS (GASTOS)'!H251","v":0},null,{"$f":"+'B.DATOS (GASTOS)'!I251","v":0},null,0,{"$f":"+'B.DATOS (GASTOS)'!K251","v":0},0,0,{"$f":"+R204*100/R225","v":0}]
[null,null,"313 EDUCACION EL PORVENIR",null,{"$f":"+'B.DATOS (GASTOS)'!C252","v":0},{"$f":"+'B.DATOS (GASTOS)'!D252","v":0},{"$f":"+'B.DATOS (GASTOS)'!E252","v":0},null,{"$f":"+'B.DATOS (GASTOS)'!F252","v":0},0,{"$f":"+'B.DATOS (GASTOS)'!H252","v":0},null,{"$f":"+'B.DATOS (GASTOS)'!I252","v":0},null,0,{"$f":"+'B.DATOS (GASTOS)'!K252","v":0},0,0,{"$f":"+R205*100/R225","v":0}]
[null,null,"314 EDUCACION LA ESPERANZA",null,{"$f":"+'B.DATOS (GASTOS)'!C253","v":0},{"$f":"+'B.DATOS (GASTOS)'!D253","v":0},{"$f":"+'B.DATOS (GASTOS)'!E253","v":0},null,{"$f":"+'B.DATOS (GASTOS)'!F253","v":0},0,{"$f":"+'B.DATOS (GASTOS)'!H253","v":0},null,{"$f":"+'B.DATOS (GASTOS)'!I253","v":0},null,0,{"$f":"+'B.DATOS (GASTOS)'!K253","v":0},0,0,{"$f":"+R206*100/R225","v":0}]
[null,null,"315 EDUCACION TRUJILLO NOR OESTE",null,{"$f":"+'B.DATOS (GASTOS)'!C254","v":0},{"$f":"+'B.DATOS (GASTOS)'!D254","v":0},{"$f":"+'B.DATOS (GASTOS)'!E254","v":0},null,{"$f":"+'B.DATOS (GASTOS)'!F254","v":0},0,{"$f":"+'B.DATOS (GASTOS)'!H254","v":0},null,{"$f":"+'B.DATOS (GASTOS)'!I254","v":0},null,0,{"$f":"+'B.DATOS (GASTOS)'!K254","v":0},0,0,{"$f":"+R207*100/R225","v":0}]
[null,null,"316 EDUCACION TRUJILLO SUR ESTE",null,{"$f":"+'B.DATOS (GASTOS)'!C255","v":0},{"$f":"+'B.DATOS (GASTOS)'!D255","v":0},{"$f":"+'B.DATOS (GASTOS)'!E255","v":0},null,{"$f":"+'B.DATOS (GASTOS)'!F255","v":0},0,{"$f":"+'B.DATOS (GASTOS)'!H255","v":0},null,{"$f":"+'B.DATOS (GASTOS)'!I255","v":0},null,0,{"$f":"+'B.DATOS (GASTOS)'!K255","v":0},0,0,{"$f":"+R208*100/R225","v":0}]
[null,null,"400 SALUD LA LIBERTAD",null,{"$f":"+'B.DATOS (GASTOS)'!C258","v":0},{"$f":"+'B.DATOS (GASTOS)'!D258","v":0},{"$f":"+'B.DATOS (GASTOS)'!E258","v":0},null,{"$f":"+'B.DATOS (GASTOS)'!F258","v":0},0,{"$f":"+'B.DATOS (GASTOS)'!H258","v":0},null,{"$f":"+'B.DATOS (GASTOS)'!I258","v":0},null,0,{"$f":"+'B.DATOS (GASTOS)'!K258","v":0},0,0,{"$f":"+R209*100/R225","v":0}]
[null,null,"401 INSTIT. REG.DE OFTALMOLOGIA",null,{"$f":"+'B.DATOS (GASTOS)'!C259","v":0},{"$f":"+'B.DATOS (GASTOS)'!D259","v":0},{"$f":"+'B.DATOS (GASTOS)'!E259","v":0},null,{"$f":"+'B.DATOS (GASTOS)'!F259","v":0},{"$f":"+D210+E210+F210+G210+H210+I210","v":0},{"$f":"+'B.DATOS (GASTOS)'!H259","v":0},null,{"$f":"+'B.DATOS (GASTOS)'!I259","v":0},null,{"$f":"+K210+L210+M210+N210","v":0},{"$f":"+'B.DATOS (GASTOS)'!K259","v":0},0,{"$f":"+J210+O210+Q210","v":0},{"$f":"+R210*100/R225","v":0}]
[null,null,"402 SALUD NORTE ASCOPE",null,{"$f":"+'B.DATOS (GASTOS)'!C260","v":0},{"$f":"+'B.DATOS (GASTOS)'!D260","v":0},{"$f":"+'B.DATOS (GASTOS)'!E260","v":0},null,{"$f":"+'B.DATOS (GASTOS)'!F260","v":0},0,{"$f":"+'B.DATOS (GASTOS)'!H260","v":0},null,{"$f":"+'B.DATOS (GASTOS)'!I260","v":0},null,0,{"$f":"+'B.DATOS (GASTOS)'!K260","v":0},0,0,{"$f":"+R211*100/R225","v":0}]
[null,null,"403 SALUD TRUJILLO SUR OESTE",null,{"$f":"+'B.DATOS (GASTOS)'!C261","v":0},{"$f":"+'B.DATOS (GASTOS)'!D261","v":0},{"$f":"+'B.DATOS (GASTOS)'!E261","v":0},null,{"$f":"+'B.DATOS (GASTOS)'!F261","v":0},0,{"$f":"+'B.DATOS (GASTOS)'!H261","v":0},null,{"$f":"+'B.DATOS (GASTOS)'!I261","v":0},null,0,{"$f":"+'B.DATOS (GASTOS)'!K261","v":0},0,0,{"$f":"+R212*100/R225","v":0}]
[null,null,"404 SALUD CHEPEN",null,{"$f":"+'B.DATOS (GASTOS)'!C262","v":0},{"$f":"+'B.DATOS (GASTOS)'!D262","v":0},{"$f":"+'B.DATOS (GASTOS)'!E262","v":0},null,{"$f":"+'B.DATOS (GASTOS)'!F262","v":0},0,{"$f":"+'B.DATOS (GASTOS)'!H262","v":0},null,{"$f":"+'B.DATOS (GASTOS)'!I262","v":0},null,0,{"$f":"+'B.DATOS (GASTOS)'!K262","v":0},0,0,{"$f":"+R213*100/R225","v":0}]
[null,null,"405 SALUD PACASMAYO",null,{"$f":"+'B.DATOS (GASTOS)'!C263","v":0},{"$f":"+'B.DATOS (GASTOS)'!D263","v":0},{"$f":"+'B.DATOS (GASTOS)'!E263","v":0},null,{"$f":"+'B.DATOS (GASTOS)'!F263","v":0},0,{"$f":"+'B.DATOS (GASTOS)'!H263","v":0},null,{"$f":"+'B.DATOS (GASTOS)'!I263","v":0},null,0,{"$f":"+'B.DATOS (GASTOS)'!K263","v":0},0,0,{"$f":"+R214*100/R225","v":0}]
[null,null,"406 SALUD SANCHEZ CARRION",null,{"$f":"+'B.DATOS (GASTOS)'!C264","v":0},{"$f":"+'B.DATOS (GASTOS)'!D264","v":0},{"$f":"+'B.DATOS (GASTOS)'!E264","v":0},null,{"$f":"+'B.DATOS (GASTOS)'!F264","v":0},0,{"$f":"+'B.DATOS (GASTOS)'!H264","v":0},null,{"$f":"+'B.DATOS (GASTOS)'!I264","v":0},null,0,{"$f":"+'B.DATOS (GASTOS)'!K264","v":0},0,0,{"$f":"+R215*100/R225","v":0}]
[null,null,"407 SALUD SANTIAGO DE CHUCO",null,{"$f":"+'B.DATOS (GASTOS)'!C265","v":0},{"$f":"+'B.DATOS (GASTOS)'!D265","v":0},{"$f":"+'B.DATOS (GASTOS)'!E265","v":0},null,{"$f":"+'B.DATOS (GASTOS)'!F265","v":0},0,{"$f":"+'B.DATOS (GASTOS)'!H265","v":0},null,{"$f":"+'B.DATOS (GASTOS)'!I265","v":0},null,0,{"$f":"+'B.DATOS (GASTOS)'!K265","v":0},0,0,{"$f":"+R216*100/R225","v":0}]
[null,null,"408 SALUD OTUZCO",null,{"$f":"+'B.DATOS (GASTOS)'!C266","v":0},{"$f":"+'B.DATOS (GASTOS)'!D266","v":0},{"$f":"+'B.DATOS (GASTOS)'!E266","v":0},null,{"$f":"+'B.DATOS (GASTOS)'!F266","v":0},0,{"$f":"+'B.DATOS (GASTOS)'!H266","v":0},null,{"$f":"+'B.DATOS (GASTOS)'!I266","v":0},null,0,{"$f":"+'B.DATOS (GASTOS)'!K266","v":0},0,0,{"$f":"+R217*100/R225","v":0}]
[null,null,"409 SALUD TRUJILLO ESTE",null,{"$f":"+'B.DATOS (GASTOS)'!C267","v":0},{"$f":"+'B.DATOS (GASTOS)'!D267","v":0},{"$f":"+'B.DATOS (GASTOS)'!E267","v":0},null,{"$f":"+'B.DATOS (GASTOS)'!F267","v":0},0,{"$f":"+'B.DATOS (GASTOS)'!H267","v":0},null,{"$f":"+'B.DATOS (GASTOS)'!I267","v":0},null,0,{"$f":"+'B.DATOS (GASTOS)'!K267","v":0},0,0,{"$f":"+R218*100/R225","v":0}]
[null,null,"410 INSTIT.REG.DE ENFERM.NEOPLASICAS",null,{"$f":"+'B.DATOS (GASTOS)'!C268","v":0},{"$f":"+'B.DATOS (GASTOS)'!D268","v":0},{"$f":"+'B.DATOS (GASTOS)'!E268","v":0},null,{"$f":"+'B.DATOS (GASTOS)'!F268","v":0},0,{"$f":"+'B.DATOS (GASTOS)'!H268","v":0},null,{"$f":"+'B.DATOS (GASTOS)'!I268","v":0},null,0,{"$f":"+'B.DATOS (GASTOS)'!K268","v":0},0,0,{"$f":"+R219*100/R225","v":0}]
[null,null,"411 SALUD JULCAN",null,{"$f":"+'B.DATOS (GASTOS)'!C269","v":0},{"$f":"+'B.DATOS (GASTOS)'!D269","v":0},{"$f":"+'B.DATOS (GASTOS)'!E269","v":0},null,{"$f":"+'B.DATOS (GASTOS)'!F269","v":0},0,{"$f":"+'B.DATOS (GASTOS)'!H269","v":0},null,{"$f":"+'B.DATOS (GASTOS)'!I269","v":0},null,0,{"$f":"+'B.DATOS (GASTOS)'!K269","v":0},0,0,{"$f":"+R220*100/R225","v":0}]
[null,null,"412 SALUD VIRU",null,{"$f":"+'B.DATOS (GASTOS)'!C270","v":0},{"$f":"+'B.DATOS (GASTOS)'!D270","v":0},{"$f":"+'B.DATOS (GASTOS)'!E270","v":0},null,{"$f":"+'B.DATOS (GASTOS)'!F270","v":0},0,{"$f":"+'B.DATOS (GASTOS)'!H270","v":0},null,{"$f":"+'B.DATOS (GASTOS)'!I270","v":0},null,0,{"$f":"+'B.DATOS (GASTOS)'!K270","v":0},0,0,{"$f":"+R221*100/R225","v":0}]
[null,null,"413 SALUD ASCOPE",null,{"$f":"+'B.DATOS (GASTOS)'!C271","v":0},{"$f":"+'B.DATOS (GASTOS)'!D271","v":0},{"$f":"+'B.DATOS (GASTOS)'!E271","v":0},null,{"$f":"+'B.DATOS (GASTOS)'!F271","v":0},0,{"$f":"+'B.DATOS (GASTOS)'!H271","v":0},null,{"$f":"+'B.DATOS (GASTOS)'!I271","v":0},null,0,{"$f":"+'B.DATOS (GASTOS)'!K271","v":0},0,0,{"$f":"+R222*100/R225","v":0}]
[null,null,"414 SALUD GRAN CHIMU",null,{"$f":"+'B.DATOS (GASTOS)'!C272","v":0},{"$f":"+'B.DATOS (GASTOS)'!D272","v":0},{"$f":"+'B.DATOS (GASTOS)'!E272","v":0},null,{"$f":"+'B.DATOS (GASTOS)'!F272","v":0},0,{"$f":"+'B.DATOS (GASTOS)'!H272","v":0},null,{"$f":"+'B.DATOS (GASTOS)'!I272","v":0},null,0,{"$f":"+'B.DATOS (GASTOS)'!K272","v":0},0,0,{"$f":"+R223*100/R225","v":0}]
[]
[null,"TOTAL SECTOR","TOTAL SECTOR",{"$f":"SUM(D188:D224)","v":0},0,0,5466099,0,0,5466099,0,0,44971923,0,44971923,11477014,11477014,61915036,{"$f":"+R225*100/R225","v":100}]
[null,"PROYECTO DE PRESUPUESTO PARA EL AÑO FISCAL 2020"]
[null,"INFORMACION PARA LA COMISION DE PRESUPUESTO Y CUENTA GENERAL DE LA REPUBLICA DEL CONGRESO DE LA REPUBLICA"]
[]
[null,"FTE FTO RECURSOS POR OPRACIONES OFICIALES DE CREDITO"]
[null,"PLIEGOS DEL SECTOR O GOBIERNO REGIONAL","UNIDADES EJECUTORAS O ENTIDADES PUBLICAS ADSCRITAS AL SECTOR","GASTOS CORRIENTES */",null,null,null,null,null,null,"GASTOS DE CAPITAL",null,null,null,null,"SERVICIO DE DEUDA",null,"TOTAL"]
[null,null,null,"1: Reserva de Contingencia","2: Personal y Obligaciones Sociales","3: Pensiones y Prestaciones Sociales","4: Bienes y Servicios","5: Donaciones y Transferencias","6: Otros Gastos","SUB TOTAL GASTOS   CORRIENTES","7: Donaciones y Transferencias","8: Otros Gastos","9: Adquisiciones de Activos No Financieros","10: Adquisiciones de Activos Financieros","SUB TOTAL GASTOS DE CAPITAL","11: Servicio de la Deuda","SUB TOTAL SERVICIO DE DEUDA","TOTAL GASTOS UNIDAD EJECUTORA /ENTIDAD PUBLICA","PART. %"]
[null,"451 GOBIERNO REGIONAL ","001 SEDE LA LIBERTAD",null,{"$f":"+'B.DATOS (GASTOS)'!C125","v":0},{"$f":"+'B.DATOS (GASTOS)'!D125","v":0},{"$f":"+'B.DATOS (GASTOS)'!E125","v":0},null,{"$f":"+'B.DATOS (GASTOS)'!F125","v":0},{"$f":"+D232+E232+F232+G232+H232+I232","v":0},{"$f":"+'B.DATOS (GASTOS)'!H125","v":0},null,{"$f":"+'B.DATOS (GASTOS)'!I125","v":0},null,{"$f":"+K232+L232+M232+N232","v":0},{"$f":"+'B.DATOS (GASTOS)'!K125","v":0},{"$f":"+P232","v":0},{"$f":"+J232+O232+Q232","v":0},{"$f":"+R232*100/R269","v":0}]
[null,"451 GOBIERNO REGIONAL ","005 PROYECTO ESPEC.CHAVIMOCHIC",null,{"$f":"+'B.DATOS (GASTOS)'!C126","v":0},{"$f":"+'B.DATOS (GASTOS)'!D126","v":0},{"$f":"+'B.DATOS (GASTOS)'!E126","v":0},null,{"$f":"+'B.DATOS (GASTOS)'!F126","v":0},{"$f":"+D233+E233+F233+G233+H233+I233","v":0},{"$f":"+'B.DATOS (GASTOS)'!H126","v":0},null,{"$f":"+'B.DATOS (GASTOS)'!I126","v":216867115},null,{"$f":"+K233+L233+M233+N233","v":216867115},{"$f":"+'B.DATOS (GASTOS)'!K126","v":0},0,{"$f":"+J233+O233+Q233","v":216867115},{"$f":"+R233*100/R269","v":100}]
[null,null,"100 AGRICULTURA LA LIBERTAD",null,{"$f":"+'B.DATOS (GASTOS)'!C127","v":0},{"$f":"+'B.DATOS (GASTOS)'!D127","v":0},{"$f":"+'B.DATOS (GASTOS)'!E127","v":0},null,{"$f":"+'B.DATOS (GASTOS)'!F127","v":0},0,{"$f":"+'B.DATOS (GASTOS)'!H127","v":0},null,{"$f":"+'B.DATOS (GASTOS)'!I127","v":0},null,0,{"$f":"+'B.DATOS (GASTOS)'!K127","v":0},0,0,{"$f":"+R234*100/R269","v":0}]
[null,null,"200 TRANSPORTES LA LIBERTAD",null,{"$f":"+'B.DATOS (GASTOS)'!C128","v":0},{"$f":"+'B.DATOS (GASTOS)'!D128","v":0},{"$f":"+'B.DATOS (GASTOS)'!E128","v":0},null,{"$f":"+'B.DATOS (GASTOS)'!F128","v":0},0,{"$f":"+'B.DATOS (GASTOS)'!H128","v":0},null,{"$f":"+'B.DATOS (GASTOS)'!I128","v":0},null,0,{"$f":"+'B.DATOS (GASTOS)'!K128","v":0},0,0,{"$f":"+R235*100/R269","v":0}]
[null,null,"300 EDUCACION LA LIBERTAD",null,{"$f":"+'B.DATOS (GASTOS)'!C131","v":0},{"$f":"+'B.DATOS (GASTOS)'!D131","v":0},{"$f":"+'B.DATOS (GASTOS)'!E131","v":0},null,{"$f":"+'B.DATOS (GASTOS)'!F131","v":0},0,{"$f":"+'B.DATOS (GASTOS)'!H131","v":0},null,{"$f":"+'B.DATOS (GASTOS)'!I131","v":0},null,0,{"$f":"+'B.DATOS (GASTOS)'!K131","v":0},0,0,{"$f":"+R236*100/R269","v":0}]
[null,null,"301 EDUCACION CHEPEN",null,{"$f":"+'B.DATOS (GASTOS)'!C132","v":0},{"$f":"+'B.DATOS (GASTOS)'!D132","v":0},{"$f":"+'B.DATOS (GASTOS)'!E132","v":0},null,{"$f":"+'B.DATOS (GASTOS)'!F132","v":0},{"$f":"+D237+E237+F237+G237+H237+I237","v":0},{"$f":"+'B.DATOS (GASTOS)'!H132","v":0},null,{"$f":"+'B.DATOS (GASTOS)'!I132","v":0},null,{"$f":"+K237+L237+M237+N237","v":0},{"$f":"+'B.DATOS (GASTOS)'!K132","v":0},0,{"$f":"+J237+O237+Q237","v":0},{"$f":"+R237*100/R269","v":0}]
[null,null,"302 EDUCACION PACASMAYO",null,{"$f":"+'B.DATOS (GASTOS)'!C133","v":0},{"$f":"+'B.DATOS (GASTOS)'!D133","v":0},{"$f":"+'B.DATOS (GASTOS)'!E133","v":0},null,{"$f":"+'B.DATOS (GASTOS)'!F133","v":0},0,{"$f":"+'B.DATOS (GASTOS)'!H133","v":0},null,{"$f":"+'B.DATOS (GASTOS)'!I133","v":0},null,0,{"$f":"+'B.DATOS (GASTOS)'!K133","v":0},0,0,{"$f":"+R238*100/R269","v":0}]
[null,null,"303 EDUCACION ASCOPE",null,{"$f":"+'B.DATOS (GASTOS)'!C134","v":0},{"$f":"+'B.DATOS (GASTOS)'!D134","v":0},{"$f":"+'B.DATOS (GASTOS)'!E134","v":0},null,{"$f":"+'B.DATOS (GASTOS)'!F134","v":0},0,{"$f":"+'B.DATOS (GASTOS)'!H134","v":0},null,{"$f":"+'B.DATOS (GASTOS)'!I134","v":0},null,0,{"$f":"+'B.DATOS (GASTOS)'!K134","v":0},0,0,{"$f":"+R239*100/R269","v":0}]
[null,null,"304 EDUCACION GRAN CHIMU",null,{"$f":"+'B.DATOS (GASTOS)'!C135","v":0},{"$f":"+'B.DATOS (GASTOS)'!D135","v":0},{"$f":"+'B.DATOS (GASTOS)'!E135","v":0},null,{"$f":"+'B.DATOS (GASTOS)'!F135","v":0},0,{"$f":"+'B.DATOS (GASTOS)'!H135","v":0},null,{"$f":"+'B.DATOS (GASTOS)'!I135","v":0},null,0,{"$f":"+'B.DATOS (GASTOS)'!K135","v":0},0,0,{"$f":"+R240*100/R269","v":0}]
[null,null,"305 EDUCACION OTUZCO",null,{"$f":"+'B.DATOS (GASTOS)'!C136","v":0},{"$f":"+'B.DATOS (GASTOS)'!D136","v":0},{"$f":"+'B.DATOS (GASTOS)'!E136","v":0},null,{"$f":"+'B.DATOS (GASTOS)'!F136","v":0},0,{"$f":"+'B.DATOS (GASTOS)'!H136","v":0},null,{"$f":"+'B.DATOS (GASTOS)'!I136","v":0},null,0,{"$f":"+'B.DATOS (GASTOS)'!K136","v":0},0,0,{"$f":"+R241*100/R269","v":0}]
[null,null,"306 EDUCACION SANTIAGO DE CHUCO",null,{"$f":"+'B.DATOS (GASTOS)'!C137","v":0},{"$f":"+'B.DATOS (GASTOS)'!D137","v":0},{"$f":"+'B.DATOS (GASTOS)'!E137","v":0},null,{"$f":"+'B.DATOS (GASTOS)'!F137","v":0},0,{"$f":"+'B.DATOS (GASTOS)'!H137","v":0},null,{"$f":"+'B.DATOS (GASTOS)'!I137","v":0},null,0,{"$f":"+'B.DATOS (GASTOS)'!K137","v":0},0,0,{"$f":"+R242*100/R269","v":0}]
[null,null,"307 EDUCACION SANCHEZ CARRION",null,{"$f":"+'B.DATOS (GASTOS)'!C138","v":0},{"$f":"+'B.DATOS (GASTOS)'!D138","v":0},{"$f":"+'B.DATOS (GASTOS)'!E138","v":0},null,{"$f":"+'B.DATOS (GASTOS)'!F138","v":0},0,{"$f":"+'B.DATOS (GASTOS)'!H138","v":0},null,{"$f":"+'B.DATOS (GASTOS)'!I138","v":0},null,0,{"$f":"+'B.DATOS (GASTOS)'!K138","v":0},0,0,{"$f":"+R243*100/R269","v":0}]
[null,null,"308 EDUCACION PATAZ",null,{"$f":"+'B.DATOS (GASTOS)'!C139","v":0},{"$f":"+'B.DATOS (GASTOS)'!D139","v":0},{"$f":"+'B.DATOS (GASTOS)'!E139","v":0},null,{"$f":"+'B.DATOS (GASTOS)'!F139","v":0},0,{"$f":"+'B.DATOS (GASTOS)'!H139","v":0},null,{"$f":"+'B.DATOS (GASTOS)'!I139","v":0},null,0,{"$f":"+'B.DATOS (GASTOS)'!K139","v":0},0,0,{"$f":"+R244*100/R269","v":0}]
[null,null,"309 EDUCACION BOLIVAR",null,{"$f":"+'B.DATOS (GASTOS)'!C140","v":0},{"$f":"+'B.DATOS (GASTOS)'!D140","v":0},{"$f":"+'B.DATOS (GASTOS)'!E140","v":0},null,{"$f":"+'B.DATOS (GASTOS)'!F140","v":0},0,{"$f":"+'B.DATOS (GASTOS)'!H140","v":0},null,{"$f":"+'B.DATOS (GASTOS)'!I140","v":0},null,0,{"$f":"+'B.DATOS (GASTOS)'!K140","v":0},0,0,{"$f":"+R245*100/R269","v":0}]
[null,null,"310 COLEGIO MILITAR RAMON CASTILLA",null,{"$f":"+'B.DATOS (GASTOS)'!C141","v":0},{"$f":"+'B.DATOS (GASTOS)'!D141","v":0},{"$f":"+'B.DATOS (GASTOS)'!E141","v":0},null,{"$f":"+'B.DATOS (GASTOS)'!F141","v":0},0,{"$f":"+'B.DATOS (GASTOS)'!H141","v":0},null,{"$f":"+'B.DATOS (GASTOS)'!I141","v":0},null,0,{"$f":"+'B.DATOS (GASTOS)'!K141","v":0},0,0,{"$f":"+R246*100/R269","v":0}]
[null,null,"311 EDUCACION JULCAN",null,{"$f":"+'B.DATOS (GASTOS)'!C142","v":0},{"$f":"+'B.DATOS (GASTOS)'!D142","v":0},{"$f":"+'B.DATOS (GASTOS)'!E142","v":0},null,{"$f":"+'B.DATOS (GASTOS)'!F142","v":0},0,{"$f":"+'B.DATOS (GASTOS)'!H142","v":0},null,{"$f":"+'B.DATOS (GASTOS)'!I142","v":0},null,0,{"$f":"+'B.DATOS (GASTOS)'!K142","v":0},0,0,{"$f":"+R247*100/R269","v":0}]
[null,null,"312 EDUCACION VIRU",null,{"$f":"+'B.DATOS (GASTOS)'!C143","v":0},{"$f":"+'B.DATOS (GASTOS)'!D143","v":0},{"$f":"+'B.DATOS (GASTOS)'!E143","v":0},null,{"$f":"+'B.DATOS (GASTOS)'!F143","v":0},0,{"$f":"+'B.DATOS (GASTOS)'!H143","v":0},null,{"$f":"+'B.DATOS (GASTOS)'!I143","v":0},null,0,{"$f":"+'B.DATOS (GASTOS)'!K143","v":0},0,0,{"$f":"+R248*100/R269","v":0}]
[null,null,"313 EDUCACION EL PORVENIR",null,{"$f":"+'B.DATOS (GASTOS)'!C144","v":0},{"$f":"+'B.DATOS (GASTOS)'!D144","v":0},{"$f":"+'B.DATOS (GASTOS)'!E144","v":0},null,{"$f":"+'B.DATOS (GASTOS)'!F144","v":0},0,{"$f":"+'B.DATOS (GASTOS)'!H144","v":0},null,{"$f":"+'B.DATOS (GASTOS)'!I144","v":0},null,0,{"$f":"+'B.DATOS (GASTOS)'!K144","v":0},0,0,{"$f":"+R249*100/R269","v":0}]
[null,null,"314 EDUCACION LA ESPERANZA",null,{"$f":"+'B.DATOS (GASTOS)'!C145","v":0},{"$f":"+'B.DATOS (GASTOS)'!D145","v":0},{"$f":"+'B.DATOS (GASTOS)'!E145","v":0},null,{"$f":"+'B.DATOS (GASTOS)'!F145","v":0},0,{"$f":"+'B.DATOS (GASTOS)'!H145","v":0},null,{"$f":"+'B.DATOS (GASTOS)'!I145","v":0},null,0,{"$f":"+'B.DATOS (GASTOS)'!K145","v":0},0,0,{"$f":"+R250*100/R269","v":0}]
[null,null,"315 EDUCACION TRUJILLO NOR OESTE",null,{"$f":"+'B.DATOS (GASTOS)'!C146","v":0},{"$f":"+'B.DATOS (GASTOS)'!D146","v":0},{"$f":"+'B.DATOS (GASTOS)'!E146","v":0},null,{"$f":"+'B.DATOS (GASTOS)'!F146","v":0},0,{"$f":"+'B.DATOS (GASTOS)'!H146","v":0},null,{"$f":"+'B.DATOS (GASTOS)'!I146","v":0},null,0,{"$f":"+'B.DATOS (GASTOS)'!K146","v":0},0,0,{"$f":"+R251*100/R269","v":0}]
[null,null,"316 EDUCACION TRUJILLO SUR ESTE",null,{"$f":"+'B.DATOS (GASTOS)'!C147","v":0},{"$f":"+'B.DATOS (GASTOS)'!D147","v":0},{"$f":"+'B.DATOS (GASTOS)'!E147","v":0},null,{"$f":"+'B.DATOS (GASTOS)'!F147","v":0},0,{"$f":"+'B.DATOS (GASTOS)'!H147","v":0},null,{"$f":"+'B.DATOS (GASTOS)'!I147","v":0},null,0,{"$f":"+'B.DATOS (GASTOS)'!K147","v":0},0,0,{"$f":"+R252*100/R269","v":0}]
[null,null,"400 SALUD LA LIBERTAD",null,{"$f":"+'B.DATOS (GASTOS)'!C150","v":0},{"$f":"+'B.DATOS (GASTOS)'!D150","v":0},{"$f":"+'B.DATOS (GASTOS)'!E150","v":0},null,{"$f":"+'B.DATOS (GASTOS)'!F150","v":0},0,{"$f":"+'B.DATOS (GASTOS)'!H150","v":0},null,{"$f":"+'B.DATOS (GASTOS)'!I150","v":0},null,0,{"$f":"+'B.DATOS (GASTOS)'!K150","v":0},0,0,{"$f":"+R253*100/R269","v":0}]
[null,null,"401 INSTIT. REG.DE OFTALMOLOGIA",null,{"$f":"+'B.DATOS (GASTOS)'!C151","v":0},{"$f":"+'B.DATOS (GASTOS)'!D151","v":0},{"$f":"+'B.DATOS (GASTOS)'!E151","v":0},null,{"$f":"+'B.DATOS (GASTOS)'!F151","v":0},{"$f":"+D254+E254+F254+G254+H254+I254","v":0},{"$f":"+'B.DATOS (GASTOS)'!H151","v":0},null,{"$f":"+'B.DATOS (GASTOS)'!I151","v":0},null,{"$f":"+K254+L254+M254+N254","v":0},{"$f":"+'B.DATOS (GASTOS)'!K151","v":0},0,{"$f":"+J254+O254+Q254","v":0},{"$f":"+R254*100/R269","v":0}]
[null,null,"402 SALUD NORTE ASCOPE",null,{"$f":"+'B.DATOS (GASTOS)'!C152","v":0},{"$f":"+'B.DATOS (GASTOS)'!D152","v":0},{"$f":"+'B.DATOS (GASTOS)'!E152","v":0},null,{"$f":"+'B.DATOS (GASTOS)'!F152","v":0},0,{"$f":"+'B.DATOS (GASTOS)'!H152","v":0},null,{"$f":"+'B.DATOS (GASTOS)'!I152","v":0},null,0,{"$f":"+'B.DATOS (GASTOS)'!K152","v":0},0,0,{"$f":"+R255*100/R269","v":0}]
[null,null,"403 SALUD TRUJILLO SUR OESTE",null,{"$f":"+'B.DATOS (GASTOS)'!C153","v":0},{"$f":"+'B.DATOS (GASTOS)'!D153","v":0},{"$f":"+'B.DATOS (GASTOS)'!E153","v":0},null,{"$f":"+'B.DATOS (GASTOS)'!F153","v":0},0,{"$f":"+'B.DATOS (GASTOS)'!H153","v":0},null,{"$f":"+'B.DATOS (GASTOS)'!I153","v":0},null,0,{"$f":"+'B.DATOS (GASTOS)'!K153","v":0},0,0,{"$f":"+R256*100/R269","v":0}]
[null,null,"404 SALUD CHEPEN",null,{"$f":"+'B.DATOS (GASTOS)'!C154","v":0},{"$f":"+'B.DATOS (GASTOS)'!D154","v":0},{"$f":"+'B.DATOS (GASTOS)'!E154","v":0},null,{"$f":"+'B.DATOS (GASTOS)'!F154","v":0},0,{"$f":"+'B.DATOS (GASTOS)'!H154","v":0},null,{"$f":"+'B.DATOS (GASTOS)'!I154","v":0},null,0,{"$f":"+'B.DATOS (GASTOS)'!K154","v":0},0,0,{"$f":"+R257*100/R269","v":0}]
[null,null,"405 SALUD PACASMAYO",null,{"$f":"+'B.DATOS (GASTOS)'!C155","v":0},{"$f":"+'B.DATOS (GASTOS)'!D155","v":0},{"$f":"+'B.DATOS (GASTOS)'!E155","v":0},null,{"$f":"+'B.DATOS (GASTOS)'!F155","v":0},0,{"$f":"+'B.DATOS (GASTOS)'!H155","v":0},null,{"$f":"+'B.DATOS (GASTOS)'!I155","v":0},null,0,{"$f":"+'B.DATOS (GASTOS)'!K155","v":0},0,0,{"$f":"+R258*100/R269","v":0}]
[null,null,"406 SALUD SANCHEZ CARRION",null,{"$f":"+'B.DATOS (GASTOS)'!C156","v":0},{"$f":"+'B.DATOS (GASTOS)'!D156","v":0},{"$f":"+'B.DATOS (GASTOS)'!E156","v":0},null,{"$f":"+'B.DATOS (GASTOS)'!F156","v":0},0,{"$f":"+'B.DATOS (GASTOS)'!H156","v":0},null,{"$f":"+'B.DATOS (GASTOS)'!I156","v":0},null,0,{"$f":"+'B.DATOS (GASTOS)'!K156","v":0},0,0,{"$f":"+R259*100/R269","v":0}]
[null,null,"407 SALUD SANTIAGO DE CHUCO",null,{"$f":"+'B.DATOS (GASTOS)'!C157","v":0},{"$f":"+'B.DATOS (GASTOS)'!D157","v":0},{"$f":"+'B.DATOS (GASTOS)'!E157","v":0},null,{"$f":"+'B.DATOS (GASTOS)'!F157","v":0},0,{"$f":"+'B.DATOS (GASTOS)'!H157","v":0},null,{"$f":"+'B.DATOS (GASTOS)'!I157","v":0},null,0,{"$f":"+'B.DATOS (GASTOS)'!K157","v":0},0,0,{"$f":"+R260*100/R269","v":0}]
[null,null,"408 SALUD OTUZCO",null,{"$f":"+'B.DATOS (GASTOS)'!C158","v":0},{"$f":"+'B.DATOS (GASTOS)'!D158","v":0},{"$f":"+'B.DATOS (GASTOS)'!E158","v":0},null,{"$f":"+'B.DATOS (GASTOS)'!F158","v":0},0,{"$f":"+'B.DATOS (GASTOS)'!H158","v":0},null,{"$f":"+'B.DATOS (GASTOS)'!I158","v":0},null,0,{"$f":"+'B.DATOS (GASTOS)'!K158","v":0},0,0,{"$f":"+R261*100/R269","v":0}]
[null,null,"409 SALUD TRUJILLO ESTE",null,{"$f":"+'B.DATOS (GASTOS)'!C159","v":0},{"$f":"+'B.DATOS (GASTOS)'!D159","v":0},{"$f":"+'B.DATOS (GASTOS)'!E159","v":0},null,{"$f":"+'B.DATOS (GASTOS)'!F159","v":0},0,{"$f":"+'B.DATOS (GASTOS)'!H159","v":0},null,{"$f":"+'B.DATOS (GASTOS)'!I159","v":0},null,0,{"$f":"+'B.DATOS (GASTOS)'!K159","v":0},0,0,{"$f":"+R262*100/R269","v":0}]
[null,null,"410 INSTIT.REG.DE ENFERM.NEOPLASICAS",null,{"$f":"+'B.DATOS (GASTOS)'!C160","v":0},{"$f":"+'B.DATOS (GASTOS)'!D160","v":0},{"$f":"+'B.DATOS (GASTOS)'!E160","v":0},null,{"$f":"+'B.DATOS (GASTOS)'!F160","v":0},0,{"$f":"+'B.DATOS (GASTOS)'!H160","v":0},null,{"$f":"+'B.DATOS (GASTOS)'!I160","v":0},null,0,{"$f":"+'B.DATOS (GASTOS)'!K160","v":0},0,0,{"$f":"+R263*100/R269","v":0}]
[null,null,"411 SALUD JULCAN",null,{"$f":"+'B.DATOS (GASTOS)'!C161","v":0},{"$f":"+'B.DATOS (GASTOS)'!D161","v":0},{"$f":"+'B.DATOS (GASTOS)'!E161","v":0},null,{"$f":"+'B.DATOS (GASTOS)'!F161","v":0},0,{"$f":"+'B.DATOS (GASTOS)'!H161","v":0},null,{"$f":"+'B.DATOS (GASTOS)'!I161","v":0},null,0,{"$f":"+'B.DATOS (GASTOS)'!K161","v":0},0,0,{"$f":"+R264*100/R269","v":0}]
[null,null,"412 SALUD VIRU",null,{"$f":"+'B.DATOS (GASTOS)'!C162","v":0},{"$f":"+'B.DATOS (GASTOS)'!D162","v":0},{"$f":"+'B.DATOS (GASTOS)'!E162","v":0},null,{"$f":"+'B.DATOS (GASTOS)'!F162","v":0},0,{"$f":"+'B.DATOS (GASTOS)'!H162","v":0},null,{"$f":"+'B.DATOS (GASTOS)'!I162","v":0},null,0,{"$f":"+'B.DATOS (GASTOS)'!K162","v":0},0,0,{"$f":"+R265*100/R269","v":0}]
[null,null,"413 SALUD ASCOPE",null,{"$f":"+'B.DATOS (GASTOS)'!C163","v":0},{"$f":"+'B.DATOS (GASTOS)'!D163","v":0},{"$f":"+'B.DATOS (GASTOS)'!E163","v":0},null,{"$f":"+'B.DATOS (GASTOS)'!F163","v":0},0,{"$f":"+'B.DATOS (GASTOS)'!H163","v":0},null,{"$f":"+'B.DATOS (GASTOS)'!I163","v":0},null,0,{"$f":"+'B.DATOS (GASTOS)'!K163","v":0},0,0,{"$f":"+R266*100/R269","v":0}]
[null,"       LA LIBERTAD","414 SALUD GRAN CHIMU",null,{"$f":"+'B.DATOS (GASTOS)'!C164","v":0},{"$f":"+'B.DATOS (GASTOS)'!D164","v":0},{"$f":"+'B.DATOS (GASTOS)'!E164","v":0},null,{"$f":"+'B.DATOS (GASTOS)'!F164","v":0},0,{"$f":"+'B.DATOS (GASTOS)'!H164","v":0},null,{"$f":"+'B.DATOS (GASTOS)'!I164","v":0},null,0,{"$f":"+'B.DATOS (GASTOS)'!K164","v":0},0,0,{"$f":"+R267*100/R269","v":0}]
[]
[null,"TOTAL SECTOR","TOTAL SECTOR",{"$f":"SUM(D232:D268)","v":0},0,0,0,0,0,0,0,0,216867115,0,216867115,0,0,216867115,{"$f":"+R269*100/R269","v":100}]
[null,"PROYECTO DE PRESUPUESTO PARA EL AÑO FISCAL 2020"]
[null,"INFORMACION PARA LA COMISION DE PRESUPUESTO Y CUENTA GENERAL DE LA REPUBLICA DEL CONGRESO DE LA REPUBLICA"]

{"sheet":"F.06","index":7,"n_rows":58,"n_cols":15,"rows_kept":58,"cut":false,"hidden":false,"merged":[[1,1,1,14],[2,1,2,14],[3,1,3,14],[7,1,8,1],[7,2,7,5],[7,6,7,8],[7,9,7,14]]}
[]
[null,"FORMATO N° 06"]
[null,"PROGRAMAS SOCIALES PRIORIZADOS SEGÚN EL CICLO DE VIDA POR FUENTE DE FINANCIAMIENTO 2018, 2019 Y PROYECTO 2020"]
[null,"PROYECTO DE PRESUPUESTO - 2020"]
[null,"SECTOR : 99 GOBIERNOS REGIONALES"]
[null,"PLIEGO  : 451 GOBIERNO REGIONAL LA LIBERTAD"]
[null,"FTE FTO : "]
[null,"PROGRAMAS SOCIALES ","PRESUPUESTO PIA",null,null,null,"PRESUPUESTO PIM",null,null,"BENEFICIARIOS"]
[null,null,2018,2019,"DIferencia (2018-2019)","Proyecto 2020",2018,2019,"DIferencia (2018-2019)",2018,"2019 (*)","DIferencia (2018-2019)","Estimado 2019 (**)","Proyecto 2020","DIferencia (2019-2020)"]
[]
[null,"I.  DE GESTANTES A NIÑOS DE HASTA 14 AÑOS"]
[null,"JUNTOS"]
[]
[null,"II.  GESTACIÓN",{"$f":"SUM(C15:C16)","v":68970923},{"$f":"SUM(D15:D16)","v":75431490},-3993961,76604718,90912526,94827464,-3914938,164900,164900,0,167400,167400,-2500]
[null,"SAMU",12931719,14165022,{"$f":"+D15-C15","v":1233303},15449770,13923331,15830419,{"$f":"+G15-H15","v":-1907088},2400,2400,{"$f":"+K15-J15","v":0},2400,{"$f":"+M15-L15","v":2400},{"$f":"+M15-K15","v":0}]
[null,"SMN",56039204,61266468,{"$f":"+C16-D16","v":-5227264},61154948,76989195,78997045,{"$f":"+G16-H16","v":-2007850},162500,162500,{"$f":"+K16-J16","v":0},165000,165000,{"$f":"+J16-N16","v":-2500}]
[null,"Mortalidad Materna"]
[null,"Mortalidad Neonatal"]
[]
[null,"III.  De 0 a 2 AÑOS",{"$f":"SUM(C21:C22)","v":106824652},104512820,2311832,79067468,142917498,108972704,33944794,{"$f":"+J21","v":89000},{"$f":"+K21","v":89000},{"$f":"SUM(L21:L22)","v":0},{"$f":"+M21","v":90000},{"$f":"SUM(N21:N22)","v":92000},{"$f":"+O21","v":-2000}]
[null,"PAN",106824652,104512820,{"$f":"+C21-D21","v":2311832},79067468,142917498,108972704,{"$f":"+G21-H21","v":33944794},89000,89000,{"$f":"+J21-K21","v":0},90000,92000,{"$f":"+M21-N21","v":-2000}]
[null,"CUNA MAS",null,null,null,{"$f":"+E22-D22","v":0},null,null,{"$f":"+H22-G22","v":0},null,null,{"$f":"+K22-J22","v":0},null,{"$f":"+M22-L22","v":0}]
[null,"Desnutrición Cronica"]
[null,"Mortalidad Infantil"]
[null,"Desarrollo cognitivo, lenguaje, socioemocional y motor"]
[]
[null,"IV. DE 3 A 5 AÑOS",{"$f":"+C28","v":124991506},144584498,19592992,144584498,145128938,155028859,9899921,68368,69368,1000,76283,75283,6915]
[null,"PELA",124991506,144584498,{"$f":"+D28-C28","v":19592992},144584498,145128938,155028859,{"$f":"+H28-G28","v":9899921},68368,69368,{"$f":"+K28-J28","v":1000},76283,{"$f":"+M28-L28","v":75283},{"$f":"+M28-K28","v":6915}]
[null,"Logros de aprendizaje",null,null,null,null,null,null,{"$f":"+H29-G29","v":0},null,null,{"$f":"+K29-J29","v":0},null,null,{"$f":"+M29-K29","v":0}]
[null,"Cobertura escolar"]
[]
[null,"V. DE 6 A 12 AÑOS",{"$f":"+C33","v":311852842},310675637,1177205,310675637,344654171,345722780,1068609,172300,172800,500,177236,176736,4436]
[null,"PELA Primaria",311852842,310675637,{"$f":"+C33-D33","v":1177205},310675637,344654171,345722780,{"$f":"+H33-G33","v":1068609},172300,172800,{"$f":"+K33-J33","v":500},177236,{"$f":"+M33-L33","v":176736},{"$f":"+M33-K33","v":4436}]
[null,"Logros de aprendizaje",null,null,null,null,null,null,{"$f":"+H34-G34","v":0},null,null,{"$f":"+K34-J34","v":0},null,null,{"$f":"+M34-K34","v":0}]
[]
[null,"VI. DE 13 A 17 AÑOS",{"$f":"+C37","v":291311768},286302061,5009707,286302061,306915945,313839812,6923867,118000,118681,681,121484,120803,2803]
[null,"PELA Secundaria",291311768,286302061,{"$f":"+C37-D37","v":5009707},286302061,306915945,313839812,{"$f":"+H37-G37","v":6923867},118000,118681,{"$f":"+K37-J37","v":681},121484,{"$f":"+M37-L37","v":120803},{"$f":"+M37-K37","v":2803}]
[null,"Cobertura escolar"]
[null,"Logros de aprindizaje",null,null,null,{"$f":"+E39-D39","v":0},null,null,{"$f":"+H39-G39","v":0},null,null,{"$f":"+K39-J39","v":0},null,{"$f":"+M39-L39","v":0},{"$f":"+M39-K39","v":0}]
[null,"Deserción escolar"]
[]
[null,"VII. DE 17 A 24 AÑOS"]
[null,"Jovenes a la obra"]
[null,"Beca 18"]
[null,"Acceso a la educación superior de calidad"]
[null,"Educacion pertienente para el mercado laboral"]
[]
[null,"VIII. DE 65 A MAS"]
[null,"Pensión 65"]
[null,"Asegurar las condiciones básicas para la subsistencia"]
[]
[null,"TOTAL",{"$f":"+C14+C20+C27+C32+C36","v":903951691},{"$f":"+D14+D20+D27+D32+D36","v":921506506},{"$f":"+E14+E20+E27+E32+E36","v":24097775},897234382,1030529078,1018391619,47922253,{"$f":"+J14+J20+J27+J32+J36","v":612568},614749,2181,632403,632222,9654]
[null,"Est. %"]
[null,"(*) Al 30 de junio 2019"]
[null,"(**) = Estimado al 31 de diciembre de 2019"]
[]
[null,"PROYECTO DE PRESUPUESTO PARA EL AÑO FISCAL 2021"]
[null,"INFORMACION PARA LA COMISION DE PRESUPUESTO Y CUENTA GENERAL DE LA REPUBLICA DEL CONGRESO DE LA REPUBLICA"]

{"sheet":"F.05","index":8,"n_rows":136,"n_cols":7,"rows_kept":136,"cut":false,"hidden":false,"merged":[[1,1,1,4],[2,1,2,4],[3,1,3,4],[6,2,7,2],[6,3,7,3],[6,4,7,4],[48,2,49,2],[48,3,49,3],[48,4,49,4],[90,2,91,2],[90,3,91,3],[90,4,91,4]]}
[]
[null,"FORMATO N° 05"]
[null,"DISTRIBUCION DEL PRESUPUESTO POR PROGRAMA PRESUPUESTAL 2018, 2019 Y 2020"]
[null,"PROYECTO DE PRESUPUESTO - 2020"]
[null,"SECTOR : 99 GOBIERNOS REGIONALES"]
[null,"PLIEGO  : 451 GOBIERNO REGIONAL LA LIBERTAD"]
[null,"P.I.A.",2018,2019,2020]
[null,"POR PROGRAMA PRESUPUESTAL"]
[null,"0001: PROGRAMA ARTICULADO NUTRICIONAL",106824652,104512820,79067468,null,2019]
[null,"0002: SALUD MATERNO NEONATAL",56039204,61266468,61154948,null,"FALTA INGRESAR PIM "]
[null,"0016: PTBC-VIH/SIDA",16334943,18929368,21730512,null,"FALTA INGRESAR EJECUCION PROYECTADA "]
[null,"0017: ENFERMDEDADES METAXENICAS Y ZOONOSIS",5394702,5327205,5781357]
[null,"0018: EFNERMEDADES NO TRANSMISIBLES",14986326,17841505,18647491]
[null,"0024: PREVENCION Y CONTROL DEL CANCER",14949883,16864732,18868765,null,"AÑO 2020"]
[null,"0030: REDUCCION DE DELITOS Y FALTAS QUE AFECTAN LA SEGURIDAD CIUDADANA",0,null,2952500,null,"PIM : SE INGRESO EL MISMO IMPORTE DEL PIA"]
[null,"0042: APROVECHAMIENTO DE LOS RECURSOS HIDRICOS PARA USO AGRARIO",380564651,207933266,280115204,null,"EJECUCION PROYECTADA : SE INGRESOS EL MISMO IMPORTE DEL PIA"]
[null,"0046: ACCESO Y USO DE LA ELECTRIFICACION RURAL"]
[null,"0047: ACCESO Y USO ADECUADO DE LOS SERVICIOS PUBLICOS DE TELECOMUNICACIONES E INFORMACION ASOCIADA",6970,15480,20471]
[null,"0048: PREVENCION Y ATENCION DE INCENDIOS, EMERGENCIAS MEDICAS, RESCATES Y OTROS",0]
[null,"0051: PREVENCION Y TRATAMIENTO DEL CONSUMO DE DROGAS",2404259,1849040,1109198]
[null,"0068: REDUCCION DE VULNERABILIDAD Y ATENCION DE EMERGENCIAS POR DESASTRES",5486447,5308817,6487329]
[null,"0082: PROGRAMA NACIONAL DE SANEAMIENTO URBANO",0]
[null,"0083: PROGRAMA NACIONAL DE SANEAMIENTO RURAL",null,null,385700]
[null,"0090: LOGROS DE APRENDIZAJE DE ESTUDIANTES DE LA EDUCACION BASICA REGULAR",{"$f":"772655604+70000","v":772725604},793502683,844124875]
[null,"0091: INCREMENTO EN EL ACCESO DE LA POBLACION DE 3 A 16 AÑOS A LOS SERVICIOS EDUCATIVOS PUBLICOS DE LA EDUCACION BASICA REGULAR",857741,2665470]
[null,"0095: FORTALECIMIENTO DE LA PESCA ARTESANAL"]
[null,"0101: INCREMENTO DE LA PRACTICA DE ACTIVIDADES FISICAS, DEPORTIVAS Y RECREATIVAS EN LA POBLACION PERUANA"," "]
[null,"0103: FORTALECIMIENTO DE LAS CONDICIONES LABORALES",2668680,2701045,2706117]
[null,"0104: REDUCCION DE LA MORTALIDAD POR EMERGENCIAS Y URGENCIAS MEDICAS",12931719,14165022,15449770]
[null,"0106: INCLUSION DE NIÑOS, NIÑAS Y JOVENES CON DISCAPACIDAD EN LA EDUCACION BASICA Y TECNICO PRODUCTIVA",6749930,6498514,7130933]
[null,"0107: MEJORA DE LA FORMACION EN CARRERAS DOCENTES EN INSTITUTOS DE EDUCACION SUPERIOR NO UNIVERSITARIA",12865724,10641996,12245499]
[null,"0117: ATENCION OPORTUNA DE NIÑAS, NIÑOS Y ADOLESCENTE EN PRESUNTO ESTADO DE ABANDONO",null,null,1010096]
[null,"0121: MEJORA DE LA ARTICULACION DE PEQUEÑOS PRODUCTORES AL MERCADO",2889453,2905297,2896163]
[null,"0129: PREVENCION Y MANEJO DE CONDICIONES SECUNDARIAS DE SALUD EN PERSONAL CON DISCAPACIDAD",825064,727491,954744]
[null,"0130: COMPETITIVIDAD Y APROVECHAMIENTO SOSTENIBLE DE LOS RECURSOS FORESTALES Y DE LA FAUNA SILVESTRE",621221,679816,581604]
[null,"0131: CONTROL Y PREVENCION EN SALUD MENTAL",4490349,4705153,8736394]
[null,"0138: REDUCCION DEL COSTO, TIEMPO E INSEGURIDADEN EL SISTEMA DE TRANSPORTE",39531106,5120630,16325280]
[null,"0146: ACCESO DE LAS FAMILIAS A VIVIENDA Y ENTORNO URBANO ADECUADO"]
[null,"0147: FORTALECIMIENTO DE LA EDUCACION SUPERIOR TECNOLOGICA",null,null,757459]
[null,"0150: INCREMENTO EN EL ACCESO DE LA POBLACION A LOS SERVICIOS EDUCATIVOS PUBLICOS DE LA EDUCACION BASICA ",null,null,3615]
[]
[null,"9001: ACCIONES CENTRALES",127565933,186496981,191829182]
[]
[null,"9002: ASIGNACIONES PRESUPUESTALES QUE NO RESULTAN EN PRODUCTOS",427766559,396014201,404793865]
[]
[null,"PIA TOTAL S/    ",{"$f":"SUM(C9:C45)","v":2015481120},{"$f":"SUM(D9:D45)","v":1866673000},2005866539]
[]
[]
[null,"P.I.M.",2018,2019,2020]
[null,"POR PROGRAMA PRESUPUESTAL"]
[null,"0001: PROGRAMA ARTICULADO NUTRICIONAL",142917498,108489549,79067468]
[null,"0002: SALUD MATERNO NEONATAL",76989195,79517388,61154948]
[null,"0016: PTBC-VIH/SIDA",21927214,24936495,21730512]
[null,"0017: ENFERMDEDADES METAXENICAS Y ZOONOSIS",6139835,5725670,5781357]
[null,"0018: EFNERMEDADES NO TRANSMISIBLES",20618491,32182405,18647491]
[null,"0024: PREVENCION Y CONTROL DEL CANCER",26550001,23870158,18868765]
[null,"0030: REDUCCION DE DELITOS Y FALTAS QUE AFECTAN LA SEGURIDAD CIUDADANA",7218657,2890115,2952500]
[null,"0042: APROVECHAMIENTO DE LOS RECURSOS HIDRICOS PARA USO AGRARIO",445389103,210306684,280115204]
[null,"0046: ACCESO Y USO DE LA ELECTRIFICACION RURAL",42238,22104]
[null,"0047: ACCESO Y USO ADECUADO DE LOS SERVICIOS PUBLICOS DE TELECOMUNICACIONES E INFORMACION ASOCIADA",6970,16540,20471]
[null,"0048: PREVENCION Y ATENCION DE INCENDIOS, EMERGENCIAS MEDICAS, RESCATES Y OTROS",1102900,1086060]
[null,"0051: PREVENCION Y TRATAMIENTO DEL CONSUMO DE DROGAS",3904259,2263597,1109198]
[null,"0068: REDUCCION DE VULNERABILIDAD Y ATENCION DE EMERGENCIAS POR DESASTRES",24740364,19789979,6487329]
[null,"0082: PROGRAMA NACIONAL DE SANEAMIENTO URBANO",3237552,248263]
[null,"0083: PROGRAMA NACIONAL DE SANEAMIENTO RURAL",1087483,1177135,385700]
[null,"0090: LOGROS DE APRENDIZAJE DE ESTUDIANTES DE LA EDUCACION BASICA REGULAR",{"$f":"858699406+4449","v":858703855},{"$f":"878655509+237685569","v":1116341078},844124875]
[null,"0091: INCREMENTO EN EL ACCESO DE LA POBLACION DE 3 A 16 AÑOS A LOS SERVICIOS EDUCATIVOS PUBLICOS DE LA EDUCACION BASICA REGULAR",2472572,2473679]
[null,"0095: FORTALECIMIENTO DE LA PESCA ARTESANAL",549700]
[null,"0101: INCREMENTO DE LA PRACTICA DE ACTIVIDADES FISICAS, DEPORTIVAS Y RECREATIVAS EN LA POBLACION PERUANA",195990]
[null,"0103: FORTALECIMIENTO DE LAS CONDICIONES LABORALES",2668680,2865556,2706117]
[null,"0104: REDUCCION DE LA MORTALIDAD POR EMERGENCIAS Y URGENCIAS MEDICAS",13923331,15830480,15449770]
[null,"0106: INCLUSION DE NIÑOS, NIÑAS Y JOVENES CON DISCAPACIDAD EN LA EDUCACION BASICA Y TECNICO PRODUCTIVA",7215203,7252314,7130933]
[null,"0107: MEJORA DE LA FORMACION EN CARRERAS DOCENTES EN INSTITUTOS DE EDUCACION SUPERIOR NO UNIVERSITARIA",14841180,13101153,12245499]
[null,"0117: ATENCION OPORTUNA DE NIÑAS, NIÑOS Y ADOLESCENTE EN PRESUNTO ESTADO DE ABANDONO",null,null,1010096]
[null,"0121: MEJORA DE LA ARTICULACION DE PEQUEÑOS PRODUCTORES AL MERCADO",2986298,2955943,2896163]
[null,"0129: PREVENCION Y MANEJO DE CONDICIONES SECUNDARIAS DE SALUD EN PERSONAL CON DISCAPACIDAD",909345,830071,954744]
[null,"0130: COMPETITIVIDAD Y APROVECHAMIENTO SOSTENIBLE DE LOS RECURSOS FORESTALES Y DE LA FAUNA SILVESTRE",622207,679816,581604]
[null,"0131: CONTROL Y PREVENCION EN SALUD MENTAL",7915771,10682453,8736394]
[null,"0138: REDUCCION DEL COSTO, TIEMPO E INSEGURIDADEN EL SISTEMA DE TRANSPORTE",49480571,23878704,16325280]
[null,"0146: ACCESO DE LAS FAMILIAS A VIVIENDA Y ENTORNO URBANO ADECUADO",5716937]
[null,"0147: FORTALECIMIENTO DE LA EDUCACION SUPERIOR TECNOLOGICA",4475417,6271559,757459]
[null,"0150: INCREMENTO EN EL ACCESO DE LA POBLACION A LOS SERVICIOS EDUCATIVOS PUBLICOS DE LA EDUCACION BASICA ",null,null,3615]
[]
[null,"9001: ACCIONES CENTRALES",225452498,{"$f":"241223393-878674","v":240344719},191829182]
[]
[null,"9002: ASIGNACIONES PRESUPUESTALES QUE NO RESULTAN EN PRODUCTOS",586029001,{"$f":"511656575-258932016","v":252724559},404793865]
[]
[null,"PIM TOTAL S/    ",{"$f":"SUM(C51:C87)","v":2566030316},{"$f":"SUM(D51:D87)","v":2208754226},{"$f":"SUM(E51:E87)","v":2005866539}]
[]
[]
[null,"EJECUCION",2018,2019,2020]
[null,"POR PROGRAMA PRESUPUESTAL"]
[null,"0001: PROGRAMA ARTICULADO NUTRICIONAL",96145940.590000004,55897495.359999999,79067468]
[null,"0002: SALUD MATERNO NEONATAL",69712025.209999993,45873432.979999997,61154948]
[null,"0016: PTBC-VIH/SIDA",20394473.699999999,16459320.27,21730512]
[null,"0017: ENFERMDEDADES METAXENICAS Y ZOONOSIS",5701485.2599999998,3616942.0800000001,5781357]
[null,"0018: EFNERMEDADES NO TRANSMISIBLES",18534674.93,14819615.07,18647491]
[null,"0024: PREVENCION Y CONTROL DEL CANCER",25301483.34,14458793.93,18868765]
[null,"0030: REDUCCION DE DELITOS Y FALTAS QUE AFECTAN LA SEGURIDAD CIUDADANA",2760015.49,2435400,2952500]
[null,"0042: APROVECHAMIENTO DE LOS RECURSOS HIDRICOS PARA USO AGRARIO",6768453.7699999996,2523523.29,280115204]
[null,"0046: ACCESO Y USO DE LA ELECTRIFICACION RURAL",9000,16874]
[null,"0047: ACCESO Y USO ADECUADO DE LOS SERVICIOS PUBLICOS DE TELECOMUNICACIONES E INFORMACION ASOCIADA",6875.33,11652.24,20471]
[null,"0048: PREVENCION Y ATENCION DE INCENDIOS, EMERGENCIAS MEDICAS, RESCATES Y OTROS",null,1086059.28]
[null,"0051: PREVENCION Y TRATAMIENTO DEL CONSUMO DE DROGAS",2853219.15,411223.37,1109198]
[null,"0068: REDUCCION DE VULNERABILIDAD Y ATENCION DE EMERGENCIAS POR DESASTRES",11552880.199999999,6200979.3899999997,6487329]
[null,"0082: PROGRAMA NACIONAL DE SANEAMIENTO URBANO",2789030.6,195045.34]
[null,"0083: PROGRAMA NACIONAL DE SANEAMIENTO RURAL",340351.27,170624.64000000001,385700]
[null,"0090: LOGROS DE APRENDIZAJE DE ESTUDIANTES DE LA EDUCACION BASICA REGULAR",{"$f":"826273445.18+7984.48","v":826281429.65999997},{"$f":"544957587.56+518847465.98","v":1063805053.54},844124875]
[null,"0091: INCREMENTO EN EL ACCESO DE LA POBLACION DE 3 A 16 AÑOS A LOS SERVICIOS EDUCATIVOS PUBLICOS DE LA EDUCACION BASICA REGULAR",2035494.35,583183.07999999996]
[null,"0095: FORTALECIMIENTO DE LA PESCA ARTESANAL"]
[null,"0101: INCREMENTO DE LA PRACTICA DE ACTIVIDADES FISICAS, DEPORTIVAS Y RECREATIVAS EN LA POBLACION PERUANA",195989.05]
[null,"0103: FORTALECIMIENTO DE LAS CONDICIONES LABORALES",2262643.9900000002,1554849.89,2706117]
[null,"0104: REDUCCION DE LA MORTALIDAD POR EMERGENCIAS Y URGENCIAS MEDICAS",13630607.140000001,9874359.1300000008,15449770]
[null,"0106: INCLUSION DE NIÑOS, NIÑAS Y JOVENES CON DISCAPACIDAD EN LA EDUCACION BASICA Y TECNICO PRODUCTIVA",7038375.0999999996,4262318.51,7130933]
[null,"0107: MEJORA DE LA FORMACION EN CARRERAS DOCENTES EN INSTITUTOS DE EDUCACION SUPERIOR NO UNIVERSITARIA",14625858.720000001,8634977.1300000008,12245499]
[null,"0117: ATENCION OPORTUNA DE NIÑAS, NIÑOS Y ADOLESCENTE EN PRESUNTO ESTADO DE ABANDONO",null,null,1010096]
[null,"0121: MEJORA DE LA ARTICULACION DE PEQUEÑOS PRODUCTORES AL MERCADO",2874493.6,1804618.75,2896163]
[null,"0129: PREVENCION Y MANEJO DE CONDICIONES SECUNDARIAS DE SALUD EN PERSONAL CON DISCAPACIDAD",897976.04,458655.46,954744]
[null,"0130: COMPETITIVIDAD Y APROVECHAMIENTO SOSTENIBLE DE LOS RECURSOS FORESTALES Y DE LA FAUNA SILVESTRE",496358.89,267627.73,581604]
[null,"0131: CONTROL Y PREVENCION EN SALUD MENTAL",6816434.25,5218658.05,8736394]
[null,"0138: REDUCCION DEL COSTO, TIEMPO E INSEGURIDADEN EL SISTEMA DE TRANSPORTE",23764256.350000001,6035153.5999999996,16325280]
[null,"0146: ACCESO DE LAS FAMILIAS A VIVIENDA Y ENTORNO URBANO ADECUADO",5611025.7699999996]
[null,"0147: FORTALECIMIENTO DE LA EDUCACION SUPERIOR TECNOLOGICA",467931.89,5642458.8899999997,757459]
[null,"0150: INCREMENTO EN EL ACCESO DE LA POBLACION A LOS SERVICIOS EDUCATIVOS PUBLICOS DE LA EDUCACION BASICA ",null,null,3615]
[]
[null,"9001: ACCIONES CENTRALES",214982963.88,{"$f":"126502830.47+84630125.53","v":211132956},191829182]
[]
[null,"9002: ASIGNACIONES PRESUPUESTALES QUE NO RESULTAN EN PRODUCTOS",471073048.38,{"$f":"266153182.36+161487478.64","v":427640661},404793865]
[]
[null,"EJECUCION TOTAL S/    ",{"$f":"SUM(C93:C129)","v":1855924795.9000001},{"$f":"SUM(D93:D129)","v":1911092512.0000002},2005866539]
[]
[null," (*)  Proyección a 31/12/2019"]
[null,"(**) Proyecto 2020"]
[]
[null,"PROYECTO DE PRESUPUESTO PARA EL AÑO FISCAL 2020"]
[null,"INFORMACION PARA LA COMISION DE PRESUPUESTO Y CUENTA GENERAL DE LA REPUBLICA DEL CONGRESO DE LA REPUBLICA"]

{"sheet":"F.07","index":9,"n_rows":33,"n_cols":18,"rows_kept":33,"cut":false,"hidden":false,"merged":[[3,1,3,17],[4,1,4,17],[5,1,5,17],[8,1,10,1],[8,2,8,8],[8,9,8,13],[8,14,8,15],[8,16,9,17]]}
[]
[null,null,null,2.1,2.2000000000000002,2.2999999999999998,null,2.5,null,2.4,null,2.6,null,null,2.8]
[]
[null,"FORMATO N° 07"]
[null,"RESUMEN POR GRUPO GENÉRICO Y FUENTES DE FINANCIAMIENTO 2020"]
[null,"PROYECTO DE PRESUPUESTO - 2020"]
[null,"SECTOR : 99 GOBIERNOS REGIONALES"]
[null,"PLIEGO  : 451 GOBIERNO REGIONAL LA LIBERTAD"]
[null,"RECURSOS PUBLICOS","GASTO CORRIENTE 2020",null,null,null,null,null,null,"GASTO CAPITAL 2020",null,null,null,null,"SERVICIO DE DEUDA 2020",null,"TOTAL"]
[null,null,"RESERVA","PERSONAL Y","PENSIONES","BIENES Y","DONACIONES","OTROS","SUB TOTAL","DONACIONES","OTROS","ADQUIS. ACT.","ADQUIS. ACT.","SUB TOTAL","SERVICIO DE","SUB TOTAL"]
[null,null,"CONTINGENCIA","OBLIGAC. SOC.","PREST. SOC.","SERVICIOS","TRANSFER.","GASTOS","GASTO CTE","TRANSFER.","GASTOS","NO FINANC.","FINANC.","GASTO CAP.","LA DEUDA","SERV. DEUDA","S/","EST. %"]
[]
[null,"1. RECURSOS ORDINARIOS",null,{"$f":"+'B.DATOS (GASTOS)'!F338","v":1198853987},{"$f":"+'B.DATOS (GASTOS)'!F339","v":189632677},{"$f":"+'B.DATOS (GASTOS)'!F340","v":181889287},null,{"$f":"+'B.DATOS (GASTOS)'!F341","v":776596},{"$f":"SUM(C13:H13)","v":1571152547},{"$f":"+'B.DATOS (GASTOS)'!F343","v":0},null,{"$f":"+'B.DATOS (GASTOS)'!F344","v":54818801},null,{"$f":"SUM(J13:M13)","v":54818801},{"$f":"+'B.DATOS (GASTOS)'!F346","v":0},{"$f":"SUM(O13)","v":0},{"$f":"+P13+N13+I13","v":1625971348},{"$f":"+Q13/$Q$29","v":0.81060785273165015}]
[]
[null,"2. RECURSOS DIRECTAM. RECAUD.",null,{"$f":"+'B.DATOS (GASTOS)'!G338","v":109283},{"$f":"+'B.DATOS (GASTOS)'!G339","v":0},{"$f":"+'B.DATOS (GASTOS)'!G340","v":42395338},null,{"$f":"+'B.DATOS (GASTOS)'!G341","v":554488},{"$f":"SUM(C15:H15)","v":43059109},{"$f":"+'B.DATOS (GASTOS)'!G343","v":0},null,{"$f":"+'B.DATOS (GASTOS)'!G344","v":33859549},null,{"$f":"SUM(J15:M15)","v":33859549},{"$f":"+'B.DATOS (GASTOS)'!G346","v":20445916},{"$f":"SUM(O15)","v":20445916},{"$f":"+P15+N15+I15","v":97364574},{"$f":"+Q15/$Q$29","v":4.8539901000931938E-2}]
[]
[null,"3.- RECURS.OPERAC.OFICIALES DE CREDITO",null,{"$f":"+'B.DATOS (GASTOS)'!H338","v":0},{"$f":"+'B.DATOS (GASTOS)'!H339","v":0},{"$f":"+'B.DATOS (GASTOS)'!H340","v":0},null,{"$f":"+'B.DATOS (GASTOS)'!H341","v":0},{"$f":"SUM(C17:H17)","v":0},{"$f":"+'B.DATOS (GASTOS)'!H343","v":0},222,{"$f":"+'B.DATOS (GASTOS)'!H344","v":216867115},null,{"$f":"SUM(J17:M17)","v":216867337},{"$f":"+'B.DATOS (GASTOS)'!H346","v":0},{"$f":"SUM(O17)","v":0},{"$f":"+P17+N17+I17","v":216867337},{"$f":"+Q17/$Q$29","v":0.10811652160379959}]
[]
[null,"4. DONACIONES Y TRANSFERENCIAS",null,{"$f":"+'B.DATOS (GASTOS)'!I338","v":0},{"$f":"+'B.DATOS (GASTOS)'!I339","v":0},{"$f":"+'B.DATOS (GASTOS)'!I340","v":3748466},null,{"$f":"+'B.DATOS (GASTOS)'!I341","v":0},{"$f":"SUM(C19:H19)","v":3748466},{"$f":"+'B.DATOS (GASTOS)'!I343","v":0},null,{"$f":"+'B.DATOS (GASTOS)'!I344","v":0},null,{"$f":"SUM(J19:M19)","v":0},{"$f":"+'B.DATOS (GASTOS)'!I346","v":0},{"$f":"SUM(O19)","v":0},{"$f":"+P19+N19+I19","v":3748466},{"$f":"+Q19/$Q$29","v":1.8687512415486902E-3}]
[]
[null,"5. RECURSOS DETERMINADOS",{"$f":"SUM(C23:C27)","v":0},0,0,5466099,0,0,{"$f":"SUM(C21:H21)","v":5466099},{"$f":"SUM(J23:J27)","v":0},{"$f":"SUM(K23:K27)","v":0},{"$f":"SUM(L23:L27)","v":44971923},{"$f":"SUM(M23:M27)","v":0},{"$f":"SUM(J21:M21)","v":44971923},{"$f":"SUM(O23:O27)","v":11477014},{"$f":"SUM(O21)","v":11477014},{"$f":"+P21+N21+I21","v":61915036},{"$f":"+Q21/$Q$29","v":3.0866973422069684E-2}]
[]
[null,"    - CANON  Y  SOBRECANON, REGALIAS Y PARTICIPAC.",null,{"$f":"+'B.DATOS (GASTOS)'!J338","v":0},{"$f":"+'B.DATOS (GASTOS)'!J339","v":0},{"$f":"+'B.DATOS (GASTOS)'!J340","v":5466099},null,{"$f":"+'B.DATOS (GASTOS)'!J341","v":0},{"$f":"SUM(C23:H23)","v":5466099},{"$f":"+'B.DATOS (GASTOS)'!J343","v":0},null,{"$f":"+'B.DATOS (GASTOS)'!J344","v":44971923},null,{"$f":"SUM(J23:M23)","v":44971923},{"$f":"+'B.DATOS (GASTOS)'!J346","v":11477014},{"$f":"SUM(O23)","v":11477014},{"$f":"+P23+N23+I23","v":61915036},{"$f":"+Q23/$Q$29","v":3.0866973422069684E-2}]
[null,"    - CONTRIBUCIONES A FONDOS"]
[null,"    - FONDO DE COMPENCIÓN MUNICIPAL"]
[null,"    - IMPUESTOS MUNICIPALES"]
[null,"    - OTROS (ESPECIFICAR)"]
[]
[null,"TOTAL",{"$f":"SUM(C13:C21)","v":0},1198963270,189632677,233499190,0,1331084,1623426221,0,222,350517388,0,350517610,31922930,31922930,2005866761,{"$f":"+Q29/$Q$29","v":1}]
[]
[]
[null,"PROYECTO DE PRESUPUESTO PARA EL AÑO FISCAL 2020"]
[null,"INFORMACION PARA LA COMISION DE PRESUPUESTO Y CUENTA GENERAL DE LA REPUBLICA DEL CONGRESO DE LA REPUBLICA"]

{"sheet":"F.08","index":10,"n_rows":116,"n_cols":19,"rows_kept":116,"cut":false,"hidden":false,"merged":[[8,20,8,23],[1,1,1,8],[2,1,2,18],[3,1,3,18],[4,1,4,18],[7,1,8,1],[7,2,8,2],[7,3,7,9],[7,10,7,14],[7,15,7,16],[7,17,7,18]]}
[null,null,null,null,2.1,2.2000000000000002,2.2999999999999998,null,2.5,null,2.4,null,2.6,null,null,2.8]
[]
[null,"FORMATO N° 08"]
[null,"RESUMEN DE PRESUPUESTO POR FUNCIONES PIA 2018, 2019 y PROYECTO 2020"]
[null,"PROYECTO DE PRESUPUESTO - 2020"]
[null,"SECTOR : 99 GOBIERNOS REGIONALES"]
[null,"PLIEGO  : 451 GOBIERNO REGIONAL LA LIBERTAD"]
[null,"FUNCIONES","PPTO (PIA)","GASTOS CORRIENTES */",null,null,null,null,null,null,"GASTOS DE CAPITAL",null,null,null,null,"SERVICIO DE DEUDA",null,"TOTAL"]
[null,null,null,"0: Reserva de Contingencia","1: Personal y Obligaciones Sociales","2: Pensiones y Prestaciones Sociales","3: Bienes y Servicios","4: Donaciones y Transferencias","5: Otros Gastos","SUB TOTAL GASTOS   CORRIENTES","4: Donaciones y Transferencias","5: Otros Gastos","6: Adquisiciones de Activos No Financieros","7: Adquisiciones de Activos Financieros","SUB TOTAL GASTOS DE CAPITAL","8: Servicio de la Deuda","SUB TOTAL SERVICIO DE DEUDA","SOLES","PART. %"]
[null,"1 Legislativa",2017,null,null,null,null,null,null,{"$f":"+D10+E10+F10+G10+H10+I10","v":0},null,null,null,null,{"$f":"+K10+L10+M10+N10","v":0}]
[null,null,2018,null,null,null,null,null,null,null,null,null,null,null,{"$f":"+K11+L11+M11+N11","v":0}]
[null,null,2019,null,null,null,null,null,null,null,null,null,null,null,{"$f":"+K12+L12+M12+N12","v":0}]
[null,null,"Var. % (2019-2018)"]
[null,"2 Relaciones Exteriores",2017,null,null,null,null,null,null,{"$f":"+D14+E14+F14+G14+H14+I14","v":0},null,null,null,null,{"$f":"+K14+L14+M14+N14","v":0}]
[null,null,2018,null,null,null,null,null,null,null,null,null,null,null,{"$f":"+K15+L15+M15+N15","v":0}]
[null,null,2019,null,null,null,null,null,null,null,null,null,null,null,{"$f":"+K16+L16+M16+N16","v":0}]
[null,null,"Var. % (2019-2018)",null,null,null," "]
[null,"3 Planeam. Gestión y Reserva",2018,null,10464644,101530,17594842,null,398207,{"$f":"+D18+E18+F18+G18+H18+I18","v":28559223},null,null,14237922,null,{"$f":"+K18+L18+M18+N18","v":14237922},null,{"$f":"+P18","v":0},{"$f":"+J18+O18+Q18","v":42797145},{"$f":"+R18*100/$R$110","v":2.1234207840160764}]
[null,null,2019,null,13043988,121189,42758151,null,498207,{"$f":"+D19+E19+F19+G19+H19+I19","v":56421535},10080749,null,2656777,null,{"$f":"+K19+L19+M19+N19","v":12737526},null,{"$f":"+P19","v":0},{"$f":"+J19+O19+Q19","v":69159061},{"$f":"+R19*100/$R$111","v":3.7049966704935011}]
[null,null,2020,null,12894227,79259,31230250,null,530506,{"$f":"+D20+E20+F20+G20+H20+I20","v":44734242},null,null,2569161,null,{"$f":"+K20+L20+M20+N20","v":2569161},null,{"$f":"+P20","v":0},{"$f":"+J20+O20+Q20","v":47303403},{"$f":"+R20*100/$R$112","v":2.3582527591084164}]
[null,null,"Var. % (2019-2020)",null,{"$f":"+E20/E19-1","v":-1.1481227980277176E-2},{"$f":"+F20/F19-1","v":-0.34598849730586112},{"$f":"+G20/G19-1","v":-0.26960709783732228},null,{"$f":"+I20/I19-1","v":6.4830482108842347E-2},{"$f":"+J20/J19-1","v":-0.20714241468262073},null,null,{"$f":"+M20/M19-1","v":-3.2978304163277516E-2},null,{"$f":"+O20/O19-1","v":-0.79829984252829},null,null,{"$f":"+R20/R19-1","v":-0.31602016690191903}]
[null,"4 Defensa y Seg. Nacional",{"$f":"+C18","v":2018},null,null,null,null,null,null,{"$f":"+D22+E22+F22+G22+H22+I22","v":0},null,null,null,null,{"$f":"+K22+L22+M22+N22","v":0},null,{"$f":"+P22","v":0},{"$f":"+J22+O22+Q22","v":0},{"$f":"+R22*100/$R$110","v":0}]
[null,null,2019,null,null,null,null,null,null,{"$f":"+D23+E23+F23+G23+H23+I23","v":0},null,null,null,null,{"$f":"+K23+L23+M23+N23","v":0},null,{"$f":"+P23","v":0},{"$f":"+J23+O23+Q23","v":0},{"$f":"+R23*100/$R$111","v":0}]
[null,null,2020,null,null,null,null,null,null,{"$f":"+D24+E24+F24+G24+H24+I24","v":0},null,null,null,null,{"$f":"+K24+L24+M24+N24","v":0},null,{"$f":"+P24","v":0},{"$f":"+J24+O24+Q24","v":0},{"$f":"+R24*100/$R$112","v":0}]
[null,null,"Var. % (2019-2020)",null,{"$f":"+E24/E23-1","v":{"$error":"#DIV/0!"}},{"$f":"+F24/F23-1","v":{"$error":"#DIV/0!"}},{"$f":"+G24/G23-1","v":{"$error":"#DIV/0!"}},null,{"$f":"+I24/I23-1","v":{"$error":"#DIV/0!"}},{"$f":"+J24/J23-1","v":{"$error":"#DIV/0!"}},null,null,{"$f":"+M24/M23-1","v":{"$error":"#DIV/0!"}},null,{"$f":"+O24/O23-1","v":{"$error":"#DIV/0!"}},null,{"$f":"+Q24/Q23-1","v":{"$error":"#DIV/0!"}},{"$f":"+R24/R23-1","v":{"$error":"#DIV/0!"}}]
[null,"5 Orden Púb. y Seguridad",2018,null,273352,1080000,1016541,null,null,{"$f":"+D26+E26+F26+G26+H26+I26","v":2369893},null,null,12500,null,{"$f":"+K26+L26+M26+N26","v":12500},null,{"$f":"+P26","v":0},{"$f":"+J26+O26+Q26","v":2382393},{"$f":"+R26*100/$R$110","v":0.11820467958538852}]
[null,null,2019,null,323103,1080000,1253987,null,null,{"$f":"+D27+E27+F27+G27+H27+I27","v":2657090},null,null,10048,null,{"$f":"+K27+L27+M27+N27","v":10048},null,{"$f":"+P27","v":0},{"$f":"+J27+O27+Q27","v":2667138},{"$f":"+R27*100/$R$111","v":0.14288420442473468}]
[null,null,2020,null,323103,1080000,2049015,null,null,{"$f":"+D28+E28+F28+G28+H28+I28","v":3452118},null,null,2952500,null,{"$f":"+K28+L28+M28+N28","v":2952500},null,{"$f":"+P28","v":0},{"$f":"+J28+O28+Q28","v":6404618},{"$f":"+R28*100/$R$112","v":0.31929432369877125}]
[null,null,"Var. % (2019-2020)",null,{"$f":"+E28/E27-1","v":0},{"$f":"+F28/F27-1","v":0},{"$f":"+G28/G27-1","v":0.63400019298445676},null,null,{"$f":"+J28/J27-1","v":0.29921003804914403},null,null,{"$f":"+M28/M27-1","v":292.83957006369428},null,{"$f":"+O28/O27-1","v":292.83957006369428},null,null,{"$f":"+R28/R27-1","v":1.4013073189313787}]
[null,"6 Justicia",2018,null,null,null,null,null,null,{"$f":"+D30+E30+F30+G30+H30+I30","v":0},null,null,null,null,{"$f":"+K30+L30+M30+N30","v":0},null,{"$f":"+P30","v":0},{"$f":"+J30+O30+Q30","v":0},{"$f":"+R30*100/$R$110","v":0}]
[null,null,2019,null,null,null,null,null,null,{"$f":"+D31+E31+F31+G31+H31+I31","v":0},null,null,null,null,{"$f":"+K31+L31+M31+N31","v":0},null,{"$f":"+P31","v":0},{"$f":"+J31+O31+Q31","v":0},{"$f":"+R31*100/$R$111","v":0}]
[null,null,2020,null,null,null,null,null,null,{"$f":"+D32+E32+F32+G32+H32+I32","v":0},null,null,null,null,{"$f":"+K32+L32+M32+N32","v":0},null,{"$f":"+P32","v":0},{"$f":"+J32+O32+Q32","v":0},{"$f":"+R32*100/$R$112","v":0}]
[null,null,"Var. % (2019-2020)",null,{"$f":"+E32/E31-1","v":{"$error":"#DIV/0!"}},{"$f":"+F32/F31-1","v":{"$error":"#DIV/0!"}},{"$f":"+G32/G31-1","v":{"$error":"#DIV/0!"}},null,{"$f":"+I32/I31-1","v":{"$error":"#DIV/0!"}},{"$f":"+J32/J31-1","v":{"$error":"#DIV/0!"}},null,null,{"$f":"+M32/M31-1","v":{"$error":"#DIV/0!"}},null,{"$f":"+O32/O31-1","v":{"$error":"#DIV/0!"}},null,{"$f":"+Q32/Q31-1","v":{"$error":"#DIV/0!"}},{"$f":"+R32/R31-1","v":{"$error":"#DIV/0!"}}]
[null,"7 Trabajo",2018,null,1132200,null,2029356,null,3120,{"$f":"+D34+E34+F34+G34+H34+I34","v":3164676},null,null,57880,null,{"$f":"+K34+L34+M34+N34","v":57880},null,{"$f":"+P34","v":0},{"$f":"+J34+O34+Q34","v":3222556},{"$f":"+R34*100/$R$110","v":0.15989016061832423}]
[null,null,2019,null,1161502,null,2148436,null,3120,{"$f":"+D35+E35+F35+G35+H35+I35","v":3313058},null,null,60000,null,{"$f":"+K35+L35+M35+N35","v":60000},null,{"$f":"+P35","v":0},{"$f":"+J35+O35+Q35","v":3373058},{"$f":"+R35*100/$R$111","v":0.1807018267553035}]
[null,null,2020,null,1161409,null,2083502,null,null,{"$f":"+D36+E36+F36+G36+H36+I36","v":3244911},null,null,null,null,{"$f":"+K36+L36+M36+N36","v":0},null,{"$f":"+P36","v":0},{"$f":"+J36+O36+Q36","v":3244911},{"$f":"+R36*100/$R$112","v":0.16177103196595075}]
[null,null,"Var. % (2019-2020)",null,{"$f":"+E36/E35-1","v":-8.0068738581573484E-5},null,{"$f":"+G36/G35-1","v":-3.0223846556285627E-2},null,{"$f":"+I36/I35-1","v":-1},{"$f":"+J36/J35-1","v":-2.0569214302918915E-2},null,null,{"$f":"+M36/M35-1","v":-1},null,{"$f":"+O36/O35-1","v":-1},null,null,{"$f":"+R36/R35-1","v":-3.7991341981074789E-2}]
[null,"8 Comercio",2018,null,null,null,null,null,null,{"$f":"+D38+E38+F38+G38+H38+I38","v":0},null,null,null,null,{"$f":"+K38+L38+M38+N38","v":0},null,{"$f":"+P38","v":0},{"$f":"+J38+O38+Q38","v":0},{"$f":"+R38*100/$R$110","v":0}]
[null,null,2019,null,null,null,null,null,null,{"$f":"+D39+E39+F39+G39+H39+I39","v":0},null,null,null,null,{"$f":"+K39+L39+M39+N39","v":0},null,{"$f":"+P39","v":0},{"$f":"+J39+O39+Q39","v":0},{"$f":"+R39*100/$R$111","v":0}]
[null,null,2020,null,null,null,null,null,null,{"$f":"+D40+E40+F40+G40+H40+I40","v":0},null,null,null,null,{"$f":"+K40+L40+M40+N40","v":0},null,{"$f":"+P40","v":0},{"$f":"+J40+O40+Q40","v":0},{"$f":"+R40*100/$R$112","v":0}]
[null,null,"Var. % (2019-2020)",null,{"$f":"+E40/E39-1","v":{"$error":"#DIV/0!"}},{"$f":"+F40/F39-1","v":{"$error":"#DIV/0!"}},{"$f":"+G40/G39-1","v":{"$error":"#DIV/0!"}},null,{"$f":"+I40/I39-1","v":{"$error":"#DIV/0!"}},{"$f":"+J40/J39-1","v":{"$error":"#DIV/0!"}},null,null,{"$f":"+M40/M39-1","v":{"$error":"#DIV/0!"}},null,{"$f":"+O40/O39-1","v":{"$error":"#DIV/0!"}},null,{"$f":"+Q40/Q39-1","v":{"$error":"#DIV/0!"}},{"$f":"+R40/R39-1","v":{"$error":"#DIV/0!"}}]
[null,"9 Turismo",2018,null,498805,null,153634,null,null,{"$f":"+D42+E42+F42+G42+H42+I42","v":652439},null,null,null,null,{"$f":"+K42+L42+M42+N42","v":0},null,{"$f":"+P42","v":0},{"$f":"+J42+O42+Q42","v":652439},{"$f":"+R42*100/$R$110","v":3.2371377410868526E-2}]
[null,null,2019,null,466481,null,158825,null,null,{"$f":"+D43+E43+F43+G43+H43+I43","v":625306},null,null,null,null,{"$f":"+K43+L43+M43+N43","v":0},null,{"$f":"+P43","v":0},{"$f":"+J43+O43+Q43","v":625306},{"$f":"+R43*100/$R$111","v":3.3498960433248348E-2}]
[null,null,2020,null,464682,null,258654,null,null,{"$f":"+D44+E44+F44+G44+H44+I44","v":723336},null,null,null,null,{"$f":"+K44+L44+M44+N44","v":0},null,{"$f":"+P44","v":0},{"$f":"+J44+O44+Q44","v":723336},{"$f":"+R44*100/$R$112","v":3.6061023300214691E-2}]
[null,null,"Var. % (2019-2020)",null,{"$f":"+E44/E43-1","v":-3.8565343497377613E-3},null,{"$f":"+G44/G43-1","v":0.62854714308200843},null,null,{"$f":"+J44/J43-1","v":0.15677124479854654},null,null,null,null,null,null,null,{"$f":"+R44/R43-1","v":0.15677124479854654}]
[null,"10 Agropecuaria",2018,null,3281914,14000,1815970,null,13000,{"$f":"+D46+E46+F46+G46+H46+I46","v":5124884},null,null,467865071,null,{"$f":"+K46+L46+M46+N46","v":467865071},null,{"$f":"+P46","v":0},{"$f":"+J46+O46+Q46","v":472989955},{"$f":"+R46*100/$R$110","v":23.467843499322882}]
[null,null,2019,null,3329654,null,2150612,null,13000,{"$f":"+D47+E47+F47+G47+H47+I47","v":5493266},null,null,250010557,null,{"$f":"+K47+L47+M47+N47","v":250010557},null,{"$f":"+P47","v":0},{"$f":"+J47+O47+Q47","v":255503823},{"$f":"+R47*100/$R$111","v":13.687878346314747}]
[null,null,2020,null,3329656,null,2086351,null,13000,{"$f":"+D48+E48+F48+G48+H48+I48","v":5429007},null,null,330853861,null,{"$f":"+K48+L48+M48+N48","v":330853861},null,{"$f":"+P48","v":0},{"$f":"+J48+O48+Q48","v":336282868},{"$f":"+R48*100/$R$112","v":16.764967232947097}]
[null,null,"Var. % (2019-2020)",null,{"$f":"+E48/E47-1","v":6.0066301177386094E-7},null,{"$f":"+G48/G47-1","v":-2.988033173812854E-2},null,{"$f":"+I48/I47-1","v":0},{"$f":"+J48/J47-1","v":-1.1697776878090371E-2},null,null,{"$f":"+M48/M47-1","v":0.3233595611724509},null,{"$f":"+O48/O47-1","v":0.3233595611724509},null,null,{"$f":"+R48/R47-1","v":0.31615591520914355}]
[null,"11 Pesca",2018,null,1130165,null,298036,null,null,{"$f":"+D50+E50+F50+G50+H50+I50","v":1428201},null,null,null,null,{"$f":"+K50+L50+M50+N50","v":0},null,{"$f":"+P50","v":0},{"$f":"+J50+O50+Q50","v":1428201},{"$f":"+R50*100/$R$110","v":7.0861541982591231E-2}]
[null,null,2019,null,1138039,null,316983,null,null,{"$f":"+D51+E51+F51+G51+H51+I51","v":1455022},null,null,null,null,{"$f":"+K51+L51+M51+N51","v":0},null,{"$f":"+P51","v":0},{"$f":"+J51+O51+Q51","v":1455022},{"$f":"+R51*100/$R$111","v":7.794859541969193E-2}]
[null,null,2020,null,1123119,null,457496,null,null,{"$f":"+D52+E52+F52+G52+H52+I52","v":1580615},null,null,null,null,{"$f":"+K52+L52+M52+N52","v":0},null,{"$f":"+P52","v":0},{"$f":"+J52+O52+Q52","v":1580615},{"$f":"+R52*100/$R$112","v":7.8799609508815885E-2}]
[null,null,"Var. % (2019-2020)",null,{"$f":"+E52/E51-1","v":-1.3110271264868745E-2},null,{"$f":"+G52/G51-1","v":0.44328244732367361},null,null,{"$f":"+J52/J51-1","v":8.6316907923041697E-2},null,null,null,null,null,null,null,{"$f":"+R52/R51-1","v":8.6316907923041697E-2}]
[null,"12 Energía",{"$f":"+C50","v":2018},null,213635,null,517196,null,null,{"$f":"+D54+E54+F54+G54+H54+I54","v":730831},null,null,null,null,{"$f":"+K54+L54+M54+N54","v":0},null,{"$f":"+P54","v":0},{"$f":"+J54+O54+Q54","v":730831},{"$f":"+R54*100/$R$110","v":3.6260870555810516E-2}]
[null,null,2019,null,180135,null,542643,null,null,{"$f":"+D55+E55+F55+G55+H55+I55","v":722778},null,null,null,null,{"$f":"+K55+L55+M55+N55","v":0},null,{"$f":"+P55","v":0},{"$f":"+J55+O55+Q55","v":722778},{"$f":"+R55*100/$R$111","v":3.8720740923679567E-2}]
[null,null,2020,null,180171,null,842448,null,null,{"$f":"+D56+E56+F56+G56+H56+I56","v":1022619},null,null,null,null,{"$f":"+K56+L56+M56+N56","v":0},null,{"$f":"+P56","v":0},{"$f":"+J56+O56+Q56","v":1022619},{"$f":"+R56*100/$R$112","v":5.0981407791458253E-2}]
[null,null,"Var. % (2019-2020)",null,{"$f":"+E56/E55-1","v":1.9985011241563377E-4},null,{"$f":"+G56/G55-1","v":0.55249031130964554},null,null,{"$f":"+J56/J55-1","v":0.41484522218440523},null,null,null,null,null,null,null,{"$f":"+R56/R55-1","v":0.41484522218440523}]
[null,"13 Mineria",2018,null,null,null,null,null,null,{"$f":"+D58+E58+F58+G58+H58+I58","v":0},null,null,null,null,{"$f":"+K58+L58+M58+N58","v":0},null,{"$f":"+P58","v":0},{"$f":"+J58+O58+Q58","v":0},{"$f":"+R58*100/$R$110","v":0}]
[null,null,2019,null,null,null,null,null,null,{"$f":"+D59+E59+F59+G59+H59+I59","v":0},null,null,null,null,{"$f":"+K59+L59+M59+N59","v":0},null,{"$f":"+P59","v":0},{"$f":"+J59+O59+Q59","v":0},{"$f":"+R59*100/$R$111","v":0}]
[null,null,2020,null,null,null,null,null,null,{"$f":"+D60+E60+F60+G60+H60+I60","v":0},null,null,null,null,{"$f":"+K60+L60+M60+N60","v":0},null,{"$f":"+P60","v":0},{"$f":"+J60+O60+Q60","v":0},{"$f":"+R60*100/$R$112","v":0}]
[null,null,"Var. % (2019-2020)",null,{"$f":"+E60/E59-1","v":{"$error":"#DIV/0!"}},{"$f":"+F60/F59-1","v":{"$error":"#DIV/0!"}},{"$f":"+G60/G59-1","v":{"$error":"#DIV/0!"}},null,{"$f":"+I60/I59-1","v":{"$error":"#DIV/0!"}},{"$f":"+J60/J59-1","v":{"$error":"#DIV/0!"}},null,null,{"$f":"+M60/M59-1","v":{"$error":"#DIV/0!"}},null,{"$f":"+O60/O59-1","v":{"$error":"#DIV/0!"}},null,{"$f":"+Q60/Q59-1","v":{"$error":"#DIV/0!"}},{"$f":"+R60/R59-1","v":{"$error":"#DIV/0!"}}]
[null,"14 Industria",2018,null,null,null,null,null,null,{"$f":"+D62+E62+F62+G62+H62+I62","v":0},null,null,null,null,{"$f":"+K62+L62+M62+N62","v":0},null,{"$f":"+P62","v":0},{"$f":"+J62+O62+Q62","v":0},{"$f":"+R62*100/$R$110","v":0}]
[null,null,2019,null,null,null,null,null,null,{"$f":"+D63+E63+F63+G63+H63+I63","v":0},null,null,null,null,{"$f":"+K63+L63+M63+N63","v":0},null,{"$f":"+P63","v":0},{"$f":"+J63+O63+Q63","v":0},{"$f":"+R63*100/$R$111","v":0}]
[null,null,2020,null,null,null,null,null,null,{"$f":"+D64+E64+F64+G64+H64+I64","v":0},null,null,null,null,{"$f":"+K64+L64+M64+N64","v":0},null,{"$f":"+P64","v":0},{"$f":"+J64+O64+Q64","v":0},{"$f":"+R64*100/$R$112","v":0}]
[null,null,"Var. % (2019-2020)",null,{"$f":"+E64/E63-1","v":{"$error":"#DIV/0!"}},{"$f":"+F64/F63-1","v":{"$error":"#DIV/0!"}},{"$f":"+G64/G63-1","v":{"$error":"#DIV/0!"}},null,{"$f":"+I64/I63-1","v":{"$error":"#DIV/0!"}},{"$f":"+J64/J63-1","v":{"$error":"#DIV/0!"}},null,null,{"$f":"+M64/M63-1","v":{"$error":"#DIV/0!"}},null,{"$f":"+O64/O63-1","v":{"$error":"#DIV/0!"}},null,{"$f":"+Q64/Q63-1","v":{"$error":"#DIV/0!"}},{"$f":"+R64/R63-1","v":{"$error":"#DIV/0!"}}]
[null,"15 Transporte",2018,null,2139230,15000,26585928,null,4138580,{"$f":"+D66+E66+F66+G66+H66+I66","v":32878738},null,null,12771327,null,{"$f":"+K66+L66+M66+N66","v":12771327},null,null,{"$f":"+J66+O66+Q66","v":45650065},{"$f":"+R66*100/$R$110","v":2.2649711052614574}]
[null,null,2019,null,2054644,0,8155212,null,4382400,{"$f":"+D67+E67+F67+G67+H67+I67","v":14592256},null,null,11723861,null,{"$f":"+K67+L67+M67+N67","v":11723861},null,null,{"$f":"+J67+O67+Q67","v":26316117},{"$f":"+R67*100/$R$111","v":1.4098098565178236}]
[null,null,2020,null,2030735,5000,22992960,null,null,{"$f":"+D68+E68+F68+G68+H68+I68","v":25028695},null,null,null,null,{"$f":"+K68+L68+M68+N68","v":0},null,null,{"$f":"+J68+O68+Q68","v":25028695},{"$f":"+R68*100/$R$112","v":1.2477746905573164}]
[null,null,"Var. % (2019-2020)",null,{"$f":"+E68/E67-1","v":-1.1636565750563155E-2},null,{"$f":"+G68/G67-1","v":1.8194190414669786},null,{"$f":"+I68/I67-1","v":-1},{"$f":"+J68/J67-1","v":0.71520394104927987},null,null,{"$f":"+M68/M67-1","v":-1},null,{"$f":"+O68/O67-1","v":-1},null,null,{"$f":"+R68/R67-1","v":-4.8921427123918004E-2}]
[null,"16 Comunicaciones",2018,null,134427,null,193579,null,243820,{"$f":"+D70+E70+F70+G70+H70+I70","v":571826},null,null,null,null,{"$f":"+K70+L70+M70+N70","v":0},null,{"$f":"+P70","v":0},{"$f":"+J70+O70+Q70","v":571826},{"$f":"+R70*100/$R$110","v":2.8371687252520629E-2}]
[null,null,2019,null,134965,null,172148,null,null,{"$f":"+D71+E71+F71+G71+H71+I71","v":307113},null,null,null,null,{"$f":"+K71+L71+M71+N71","v":0},null,{"$f":"+P71","v":0},{"$f":"+J71+O71+Q71","v":307113},{"$f":"+R71*100/$R$111","v":1.6452690739471875E-2}]
[null,null,2020,null,134965,null,303680,null,null,{"$f":"+D72+E72+F72+G72+H72+I72","v":438645},null,null,null,null,{"$f":"+K72+L72+M72+N72","v":0},null,{"$f":"+P72","v":0},{"$f":"+J72+O72+Q72","v":438645},{"$f":"+R72*100/$R$112","v":2.186810495471354E-2}]
[null,null,"Var. % (2019-2020)",null,{"$f":"+E72/E71-1","v":0},null,{"$f":"+G72/G71-1","v":0.76406348026117055},null,null,{"$f":"+J72/J71-1","v":0.42828535425071546},null,null,null,null,null,null,null,{"$f":"+R72/R71-1","v":0.42828535425071546}]
[null,"17 Ambiente",2018,null,null,null,null,null,null,{"$f":"+D74+E74+F74+G74+H74+I74","v":0},null,null,null,null,{"$f":"+K74+L74+M74+N74","v":0},null,{"$f":"+P74","v":0},{"$f":"+J74+O74+Q74","v":0},{"$f":"+R74*100/$R$110","v":0}]
[null,null,2019,null,null,null,null,null,null,{"$f":"+D75+E75+F75+G75+H75+I75","v":0},null,null,null,null,{"$f":"+K75+L75+M75+N75","v":0},null,{"$f":"+P75","v":0},{"$f":"+J75+O75+Q75","v":0},{"$f":"+R75*100/$R$111","v":0}]
[null,null,2020,null,null,null,null,null,null,{"$f":"+D76+E76+F76+G76+H76+I76","v":0},null,null,null,null,{"$f":"+K76+L76+M76+N76","v":0},null,{"$f":"+P76","v":0},{"$f":"+J76+O76+Q76","v":0},{"$f":"+R76*100/$R$112","v":0}]
[null,null,"Var. % (2019-2020)",null,{"$f":"+E76/E75-1","v":{"$error":"#DIV/0!"}},{"$f":"+F76/F75-1","v":{"$error":"#DIV/0!"}},{"$f":"+G76/G75-1","v":{"$error":"#DIV/0!"}},null,{"$f":"+I76/I75-1","v":{"$error":"#DIV/0!"}},{"$f":"+J76/J75-1","v":{"$error":"#DIV/0!"}},null,null,{"$f":"+M76/M75-1","v":{"$error":"#DIV/0!"}},null,{"$f":"+O76/O75-1","v":{"$error":"#DIV/0!"}},null,{"$f":"+Q76/Q75-1","v":{"$error":"#DIV/0!"}},{"$f":"+R76/R75-1","v":{"$error":"#DIV/0!"}}]
[null,"18 Saneamiento",2018,null,null,null,null,null,null,{"$f":"+D78+E78+F78+G78+H78+I78","v":0},null,null,null,null,{"$f":"+K78+L78+M78+N78","v":0},null,{"$f":"+P78","v":0},{"$f":"+J78+O78+Q78","v":0},{"$f":"+R78*100/$R$110","v":0}]
[null,null,2019,null,null,null,null,null,null,{"$f":"+D79+E79+F79+G79+H79+I79","v":0},null,null,null,null,{"$f":"+K79+L79+M79+N79","v":0},null,{"$f":"+P79","v":0},{"$f":"+J79+O79+Q79","v":0},{"$f":"+R79*100/$R$111","v":0}]
[null,null,2020,null,null,null,385700,null,null,{"$f":"+D80+E80+F80+G80+H80+I80","v":385700},null,null,null,null,{"$f":"+K80+L80+M80+N80","v":0},null,{"$f":"+P80","v":0},{"$f":"+J80+O80+Q80","v":385700},{"$f":"+R80*100/$R$112","v":1.9228597341889257E-2}]
[null,null,"Var. % (2019-2020)"]
[null,"19 Vivienda y Des. Urbano",2018,null,291875,null,1368595,null,null,{"$f":"+D82+E82+F82+G82+H82+I82","v":1660470},null,null,null,null,{"$f":"+K82+L82+M82+N82","v":0},null,{"$f":"+P82","v":0},{"$f":"+J82+O82+Q82","v":1660470},{"$f":"+R82*100/$R$110","v":8.2385787865876914E-2}]
[null,null,2019,null,292134,null,1164206,null,null,{"$f":"+D83+E83+F83+G83+H83+I83","v":1456340},null,null,null,null,{"$f":"+K83+L83+M83+N83","v":0},null,{"$f":"+P83","v":0},{"$f":"+J83+O83+Q83","v":1456340},{"$f":"+R83*100/$R$111","v":7.8019203457758118E-2}]
[null,null,2020,null,292134,null,1518170,null,null,{"$f":"+D84+E84+F84+G84+H84+I84","v":1810304},null,null,null,null,{"$f":"+K84+L84+M84+N84","v":0},null,{"$f":"+P84","v":0},{"$f":"+J84+O84+Q84","v":1810304},{"$f":"+R84*100/$R$112","v":9.0250471045920364E-2}]
[null,null,"Var. % (2019-2020)",null,{"$f":"+E84/E83-1","v":0},null,{"$f":"+G84/G83-1","v":0.30403897592006923},null,null,{"$f":"+J84/J83-1","v":0.24305038658555},null,null,null,null,null,null,null,{"$f":"+R84/R83-1","v":0.24305038658555}]
[null,"20 Salud",{"$f":"+C82","v":2018},null,217082474,735817,102621598,null,1117126,{"$f":"+D86+E86+F86+G86+H86+I86","v":321557015},null,null,60008247,null,{"$f":"+K86+L86+M86+N86","v":60008247},null,{"$f":"+P86","v":0},{"$f":"+J86+O86+Q86","v":381565262},{"$f":"+R86*100/$R$110","v":18.931720977867556}]
[null,null,2019,null,255946262,809514,97991832,null,909158,{"$f":"+D87+E87+F87+G87+H87+I87","v":355656766},null,null,32644581,null,{"$f":"+K87+L87+M87+N87","v":32644581},null,{"$f":"+P87","v":0},{"$f":"+J87+O87+Q87","v":388301347},{"$f":"+R87*100/$R$111","v":20.802121616184778}]
[null,null,2020,null,278985963,809516,110071277,null,732494,{"$f":"+D88+E88+F88+G88+H88+I88","v":390599250},null,null,211231,null,{"$f":"+K88+L88+M88+N88","v":211231},null,{"$f":"+P88","v":0},{"$f":"+J88+O88+Q88","v":390810481},{"$f":"+R88*100/$R$112","v":19.483374063103607}]
[null,null,"Var. % (2019-2020)",null,{"$f":"+E88/E87-1","v":9.0017728018235266E-2},{"$f":"+F88/F87-1","v":2.4706181733780141E-6},{"$f":"+G88/G87-1","v":0.12326991702737011},null,{"$f":"+I88/I87-1","v":-0.19431605947481079},{"$f":"+J88/J87-1","v":9.8247769592551437E-2},null,null,{"$f":"+M88/M87-1","v":-0.9935293701579444},null,{"$f":"+O88/O87-1","v":-0.9935293701579444},null,null,{"$f":"+R88/R87-1","v":6.4618215192542294E-3}]
[null,"21 Cultura y Deporte",2018,null,null,null,null,null,null,{"$f":"+D90+E90+F90+G90+H90+I90","v":0},null,null,null,null,{"$f":"+K90+L90+M90+N90","v":0},null,{"$f":"+P90","v":0},{"$f":"+J90+O90+Q90","v":0},{"$f":"+R90*100/$R$110","v":0}]
[null,null,2019,null,null,null,null,null,null,{"$f":"+D91+E91+F91+G91+H91+I91","v":0},null,null,null,null,{"$f":"+K91+L91+M91+N91","v":0},null,{"$f":"+P91","v":0},{"$f":"+J91+O91+Q91","v":0},{"$f":"+R91*100/$R$111","v":0}]
[null,null,2020,null,null,null,null,null,null,{"$f":"+D92+E92+F92+G92+H92+I92","v":0},null,null,null,null,{"$f":"+K92+L92+M92+N92","v":0},null,{"$f":"+P92","v":0},{"$f":"+J92+O92+Q92","v":0},{"$f":"+R92*100/$R$112","v":0}]
[null,null,"Var. % (2019-2020)",null,{"$f":"+E92/E91-1","v":{"$error":"#DIV/0!"}},{"$f":"+F92/F91-1","v":{"$error":"#DIV/0!"}},{"$f":"+G92/G91-1","v":{"$error":"#DIV/0!"}},null,{"$f":"+I92/I91-1","v":{"$error":"#DIV/0!"}},{"$f":"+J92/J91-1","v":{"$error":"#DIV/0!"}},null,null,{"$f":"+M92/M91-1","v":{"$error":"#DIV/0!"}},null,{"$f":"+O92/O91-1","v":{"$error":"#DIV/0!"}},null,{"$f":"+Q92/Q91-1","v":{"$error":"#DIV/0!"}},{"$f":"+R92/R91-1","v":{"$error":"#DIV/0!"}}]
[null,"22 Educación",2018,null,769862242,528893,56894810,null,404973,{"$f":"+D94+E94+F94+G94+H94+I94","v":827690918},null,null,42225079,null,{"$f":"+K94+L94+M94+N94","v":42225079},null,{"$f":"+P94","v":0},{"$f":"+J94+O94+Q94","v":869915997},{"$f":"+R94*100/$R$110","v":43.161704089790732}]
[null,null,2019,null,811737767,930802,57278607,null,404973,{"$f":"+D95+E95+F95+G95+H95+I95","v":870352149},null,null,36260558,null,{"$f":"+K95+L95+M95+N95","v":36260558},null,{"$f":"+P95","v":0},{"$f":"+J95+O95+Q95","v":906612707},{"$f":"+R95*100/$R$111","v":48.569153662483934}]
[null,null,2020,null,896697590,942999,57953725,null,55084,{"$f":"+D96+E96+F96+G96+H96+I96","v":955649398},null,null,13930635,null,{"$f":"+K96+L96+M96+N96","v":13930635},null,{"$f":"+P96","v":0},{"$f":"+J96+O96+Q96","v":969580033},{"$f":"+R96*100/$R$112","v":48.337215569854024}]
[null,null,"Var. % (2019-2020)",null,{"$f":"+E96/E95-1","v":0.10466412486139753},{"$f":"+F96/F95-1","v":1.3103753537272222E-2},{"$f":"+G96/G95-1","v":1.1786564572004998E-2},null,{"$f":"+I96/I95-1","v":-0.86398105552715854},{"$f":"+J96/J95-1","v":9.8003146310379208E-2},null,null,{"$f":"+M96/M95-1","v":-0.61581851553415146},null,{"$f":"+O96/O95-1","v":-0.61581851553415146},null,null,{"$f":"+R96/R95-1","v":6.9453390090196576E-2}]
[null,"23 Protección Social",2018,null,1358512,null,3305601,null,null,{"$f":"+D98+E98+F98+G98+H98+I98","v":4664113},null,null,23500,null,{"$f":"+K98+L98+M98+N98","v":23500},null,{"$f":"+P98","v":0},{"$f":"+J98+O98+Q98","v":4687613},{"$f":"+R98*100/$R$110","v":0.23258034786254908}]
[null,null,2019,null,1285517,null,1601670,null,null,{"$f":"+D99+E99+F99+G99+H99+I99","v":2887187},null,null,null,null,{"$f":"+K99+L99+M99+N99","v":0},null,{"$f":"+P99","v":0},{"$f":"+J99+O99+Q99","v":2887187},{"$f":"+R99*100/$R$111","v":0.15467269317164556}]
[null,null,2020,null,1345516,null,1265962,null,null,{"$f":"+D100+E100+F100+G100+H100+I100","v":2611478},null,null,null,null,{"$f":"+K100+L100+M100+N100","v":0},null,{"$f":"+P100","v":0},{"$f":"+J100+O100+Q100","v":2611478},{"$f":"+R100*100/$R$112","v":0.13019201174281117}]
[null,null,"Var. % (2019-2020)",null,{"$f":"+E100/E99-1","v":4.667305060921012E-2},null,{"$f":"+G100/G99-1","v":-0.20959873132418039},null,null,{"$f":"+J100/J99-1","v":-9.549398774655049E-2},null,null,null,null,null,null,null,{"$f":"+R100/R99-1","v":-9.549398774655049E-2}]
[null,"24 Previsión Social",2018,null,null,176755832,null,null,null,{"$f":"+D102+E102+F102+G102+H102+I102","v":176755832},null,null,null,null,{"$f":"+K102+L102+M102+N102","v":0},null,{"$f":"+P102","v":0},{"$f":"+J102+O102+Q102","v":176755832},{"$f":"+R102*100/$R$110","v":8.7699076039968062}]
[null,null,2019,null,null,181664345,null,null,null,{"$f":"+D103+E103+F103+G103+H103+I103","v":181664345},null,null,null,null,{"$f":"+K103+L103+M103+N103","v":0},null,{"$f":"+P103","v":0},{"$f":"+J103+O103+Q103","v":181664345},{"$f":"+R103*100/$R$111","v":9.7321418717987314}]
[null,null,2020,null,null,186715903,null,null,null,{"$f":"+D104+E104+F104+G104+H104+I104","v":186715903},null,null,null,null,{"$f":"+K104+L104+M104+N104","v":0},null,{"$f":"+P104","v":0},{"$f":"+J104+O104+Q104","v":186715903},{"$f":"+R104*100/$R$112","v":9.3084908377346434}]
[null,null,"Var. % (2019-2020)",null,null,{"$f":"+F104/F103-1","v":2.7807096653996721E-2},null,null,null,{"$f":"+J104/J103-1","v":2.7807096653996721E-2},null,null,null,null,null,null,null,{"$f":"+R104/R103-1","v":2.7807096653996721E-2}]
[null,"25 Deuda Pública",2018,null,null,null,null,null,null,{"$f":"+D106+E106+F106+G106+H106+I106","v":0},null,null,null,null,{"$f":"+K106+L106+M106+N106","v":0},10470535,{"$f":"+P106","v":10470535},{"$f":"+J106+O106+Q106","v":10470535},{"$f":"+R106*100/$R$110","v":0.51950548661056173}]
[null,null,2019,null,null,null,null,null,null,{"$f":"+D107+E107+F107+G107+H107+I107","v":0},null,null,null,null,{"$f":"+K107+L107+M107+N107","v":0},25591658,{"$f":"+P107","v":25591658},{"$f":"+J107+O107+Q107","v":25591658},{"$f":"+R107*100/$R$111","v":1.3709990608809504}]
[null,null,2020,null,null,null,null,null,null,{"$f":"+D108+E108+F108+G108+H108+I108","v":0},null,null,null,null,{"$f":"+K108+L108+M108+N108","v":0},31922930,{"$f":"+P108","v":31922930},{"$f":"+J108+O108+Q108","v":31922930},{"$f":"+R108*100/$R$112","v":1.5914782653443524}]
[null,null,"Var. % (2019-2020)",null,null,null,null,null,null,null,null,null,null,null,null,null,{"$f":"+Q108/Q107-1","v":0.24739592878273076},{"$f":"+R108/R107-1","v":0.24739592878273076}]
[null,"TOTAL",2018,null,{"$f":"+E10+E14+E18+E22+E26+E30+E34+E38+E42+E46+E50+E54+E58+E62+E66+E70+E74+E78+E82+E86+E90+E94+E98+E102+E106","v":1007863475},179231072,214395686,null,{"$f":"+I10+I14+I18+I22+I26+I30+I34+I38+I42+I46+I50+I54+I58+I62+I66+I70+I74+I78+I82+I86+I90+I94+I98+I102+I106","v":6318826},{"$f":"+D110+E110+F110+G110+H110+I110","v":1407809059},{"$f":"+K10+K14+K18+K22+K26+K30+K34+K38+K42+K46+K50+K54+K58+K62+K66+K70+K74+K78+K82+K86+K90+K94+K98+K102+K106","v":0},null,{"$f":"+M10+M14+M18+M22+M26+M30+M34+M38+M42+M46+M50+M54+M58+M62+M66+M70+M74+M78+M82+M86+M90+M94+M98+M102+M106","v":597201526},null,{"$f":"+K110+L110+M110+N110","v":597201526},{"$f":"+P10+P14+P18+P22+P26+P30+P34+P38+P42+P46+P50+P54+P58+P62+P66+P70+P74+P78+P82+P86+P90+P94+P98+P102+P106","v":10470535},10470535,{"$f":"+J110+O110+Q110","v":2015481120},{"$f":"+R110*100/$R$110","v":100}]
[null,null,2019,null,1091094191,184605850,215693312,null,{"$f":"+I11+I15+I19+I23+I27+I31+I35+I39+I43+I47+I51+I55+I59+I63+I67+I71+I75+I79+I83+I87+I91+I95+I99+I103+I107","v":6210858},{"$f":"+D111+E111+F111+G111+H111+I111","v":1497604211},{"$f":"+K11+K15+K19+K23+K27+K31+K35+K39+K43+K47+K51+K55+K59+K63+K67+K71+K75+K79+K83+K87+K91+K95+K99+K103+K107","v":10080749},null,{"$f":"+M11+M15+M19+M23+M27+M31+M35+M39+M43+M47+M51+M55+M59+M63+M67+M71+M75+M79+M83+M87+M91+M95+M99+M103+M107","v":333366382},null,{"$f":"+K111+L111+M111+N111","v":343447131},25591658,25591658,{"$f":"+J111+O111+Q111","v":1866643000},{"$f":"+R111*100/$R$111","v":100}]
[null,null,2020,null,1198963270,189632677,233499190,null,{"$f":"+I12+I16+I20+I24+I28+I32+I36+I40+I44+I48+I52+I56+I60+I64+I68+I72+I76+I80+I84+I88+I92+I96+I100+I104+I108","v":1331084},{"$f":"+D112+E112+F112+G112+H112+I112","v":1623426221},{"$f":"+K12+K16+K20+K24+K28+K32+K36+K40+K44+K48+K52+K56+K60+K64+K68+K72+K76+K80+K84+K88+K92+K96+K100+K104+K108","v":0},null,{"$f":"+M12+M16+M20+M24+M28+M32+M36+M40+M44+M48+M52+M56+M60+M64+M68+M72+M76+M80+M84+M88+M92+M96+M100+M104+M108","v":350517388},null,{"$f":"+K112+L112+M112+N112","v":350517388},31922930,31922930,{"$f":"+J112+O112+Q112","v":2005866539},{"$f":"+R112*100/$R$112","v":100}]
[null,null,"Var. % (2019-2020)",null,{"$f":"+E112/E111-1","v":9.8863214459181448E-2},{"$f":"+F112/F111-1","v":2.7230052568756546E-2},{"$f":"+G112/G111-1","v":8.2551831741542347E-2},null,{"$f":"+I112/I111-1","v":-0.78568436116233864},{"$f":"+J112/J111-1","v":8.4015528986783883E-2},null,null,{"$f":"+M112/M111-1","v":5.1447917144806787E-2},null,{"$f":"+O112/O111-1","v":2.0586158281229006E-2},null,null,{"$f":"+R112/R111-1","v":7.4584984381051989E-2}]
[]
[null,"PROYECTO DE PRESUPUESTO PARA EL AÑO FISCAL 2020"]
[null,"INFORMACION PARA LA COMISION DE PRESUPUESTO Y CUENTA GENERAL DE LA REPUBLICA DEL CONGRESO DE LA REPUBLICA"]

{"sheet":"F.09","index":11,"n_rows":238,"n_cols":27,"rows_kept":238,"cut":false,"hidden":false,"merged":[[1,1,1,26],[2,1,2,26],[3,1,3,26],[8,2,8,6],[8,7,8,12],[8,13,8,17],[8,18,8,19],[8,21,8,26]]}
[]
[null,"FORMATO 09"]
[null,"COMPARATIVO DEL NUMERO DE PLAZAS EN EL PRESUPUESTO 2018, 2019 Y PROYECTO 2020"]
[null,"PROYECTO DE  PRESUPUESTO - 2020"]
[]
[null,"SECTOR :  99 GOBIERNOS REGIONALES"]
[null,"PLIEGO  : 451 GOBIERNO REGIONAL LA LIBERTAD"]
[]
[null,"CATEGORIA","Nombrados/Plazo Indeterninado",null,null,null,null,"Contratados/Plazo Fijo",null,null,null,null,null,"Otros Contratos (*****)",null,null,null,null,"PERSONAL",null,null,"Pensionistas a cargo de la Entidad"]
[null," REMUNERATIVA","Decreto Legislativo 276 (Regimen Público)","Decreto Legislativo 728 (Regimen Privado)","Otros (especificar)","Sub Total PEA (*)","Costo Anual (****)","Decreto Legislativo 276 (Regimen Público)","Decreto Legislativo 728 (Regimen Privado)","Decreto Legislativo 1057","Otros","Sub Total PEA (*)","Costo Anual (****)","Decreto Legislativo 1057 (CAS)","Decreto Legislativo 295 (SNP)","Otros ","Sub Total","Costo Anual (****)","TOTAL (*)","PPTO ANUAL (**)",null,"Decreto Legislativo 20530","Pensiones de Gracia   Ley 27747","Decreto Ley 19990","Otros (***)","Sub Total PEA (*)","Costo Anual (****)"]
[null,"276 ADMINISTRATIVOS",{"$f":"SUM(C12,C21,C28,C35)","v":3282},{"$f":"SUM(D12,D21,D28,D35)","v":0},{"$f":"SUM(E12,E21,E28,E35)","v":0},{"$f":"SUM(C11:E11)","v":3282},{"$f":"SUM(G12,G21,G28,G35)","v":62333421.897141308},{"$f":"SUM(H12,H21,H28,H35)","v":747},{"$f":"SUM(I12,I21,I28,I35)","v":0},{"$f":"SUM(J12,J21,J28,J35)","v":0},{"$f":"SUM(K12,K21,K28,K35)","v":0},{"$f":"SUM(H11:K11)","v":747},{"$f":"SUM(M12,M21,M28,M35)","v":34226247.417141318},{"$f":"SUM(N12,N21,N28,N35)","v":0},{"$f":"SUM(O12,O21,O28,O35)","v":0},{"$f":"SUM(P12,P21,P28,P35)","v":0},{"$f":"SUM(N11:P11)","v":0},{"$f":"SUM(R12,R21,R28,R35)","v":0},{"$f":"+F11+L11+Q11","v":4029},{"$f":"SUM(T12,T21,T28,T35)","v":96559669.314282626},null,{"$f":"SUM(V12,V21,V28,V35)","v":0},{"$f":"SUM(W12,W21,W28,W35)","v":0},{"$f":"SUM(X12,X21,X28,X35)","v":0},{"$f":"SUM(Y12,Y21,Y28,Y35)","v":0},{"$f":"SUM(Z12,Z21,Z28,Z35)","v":0}]
[null,"DIRECTIVOS/FUNCIONARIOS",{"$f":"SUM(C13:C20)","v":241},{"$f":"SUM(D13:D20)","v":0},{"$f":"SUM(E13:E20)","v":0},241,{"$f":"SUM(G13:G20)","v":6087573.0003636368},{"$f":"SUM(H13:H20)","v":169},{"$f":"SUM(I13:I20)","v":0},{"$f":"SUM(J13:J20)","v":0},{"$f":"SUM(K13:K20)","v":0},169,{"$f":"SUM(M13:M20)","v":9700586.8803636357},{"$f":"SUM(N13:N20)","v":0},{"$f":"SUM(O13:O20)","v":0},{"$f":"SUM(P13:P20)","v":0},0,{"$f":"SUM(R13:R20)","v":0},410,{"$f":"SUM(T13:T20)","v":15788159.880727272},null,{"$f":"SUM(V13:V20)","v":0},{"$f":"SUM(W13:W20)","v":0},{"$f":"SUM(X13:X20)","v":0},{"$f":"SUM(Y13:Y20)","v":0},{"$f":"SUM(Z13:Z20)","v":0}]
[null,"F-1",27,null,null,27,1370496.92,0,null,null,null,0,0,null,null,null,0,null,27,{"$f":"G13+M13","v":1370496.92},null,null,null,null,null,{"$f":"SUM(V13:Y13)","v":0}]
[null,"F-2",70,null,null,70,1631321.4000000001,52,null,null,null,52,2148089.64,null,null,null,0,null,122,3779411.04,null,null,null,null,null,0]
[null,"F-3",55,null,null,55,1653440.54,28,null,null,null,28,1668428.06,null,null,null,0,null,83,3321868.6,null,null,null,null,null,0]
[null,"F-4",29,null,null,29,770853.74400000018,32,null,null,null,32,1598666.5440000002,null,null,null,0,null,61,2369520.2880000006,null,null,null,null,null,0]
[null,"F-5",37,null,null,37,661460.39636363636,34,null,null,null,34,1971147.356363636,null,null,null,0,null,71,2632607.7527272725,null,null,null,null,null,0]
[null,"F-6",20,null,null,20,0,20,null,null,null,20,1898285.8400000003,null,null,null,0,null,40,1898285.8400000003,null,null,null,null,null,0]
[null,"F-7",2,null,null,2,0,2,null,null,null,2,243369.44000000003,null,null,null,0,null,4,243369.44000000003,null,null,null,null,null,0]
[null,"F-8",1,null,null,1,0,1,null,null,null,1,172600,null,null,null,0,null,2,172600,null,null,null,null,null,0]
[null,"PROFESIONALES",{"$f":"SUM(C22:C27)","v":378},{"$f":"SUM(D22:D27)","v":0},{"$f":"SUM(E22:E27)","v":0},378,{"$f":"SUM(G22:G27)","v":8401166.2640177552},{"$f":"SUM(H22:H27)","v":106},{"$f":"SUM(I22:I27)","v":0},{"$f":"SUM(J22:J27)","v":0},{"$f":"SUM(K22:K27)","v":0},106,{"$f":"SUM(M22:M27)","v":4298774.8640177567},{"$f":"SUM(N22:N27)","v":0},{"$f":"SUM(O22:O27)","v":0},{"$f":"SUM(P22:P27)","v":0},0,{"$f":"SUM(R22:R27)","v":0},484,{"$f":"SUM(T22:T27)","v":12699941.128035512},null,{"$f":"SUM(V22:V27)","v":0},{"$f":"SUM(W22:W27)","v":0},{"$f":"SUM(X22:X27)","v":0},{"$f":"SUM(Y22:Y27)","v":0},{"$f":"SUM(Z22:Z27)","v":0}]
[null,"SPA",42,null,null,42,1171555.416470587,17,null,null,null,17,759384.45647058683,null,null,null,0,null,59,{"$f":"G22+M22","v":1930939.8729411738},null,null,null,null,null,{"$f":"SUM(V22:Y22)","v":0}]
[null,"SPB",25,null,null,25,716995.48000000021,7,null,null,null,7,304824.52000000014,null,null,null,0,null,32,1021820.0000000003,null,null,null,null,null,0]
[null,"SPC",42,null,null,42,1147039.24,6,null,null,null,6,428488.60000000009,null,null,null,0,null,48,1575527.84,null,null,null,null,null,0]
[null,"SPD",84,null,null,84,2128782.1675471696,15,null,null,null,15,754868.08754717,null,null,null,0,null,99,2883650.2550943396,null,null,null,null,null,0]
[null,"SPE",161,null,null,161,2953042.9999999991,47,null,null,null,47,1640956.5199999998,null,null,null,0,null,208,4593999.5199999986,null,null,null,null,null,0]
[null,"SPF",24,null,null,24,283750.95999999996,14,null,null,null,14,410252.68000000005,null,null,null,0,null,38,694003.64,null,null,null,null,null,0]
[null,"TECNICOS",{"$f":"SUM(C29:C34)","v":1077},{"$f":"SUM(D29:D34)","v":0},{"$f":"SUM(E29:E34)","v":0},1077,{"$f":"SUM(G29:G34)","v":25879307.699221227},{"$f":"SUM(H29:H34)","v":189},{"$f":"SUM(I29:I34)","v":0},{"$f":"SUM(J29:J34)","v":0},{"$f":"SUM(K29:K34)","v":0},189,{"$f":"SUM(M29:M34)","v":11215399.019221224},{"$f":"SUM(N29:N34)","v":0},{"$f":"SUM(O29:O34)","v":0},{"$f":"SUM(P29:P34)","v":0},0,{"$f":"SUM(R29:R34)","v":0},1266,{"$f":"SUM(T29:T34)","v":37094706.71844244},null,{"$f":"SUM(V29:V34)","v":0},{"$f":"SUM(W29:W34)","v":0},{"$f":"SUM(X29:X34)","v":0},{"$f":"SUM(Y29:Y34)","v":0},{"$f":"SUM(Z29:Z34)","v":0}]
[null,"STA",324,null,null,324,8007365.6400000006,36,null,null,null,36,3047998.6799999997,null,null,null,0,null,360,{"$f":"G29+M29","v":11055364.32},null,null,null,null,null,{"$f":"SUM(V29:Y29)","v":0}]
[null,"STB",127,null,null,127,3628550.2000000011,15,null,null,null,15,1378000.96,null,null,null,0,null,142,5006551.1600000011,null,null,null,null,null,0]
[null,"STC",146,null,null,146,3884181.3599999994,21,null,null,null,21,1792714.1999999995,null,null,null,0,null,167,5676895.5599999987,null,null,null,null,null,0]
[null,"STD",239,null,null,239,5950587.0666666673,38,null,null,null,38,2284825.3866666667,null,null,null,0,null,277,8235412.4533333341,null,null,null,null,null,0]
[null,"STE",147,null,null,147,2395828.6009756103,41,null,null,null,41,1210890.7609756098,null,null,null,0,null,188,3606719.3619512198,null,null,null,null,null,0]
[null,"STF",94,null,null,94,2012794.8315789471,38,null,null,null,38,1500969.0315789473,null,null,null,0,null,132,3513763.8631578945,null,null,null,null,null,0]
[null,"AUXILIARES",{"$f":"SUM(C36:C41)","v":1586},{"$f":"SUM(D36:D41)","v":0},{"$f":"SUM(E36:E41)","v":0},1586,{"$f":"SUM(G36:G41)","v":21965374.93353869},{"$f":"SUM(H36:H41)","v":283},{"$f":"SUM(I36:I41)","v":0},{"$f":"SUM(J36:J41)","v":0},{"$f":"SUM(K36:K41)","v":0},283,{"$f":"SUM(M36:M41)","v":9011486.6535387021},{"$f":"SUM(N36:N41)","v":0},{"$f":"SUM(O36:O41)","v":0},{"$f":"SUM(P36:P41)","v":0},0,{"$f":"SUM(R36:R41)","v":0},1869,{"$f":"SUM(T36:T41)","v":30976861.587077398},null,{"$f":"SUM(V36:V41)","v":0},{"$f":"SUM(W36:W41)","v":0},{"$f":"SUM(X36:X41)","v":0},{"$f":"SUM(Y36:Y41)","v":0},{"$f":"SUM(Z36:Z41)","v":0}]
[null,"SAA",186,null,null,186,3520577.21,32,null,null,null,32,1841262.7700000003,null,null,null,0,null,218,{"$f":"G36+M36","v":5361839.9800000004},null,null,null,null,null,{"$f":"SUM(V36:Y36)","v":0}]
[null,"SAB",54,null,null,54,1101286.1199999999,8,null,null,null,8,482396.43999999994,null,null,null,0,null,62,1583682.5599999998,null,null,null,null,null,0]
[null,"SAC",135,null,null,135,2403989.2266666656,9,null,null,null,9,501987.54666666652,null,null,null,0,null,144,2905976.773333332,null,null,null,null,null,0]
[null,"SAD",155,null,null,155,2665415.5200000009,15,null,null,null,15,665957.88,null,null,null,0,null,170,3331373.4000000008,null,null,null,null,null,0]
[null,"SAE",1046,null,null,1046,12138272.496872026,212,null,null,null,212,5319482.616872035,null,null,null,0,null,1258,17457755.113744061,null,null,null,null,null,0]
[null,"SAF",10,null,null,10,135834.36000000004,7,null,null,null,7,200399.40000000002,null,null,null,0,null,17,336233.76000000007,null,null,null,null,null,0]
[null,"276 ASISTENCIALES",{"$f":"SUM(C43,C47,C54)","v":2314},{"$f":"SUM(D43,D47,D54)","v":0},{"$f":"SUM(E43,E47,E54)","v":0},2314,{"$f":"SUM(G43,G47,G54)","v":46943874.479999974},{"$f":"SUM(H43,H47,H54)","v":149},{"$f":"SUM(I43,I47,I54)","v":0},{"$f":"SUM(J43,J47,J54)","v":0},{"$f":"SUM(K43,K47,K54)","v":0},149,{"$f":"SUM(M43,M47,M54)","v":3825790.12},{"$f":"SUM(N43,N47,N54)","v":0},{"$f":"SUM(O43,O47,O54)","v":0},{"$f":"SUM(P43,P47,P54)","v":0},0,{"$f":"SUM(R43,R47,R54)","v":0},2463,{"$f":"SUM(T43,T47,T54)","v":50769664.599999979},null,{"$f":"SUM(V43,V47,V54)","v":0},{"$f":"SUM(W43,W47,W54)","v":0},{"$f":"SUM(X43,X47,X54)","v":0},{"$f":"SUM(Y43,Y47,Y54)","v":0},{"$f":"SUM(Z43,Z47,Z54)","v":0}]
[null,"PROFESIONALES",{"$f":"SUM(C44:C46)","v":25},{"$f":"SUM(D44:D46)","v":0},{"$f":"SUM(E44:E46)","v":0},25,{"$f":"SUM(G44:G46)","v":924924.8},{"$f":"SUM(H44:H46)","v":1},{"$f":"SUM(I44:I46)","v":0},{"$f":"SUM(J44:J46)","v":0},{"$f":"SUM(K44:K46)","v":0},1,{"$f":"SUM(M44:M46)","v":30024},{"$f":"SUM(N44:N46)","v":0},{"$f":"SUM(O44:O46)","v":0},{"$f":"SUM(P44:P46)","v":0},0,{"$f":"SUM(R44:R46)","v":0},26,{"$f":"SUM(T44:T46)","v":954948.8},null,{"$f":"SUM(V44:V46)","v":0},{"$f":"SUM(W44:W46)","v":0},{"$f":"SUM(X44:X46)","v":0},{"$f":"SUM(Y44:Y46)","v":0},{"$f":"SUM(Z44:Z46)","v":0}]
[null,"SPD",10,null,null,10,386808.16000000003,null,null,null,null,0,null,null,null,null,0,null,10,{"$f":"G44+M44","v":386808.16000000003},null,null,null,null,null,{"$f":"SUM(V44:Y44)","v":0}]
[null,"SPE",11,null,null,11,427427.6,null,null,null,null,0,null,null,null,null,0,null,11,{"$f":"G45+M45","v":427427.6},null,null,null,null,null,{"$f":"SUM(V45:Y45)","v":0}]
[null,"SPF",4,null,null,4,110689.04,1,null,null,null,1,30024,null,null,null,0,null,5,{"$f":"G46+M46","v":140713.03999999998},null,null,null,null,null,{"$f":"SUM(V46:Y46)","v":0}]
[null,"TECNICOS",{"$f":"SUM(C48:C53)","v":1935},{"$f":"SUM(D48:D53)","v":0},{"$f":"SUM(E48:E53)","v":0},1935,{"$f":"SUM(G48:G53)","v":37236265.639999978},{"$f":"SUM(H48:H53)","v":121},{"$f":"SUM(I48:I53)","v":0},{"$f":"SUM(J48:J53)","v":0},{"$f":"SUM(K48:K53)","v":0},121,{"$f":"SUM(M48:M53)","v":3096432.96},{"$f":"SUM(N48:N53)","v":0},{"$f":"SUM(O48:O53)","v":0},{"$f":"SUM(P48:P53)","v":0},0,{"$f":"SUM(R48:R53)","v":0},2056,{"$f":"SUM(T48:T53)","v":40332698.599999979},null,{"$f":"SUM(V48:V53)","v":0},0,0,0,0,0]
[null,"STA",102,null,null,102,2665183.84,8,null,null,null,8,100734.95999999999,null,null,null,0,null,110,{"$f":"G48+M48","v":2765918.8},null,null,null,null,null,{"$f":"SUM(V48:Y48)","v":0}]
[null,"STB",339,null,null,339,8622777.6800000221,18,null,null,null,18,405991.43999999994,null,null,null,0,null,357,9028769.1200000215,null,null,null,null,null,0]
[null,"STC",703,null,null,703,18837214.119999956,58,null,null,null,58,1560600.8399999999,null,null,null,0,null,761,20397814.959999956,null,null,null,null,null,0]
[null,"STD",43,null,null,43,1119767.8399999999,2,null,null,null,2,50376,null,null,null,0,null,45,1170143.8399999999,null,null,null,null,null,0]
[null,"STE",106,null,null,106,2408584.600000001,14,null,null,null,14,360333.48,null,null,null,0,null,120,2768918.080000001,null,null,null,null,null,0]
[null,"STF",642,null,null,642,3582737.56,21,null,null,null,21,618396.24000000022,null,null,null,0,null,663,4201133.8000000007,null,null,null,null,null,0]
[null,"AUXILIARES",{"$f":"SUM(C55:C59)","v":354},{"$f":"SUM(D55:D59)","v":0},{"$f":"SUM(E55:E59)","v":0},354,{"$f":"SUM(G55:G59)","v":8782684.040000001},{"$f":"SUM(H55:H59)","v":27},{"$f":"SUM(I55:I59)","v":0},{"$f":"SUM(J55:J59)","v":0},{"$f":"SUM(K55:K59)","v":0},27,{"$f":"SUM(M55:M59)","v":699333.16},{"$f":"SUM(N55:N59)","v":0},{"$f":"SUM(O55:O59)","v":0},{"$f":"SUM(P55:P59)","v":0},0,{"$f":"SUM(R55:R59)","v":0},381,{"$f":"SUM(T55:T59)","v":9482017.2000000011},null,{"$f":"SUM(V55:V59)","v":0},{"$f":"SUM(W55:W59)","v":0},{"$f":"SUM(X55:X59)","v":0},{"$f":"SUM(Y55:Y59)","v":0},{"$f":"SUM(Z55:Z59)","v":0}]
[null,"SAA",2,null,null,2,53600.160000000003,6,null,null,null,6,153336.43999999997,null,null,null,0,null,8,{"$f":"G55+M55","v":206936.59999999998},null,null,null,null,null,{"$f":"SUM(V55:Y55)","v":0}]
[null,"SAB",105,null,null,105,3110881.8000000003,0,null,null,null,0,0,null,null,null,0,null,105,{"$f":"G56+M56","v":3110881.8000000003},null,null,null,null,null,{"$f":"SUM(V56:Y56)","v":0}]
[null,"SAC",121,null,null,121,2921152.8800000004,10,null,null,null,10,268090.68,null,null,null,0,null,131,{"$f":"G57+M57","v":3189243.5600000005},null,null,null,null,null,{"$f":"SUM(V57:Y57)","v":0}]
[null,"SAD",118,null,null,118,2672354.2799999998,10,null,null,null,10,247484.64,null,null,null,0,null,128,{"$f":"G58+M58","v":2919838.92},null,null,null,null,null,{"$f":"SUM(V58:Y58)","v":0}]
[null,"SAF",8,null,null,8,24694.92,1,null,null,null,1,30421.4,null,null,null,0,null,9,{"$f":"G59+M59","v":55116.32},null,null,null,null,null,{"$f":"SUM(V59:Y59)","v":0}]
[null,"276 - CARRERAS ESPECIALES",{"$f":"SUM(C61,C97,C140,C146)","v":15629},{"$f":"SUM(D61,D97,D140,D146)","v":0},{"$f":"SUM(E61,E97,E140,E146)","v":0},15629,{"$f":"SUM(G61,G97,G140,G146)","v":381779229.39999902},{"$f":"SUM(H61,H97,H140,H146)","v":7463},{"$f":"SUM(I61,I97,I140,I146)","v":0},{"$f":"SUM(J61,J97,J140,J146)","v":0},{"$f":"SUM(K61,K97,K140,K146)","v":0},7463,{"$f":"SUM(M61,M97,M140,M146)","v":130862430.00000057},{"$f":"SUM(N61,N97,N140,N146)","v":0},{"$f":"SUM(O61,O97,O140,O146)","v":0},{"$f":"SUM(P61,P97,P140,P146)","v":0},0,{"$f":"SUM(R61,R97,R140,R146)","v":0},23092,{"$f":"SUM(T61,T97,T140,T146)","v":512641659.39999956},0,0,0,0,0,0,0]
[null,"PROFESORADO",{"$f":"SUM(C62:C95)","v":947},{"$f":"SUM(D62:D95)","v":0},{"$f":"SUM(E62:E95)","v":0},947,{"$f":"SUM(G62:G95)","v":19931204.760000035},{"$f":"SUM(H62:H95)","v":1592},{"$f":"SUM(I62:I95)","v":0},{"$f":"SUM(J62:J95)","v":0},{"$f":"SUM(K62:K95)","v":0},1592,{"$f":"SUM(M62:M95)","v":29995117.720000036},{"$f":"SUM(N62:N95)","v":0},{"$f":"SUM(O62:O95)","v":0},{"$f":"SUM(P62:P95)","v":0},0,{"$f":"SUM(R62:R95)","v":0},2539,{"$f":"SUM(T62:T95)","v":49926322.480000064},null,{"$f":"SUM(V62:V95)","v":0},{"$f":"SUM(W62:W95)","v":0},{"$f":"SUM(X62:X95)","v":0},{"$f":"SUM(Y62:Y95)","v":0},{"$f":"SUM(Z62:Z95)","v":0}]
[null,"A-24",5,null,null,5,{"$f":"83243.56-8000","v":75243.56},15,null,null,null,15,193339.08000000002,null,null,null,0,null,20,{"$f":"G62+M62","v":268582.64},null,null,null,null,null,{"$f":"SUM(V62:Y62)","v":0}]
[null,"A-30",3,null,null,3,{"$f":"41598.28-6800","v":34798.28},14,null,null,null,14,187607.52000000002,null,null,null,0,null,17,222405.80000000002,null,null,null,null,null,{"$f":"SUM(V63:Y63)","v":0}]
[null,"A-40",1,null,null,1,16667.8,7,null,null,null,7,{"$f":"103046.28-3200","v":99846.28},null,null,null,0,null,8,116514.08,null,null,null,null,null,{"$f":"SUM(V64:Y64)","v":0}]
[null,"B-24",4,null,null,4,52774.799999999967,14,null,null,null,14,{"$f":"185509.44-7200","v":178309.44},null,null,null,0,null,18,231084.23999999996,null,null,null,null,null,{"$f":"SUM(V65:Y65)","v":0}]
[null,"B-30",1,null,null,1,14681.920000000002,7,null,null,null,7,{"$f":"90307.92-3200","v":87107.92},null,null,null,0,null,8,101789.84,null,null,null,null,null,{"$f":"SUM(V66:Y66)","v":0}]
[null,"B-40",0,null,null,null,0,4,null,null,null,4,49292.44,null,null,null,null,null,4,49292.44]
[null,"C-24",11,null,null,{"$f":"SUM(C68:E68)","v":11},{"$f":"139253.36-6800","v":132453.35999999999},23,null,null,null,23,{"$f":"292245.6-3400-3400","v":285445.59999999998},null,null,null,{"$f":"SUM(N68:P68)","v":0},null,34,417898.95999999996,null,null,null,null,null,{"$f":"SUM(V68:Y68)","v":0}]
[null,"C-30",6,null,null,{"$f":"SUM(C69:E69)","v":6},{"$f":"97051.8-800","v":96251.8},21,null,null,null,21,{"$f":"281304.72-10000","v":271304.71999999997},null,null,null,{"$f":"SUM(N69:P69)","v":0},null,27,367556.51999999996,null,null,null,null,null,{"$f":"SUM(V69:Y69)","v":0}]
[null,"C-40",1,null,null,{"$f":"SUM(C70:E70)","v":1},{"$f":"14324.32-3000","v":11324.32},7,null,null,null,7,{"$f":"109594.32-200","v":109394.32},null,null,null,{"$f":"SUM(N70:P70)","v":0},null,8,120718.64000000001,null,null,null,null,null,{"$f":"SUM(V70:Y70)","v":0}]
[null,"D-24",1,null,null,{"$f":"SUM(C71:E71)","v":1},13733.44,7,null,null,null,7,{"$f":"92104.2-3200","v":88904.2},null,null,null,{"$f":"SUM(N71:P71)","v":0},null,8,102637.64,null,null,null,null,null,{"$f":"SUM(V71:Y71)","v":0}]
[null,"D-30",0,null,null,null,0,8,null,null,null,8,80771.12,null,null,null,null,null,8,80771.12]
[null,"D-40",0,null,null,null,0,1,null,null,null,1,12129.28,null,null,null,null,null,1,12129.28]
[null,"E-24",4,null,null,{"$f":"SUM(C74:E74)","v":4},54955.920000000027,14,null,null,null,14,{"$f":"186551.76-7200","v":179351.76},null,null,null,{"$f":"SUM(N74:P74)","v":0},null,18,234307.68000000005,null,null,null,null,null,{"$f":"SUM(V74:Y74)","v":0}]
[null,"E-30",78,null,null,{"$f":"SUM(C75:E75)","v":78},1015543.4399999997,228,null,null,null,{"$f":"SUM(H75:K75)","v":228},{"$f":"3118775.76-122400","v":2996375.76},null,null,null,{"$f":"SUM(N75:P75)","v":0},null,{"$f":"+F75+L75+Q75","v":306},4011919.1999999993,null,null,null,null,null,{"$f":"SUM(V75:Y75)","v":0}]
[null,"E-40",0,null,null,null,0,5,null,null,null,5,68567,null,null,null,null,null,5,68567]
[null,"I-24",50,null,null,{"$f":"SUM(C77:E77)","v":50},{"$f":"818462.12-24400","v":794062.12},86,null,null,null,86,{"$f":"1480790.28-30000","v":1450790.28},null,null,null,{"$f":"SUM(N77:P77)","v":0},null,136,2244852.4,null,null,null,null,null,{"$f":"SUM(V77:Y77)","v":0}]
[null,"I-26",11,null,null,11,178560.56,0,null,null,null,0,0,null,null,null,0,null,11,178560.56,null,null,null,null,null,0]
[null,"I-30",205,null,null,205,4269656.6400000127,188,null,null,null,188,3777979.4400000069,null,null,null,0,null,393,8047636.0800000196,null,null,null,null,null,0]
[null,"I-40",16,null,null,16,463667.99999999977,47,null,null,null,47,1269985.1999999995,null,null,null,0,null,63,1733653.1999999993,null,null,null,null,null,0]
[null,"II-24",58,null,null,58,1062409.719999999,145,null,null,null,145,2395282.7199999969,null,null,null,0,null,203,3457692.4399999958,null,null,null,null,null,0]
[null,"II-26",31,null,null,31,590190.47999999963,2,null,null,null,2,24776.160000000236,null,null,null,0,null,33,614966.6399999999,null,null,null,null,null,0]
[null,"II-30",293,null,null,293,6616433.2000000263,288,null,null,null,288,6016840.9600000251,null,null,null,0,null,581,12633274.160000052,null,null,null,null,null,0]
[null,"II-40",27,null,null,27,796557.35999999952,63,null,null,null,63,1754973.1199999996,null,null,null,0,null,90,2551530.4799999991,null,null,null,null,null,0]
[null,"III-24",5,null,null,5,97692.799999999988,11,null,null,null,11,198846.8,null,null,null,0,null,16,296539.59999999998,null,null,null,null,null,0]
[null,"III-30",29,null,null,29,672211.59999999974,81,null,null,null,81,1848965.3200000022,null,null,null,0,null,110,2521176.9200000018,null,null,null,null,null,0]
[null,"III-40",10,null,null,10,329000,63,null,null,null,63,1897310.5999999999,null,null,null,0,null,73,2226310.5999999996,null,null,null,null,null,0]
[null,"IV-24",21,null,null,21,439091.40000000014,21,null,null,null,21,431310.24000000011,null,null,null,0,null,42,870401.64000000025,null,null,null,null,null,0]
[null,"IV-30",55,null,null,55,1492225.6,37,null,null,null,37,976686.5199999999,null,null,null,0,null,92,2468912.12,null,null,null,null,null,0]
[null,"IV-40",0,null,null,null,0,10,null,null,null,10,328178.32,null,null,null,null,null,10,328178.32]
[null,"P/H",1,null,null,{"$f":"SUM(C91:E91)","v":1},44277.079999999536,159,null,null,null,159,2236134.3200000012,null,null,null,{"$f":"SUM(N91:P91)","v":0},null,160,2280411.4000000008,null,null,null,null,null,{"$f":"SUM(V91:Y91)","v":0}]
[null,"V-24",9,null,null,{"$f":"SUM(C92:E92)","v":9},188849.44,5,null,null,null,5,121279.59999999999,null,null,null,{"$f":"SUM(N92:P92)","v":0},null,14,310129.03999999998,null,null,null,null,null,{"$f":"SUM(V92:Y92)","v":0}]
[null,"V-26",1,null,null,{"$f":"SUM(C93:E93)","v":1},27290.560000000001,0,null,null,null,0,0,null,null,null,{"$f":"SUM(N93:P93)","v":0},null,1,27290.560000000001,null,null,null,null,null,{"$f":"SUM(V93:Y93)","v":0}]
[null,"V-30",7,null,null,{"$f":"SUM(C94:E94)","v":7},{"$f":"227919.72-3000","v":224919.72},8,null,null,null,8,{"$f":"254151.84-3000","v":251151.84},null,null,null,{"$f":"SUM(N94:P94)","v":0},null,15,476071.56,null,null,null,null,null,{"$f":"SUM(V94:Y94)","v":0}]
[null,"V-40",3,null,null,{"$f":"SUM(C95:E95)","v":3},{"$f":"128079.84-2400","v":125679.84},3,null,null,null,3,126879.84,null,null,null,{"$f":"SUM(N95:P95)","v":0},null,6,252559.68,null,null,null,null,null,{"$f":"SUM(V95:Y95)","v":0}]
[]
[null,"PROFESIONALES DE LA SALUD",{"$f":"SUM(C98:C139)","v":1827},{"$f":"SUM(D98:D139)","v":0},{"$f":"SUM(E98:E139)","v":0},{"$f":"SUM(C97:E97)","v":1827},{"$f":"SUM(G98:G139)","v":93089257.639999971},339,0,0,0,339,17673950.079999991,0,0,0,{"$f":"SUM(N97:P97)","v":0},{"$f":"SUM(R98:R139)","v":0},{"$f":"+F97+L97+Q97","v":2166},{"$f":"SUM(T98:T139)","v":110763207.71999994},null,{"$f":"SUM(V98:V139)","v":0},{"$f":"SUM(W98:W139)","v":0},{"$f":"SUM(X98:X139)","v":0},{"$f":"SUM(Y98:Y139)","v":0},{"$f":"SUM(Z98:Z139)","v":0}]
[null,"CD-I",31,null,null,31,1125957,5,null,null,null,{"$f":"SUM(H98:K98)","v":5},{"$f":"+VLOOKUP(B98,'[1]F23(OK)'!$B$103:$R$145,17,)","v":157567.44},null,null,null,0,null,36,{"$f":"G98+M98","v":1283524.44},null,null,null,null,null,{"$f":"SUM(V98:Y98)","v":0}]
[null,"CD-II",9,null,null,9,325638.96000000008,0,null,null,null,0,{"$f":"+VLOOKUP(B99,'[1]F23(OK)'!$B$103:$R$145,17,)","v":0},null,null,null,0,null,9,325638.96000000008,null,null,null,null,null,0]
[null,"CD-III",2,null,null,2,70142,0,null,null,null,0,{"$f":"+VLOOKUP(B100,'[1]F23(OK)'!$B$103:$R$145,17,)","v":0},null,null,null,0,null,2,70142,null,null,null,null,null,0]
[null,"CD-IV",1,null,null,1,36484,0,null,null,null,0,{"$f":"+VLOOKUP(B101,'[1]F23(OK)'!$B$103:$R$145,17,)","v":0},null,null,null,0,null,1,36484,null,null,null,null,null,0]
[null,"CD-V",9,null,null,9,352601.4,0,null,null,null,0,{"$f":"+VLOOKUP(B102,'[1]F23(OK)'!$B$103:$R$145,17,)","v":0},null,null,null,0,null,9,352601.4,null,null,null,null,null,0]
[null,"ENF-10",228,null,null,228,8524801.7999999952,66,null,null,null,66,{"$f":"+VLOOKUP(B103,'[1]F23(OK)'!$B$103:$R$145,17,)","v":2326232.7600000002},null,null,null,0,null,294,10851034.559999995,null,null,null,null,null,0]
[null,"ENF-11",68,null,null,68,2864056.2800000007,0,null,null,null,0,{"$f":"+VLOOKUP(B104,'[1]F23(OK)'!$B$103:$R$145,17,)","v":0},null,null,null,0,null,68,2864056.2800000007,null,null,null,null,null,0]
[null,"ENF-12",22,null,null,22,951652.4,1,null,null,null,1,{"$f":"+VLOOKUP(B105,'[1]F23(OK)'!$B$103:$R$145,17,)","v":8537.4000000000015},null,null,null,0,null,23,960189.8]
[null,"ENF-13",3,null,null,3,141008.40000000002,0,null,null,null,0,{"$f":"+VLOOKUP(B106,'[1]F23(OK)'!$B$103:$R$145,17,)","v":0},null,null,null,0,null,3,141008.40000000002]
[null,"ENF-14",256,null,null,256,11679077.92,6,null,null,null,6,{"$f":"+VLOOKUP(B107,'[1]F23(OK)'!$B$103:$R$145,17,)","v":240682.19999999998},null,null,null,0,null,262,11919760.119999999]
[null,"G4-II",29,null,null,29,890222.04,4,null,null,null,4,{"$f":"+VLOOKUP(B108,'[1]F23(OK)'!$B$103:$R$145,17,)","v":100197.84},null,null,null,0,null,33,990419.88]
[null,"G4-III",4,null,null,4,105719.92,0,null,null,null,0,{"$f":"+VLOOKUP(B109,'[1]F23(OK)'!$B$103:$R$145,17,)","v":0},null,null,null,0,null,4,105719.92]
[null,"G4-IV",3,null,null,3,85567.6,1,null,null,null,1,{"$f":"+VLOOKUP(B110,'[1]F23(OK)'!$B$103:$R$145,17,)","v":32244},null,null,null,0,null,4,117811.6,null,null,null,null,null,{"$f":"SUM(V110:Y110)","v":0}]
[null,"G4-V",4,null,null,4,108016.48000000001,0,null,null,null,0,{"$f":"+VLOOKUP(B111,'[1]F23(OK)'!$B$103:$R$145,17,)","v":0},null,null,null,0,null,4,108016.48000000001,null,null,null,null,null,0]
[null,"G4-VI",8,null,null,8,205680.55999999997,0,null,null,null,0,{"$f":"+VLOOKUP(B112,'[1]F23(OK)'!$B$103:$R$145,17,)","v":0},null,null,null,0,null,8,205680.55999999997,null,null,null,null,null,0]
[null,"G5-I",0,null,null,0,0,1,null,null,null,1,25262.080000000002,null,null,null,0,null,1,25262.080000000002,null,null,null,null,null,0]
[null,"G5-II",1,null,null,1,25282.760000000002,1,null,null,null,1,{"$f":"+VLOOKUP(B114,'[1]F23(OK)'!$B$103:$R$145,17,)","v":32070.959999999999},null,null,null,0,null,2,57353.72,null,null,null,null,null,0]
[null,"G5-III",2,null,null,2,50568.92,0,null,null,null,0,{"$f":"+VLOOKUP(B115,'[1]F23(OK)'!$B$103:$R$145,17,)","v":0},null,null,null,0,null,2,50568.92,null,null,null,null,null,0]
[null,"G5-V",1,null,null,1,33280,0,null,null,null,0,{"$f":"+VLOOKUP(B116,'[1]F23(OK)'!$B$103:$R$145,17,)","v":0},null,null,null,0,null,1,33280,null,null,null,null,null,0]
[null,"MC-1",208,null,null,208,13837571.879999988,158,null,null,null,158,{"$f":"+VLOOKUP(B117,'[1]F23(OK)'!$B$103:$R$145,17,)","v":9944994.5999999903},null,null,null,0,null,366,23782566.479999978,null,null,null,null,null,0]
[null,"MC-2",112,null,null,112,8198200.4399999995,11,null,null,null,11,{"$f":"+VLOOKUP(B118,'[1]F23(OK)'!$B$103:$R$145,17,)","v":822027.9600000002},null,null,null,0,null,123,9020228.4000000004,null,null,null,null,null,0]
[null,"MC-3",71,null,null,71,5316147.04,5,null,null,null,5,{"$f":"+VLOOKUP(B119,'[1]F23(OK)'!$B$103:$R$145,17,)","v":330051.96000000002},null,null,null,0,null,76,5646199,null,null,null,null,null,0]
[null,"MC-4",21,null,null,21,1683457.8,0,null,null,null,0,{"$f":"+VLOOKUP(B120,'[1]F23(OK)'!$B$103:$R$145,17,)","v":0},null,null,null,0,null,21,1683457.8,null,null,null,null,null,0]
[null,"MC-5",209,null,null,209,17120637.400000002,23,null,null,null,23,{"$f":"+VLOOKUP(B121,'[1]F23(OK)'!$B$103:$R$145,17,)","v":1827043.7999999998},null,null,null,0,null,232,18947681.200000003,null,null,null,null,null,0]
[null,"OBS-I",224,null,null,224,8676790.7199999839,20,null,null,null,20,{"$f":"+VLOOKUP(B122,'[1]F23(OK)'!$B$103:$R$145,17,)","v":670358.16},null,null,null,0,null,244,9347148.8799999841,null,null,null,null,null,0]
[null,"OBS-II",36,null,null,36,1410132.96,0,null,null,null,0,{"$f":"+VLOOKUP(B123,'[1]F23(OK)'!$B$103:$R$145,17,)","v":0},null,null,null,0,null,36,1410132.96,null,null,null,null,null,0]
[null,"OBS-III",2,null,null,2,75380,0,null,null,null,0,{"$f":"+VLOOKUP(B124,'[1]F23(OK)'!$B$103:$R$145,17,)","v":0},null,null,null,0,null,2,75380]
[null,"OBS-IV",1,null,null,1,43324,0,null,null,null,0,{"$f":"+VLOOKUP(B125,'[1]F23(OK)'!$B$103:$R$145,17,)","v":0},null,null,null,0,null,1,43324,null,null,null,null,null,{"$f":"SUM(V125:Y125)","v":0}]
[null,"OBS-V",17,null,null,17,711213.44000000006,0,null,null,null,0,{"$f":"+VLOOKUP(B126,'[1]F23(OK)'!$B$103:$R$145,17,)","v":0},null,null,null,0,null,17,711213.44000000006,null,null,null,null,null,{"$f":"SUM(V126:Y126)","v":0}]
[null,"OPS-IV",105,null,null,105,3293947.3200000012,24,null,null,null,24,{"$f":"+VLOOKUP(B127,'[1]F23(OK)'!$B$103:$R$145,17,)","v":702687.12},null,null,null,0,null,129,3996634.4400000013]
[null,"OPS-V",27,null,null,27,954112.79999999981,0,null,null,null,0,{"$f":"+VLOOKUP(B128,'[1]F23(OK)'!$B$103:$R$145,17,)","v":0},null,null,null,0,null,27,954112.79999999981]
[null,"OPS-VI",10,null,null,10,311160.64,0,null,null,null,0,{"$f":"+VLOOKUP(B129,'[1]F23(OK)'!$B$103:$R$145,17,)","v":0},null,null,null,0,null,10,311160.64,null,null,null,null,null,{"$f":"SUM(V129:Y129)","v":0}]
[null,"OPS-VII",4,null,null,4,161824,0,null,null,null,0,{"$f":"+VLOOKUP(B130,'[1]F23(OK)'!$B$103:$R$145,17,)","v":0},null,null,null,0,null,4,161824]
[null,"OPS-VIII",68,null,null,68,2596729.7600000007,6,null,null,null,6,{"$f":"+VLOOKUP(B131,'[1]F23(OK)'!$B$103:$R$145,17,)","v":225581.40000000002},null,null,null,0,null,74,2822311.1600000006]
[null,"PS-IV",7,null,null,7,225222.91999999998,4,null,null,null,4,{"$f":"+VLOOKUP(B132,'[1]F23(OK)'!$B$103:$R$145,17,)","v":114874.79999999999},null,null,null,0,null,11,340097.72]
[null,"PS-VI",1,null,null,1,35500,0,null,null,null,0,{"$f":"+VLOOKUP(B133,'[1]F23(OK)'!$B$103:$R$145,17,)","v":0},null,null,null,0,null,1,35500,null,null,null,null,null,{"$f":"SUM(V133:Y133)","v":0}]
[null,"PS-VIII",1,null,null,1,40701.4,0,null,null,null,0,{"$f":"+VLOOKUP(B134,'[1]F23(OK)'!$B$103:$R$145,17,)","v":0},null,null,null,0,null,1,40701.4,null,null,null,null,null,{"$f":"SUM(V134:Y134)","v":0}]
[null,"TM-1",9,null,null,9,309533.08000000007,1,null,null,null,1,{"$f":"+VLOOKUP(B135,'[1]F23(OK)'!$B$103:$R$145,17,)","v":33076.800000000003},null,null,null,0,null,10,342609.88000000006,null,null,null,null,null,{"$f":"SUM(V135:Y135)","v":0}]
[null,"TM-2",3,null,null,3,113988,0,null,null,null,0,{"$f":"+VLOOKUP(B136,'[1]F23(OK)'!$B$103:$R$145,17,)","v":0},null,null,null,0,null,3,113988,null,null,null,null,null,{"$f":"SUM(V136:Y136)","v":0}]
[null,"TM-3",2,null,null,2,73188.799999999988,0,null,null,null,0,{"$f":"+VLOOKUP(B137,'[1]F23(OK)'!$B$103:$R$145,17,)","v":0},null,null,null,0,null,2,73188.799999999988,null,null,null,null,null,{"$f":"SUM(V137:Y137)","v":0}]
[null,"TM-4",1,null,null,1,41840,1,null,null,null,1,{"$f":"+VLOOKUP(B138,'[1]F23(OK)'!$B$103:$R$145,17,)","v":39557.399999999994},null,null,null,0,null,2,81397.399999999994]
[null,"TM-5",7,null,null,7,282894.80000000005,1,null,null,null,1,{"$f":"+VLOOKUP(B139,'[1]F23(OK)'!$B$103:$R$145,17,)","v":40901.4},null,null,null,0,null,8,323796.20000000007]
[null,"CARRERA PUBLICA MAGISTERIAL",{"$f":"SUM(C141:C141)","v":2},{"$f":"SUM(D141:D141)","v":0},{"$f":"SUM(E141:E141)","v":0},2,{"$f":"SUM(G141:G141)","v":36731},{"$f":"SUM(H141:H145)","v":2884},0,0,0,2884,42492015.9200003,0,0,0,0,{"$f":"SUM(R141:R145)","v":0},2886,{"$f":"SUM(T141:T145)","v":42528746.9200003},null,{"$f":"SUM(V141:V141)","v":0},{"$f":"SUM(W141:W141)","v":0},{"$f":"SUM(X141:X141)","v":0},{"$f":"SUM(Y141:Y141)","v":0},{"$f":"SUM(Z141:Z141)","v":0}]
[null,"G-24",2,null,null,2,36731,789,null,null,null,{"$f":"SUM(H141:K141)","v":789},10843364.36000012,null,null,null,0,null,791,{"$f":"G141+M141","v":10880095.36000012},null,null,null,null,null,{"$f":"SUM(V141:Y141)","v":0}]
[null,"G-30",0,null,null,0,0,1983,null,null,null,1983,29581976.040000178,null,null,null,0,null,1983,{"$f":"G142+M142","v":29581976.040000178},null,null,null,null,null,{"$f":"SUM(V142:Y142)","v":0}]
[null,"G-40",0,null,null,0,0,106,null,null,null,106,1964807.5200000033,null,null,null,0,null,106,{"$f":"G143+M143","v":1964807.5200000033},null,null,null,null,null,{"$f":"SUM(V143:Y143)","v":0}]
[null,"I-26",0,null,null,0,0,3,null,null,null,3,46704,null,null,null,0,null,3,{"$f":"G144+M144","v":46704},null,null,null,null,null,{"$f":"SUM(V144:Y144)","v":0}]
[null,"II-26",0,null,null,0,0,3,null,null,null,3,55164,null,null,null,0,null,3,{"$f":"G145+M145","v":55164},null,null,null,null,null,{"$f":"SUM(V145:Y145)","v":0}]
[null,"LEY DE LA REFORMA MAGISTERIAL",{"$f":"SUM(C147:C189)","v":12853},{"$f":"SUM(D147:D189)","v":0},{"$f":"SUM(E147:E189)","v":0},12853,{"$f":"SUM(G147:G189)","v":268722035.99999899},{"$f":"SUM(H147:H189)","v":2648},{"$f":"SUM(I147:I189)","v":0},{"$f":"SUM(J147:J189)","v":0},{"$f":"SUM(K147:K189)","v":0},2648,{"$f":"SUM(M147:M189)","v":40701346.28000024},{"$f":"SUM(N147:N189)","v":0},{"$f":"SUM(O147:O189)","v":0},{"$f":"SUM(P147:P189)","v":0},0,{"$f":"SUM(R147:R189)","v":0},15501,{"$f":"SUM(T147:T189)","v":309423382.27999926},null,{"$f":"SUM(V147:V189)","v":0},{"$f":"SUM(W147:W189)","v":0},{"$f":"SUM(X147:X189)","v":0},{"$f":"SUM(Y147:Y189)","v":0},{"$f":"SUM(Z147:Z189)","v":0}]
[null,"A-24",{"$f":"+VLOOKUP(B147,'[1]F23(OK)'!$B$181:$P$223,14,)","v":13},null,null,13,145151.72,1,null,null,null,1,12512.52,null,null,null,0,null,14,{"$f":"G147+M147","v":157664.24},null,null,null,null,null,{"$f":"SUM(V147:Y147)","v":0}]
[null,"A-30",{"$f":"+VLOOKUP(B148,'[1]F23(OK)'!$B$181:$P$223,14,)","v":12},null,null,12,136922.00000000003,5,null,null,null,5,76778.52,null,null,null,0,null,17,213700.52000000002,null,null,null,null,null,{"$f":"SUM(V148:Y148)","v":0}]
[null,"A-40",{"$f":"+VLOOKUP(B149,'[1]F23(OK)'!$B$181:$P$223,14,)","v":2},null,null,2,23455,2,null,null,null,2,29520.839999999997,null,null,null,0,null,4,52975.839999999997]
[null,"B-24",{"$f":"+VLOOKUP(B150,'[1]F23(OK)'!$B$181:$P$223,14,)","v":14},null,null,14,150322.88000000003,3,null,null,null,3,38887.680000000008,null,null,null,0,null,17,189210.56000000006,null,null,null,null,null,{"$f":"SUM(V150:Y150)","v":0}]
[null,"B-30",{"$f":"+VLOOKUP(B151,'[1]F23(OK)'!$B$181:$P$223,14,)","v":5},null,null,5,52549.88,3,null,null,null,3,37861.319999999992,null,null,null,0,null,8,90411.199999999983,null,null,null,null,null,0]
[null,"B-40",{"$f":"+VLOOKUP(B152,'[1]F23(OK)'!$B$181:$P$223,14,)","v":2},null,null,2,25624.04,0,null,null,null,0,0,null,null,null,0,null,2,25624.04,null,null,null,null,null,0]
[null,"C-24",{"$f":"+VLOOKUP(B153,'[1]F23(OK)'!$B$181:$P$223,14,)","v":11},null,null,11,113846.59999999998,3,null,null,null,3,42151.199999999997,null,null,null,0,null,14,155997.79999999999,null,null,null,null,null,0]
[null,"C-30",{"$f":"+VLOOKUP(B154,'[1]F23(OK)'!$B$181:$P$223,14,)","v":28},null,null,28,312947.63999999996,8,null,null,null,8,109634.04000000001,null,null,null,0,null,36,422581.67999999993,null,null,null,null,null,0]
[null,"C-40",{"$f":"+VLOOKUP(B155,'[1]F23(OK)'!$B$181:$P$223,14,)","v":6},null,null,6,86800.920000000013,0,null,null,null,0,0,null,null,null,0,null,6,86800.920000000013,null,null,null,null,null,0]
[null,"D-24",{"$f":"+VLOOKUP(B156,'[1]F23(OK)'!$B$181:$P$223,14,)","v":6},null,null,6,59010.880000000005,4,null,null,null,4,52271.88,null,null,null,0,null,10,111282.76000000001,null,null,null,null,null,0]
[null,"D-30",{"$f":"+VLOOKUP(B157,'[1]F23(OK)'!$B$181:$P$223,14,)","v":6},null,null,6,58523.040000000023,0,null,null,null,0,0,null,null,null,0,null,6,58523.040000000023,null,null,null,null,null,0]
[null,"D-40",{"$f":"+VLOOKUP(B158,'[1]F23(OK)'!$B$181:$P$223,14,)","v":1},null,null,1,13158.880000000001,0,null,null,null,0,0,null,null,null,0,null,1,13158.880000000001,null,null,null,null,null,0]
[null,"E-24",{"$f":"+VLOOKUP(B159,'[1]F23(OK)'!$B$181:$P$223,14,)","v":47},null,null,47,420633.11999999976,16,null,null,null,16,220965.23999999996,null,null,null,0,null,63,641598.35999999975,null,null,null,null,null,0]
[null,"E-30",{"$f":"+VLOOKUP(B160,'[1]F23(OK)'!$B$181:$P$223,14,)","v":574},null,null,574,4612205.840000011,142,null,null,null,142,1764356.3999999994,null,null,null,0,null,716,6376562.2400000105,null,null,null,null,null,0]
[null,"E-40",{"$f":"+VLOOKUP(B161,'[1]F23(OK)'!$B$181:$P$223,14,)","v":6},null,null,{"$f":"SUM(C161:E161)","v":6},71589,0,null,null,null,0,0,null,null,null,{"$f":"SUM(N161:P161)","v":0},null,{"$f":"+F161+L161+Q161","v":6},71589,null,null,null,null,null,0]
[null,"G-24",{"$f":"+VLOOKUP(B162,'[1]F23(OK)'!$B$181:$P$223,14,)","v":0},null,null,0,0,725,null,null,null,725,8846488.280000044,null,null,null,null,null,725,8846488.280000044]
[null,"G-30",{"$f":"+VLOOKUP(B163,'[1]F23(OK)'!$B$181:$P$223,14,)","v":0},null,null,0,0,1039,null,null,null,1039,14190565.360000197,null,null,null,null,null,1039,14190565.360000197]
[null,"G-40",{"$f":"+VLOOKUP(B164,'[1]F23(OK)'!$B$181:$P$223,14,)","v":0},null,null,0,0,1,null,null,null,1,17135.919999999998,null,null,null,null,null,1,17135.919999999998]
[null,"I-24",{"$f":"+VLOOKUP(B165,'[1]F23(OK)'!$B$181:$P$223,14,)","v":57},null,null,57,765556.88000000431,74,null,null,null,74,1192975.7999999998,null,null,null,{"$f":"SUM(N165:P165)","v":0},null,131,1958532.6800000041,null,null,null,null,null,{"$f":"SUM(V165:Y165)","v":0}]
[null,"I-26",{"$f":"+VLOOKUP(B166,'[1]F23(OK)'!$B$181:$P$223,14,)","v":987},null,null,987,14845457.52000002,21,null,null,null,21,355190.16000000015,null,null,null,0,null,1008,15200647.68000002,null,null,null,null,null,{"$f":"SUM(V166:Y166)","v":0}]
[null,"I-30",{"$f":"+VLOOKUP(B167,'[1]F23(OK)'!$B$181:$P$223,14,)","v":1523},null,null,1523,28648956.479999404,112,null,null,null,112,2324136.9599999972,null,null,null,0,null,1635,30973093.439999402]
[null,"I-40",{"$f":"+VLOOKUP(B168,'[1]F23(OK)'!$B$181:$P$223,14,)","v":307},null,null,307,9032876.6399999708,50,null,null,null,50,1388900.3999999987,null,null,null,0,null,357,10421777.039999969,null,null,null,null,null,{"$f":"SUM(V168:Y168)","v":0}]
[null,"II-24",{"$f":"+VLOOKUP(B169,'[1]F23(OK)'!$B$181:$P$223,14,)","v":95},null,null,95,1554882.9200000037,66,null,null,null,66,1120889.2799999991,null,null,null,0,null,161,2675772.200000003]
[null,"II-26",{"$f":"+VLOOKUP(B170,'[1]F23(OK)'!$B$181:$P$223,14,)","v":1405},null,null,1405,22328752.400000554,20,null,null,null,20,381441.60000000003,null,null,null,0,null,1425,22710194.000000555]
[null,"II-30",{"$f":"+VLOOKUP(B171,'[1]F23(OK)'!$B$181:$P$223,14,)","v":2474},null,null,2474,47021048.080000371,158,null,null,null,158,3362049.0000000102,null,null,null,0,null,2632,50383097.080000378]
[null,"II-40",{"$f":"+VLOOKUP(B172,'[1]F23(OK)'!$B$181:$P$223,14,)","v":565},null,null,565,15563405.320000093,51,null,null,null,51,1516884.0000000007,null,null,null,0,null,616,17080289.320000093]
[null,"III-24",{"$f":"+VLOOKUP(B173,'[1]F23(OK)'!$B$181:$P$223,14,)","v":35},null,null,35,456214.87999999814,33,null,null,null,33,618601.6800000004,null,null,null,0,null,68,1074816.5599999987,null,null,null,null,null,{"$f":"SUM(V173:Y173)","v":0}]
[null,"III-26",{"$f":"+VLOOKUP(B174,'[1]F23(OK)'!$B$181:$P$223,14,)","v":708},null,null,708,13373015.35999988,8,null,null,null,8,165789.47999999998,null,null,null,0,null,716,13538804.839999881]
[null,"III-30",{"$f":"+VLOOKUP(B175,'[1]F23(OK)'!$B$181:$P$223,14,)","v":1449},null,null,1449,32006593.359998826,22,null,null,null,22,517604.87999999989,null,null,null,0,null,1471,32524198.239998825]
[null,"III-40",{"$f":"+VLOOKUP(B176,'[1]F23(OK)'!$B$181:$P$223,14,)","v":346},null,null,346,11036526.920000019,28,null,null,null,28,877189.8,null,null,null,0,null,374,11913716.720000019,null,null,null,null,null,{"$f":"SUM(V176:Y176)","v":0}]
[null,"IV-24",{"$f":"+VLOOKUP(B177,'[1]F23(OK)'!$B$181:$P$223,14,)","v":36},null,null,36,813331.64000000025,5,null,null,null,5,94725.72,null,null,null,0,null,41,908057.36000000022,null,null,null,null,null,{"$f":"SUM(V177:Y177)","v":0}]
[null,"IV-26",{"$f":"+VLOOKUP(B178,'[1]F23(OK)'!$B$181:$P$223,14,)","v":383},null,null,383,8191597.5599999614,1,null,null,null,1,22639.32,null,null,null,0,null,384,8214236.8799999617]
[null,"IV-30",{"$f":"+VLOOKUP(B179,'[1]F23(OK)'!$B$181:$P$223,14,)","v":560},null,null,560,14338031.560000006,23,null,null,null,23,656985.4800000001,null,null,null,0,null,583,14995017.040000007,null,null,null,null,null,{"$f":"SUM(V179:Y179)","v":0}]
[null,"IV-40",{"$f":"+VLOOKUP(B180,'[1]F23(OK)'!$B$181:$P$223,14,)","v":383},null,null,383,15402704.239999935,6,null,null,null,6,168562.32,null,null,null,0,null,389,15571266.559999935]
[null,"P/H",{"$f":"+VLOOKUP(B181,'[1]F23(OK)'!$B$181:$P$223,14,)","v":0},null,null,0,0,4,null,null,null,4,45975.520000000004,null,null,null,null,null,4,45975.520000000004]
[null,"V-24",{"$f":"+VLOOKUP(B182,'[1]F23(OK)'!$B$181:$P$223,14,)","v":18},null,null,18,487249.75999999983,2,null,null,null,2,50751.839999999997,null,null,null,{"$f":"SUM(N182:P182)","v":0},null,20,538001.59999999986]
[null,"V-26",{"$f":"+VLOOKUP(B183,'[1]F23(OK)'!$B$181:$P$223,14,)","v":175},null,null,175,4573178.8000000147,3,null,null,null,3,82471.92,null,null,null,0,null,178,4655650.7200000146,null,null,null,null,null,{"$f":"SUM(V183:Y183)","v":0}]
[null,"V-30",{"$f":"+VLOOKUP(B184,'[1]F23(OK)'!$B$181:$P$223,14,)","v":269},null,null,269,8253502.239999976,5,null,null,null,5,161479.79999999999,null,null,null,0,null,274,8414982.0399999768,null,null,null,null,null,{"$f":"SUM(V184:Y184)","v":0}]
[null,"V-40",{"$f":"+VLOOKUP(B185,'[1]F23(OK)'!$B$181:$P$223,14,)","v":148},null,null,148,6958625.439999993,3,null,null,null,3,128673.72,null,null,null,0,null,151,7087299.1599999927]
[null,"VI-24",{"$f":"+VLOOKUP(B186,'[1]F23(OK)'!$B$181:$P$223,14,)","v":4},null,null,4,70506.64,0,null,null,null,0,0,null,null,null,0,null,4,70506.64]
[null,"VI-26",{"$f":"+VLOOKUP(B187,'[1]F23(OK)'!$B$181:$P$223,14,)","v":61},null,null,61,1709497.120000002,0,null,null,null,0,0,null,null,null,0,null,61,1709497.120000002,null,null,null,null,null,{"$f":"SUM(V187:Y187)","v":0}]
[null,"VI-30",{"$f":"+VLOOKUP(B188,'[1]F23(OK)'!$B$181:$P$223,14,)","v":92},null,null,92,3029059.1999999941,1,null,null,null,1,28298.399999999998,null,null,null,0,null,93,3057357.599999994,null,null,null,null,null,{"$f":"SUM(V188:Y188)","v":0}]
[null,"VI-40",{"$f":"+VLOOKUP(B189,'[1]F23(OK)'!$B$181:$P$223,14,)","v":40},null,null,40,1978723.5999999989,0,null,null,null,0,0,null,null,null,0,null,40,1978723.5999999989,null,null,null,null,null,{"$f":"SUM(V189:Y189)","v":0}]
[null,"728 - REGIMEN PRIVADO",{"$f":"SUM(C191,C195,C200,C205,C208)","v":0},0,0,0,0,0,182,0,0,182,8061855.620000001,0,0,0,0,0,182,8061855.620000001,null,{"$f":"SUM(V191,V195,V200,V205,V208)","v":0},0,0,0,0,0]
[null,"FUNCIONARIOS Y DIRECTIVOS",{"$f":"SUM(C192:C194)","v":0},0,0,0,0,0,13,0,0,13,1234026.22,0,0,0,0,0,13,1234026.22,null,{"$f":"SUM(V192:V194)","v":0},0,0,0,0,0]
[null,"D-2",null,null,null,{"$f":"SUM(C192:E192)","v":0},null,null,11,null,null,{"$f":"SUM(H192:K192)","v":11},1009298.22,null,null,null,{"$f":"SUM(N192:P192)","v":0},null,{"$f":"+F192+L192+Q192","v":11},{"$f":"G192+M192","v":1009298.22},null,null,null,null,null,{"$f":"SUM(V192:Y192)","v":0}]
[null,"D-3",null,null,null,{"$f":"SUM(C193:E193)","v":0},null,null,1,null,null,{"$f":"SUM(H193:K193)","v":1},106050,null,null,null,{"$f":"SUM(N193:P193)","v":0},null,{"$f":"+F193+L193+Q193","v":1},{"$f":"G193+M193","v":106050},null,null,null,null,null,{"$f":"SUM(V193:Y193)","v":0}]
[null,"D-4",null,null,null,{"$f":"SUM(C194:E194)","v":0},null,null,1,null,null,{"$f":"SUM(H194:K194)","v":1},118678,null,null,null,{"$f":"SUM(N194:P194)","v":0},null,{"$f":"+F194+L194+Q194","v":1},{"$f":"G194+M194","v":118678},null,null,null,null,null,{"$f":"SUM(V194:Y194)","v":0}]
[null,"PROFESIONALES",{"$f":"SUM(C196:C199)","v":0},0,0,0,0,0,40,0,0,40,2471127.4,0,0,0,0,0,40,2471127.4,null,{"$f":"SUM(V196:V199)","v":0},0,0,0,0,0]
[null,"P-3",null,null,null,{"$f":"SUM(C196:E196)","v":0},null,null,9,null,null,{"$f":"SUM(H196:K196)","v":9},439552.12000000005,null,null,null,{"$f":"SUM(N196:P196)","v":0},null,{"$f":"+F196+L196+Q196","v":9},{"$f":"G196+M196","v":439552.12000000005},null,null,null,null,null,{"$f":"SUM(V196:Y196)","v":0}]
[null,"P-4",null,null,null,{"$f":"SUM(C197:E197)","v":0},null,null,7,null,null,{"$f":"SUM(H197:K197)","v":7},404995.36,null,null,null,{"$f":"SUM(N197:P197)","v":0},null,{"$f":"+F197+L197+Q197","v":7},{"$f":"G197+M197","v":404995.36},null,null,null,null,null,{"$f":"SUM(V197:Y197)","v":0}]
[null,"P-5",null,null,null,{"$f":"SUM(C198:E198)","v":0},null,null,5,null,null,{"$f":"SUM(H198:K198)","v":5},298382,null,null,null,{"$f":"SUM(N198:P198)","v":0},null,{"$f":"+F198+L198+Q198","v":5},{"$f":"G198+M198","v":298382},null,null,null,null,null,{"$f":"SUM(V198:Y198)","v":0}]
[null,"P-6",null,null,null,{"$f":"SUM(C199:E199)","v":0},null,null,19,null,null,{"$f":"SUM(H199:K199)","v":19},1328197.92,null,null,null,{"$f":"SUM(N199:P199)","v":0},null,{"$f":"+F199+L199+Q199","v":19},{"$f":"G199+M199","v":1328197.92},null,null,null,null,null,{"$f":"SUM(V199:Y199)","v":0}]
[null,"TECNICOS",{"$f":"SUM(C201:C204)","v":0},0,0,0,0,0,122,0,0,122,4179703.5000000005,0,0,0,0,0,122,4179703.5000000005,null,{"$f":"SUM(V201:V204)","v":0},0,0,0,0,0]
[null,"T-3",null,null,null,{"$f":"SUM(C201:E201)","v":0},null,null,15,null,0,{"$f":"SUM(H201:K201)","v":15},401692.89999999991,null,null,null,{"$f":"SUM(N201:P201)","v":0},null,{"$f":"+F201+L201+Q201","v":15},{"$f":"G201+M201","v":401692.89999999991},null,null,null,null,null,{"$f":"SUM(V201:Y201)","v":0}]
[null,"T-4",null,null,null,{"$f":"SUM(C202:E202)","v":0},null,null,15,null,null,{"$f":"SUM(H202:K202)","v":15},443429.98,null,null,null,{"$f":"SUM(N202:P202)","v":0},null,{"$f":"+F202+L202+Q202","v":15},{"$f":"G202+M202","v":443429.98},null,null,null,null,null,{"$f":"SUM(V202:Y202)","v":0}]
[null,"T-5",null,null,null,{"$f":"SUM(C203:E203)","v":0},null,null,34,null,null,{"$f":"SUM(H203:K203)","v":34},1204434.9800000004,null,null,null,{"$f":"SUM(N203:P203)","v":0},null,{"$f":"+F203+L203+Q203","v":34},{"$f":"G203+M203","v":1204434.9800000004},null,null,null,null,null,{"$f":"SUM(V203:Y203)","v":0}]
[null,"T-6",null,null,null,{"$f":"SUM(C204:E204)","v":0},null,null,58,null,null,{"$f":"SUM(H204:K204)","v":58},2130145.64,null,null,null,{"$f":"SUM(N204:P204)","v":0},null,{"$f":"+F204+L204+Q204","v":58},{"$f":"G204+M204","v":2130145.64},null,null,null,null,null,{"$f":"SUM(V204:Y204)","v":0}]
[null,"AUXILIARES",{"$f":"SUM(C206:C207)","v":0},0,0,0,0,0,7,0,0,7,176998.5,0,0,0,0,0,7,176998.5,null,{"$f":"SUM(V206:V207)","v":0},0,0,0,0,0]
[null,"A-3",null,null,null,{"$f":"SUM(C206:E206)","v":0},null,null,2,null,null,{"$f":"SUM(H206:K206)","v":2},49189.700000000012,null,null,null,{"$f":"SUM(N206:P206)","v":0},null,{"$f":"+F206+L206+Q206","v":2},{"$f":"G206+M206","v":49189.700000000012},null,null,null,null,null,{"$f":"SUM(V206:Y206)","v":0}]
[null,"A-6",null,null,null,{"$f":"SUM(C207:E207)","v":0},null,null,5,null,null,{"$f":"SUM(H207:K207)","v":5},127808.8,null,null,null,{"$f":"SUM(N207:P207)","v":0},null,{"$f":"+F207+L207+Q207","v":5},{"$f":"G207+M207","v":127808.8},null,null,null,null,null,{"$f":"SUM(V207:Y207)","v":0}]
[null,"CONTRATOS ADMINISTRATIVOS DE SERVICIOS",{"$f":"SUM(C209:C211)","v":0},0,0,0,0,0,0,0,0,0,0,0,0,0,0,0,0,0,null,{"$f":"SUM(V209:V211)","v":0},0,0,0,0,0]
[null,"PROFESIONALES",null,null,null,{"$f":"SUM(C209:E209)","v":0},null,null,null,null,null,{"$f":"SUM(H209:K209)","v":0},null,null,null,null,{"$f":"SUM(N209:P209)","v":0},null,{"$f":"+F209+L209+Q209","v":0},{"$f":"SUM(G209,M209,R209)","v":0},null,null,null,null,null,{"$f":"SUM(V209:Y209)","v":0}]
[null,"TECNICOS",null,null,null,{"$f":"SUM(C210:E210)","v":0},null,null,null,null,null,{"$f":"SUM(H210:K210)","v":0},null,null,null,null,{"$f":"SUM(N210:P210)","v":0},null,{"$f":"+F210+L210+Q210","v":0},{"$f":"SUM(G210,M210,R210)","v":0},null,null,null,null,null,{"$f":"SUM(V210:Y210)","v":0}]
[null,"AUXILIARES",null,null,null,{"$f":"SUM(C211:E211)","v":0},null,null,null,null,null,{"$f":"SUM(H211:K211)","v":0},null,null,null,null,{"$f":"SUM(N211:P211)","v":0},null,{"$f":"+F211+L211+Q211","v":0},{"$f":"SUM(G211,M211,R211)","v":0},null,null,null,null,null,{"$f":"SUM(V211:Y211)","v":0}]
[]
[null,"OTROS",{"$f":"SUM(C214:C221)","v":824},0,0,824,12216588.685717702,0,0,0,0,0,0,0,0,552,552,201651,1376,12418239.685717702,null,{"$f":"SUM(V214:V221)","v":0},0,0,0,0,0]
[null,"PROF. HORAS (15035)",750,null,null,{"$f":"SUM(C214:E214)","v":750},10800000.99,null,null,null,null,{"$f":"SUM(H214:K214)","v":0},null,null,null,null,{"$f":"SUM(N214:P214)","v":0},null,{"$f":"+F214+L214+Q214","v":750},{"$f":"SUM(G214,M214,R214)","v":10800000.99},null,null,null,null,null,{"$f":"SUM(V214:Y214)","v":0}]
[null,"PROF. HORAS (12)",null,null,null,{"$f":"SUM(C215:E215)","v":0},null,null,null,null,null,0,null,null,null,null,0,null,0,0,null,null,null,null,null,{"$f":"SUM(V215:Y215)","v":0}]
[null,"INTERNISTA SALUD",45,null,null,{"$f":"SUM(C216:E216)","v":45},217079.69571770186,null,null,null,null,0,null,null,null,null,0,null,45,217079.69571770186,null,null,null,null,null,{"$f":"SUM(V216:Y216)","v":0}]
[null,"CONSEJERO REGIONAL ",null,null,null,{"$f":"SUM(C217:E217)","v":0},null,null,null,null,null,0,null,null,null,null,0,null,0,0,null,null,null,null,null,{"$f":"SUM(V217:Y217)","v":0}]
[null,"DESTACADO DE..",null,null,null,{"$f":"SUM(C218:E218)","v":0},null,null,null,null,null,0,null,null,null,null,0,null,0,0,null,null,null,null,null,{"$f":"SUM(V218:Y218)","v":0}]
[null,"ANIMADORAS",null,null,null,null,null,null,null,null,null,0,null,null,null,552,552,201651,552,201651]
[null,"SERUM",17,null,null,{"$f":"SUM(C220:E220)","v":17},581747.99999999977,null,null,null,null,0,null,null,null,null,0,null,17,581747.99999999977,null,null,null,null,null,{"$f":"SUM(V220:Y220)","v":0}]
[null,"SIN GRUPO OCUPACIONAL",12,null,null,{"$f":"SUM(C221:E221)","v":12},617760,null,null,null,null,0,null,null,null,null,0,null,12,617760,null,null,null,null,null,{"$f":"SUM(V221:Y221)","v":0}]
[null,"1057 - CONTRATOS ADMINISTRATIVOS DE SERVICIOS",{"$f":"SUM(C223:C227)","v":0},0,0,0,0,0,0,0,0,0,0,3470,0,0,3470,66275107,3470,66275107,null,{"$f":"SUM(V223:V227)","v":0},0,0,0,0,0]
[null,"FUNCIONARIOS Y DIRECTIVOS",null,null,null,{"$f":"SUM(C223:E223)","v":0},null,null,null,null,null,{"$f":"SUM(H223:K223)","v":0},null,1880,null,null,{"$f":"SUM(N223:P223)","v":1880},52059824,{"$f":"+F223+L223+Q223","v":1880},{"$f":"SUM(G223,M223,R223)","v":52059824},null,null,null,null,null,{"$f":"SUM(V223:Y223)","v":0}]
[null,"PROFESIONALES",null,null,null,null,null,null,null,null,null,{"$f":"SUM(H224:K224)","v":0},null,604,null,null,{"$f":"SUM(N224:P224)","v":604},6721057,{"$f":"+F224+L224+Q224","v":604},{"$f":"SUM(G224,M224,R224)","v":6721057}]
[null,"PROFESIONALES SALUD",null,null,null,null,null,null,null,null,null,{"$f":"SUM(H225:K225)","v":0},null,270,null,null,{"$f":"SUM(N225:P225)","v":270},3036762,{"$f":"+F225+L225+Q225","v":270},{"$f":"SUM(G225,M225,R225)","v":3036762}]
[null,"TECNICOS",null,null,null,{"$f":"SUM(C226:E226)","v":0},null,null,null,null,null,{"$f":"SUM(H226:K226)","v":0},null,716,null,null,{"$f":"SUM(N226:P226)","v":716},4457464,{"$f":"+F226+L226+Q226","v":716},{"$f":"SUM(G226,M226,R226)","v":4457464},null,null,null,null,null,{"$f":"SUM(V226:Y226)","v":0}]
[null,"AUXILIARES",null,null,null,{"$f":"SUM(C227:E227)","v":0},null,null,null,null,null,{"$f":"SUM(H227:K227)","v":0},null,null,null,null,{"$f":"SUM(N227:P227)","v":0},null,{"$f":"+F227+L227+Q227","v":0},{"$f":"SUM(G227,M227,R227)","v":0},null,null,null,null,null,{"$f":"SUM(V227:Y227)","v":0}]
[]
[null,"20530 - PENSIONISTAS",{"$f":"SUM(C230:C231)","v":0},0,0,0,0,0,0,0,0,0,0,0,0,0,0,0,0,0,null,{"$f":"SUM(V230:V231)","v":11405},0,0,1617,13022,164086047]
[null,"PENSIONES",null,null,null,{"$f":"SUM(C230:E230)","v":0},null,null,null,null,null,{"$f":"SUM(H230:K230)","v":0},null,null,null,null,{"$f":"SUM(N230:P230)","v":0},null,{"$f":"+F230+L230+Q230","v":0},{"$f":"SUM(G230,M230,R230)","v":0},null,11405,null,null,null,{"$f":"SUM(V230:Y230)","v":11405},133101039.75999999]
[null,"SOBREVIVIENTES",null,null,null,{"$f":"SUM(C231:E231)","v":0},null,null,null,null,null,{"$f":"SUM(H231:K231)","v":0},null,null,null,null,{"$f":"SUM(N231:P231)","v":0},null,{"$f":"+F231+L231+Q231","v":0},{"$f":"SUM(G231,M231,R231)","v":0},null,null,null,null,1617,{"$f":"SUM(V231:Y231)","v":1617},30985007.239999998]
[]
[null,"TOTAL (A)",{"$f":"SUM(C229,C222,C190,C60,C42,C11,C213)","v":22049},0,0,22049,503273114.46285796,8359,182,0,0,{"$f":"SUM(H233:K233)","v":8541},{"$f":"SUM(M229,M222,M190,M60,M42,M11,M213)","v":176976323.15714189},{"$f":"SUM(N229,N222,N190,N60,N42,N11,N213)","v":3470},{"$f":"SUM(O229,O222,O190,O60,O42,O11,O213)","v":0},{"$f":"SUM(P229,P222,P190,P60,P42,P11,P213)","v":552},{"$f":"SUM(N233:P233)","v":4022},{"$f":"SUM(R229,R222,R190,R60,R42,R11,R213)","v":66476758},{"$f":"SUM(S229,S222,S190,S60,S42,S11,S213)","v":34612},{"$f":"SUM(T229,T222,T190,T60,T42,T11,T213)","v":746726195.61999989},null,{"$f":"SUM(V229,V222,V190,V60,V42,V11,V213)","v":11405},0,0,1617,13022,164086047]
[null,"(*) Comprende la suma PEA del personal según PAP"]
[null,"(**) Comprende la suma del Costo Total del personal nombrado, contratado y servicios no personales"]
[null,"(***) Detallar el marco legal y el numero de Pensionistas a su cargo "]
[null,"(****) Incluye GRATIFICACIONES, CAFAE, PNUD, BONOS, PRODUCTIVIDAD, HORAS EXTRAS, GUARDIAS,etc."]
[null,"(*****) Otros Contratos de personal no considerados en el PAP"]

{"sheet":"F.10","index":12,"n_rows":36,"n_cols":10,"rows_kept":36,"cut":false,"hidden":false,"merged":[[8,8,8,9],[0,1,0,9],[1,1,1,9],[2,1,2,9],[8,2,8,3],[8,4,8,5],[8,6,8,7],[9,8,10,8],[9,9,10,9],[9,1,10,1],[9,2,10,2],[9,3,10,3],[9,4,10,4],[9,5,10,5],[9,6,10,6],[9,7,10,7]]}
[null,"FORMATO N° 10"]
[null,"INFORMACIÓN DE REMUNERACIONES Y NÚMERO DE PLAZAS- PRESUPUESTO 2018, 2019 Y PROYECTO 2020"]
[null,"PROYECTO DE  PRESUPUESTO 2020"]
[]
[null,"SECTOR :  99 GOBIERNOS REGIONALES"]
[null,"PLIEGO  : 451 GOBIERNO REGIONAL LA LIBERTAD"]
[null,"FUENTE DE FINANCIAMIENTO"]
[]
[null,"CATEGORIA","2018  (PIA)",null,"2019  PIA",null,"2020 (PROYECTO)",null,"VARIACION 2019-2020"]
[null," REMUNERATIVA","PEA / Beneficiarios","COSTO ANUAL","PEA / Beneficiarios","COSTO ANUAL","PEA / Beneficiarios","COSTO ANUAL","PEA / Beneficiarios","COSTO ANUAL"]
[]
[null,"COSTO TOTAL EN PLANILLAS (*)",31553,704740331,33393,{"$f":"1091014908-F17-F18-F20-F22-F26-F27","v":943285675},33501,{"$f":"943285675+97944082+9791653","v":1051021410},{"$f":"+G12-E12","v":108},{"$f":"+H12-F12","v":107735735}]
[null,"AETA",null,null,null,null,null,null,0,0]
[null,"BONIFICACIÓN EXTRAORDINARIA (INACEPTACIÓN DE GRATIFICACIONES)",null,null,null,null,null,null,0,0]
[null,"BONOS POR FUNCION JURIDICCIONAL Y FISCAL",null,null,null,null,null,null,0,0]
[null,"DIETA DE DIRECTORIO",null,null,null,null,null,null,0,0]
[null,"DIETAS",15,617760,15,771700,15,771700,0,0]
[null,"ESCOLARIDAD, AGUINALDO Y GRATIFICACIONES",30517,28928098,33393,{"$f":"12818033+19474340","v":32292373},33501,{"$f":"+F18","v":32292373},108,0]
[null,"GASTOS POR ESTACIONAMIENTO DE VEHICULOS",null,null,null,null,null,null,0,0]
[null,"GASTOS VARIABLES Y OCASIONALES",null,{"$f":"4243410+12731637","v":16975047},null,19682593,41150,19683598,41150,1005]
[null,"MOVILIDAD PARA TRASLADO DE TRABAJADORES",null,null,null,null,null,null,0,0]
[null,"OBLIGACIONES DEL EMPLEADOR (CARGAS SOCIALES)",30517,38103046,33393,{"$f":"52435947-618160","v":51817787},33501,51920126,108,102339]
[null,"PRODUCTIVIDAD",null,null,null,null,null,null,0,0]
[null,"RETRIBUCIONES EN BIENES",null,null,null,null,null,null,0,0]
[null,"SEGUROS (ESPECIFICAR)",null,null,null,null,null,null,0,0]
[null,"TRANSFERENCIAS CAFAE",3101,36608939,3104,39853658,3181,39853658,77,0]
[null,"VESTUARIO",3615,2828326,3104,3311122,3181,3311122,77,0]
[null,"OTROS RETRIBUCIONES Y COMPLEMENTOS (**)  ",null,null,null,null,null,null,0,0]
[]
[null,"TOTAL    (*)",{"$f":"+C12","v":31553},{"$f":"SUM(D11:D29)","v":828801547},{"$f":"+E12","v":33393},{"$f":"SUM(F11:F29)","v":1091014908},{"$f":"+G12","v":33501},{"$f":"SUM(H11:H29)","v":1198853987},{"$f":"SUM(I11:I29)","v":41628},{"$f":"SUM(J11:J29)","v":107839079}]
[null,"(*) DEBE COINCIDIR CON LOS MONTOS ASIGNADOS EN LA GENERICA 1. PERSONAL Y OBLIGACIONES SOCIALES CONSIDERADAS EN EL PRESUPUESTO."]
[null,"(**) PNUD, BONOS, etc."]
[]
[]
[null,"PROYECTO DE PRESUPUESTO PARA EL AÑO FISCAL 2020"]
[null,"INFORMACION PARA LA COMISION DE PRESUPUESTO Y CUENTA GENERAL DE LA REPUBLICA DEL CONGRESO DE LA REPUBLICA"]

{"sheet":"F.11","index":13,"n_rows":212,"n_cols":34,"rows_kept":212,"cut":false,"hidden":false,"merged":[[9,1,11,1],[9,2,9,17],[9,18,9,29],[9,30,9,31],[9,32,9,33]]}
[]
[null,"FORMATO N° 11"]
[null,"INGRESOS MENSUALES POR PERIODO DEL PERSONAL ACTIVO - COMPARATIVO 2018, 2019 y PROYECTO 2020)"]
[null,"PROYECTO DE PRESUPUESTO - 2020"]
[null,"SECTOR : 99 GOBIERNOS REGIONALES",null,null,{"$f":"+C5-D5","v":0}]
[null,"PLIEGO  : 451 GOBIERNO REGIONAL LA LIBERTAD"]
[null,"UNIDAD EJECUTORA: Cada una de las Unidades Ejecutoras"]
[null,"FUENTE DE FINANCIAMIENTO",null,": Recursos Públicos / Recursos Ordinarios / Recursos Directamente Recaudados / Donaciones  y   Transferencias / Operaciones Oficiales de Crédito/ Recursos Determinados"]
[]
[null,"NIVELES REMUNERATIVOS","INGRESOS PERSONAL PPTO 2018 (EJECUCIÓN)",null,null,null,null,null,null,null,null,null,null,null,null,null,null,null,"INGRESOS PERSONAL PPTO 2019",null,null,null,null,null,null,null,null,null,null,null,"DIFERENCIA \n(2018 -2019)",null,"PROYECTO 2020"]
[null,null,"PEA","REMUNERACION MENSUAL (cada persona)","CAFAE MENSUAL (cada persona)","AETA MENSUAL (cada persona)","INCENTIVOS O PRODUCTIVIDAD (cada persona)","MOVILIDAQD","RACIONAMIENTO","BONOS","OTROS INGRESOS MENSUAL (cada persona)","SUB TOTAL INGRESOS MENSUALES (cada persona)","AGUINALDOS, GRAFICACIONES Y ESCOLARIDAD (anual cada persona)","OTROS INGRESOS NO MENSUALES  (anual cada persona)","OTROS INGRESOS NO MENSUALES \n(anual cada personal)","SUB TOTAL OTROS BENEFICIOS ... (no, mensuales, monto anual)","TOTAL INGRESOS ANUAL POR PERSONA","TOTAL INGRESO ANUAL PEA","PEA","REMUNERACION MENSUAL (cada persona)","CAFAE MENSUL (cada persona)","AETA MENSUAL (cada persona)","OTROS INGRESOS MENSUAL (cada persona)","SUB TOTAL INGRESOS MENSUALES (cada persona)","AGUINALDOS, GRAFICACIONES Y ESCOLARIDAD (anual cada persona)","OTROS INGRESOS NO MENSUALES \n(anual cada personal)","OTROS INGRESOS NO MENSUALES  (anual cada persona)","SUB TOTAL OTROS BENEFICIOS ... (no, mensuales, monto anual)","TOTAL INGRESOS ANUAL POR PERSONA","TOTAL INGRESO ANUAL PEA (Proyección al 31 /dic/ 2019)","DIFERENCIA INGRESO ANUAL POR PERSONAL ","DIFERENCIA INGRESO ANUAL PEA","PEA","TOTAL INGRESO ANUAL PEA (Proyeccion al 31 de diciembre de 2020)"]
[null,null,-1,"(2)","(3)","(4)","(5)","(6)","(7)","(8)","(9)","(10)","(11)","(12)","(12)","(13)","(14)","(15)","(1)","(2)","(3)","(4)","(9)","(10)","(11)","(12)","(12)","(13)","(14)","(15)"]
[null,"CARRERA ADMINISTRATIVA - DL 276",{"$f":"+C14+C23+C30+C37","v":3089},{"$f":"+D14+D23+D30+D37","v":43564.92978323764},{"$f":"+E14+E23+E30+E37","v":34669.551481023562},{"$f":"+F14+F23+F30+F37","v":0},0,0,0,0,0,78234.481264261194,26000,26000,0,26000,964813.77517113439,{"$f":"+R14+R23+R30+R37","v":73601408.702313662},{"$f":"+S14+S23+S30+S37","v":3166},43564.92978323764,47114.12,0,0,90679.049783237642,26000,0,26000,26000,1114148.5973988518,93186952.240000039,{"$f":"+AE14+AE23+AE30+AE37","v":-77},{"$f":"+AF14+AF23+AF30+AF37","v":19585543.537686389},{"$f":"+AG14+AG23+AG30+AG37","v":3166},{"$f":"+AH14+AH23+AH30+AH37","v":93186952.240000039}]
[null,"Funcionarios y Directivos",{"$f":"SUM(C15:C22)","v":244},{"$f":"SUM(D15:D22)","v":28862.207907311509},{"$f":"SUM(E15:E22)","v":14984.968897334817},0,0,0,0,0,0,43847.176804646326,8000,8000,0,8000,{"$f":"SUM(Q15:Q22)","v":534166.12165575591},9715107.8800000008,244,28862.207907311509,17203,0,0,46065.207907311516,8000,{"$f":"SUM(Z15:Z22)","v":0},{"$f":"SUM(AA15:AA22)","v":8000},{"$f":"SUM(AB15:AB22)","v":8000},{"$f":"SUM(AC15:AC22)","v":560782.49488773814},{"$f":"SUM(AD15:AD22)","v":11014007.08},{"$f":"SUM(AE15:AE22)","v":0},1298899.2000000018,244,{"$f":"SUM(AH15:AH22)","v":11014007.08}]
[null,"Funcionario 1",27,997.27000000000021,1734.81481481481,null,null,null,null,null,0,{"$f":"SUM(D15:K15)","v":2732.0848148148102},1000,1000,null,{"$f":"+N15+O15","v":1000},{"$f":"+L15*12+P15","v":33785.017777777721},{"$f":"+C15*Q15","v":912195.47999999847},27,997.27000000000021,2060,null,0,{"$f":"SUM(T15:W15)","v":3057.2700000000004},1000,null,1000,{"$f":"+Y15+Z15","v":1000},{"$f":"+X15*12+AB15","v":37687.240000000005},{"$f":"+S15*AC15","v":1017555.4800000001},{"$f":"+C15-S15","v":0},{"$f":"+AD15-R15","v":105360.00000000163},27,{"$f":"+AD15","v":1017555.4800000001}]
[null,"Funcionario 2",71,1130.2218309859156,1470.1971830985915,null,null,null,null,null,0,2600.4190140845071,1000,1000,null,{"$f":"+N16+O16","v":1000},{"$f":"+L16*12+P16","v":32205.028169014084},{"$f":"+C16*Q16","v":2286557},71,1130.2218309859156,2271.6,null,0,3401.8218309859158,1000,null,1000,1000,{"$f":"+X16*12+AB16","v":41821.861971830993},{"$f":"+S16*AC16","v":2969352.2000000007},0,682795.20000000065,"71",{"$f":"+AD16","v":2969352.2000000007}]
[null,"Funcionario 3",55,1244.1081818181817,1976.0545454545454,null,null,null,null,null,0,3220.1627272727274,1000,1000,null,{"$f":"+N17+O17","v":1000},{"$f":"+L17*12+P17","v":39641.952727272728},2180307.4,55,1244.1081818181817,2317.4,null,0,3561.5081818181816,1000,null,1000,1000,43738.098181818175,2405595.3999999994,0,225287.99999999953,55,2405595.3999999994]
[null,"Funcionario 4",31,1386.1645161290321,1756.0645161290322,null,null,null,null,null,0,3142.2290322580643,1000,1000,null,1000,38706.74838709677,1199909.2,31,1386.1645161290321,2417,null,0,3803.1645161290321,1000,null,1000,1000,46637.974193548383,1445777.2,0,245868,31,1445777.2]
[null,"Funcionario 5",37,1141.0183783783782,2437.8378378378379,null,null,null,null,null,0,3578.8562162162161,1000,1000,null,1000,43946.274594594594,1626012.16,37,1141.0183783783782,2527,null,0,3668.0183783783782,1000,null,1000,1000,45016.22054054054,1665600.16,0,39588,37,1665600.16]
[null,"Funcionario 6",20,1153.865,3420,null,null,null,null,null,0,4573.8649999999998,1000,1000,null,1000,55886.38,1117727.5999999999,20,1153.865,3420,null,0,4573.8649999999998,1000,null,1000,1000,55886.38,1117727.5999999999,0,0,20,1117727.5999999999]
[null,"Funcionario 7",2,6260.3600000000006,2190,null,null,null,null,null,0,8450.36,1000,1000,null,1000,102404.32,204808.64,2,6260.3600000000006,2190,null,0,8450.36,1000,null,1000,1000,102404.32,204808.64,0,0,2,204808.64]
[null,"Funcionario 8",1,15549.2,0,0,0,0,0,0,0,15549.2,1000,1000,null,1000,187590.40000000002,187590.40000000002,1,15549.2,0,0,0,15549.2,1000,null,1000,1000,187590.40000000002,187590.40000000002,0,0,1,187590.40000000002]
[null,"Profesionales",{"$f":"SUM(C24:C29)","v":377},{"$f":"SUM(D24:D29)","v":5358.2501964285693},7740.3826613095234,0,0,0,0,0,0,13098.632857738094,6000,6000,0,6000,163183.59429285713,9947765.959999999,377,5358.2501964285693,12178.5,0,0,17536.750196428569,6000,{"$f":"SUM(Z24:Z29)","v":0},{"$f":"SUM(AA24:AA29)","v":6000},{"$f":"SUM(AB24:AB29)","v":6000},{"$f":"SUM(AC24:AC29)","v":216441.00235714286},{"$f":"SUM(AD24:AD29)","v":13653113.48},{"$f":"SUM(AE24:AE29)","v":0},3705347.5200000005,{"$f":"SUM(AG24:AG29)","v":377},{"$f":"SUM(AH24:AH29)","v":13653113.48}]
[null,"Servidor Profesional A",42,868.51761904761895,1612.5283333333334,null,null,null,null,null,0,{"$f":"SUM(D24:K24)","v":2481.0459523809523},1000,1000,null,{"$f":"+N24+O24","v":1000},{"$f":"+L24*12+P24","v":30772.551428571427},{"$f":"+C24*Q24","v":1292447.1599999999},42,868.51761904761895,2015.9,null,0,{"$f":"SUM(T24:W24)","v":2884.4176190476192},1000,null,1000,{"$f":"+Y24+Z24","v":1000},{"$f":"+X24*12+AB24","v":35613.01142857143},{"$f":"+S24*AC24","v":1495746.48},{"$f":"+C24-S24","v":0},{"$f":"+AD24-R24","v":203299.32000000007},{"$f":"+S24","v":42},{"$f":"+AD24","v":1495746.48}]
[null,"Servidor Profesional B",25,916.49999999999989,1397.8951999999999,null,null,null,null,null,0,2314.3951999999999,1000,1000,null,1000,28772.742399999999,719318.55999999994,25,916.49999999999989,2029.4,null,0,2945.9,1000,null,1000,1000,36350.800000000003,908770.00000000012,0,189451.44000000018,25,908770.00000000012]
[null,"Servidor Profesional C",42,884.01071428571436,1293.605238095239,null,null,null,null,null,0,2177.6159523809533,1000,1000,null,1000,27131.391428571442,1139518.4400000006,42,884.01071428571436,2029.4,null,0,2913.4107142857147,1000,null,1000,1000,35960.92857142858,1510359.0000000005,0,370840.55999999982,42,1510359.0000000005]
[null,"Servidor Profesional D",84,885.97940476190411,1301.5617857142856,null,null,null,null,null,0,2187.5411904761895,1000,1000,null,1000,27250.494285714274,2289041.5199999991,84,885.97940476190411,2029.4,null,0,2915.379404761904,1000,null,1000,1000,35984.552857142844,3022702.439999999,0,733660.91999999993,84,3022702.439999999]
[null,"Servidor Profesional E",160,919.93537499999945,1034.2841874999999,null,null,null,null,null,0,1954.2195624999995,1000,1000,null,1000,24450.634749999994,3912101.5599999991,160,919.93537499999945,2045,null,0,2964.9353749999996,1000,null,1000,1000,36579.224499999997,5852675.9199999999,0,1940574.3600000008,160,5852675.9199999999]
[null,"Servidor Profesional F",24,883.30708333333359,1100.5079166666667,null,null,null,null,null,0,1983.8150000000003,1000,1000,null,1000,24805.780000000002,595338.72000000009,24,883.30708333333359,2029.4,null,0,2912.7070833333337,1000,null,1000,1000,35952.485000000001,862859.64,0,267520.91999999993,24,862859.64]
[null,"Tecnicos",{"$f":"SUM(C31:C36)","v":1058},{"$f":"SUM(D31:D36)","v":4673.9605592319949},6536.40992237922,0,0,0,0,0,0,11210.370481611215,6000,6000,0,6000,140524.44577933458,24922790.239999998,1058,4673.9605592319949,11497.62,0,0,16171.580559231994,6000,0,6000,6000,200058.96671078392,35309006.119999997,0,10386215.880000001,{"$f":"SUM(AG31:AG36)","v":1058},{"$f":"SUM(AH31:AH36)","v":35309006.119999997}]
[null,"Servidor Tecnico A",314,801.41859872611406,1073.2392993630574,null,null,null,null,null,0,{"$f":"SUM(D31:K31)","v":1874.6578980891713},1000,1000,null,{"$f":"+N31+O31","v":1000},{"$f":"+L31*12+P31","v":23495.894777070054},{"$f":"+C31*Q31","v":7377710.9599999972},314,801.41859872611406,1916.27,null,0,{"$f":"SUM(T31:W31)","v":2717.6885987261139},1000,null,1000,{"$f":"+Y31+Z31","v":1000},{"$f":"+X31*12+AB31","v":33612.263184713367},{"$f":"+S31*AC31","v":10554250.639999997},{"$f":"+C31-S31","v":0},{"$f":"+AD31-R31","v":3176539.6799999997},{"$f":"+S31","v":314},{"$f":"+AD31","v":10554250.639999997}]
[null,"Servidor Tecnico B",127,787.12110236220462,1221.259842519685,null,null,null,null,null,0,2008.3809448818897,1000,1000,null,1000,25100.571338582675,3187772.5599999996,127,787.12110236220462,1916.27,null,0,2703.3911023622045,1000,null,1000,1000,33440.693228346456,4246968.04,0,1059195.4800000004,127,4246968.04]
[null,"Servidor Tecnico C",146,770.06431506849276,1140.4109589041095,null,null,null,null,null,0,1910.4752739726023,1000,1000,null,1000,23925.703287671226,3493152.6799999988,146,770.06431506849276,1916.27,null,0,2686.3343150684927,1000,null,1000,1000,33236.011780821915,4852457.72,0,1359305.040000001,146,4852457.72]
[null,"Servidor Tecnico D",237,761.67202531645705,1198.9451476793249,null,null,null,null,null,0,1960.6171729957819,1000,1000,null,1000,24527.40607594938,5812995.240000003,237,761.67202531645705,1916.27,null,0,2677.9420253164571,1000,null,1000,1000,33135.304303797486,7853067.1200000038,0,2040071.8800000008,237,7853067.1200000038]
[null,"Servidor Tecnico E",142,786.84788732394384,882.27,null,null,null,null,null,0,1669.1178873239437,1000,1000,null,1000,21029.414647887323,2986176.88,142,786.84788732394384,1916.27,null,0,2703.1178873239437,1000,null,1000,1000,33437.414647887323,4748112.88,0,1761936,142,4748112.88]
[null,"Servidor Tecnico F",92,766.83663043478248,1020.2846739130435,null,null,null,null,null,0,1787.121304347826,1000,1000,null,1000,22445.455652173914,2064981.9200000002,92,766.83663043478248,1916.27,null,0,2683.1066304347823,1000,null,1000,1000,33197.279565217388,3054149.7199999997,0,989167.79999999958,92,3054149.7199999997]
[null,"Auxiliares",{"$f":"SUM(C38:C43)","v":1410},{"$f":"SUM(D38:D43)","v":4670.5111202655662},5407.79,0,0,0,0,0,0,10078.301120265567,6000,6000,0,6000,126939.6134431868,29015744.62231366,1487,4670.5111202655662,6235,0,0,10905.511120265568,6000,0,6000,6000,136866.13344318679,33210825.560000043,-77,4195080.9376863847,{"$f":"SUM(AG38:AG43)","v":1487},{"$f":"SUM(AH38:AH43)","v":33210825.560000043}]
[null,"Servidor Auxiliar A",182,777.33221621621635,908.92,null,null,null,null,null,0,{"$f":"SUM(D38:K38)","v":1686.2522162162163},1000,1000,null,{"$f":"+N38+O38","v":1000},{"$f":"+L38*12+P38","v":21235.026594594594},{"$f":"+C38*Q38","v":3864774.8402162162},185,777.33221621621635,1200,null,0,{"$f":"SUM(T38:W38)","v":1977.3322162162162},1000,null,1000,{"$f":"+Y38+Z38","v":1000},{"$f":"+X38*12+AB38","v":24727.986594594593},{"$f":"+S38*AC38","v":4574677.5199999996},{"$f":"+C38-S38","v":-3},{"$f":"+AD38-R38","v":709902.67978378339},{"$f":"+S38","v":185},{"$f":"+AD38","v":4574677.5199999996}]
[null,"Servidor Auxiliar B",51,798.99254901960751,923.53,null,null,null,null,null,0,1722.5225490196076,1000,1000,null,1000,21670.270588235289,1105183.7999999998,51,798.99254901960751,1100,null,0,1898.9925490196074,1000,null,1000,1000,23787.910588235289,1213183.4399999997,0,107999.6399999999,51,1213183.4399999997]
[null,"Servidor Auxiliar C",130,776.91320610687046,879.01,null,null,null,null,null,0,1655.9232061068706,1000,1000,null,1000,20871.078473282447,2713240.2015267182,131,776.91320610687046,990,null,0,1766.9132061068703,1000,null,1000,1000,22202.958473282444,2908587.56,-1,195347.35847328184,131,2908587.56]
[null,"Servidor Auxiliar D",157,784.86390410958984,861.07,null,null,null,null,null,0,1645.93390410959,1000,1000,null,1000,20751.20684931508,3257939.4753424674,146,784.86390410958984,985,null,0,1769.8639041095898,1000,null,1000,1000,22238.366849315076,3246801.560000001,11,-11137.91534246644,146,3246801.560000001]
[null,"Servidor Auxiliar E",880,756.06624481328174,851.26,null,null,null,null,null,0,1607.3262448132818,1000,1000,null,1000,20287.914937759382,17853365.145228256,964,756.06624481328174,980,null,0,1736.0662448132816,1000,null,1000,1000,21832.79493775938,21046814.320000041,-84,3193449.1747717857,964,21046814.320000041]
[null,"Servidor Auxiliar F",10,776.34300000000007,984,null,null,null,null,null,0,1760.3430000000001,1000,1000,null,1000,22124.116000000002,221241.16000000003,10,776.34300000000007,980,null,0,1756.3430000000001,1000,null,1000,1000,22076.116000000002,220761.16000000003,0,-480,10,220761.16000000003]
[null,"ASISTENCIALES NO PROFESIONALES DE LA SALUD",{"$f":"+C56+C45+C49","v":2110},{"$f":"+D56+D45+D49","v":30571.750236209271},0,0,0,0,0,0,3517.4738260594722,34089.224062268746,14000,14000,0,14000,423070.68874722492,{"$f":"+R56+R45+R49","v":65402770.077851228},{"$f":"+S56+S45+S49","v":2256},33031.412736209277,0,0,3517.4738260594722,36548.886562268752,14000,0,14000,14000,452586.63874722505,74958050.216890156,{"$f":"+AE56+AE45+AE49","v":-146},9555280.1390389372,{"$f":"+AG56+AG45+AG49","v":2256},{"$f":"+AH56+AH45+AH49","v":74958050.216890156}]
[null,"Profesionales",{"$f":"SUM(C46:C48)","v":25},{"$f":"SUM(D46:D48)","v":6697.8975},{"$f":"SUM(E46:E48)","v":0},0,0,0,0,0,476.57254545454543,7174.4700454545455,3000,3000,0,3000,89093.640545454546,782277.40000000014,24,7521.85,0,0,476.57254545454543,7998.4225454545458,3000,{"$f":"SUM(Z46:Z48)","v":0},{"$f":"SUM(AA46:AA48)","v":3000},{"$f":"SUM(AB46:AB48)","v":3000},{"$f":"SUM(AC46:AC48)","v":98981.070545454553},{"$f":"SUM(AD46:AD48)","v":799464.12000000011},1,17186.720000000059,{"$f":"SUM(AG46:AG48)","v":24},{"$f":"SUM(AH46:AH48)","v":799464.12000000011}]
[null,"Servidor Profesional D",10,2480.0700000000002,0,0,0,0,0,0,156.56799999999998,{"$f":"SUM(D46:K46)","v":2636.6379999999999},1000,1000,null,{"$f":"+N46+O46","v":1000},{"$f":"+L46*12+P46","v":32639.655999999999},{"$f":"+C46*Q46","v":326396.56},10,2498.0700000000002,0,0,156.56799999999998,{"$f":"SUM(T46:W46)","v":2654.6379999999999},1000,null,1000,{"$f":"+Y46+Z46","v":1000},{"$f":"+X46*12+AB46","v":32855.656000000003},{"$f":"+S46*AC46","v":328556.56000000006},{"$f":"+C46-S46","v":0},{"$f":"+AD46-R46","v":2160.0000000000582},{"$f":"+S46","v":10},{"$f":"+AD46","v":328556.56000000006}]
[null,"Servidor Profesional E",11,2433.7800000000002,0,0,0,0,0,0,221.75454545454548,{"$f":"SUM(D47:K47)","v":2655.5345454545459},1000,1000,null,{"$f":"+N47+O47","v":1000},{"$f":"+L47*12+P47","v":32866.414545454551},{"$f":"+C47*Q47","v":361530.56000000006},11,2533.7800000000002,0,0,221.75454545454548,{"$f":"SUM(T47:W47)","v":2755.5345454545459},1000,null,1000,{"$f":"+Y47+Z47","v":1000},{"$f":"+X47*12+AB47","v":34066.414545454551},{"$f":"+S47*AC47","v":374730.56000000006},{"$f":"+C47-S47","v":0},{"$f":"+AD47-R47","v":13200},11,374730.56000000006]
[null,"Servidor Profesional F",4,1784.0474999999999,0,0,0,0,0,0,98.25,{"$f":"SUM(D48:K48)","v":1882.2974999999999},1000,1000,null,{"$f":"+N48+O48","v":1000},{"$f":"+L48*12+P48","v":23587.57},{"$f":"+C48*Q48","v":94350.28},3,2490,0,null,98.25,{"$f":"SUM(T48:W48)","v":2588.25},1000,null,1000,{"$f":"+Y48+Z48","v":1000},{"$f":"+X48*12+AB48","v":32059},{"$f":"+S48*AC48","v":96177},{"$f":"+C48-S48","v":1},{"$f":"+AD48-R48","v":1826.7200000000012},3,96177]
[null,"Tecnicos",{"$f":"SUM(C50:C55)","v":1711},{"$f":"SUM(D50:D55)","v":13372.223546654521},0,0,0,0,0,0,1616.9548207280075,14989.178367382532,6000,6000,0,6000,185870.14040859035,53713117.133410417,1888,14371.223546654519,0,0,1616.9548207280075,15988.178367382528,6000,{"$f":"SUM(Z50:Z55)","v":0},{"$f":"SUM(AA50:AA55)","v":6000},{"$f":"SUM(AB50:AB55)","v":6000},{"$f":"SUM(AC50:AC55)","v":197858.14040859032},{"$f":"SUM(AD50:AD55)","v":63473018.485573031},-177,9759901.3521626201,{"$f":"SUM(AG50:AG55)","v":1888},{"$f":"SUM(AH50:AH55)","v":63473018.485573031}]
[null,"Servidor Tecnico A",100,2210.7878846153844,0,0,0,0,0,0,270.22807692307691,{"$f":"SUM(D50:K50)","v":2481.0159615384614},1000,1000,null,{"$f":"+N50+O50","v":1000},{"$f":"+L50*12+P50","v":30772.191538461535},{"$f":"+C50*Q50","v":3077219.1538461535},99,2390.7878846153799,0,0,270.22807692307691,{"$f":"SUM(T50:W50)","v":2661.0159615384568},1000,null,1000,{"$f":"+Y50+Z50","v":1000},{"$f":"+X50*12+AB50","v":32932.191538461484},{"$f":"+S50*AC50","v":3260286.9623076869},{"$f":"+C50-S50","v":1},{"$f":"+AD50-R50","v":183067.80846153339},{"$f":"+S50","v":99},{"$f":"+AD50","v":3260286.9623076869}]
[null,"Servidor Tecnico B",328,2186.0626074498573,0,0,0,0,0,0,250.31828080229235,2436.3808882521498,1000,1000,null,1000,30236.570659025798,9917595.1761604622,325,2486.06260744986,0,0,250.31828080229235,2736.3808882521525,1000,null,1000,1000,33836.570659025834,10996885.464183396,3,1079290.2880229335,325,10996885.464183396]
[null,"Servidor Tecnico C",714,2268.6708860759486,0,0,0,0,0,0,280.64360056258704,2549.3144866385355,1000,1000,null,1000,31591.773839662426,22556526.521518972,676,2468.67088607595,0,0,280.64360056258704,2749.3144866385369,1000,null,1000,1000,33991.773839662441,22978439.11561181,38,421912.59409283847,676,22978439.11561181]
[null,"Servidor Tecnico D",43,2216.362325581395,0,0,0,0,0,0,244.10976744186044,2460.4720930232556,1000,1000,null,1000,30525.665116279066,1312603.5999999999,42,2361.36232558139,0,0,244.10976744186044,2605.4720930232506,1000,null,1000,1000,32265.665116279008,1355157.9348837184,1,42554.334883718519,42,1355157.9348837184]
[null,"Servidor Tecnico E",106,2135.2800000000002,0,0,0,0,0,0,303.48905660377375,2438.7690566037741,1000,1000,null,1000,30265.228679245287,3208114.24,106,2205.2800000000002,0,0,303.48905660377375,2508.7690566037741,1000,null,1000,1000,31105.228679245287,3297154.24,0,89040,106,3297154.24]
[null,"Servidor Tecnico F",420,2355.0598429319371,0,0,0,0,0,0,268.16603839441694,2623.2258813263538,1000,1000,null,1000,32478.710575916244,13641058.441884823,640,2459.0598429319398,0,0,268.16603839441694,2727.2258813263566,1000,null,1000,1000,33726.710575916281,21585094.76858642,-220,7944036.3267015964,640,21585094.76858642]
[null,"Auxiliares",{"$f":"SUM(C57:C61)","v":374},{"$f":"SUM(D57:D61)","v":10501.629189554751},0,0,0,0,0,0,1423.9464598769191,11925.575649431668,5000,5000,0,5000,148106.90779318003,10907375.54444081,344,11138.339189554761,0,0,1423.9464598769191,12562.28564943168,5000,{"$f":"SUM(Z57:Z61)","v":0},{"$f":"SUM(AA57:AA61)","v":5000},{"$f":"SUM(AB57:AB61)","v":5000},{"$f":"SUM(AC57:AC61)","v":155747.42779318016},{"$f":"SUM(AD57:AD61)","v":10685567.611317128},30,-221807.93312368271,{"$f":"SUM(AG57:AG61)","v":344},{"$f":"SUM(AH57:AH61)","v":10685567.611317128}]
[null,"Servidor Auxiliar A",2,2143.75,0,0,0,0,0,0,335.34000000000003,{"$f":"SUM(D57:K57)","v":2479.09},1000,1000,null,{"$f":"+N57+O57","v":1000},{"$f":"+L57*12+P57","v":30749.08},{"$f":"+C57*Q57","v":61498.16},2,2213.75,0,0,335.34000000000003,{"$f":"SUM(T57:W57)","v":2549.09},1000,null,1000,{"$f":"+Y57+Z57","v":1000},{"$f":"+X57*12+AB57","v":31589.08},{"$f":"+S57*AC57","v":63178.16},{"$f":"+C57-S57","v":0},{"$f":"+AD57-R57","v":1680},{"$f":"+S57","v":2},{"$f":"+AD57","v":63178.16}]
[null,"Servidor Auxiliar B",122,2114.2073584905656,0,0,0,0,0,0,268.52603773584889,{"$f":"SUM(D58:K58)","v":2382.7333962264147},1000,1000,null,{"$f":"+N58+O58","v":1000},{"$f":"+L58*12+P58","v":29592.800754716976},{"$f":"+C58*Q58","v":3610321.6920754709},101,2324.2073584905702,0,0,268.52603773584889,{"$f":"SUM(T58:W58)","v":2592.7333962264192},1000,null,1000,{"$f":"+Y58+Z58","v":1000},{"$f":"+X58*12+AB58","v":32112.800754717031},{"$f":"+S58*AC58","v":3243392.87622642},{"$f":"+C58-S58","v":21},{"$f":"+AD58-R58","v":-366928.81584905088},101,3243392.87622642]
[null,"Servidor Auxiliar C",123,2080.9309836065572,0,0,0,0,0,0,286.0114754098355,{"$f":"SUM(D59:K59)","v":2366.9424590163926},1000,1000,null,{"$f":"+N59+O59","v":1000},{"$f":"+L59*12+P59","v":29403.309508196711},{"$f":"+C59*Q59","v":3616607.0695081954},118,2230.9309836065599,0,0,286.0114754098355,{"$f":"SUM(T59:W59)","v":2516.9424590163953},1000,null,1000,{"$f":"+Y59+Z59","v":1000},{"$f":"+X59*12+AB59","v":31203.309508196744},{"$f":"+S59*AC59","v":3681990.5219672159},{"$f":"+C59-S59","v":5},{"$f":"+AD59-R59","v":65383.45245902054},118,3681990.5219672159]
[null,"Servidor Auxiliar D",118,2063.4508474576273,0,0,0,0,0,0,218.4246610169491,{"$f":"SUM(D60:K60)","v":2281.8755084745762},1000,1000,null,{"$f":"+N60+O60","v":1000},{"$f":"+L60*12+P60","v":28382.506101694915},{"$f":"+C60*Q60","v":3349135.7199999997},115,2198.4508474576301,0,0,218.4246610169491,{"$f":"SUM(T60:W60)","v":2416.875508474579},1000,null,1000,{"$f":"+Y60+Z60","v":1000},{"$f":"+X60*12+AB60","v":30002.506101694948},{"$f":"+S60*AC60","v":3450288.2016949188},{"$f":"+C60-S60","v":3},{"$f":"+AD60-R60","v":101152.48169491906},115,3450288.2016949188]
[null,"Servidor Auxiliar F",9,2099.29,0,0,0,0,0,0,315.64428571428573,{"$f":"SUM(D61:K61)","v":2414.9342857142856},1000,1000,null,{"$f":"+N61+O61","v":1000},{"$f":"+L61*12+P61","v":29979.211428571427},{"$f":"+C61*Q61","v":269812.90285714285},8,2171,0,0,315.64428571428573,{"$f":"SUM(T61:W61)","v":2486.6442857142856},1000,null,1000,{"$f":"+Y61+Z61","v":1000},{"$f":"+X61*12+AB61","v":30839.731428571427},{"$f":"+S61*AC61","v":246717.85142857142},{"$f":"+C61-S61","v":1},{"$f":"+AD61-R61","v":-23095.051428571431},8,246717.85142857142]
[null,"LEY DE PROFESORADO",{"$f":"+C63+C68+C72+C91","v":23474},{"$f":"+D63+D68+D72+D91","v":82535.933088849444},{"$f":"+E63+E68+E72+E91","v":0},0,0,0,0,0,0,82535.933088849444,26000,26000,0,26000,1016431.1970661934,{"$f":"+R63+R68+R72+R91","v":720534992.13925707},{"$f":"+S63+S68+S72+S91+S93","v":24726},{"$f":"+T63+T68+T72+T91+T93","v":88733.165408612156},{"$f":"+U63+U68+U72+U91+U93","v":0},0,0,88733.165408612156,26000,0,26000,26000,1090797.9849033458,788959867.55514121,-1252,68424875.415884167,21973,799022848.2506845]
[null,"Docente de Instituto de Educación Superior",{"$f":"SUM(C64:C67)","v":0},{"$f":"SUM(D64:D67)","v":13516.61945013271},{"$f":"SUM(E64:E67)","v":0},0,0,0,0,0,0,13516.61945013271,4000,4000,0,4000,166199.43340159251,0,675,13390.217777777772,0,0,0,13390.217777777772,4000,0,4000,4000,164682.61333333325,26627588.266666658,-675,26627588.266666658,{"$f":"SUM(AG64:AG67)","v":675},{"$f":"SUM(AH64:AH67)","v":26627588.266666658}]
[null,"Profesor I-30 con Título Pedagógico",null,2847.33,0,0,0,0,0,0,0,{"$f":"SUM(D64:K64)","v":2847.33},1000,1000,null,{"$f":"+N64+O64","v":1000},{"$f":"+L64*12+P64","v":35167.96},{"$f":"+C64*Q64","v":0},1,2847.33,0,0,0,{"$f":"SUM(T64:W64)","v":2847.33},1000,null,1000,{"$f":"+Y64+Z64","v":1000},{"$f":"+X64*12+AB64","v":35167.96},{"$f":"+S64*AC64","v":35167.96},{"$f":"+C64-S64","v":-1},{"$f":"+AD64-R64","v":35167.96},{"$f":"+S64","v":1},{"$f":"+AD64","v":35167.96}]
[null,"Profesor I-40 con Título Pedagógico",null,3076.4016723549385,0,0,0,0,0,0,0,{"$f":"SUM(D65:K65)","v":3076.4016723549385},1000,1000,null,1000,{"$f":"+L65*12+P65","v":37916.820068259258},{"$f":"+C65*Q65","v":0},413,2950,0,0,0,{"$f":"SUM(T65:W65)","v":2950},1000,null,1000,{"$f":"+Y65+Z65","v":1000},{"$f":"+X65*12+AB65","v":36400},{"$f":"+S65*AC65","v":15033200},{"$f":"+C65-S65","v":-413},{"$f":"+AD65-R65","v":15033200},413,15033200]
[null,"Profesor II-40 con Título Pedagógico",null,3254.097777777773,0,0,0,0,0,0,0,{"$f":"SUM(D66:K66)","v":3254.097777777773},1000,1000,null,{"$f":"+N66+O66","v":1000},{"$f":"+L66*12+P66","v":40049.173333333274},{"$f":"+C66*Q66","v":0},176,3254.097777777773,0,0,0,{"$f":"SUM(T66:W66)","v":3254.097777777773},1000,null,1000,{"$f":"+Y66+Z66","v":1000},{"$f":"+X66*12+AB66","v":40049.173333333274},{"$f":"+S66*AC66","v":7048654.5066666566},{"$f":"+C66-S66","v":-176},{"$f":"+AD66-R66","v":7048654.5066666566},176,7048654.5066666566]
[null,"Profesor III-40 con Título Pedagógico",0,4338.7899999999991,0,0,0,0,0,0,0,{"$f":"SUM(D67:K67)","v":4338.7899999999991},1000,1000,null,{"$f":"+N67+O67","v":1000},{"$f":"+L67*12+P67","v":53065.479999999989},{"$f":"+C67*Q67","v":0},85,4338.7899999999991,0,0,0,{"$f":"SUM(T67:W67)","v":4338.7899999999991},1000,null,1000,{"$f":"+Y67+Z67","v":1000},{"$f":"+X67*12+AB67","v":53065.479999999989},{"$f":"+S67*AC67","v":4510565.7999999989},{"$f":"+C67-S67","v":-85},{"$f":"+AD67-R67","v":4510565.7999999989},85,4510565.7999999989]
[null,"Profesor contratado",{"$f":"SUM(C69:C71)","v":9747},{"$f":"SUM(D69:D71)","v":7028.7224343081853},{"$f":"SUM(E69:E71)","v":0},0,0,0,0,0,0,7028.7224343081853,3000,3000,0,3000,87344.66921169823,267361226.36729875,9386,7004.0375134048491,0,0,0,7004.0375134048491,3000,0,3000,3000,87048.450160858192,263271977.89903525,361,-4089248.4682634911,{"$f":"SUM(AG69:AG71)","v":9386},{"$f":"SUM(AH69:AH71)","v":263271977.89903525}]
[null,"Profesor G-30 Título Pedagógico",8249,2245.9124343081862,0,0,0,0,0,0,0,{"$f":"SUM(D69:K69)","v":2245.9124343081862},1000,1000,null,{"$f":"+N69+O69","v":1000},{"$f":"+L69*12+P69","v":27950.949211698236},{"$f":"+C69*Q69","v":230567380.04729876},7890,2352.16,0,0,0,{"$f":"SUM(T69:W69)","v":2352.16},1000,null,1000,{"$f":"+Y69+Z69","v":1000},{"$f":"+X69*12+AB69","v":29225.919999999998},{"$f":"+S69*AC69","v":230592508.79999998},{"$f":"+C69-S69","v":359},{"$f":"+AD69-R69","v":25128.752701222897},{"$f":"+S69","v":7890},{"$f":"+AD69","v":230592508.79999998}]
[null,"Profesor G-40 Título Pedagógico",6,2822.8099999999995,0,0,0,0,0,0,0,{"$f":"SUM(D70:K70)","v":2822.8099999999995},1000,1000,null,{"$f":"+N70+O70","v":1000},{"$f":"+L70*12+P70","v":34873.719999999994},{"$f":"+C70*Q70","v":209242.31999999995},10,2922.81,0,0,0,{"$f":"SUM(T70:W70)","v":2922.81},1000,null,1000,{"$f":"+Y70+Z70","v":1000},{"$f":"+X70*12+AB70","v":36073.72},{"$f":"+S70*AC70","v":360737.2},{"$f":"+C70-S70","v":-4},{"$f":"+AD70-R70","v":151494.88000000006},10,360737.2]
[null,"Profesor por horas",1492,1960,0,0,0,0,0,0,0,{"$f":"SUM(D71:K71)","v":1960},1000,1000,null,{"$f":"+N71+O71","v":1000},{"$f":"+L71*12+P71","v":24520},{"$f":"+C71*Q71+764","v":36584604},1486,1729.0675134048499,0,0,0,{"$f":"SUM(T71:W71)","v":1729.0675134048499},1000,null,1000,{"$f":"+Y71+Z71","v":1000},{"$f":"+X71*12+AB71","v":21748.8101608582},{"$f":"+S71*AC71","v":32318731.899035286},{"$f":"+C71-S71","v":6},{"$f":"+AD71-R71","v":-4265872.1009647138},1486,32318731.899035286]
[null,"Reforma Magisterial",{"$f":"SUM(C73:C90)","v":13708},{"$f":"SUM(D73:D90)","v":60596.591204408556},{"$f":"SUM(E73:E90)","v":0},0,0,0,0,0,0,60596.591204408556,18000,18000,0,18000,745159.09445290267,452836933.77195829,13424,64518.910117429536,0,0,0,64518.910117429536,18000,0,18000,18000,792226.92140915443,478165541.38943934,284,25328607.617481001,{"$f":"SUM(AG73:AG90)","v":10671},{"$f":"SUM(AH73:AH90)","v":487309341.08498263}]
[null,"Profesor I-30 con Título Pedagógico",3305,2000.1,0,0,0,0,0,0,0,{"$f":"SUM(D73:K73)","v":2000.1},1000,1000,null,{"$f":"+N73+O73","v":1000},{"$f":"+L73*12+P73","v":25001.199999999997},{"$f":"+C73*Q73","v":82628965.999999985},2753,2388.8415884022502,0,0,0,{"$f":"SUM(T73:W73)","v":2388.8415884022502},1000,null,1000,{"$f":"+Y73+Z73","v":1000},{"$f":"+X73*12+AB73","v":29666.099060827},{"$f":"+S73*AC73-1075.41","v":81669695.304456741},{"$f":"+C73-S73","v":552},{"$f":"+AD73-R73","v":-959270.69554324448},"3102",90813495]
[null,"Profesor I-32 con Titulo pedagógico",null,2308.4507048458163,0,0,0,0,0,0,0,2308.4507048458163,1000,1000,null,1000,28701.408458149795,0,224,2520.4507048458199,0,0,0,2520.4507048458199,1000,null,1000,1000,31245.408458149839,{"$f":"+S74*AC74","v":6998971.4946255637},-224,6998971.4946255637,{"$f":"+S74","v":224},{"$f":"+AD74","v":6998971.4946255637}]
[null,"Profesor I-40 con Título Pedagógico",128,3200,0,0,0,0,0,0,0,3200,1000,1000,null,1000,39400,5043200,90,3643.8794814814701,0,0,0,3643.8794814814701,1000,null,1000,1000,44726.553777777641,{"$f":"+S75*AC75","v":4025389.8399999877},38,-1017810.1600000123,90,4025389.8399999877]
[null,"Profesor II-30 con Título Pedagógico",4796,2461.0657879592677,0,0,0,0,0,0,0,2461.0657879592677,1000,1000,null,1000,30532.789455511214,146435258.22863179,4086,2650.06578795927,0,0,0,2650.06578795927,1000,null,1000,1000,32800.789455511243,{"$f":"+S76*AC76-665406","v":133358619.71521895},710,-13076638.513412848,4086,133358619.71521895]
[null,"Profesor II-32 con Titulo pedagógico",null,2544.0310676156751,0,0,0,0,0,0,0,2544.0310676156751,1000,1000,null,1000,31528.372811388101,0,216,2674.0310676156801,0,0,0,2674.0310676156801,1000,null,1000,1000,33088.372811388159,{"$f":"+S77*AC77","v":7147088.5272598425},-216,7147088.5272598425,216,7147088.5272598425]
[null,"Profesor II-40 con Título Pedagógico",541,3493.7269117646947,0,0,0,0,0,0,0,3493.7269117646947,1000,1000,null,1000,42924.72294117634,23222275.111176401,266,3693.7269117646902,0,0,0,3693.7269117646902,1000,null,1000,1000,45324.722941176282,12056376.30235289,275,-11165898.808823511,266,12056376.30235289]
[null,"Profesor III-30 con Título Pedagógico",2207,2612.2891275486891,0,0,0,0,0,0,0,2612.2891275486891,1000,1000,null,1000,32347.469530584269,71390865.253999487,2930,2775.28912754869,0,0,0,2775.28912754869,1000,null,1000,1000,34303.469530584276,100509165.72461192,-723,29118300.470612437,2930,100509165.72461192]
[null,"Profesor III-32 con Titulo pedagógico",null,2746.3899999999971,0,0,0,0,0,0,0,2746.3899999999971,1000,1000,null,1000,33956.679999999964,0,164,2888.39,0,0,0,2888.39,1000,null,1000,1000,35660.68,5848351.5200000005,-164,5848351.5200000005,164,5848351.5200000005]
[null,"Profesor III-40 con Título Pedagógico",532,3821.6200497512255,0,0,0,0,0,0,0,3821.6200497512255,1000,1000,null,1000,46859.440597014705,24929222.397611823,386,3998.62004975123,0,0,0,3998.62004975123,1000,null,1000,1000,48983.440597014764,18907608.070447698,146,-6021614.3271641247,386,18907608.070447698]
[null,"Profesor IV-30 con Título Pedagógico",876,2805.126227544853,0,0,0,0,0,0,0,2805.126227544853,1000,1000,null,1000,34661.514730538234,30363486.903951492,862,2975.1262275448498,0,0,0,2975.1262275448498,1000,null,1000,1000,36701.514730538198,31636705.697723925,14,1273218.793772433,862,31636705.697723925]
[null,"Profesor IV-32 con Titulo pedagógico",null,3025.73,0,0,0,0,0,0,0,3025.73,1000,1000,null,1000,37308.76,0,51,3205.73,0,0,0,3205.73,1000,null,1000,1000,39468.76,2012906.76,-51,2012906.76,51,2012906.76]
[null,"Profesor IV-40 con Título Pedagógico",527,4326.7689591078324,0,0,0,0,0,0,0,4326.7689591078324,1000,1000,null,1000,52921.227509293989,27889486.897397932,518,4526.7689591078297,0,0,0,4526.7689591078297,1000,null,1000,1000,55321.227509293953,28656395.849814266,9,766908.9524163343,518,28656395.849814266]
[null,"Profesor V-30 con Título Pedagógico",394,3229.3803166226985,0,0,0,0,0,0,0,3229.3803166226985,1000,1000,null,1000,39752.56379947238,15662510.136992117,392,3389.3803166226999,0,0,0,3389.3803166226999,1000,null,1000,1000,41672.563799472395,16335645.009393178,2,673134.87240106054,392,16335645.009393178]
[null,"Profesor V-32 con Titulo pedagógico",null,3443.3700000000013,0,0,0,0,0,0,0,3443.3700000000013,1000,1000,null,1000,42320.440000000017,0,22,3643.37,0,0,0,3643.37,1000,null,1000,1000,44720.44,983849.68,-22,983849.68,22,983849.68]
[null,"Profesor V-40 con Título Pedagógico",211,5044.7707476635314,0,0,0,0,0,0,0,5044.7707476635314,1000,1000,null,1000,61537.248971962377,12984359.533084061,243,5144.7707476635296,0,0,0,5144.7707476635296,1000,null,1000,1000,62737.248971962355,15245151.500186853,-32,2260791.9671027921,243,15245151.500186853]
[null,"Profesor VI-30 con Título Pedagógico",50,3747.2534328358147,0,0,0,0,0,0,0,3747.2534328358147,1000,1000,null,1000,45967.041194029778,2298352.0597014888,138,3957.2534328358101,0,0,0,3957.2534328358101,1000,null,1000,1000,48487.04119402972,6691211.6847761013,-88,4392859.625074612,138,6691211.6847761013]
[null,"Profesor VI-32 con Titulo pedagógico",null,3966.2157142857141,0,0,0,0,0,0,0,3966.2157142857141,1000,1000,null,1000,48594.588571428569,0,8,4228.2157142857104,0,0,0,4228.2157142857104,1000,null,1000,1000,51738.588571428525,413908.7085714282,-8,413908.7085714282,8,413908.7085714282]
[null,"Profesor VI-40 con Título Pedagógico",141,5820.3021568627437,0,0,0,0,0,0,0,5820.3021568627437,1000,1000,null,1000,70843.625882352921,9988951.2494117618,75,6215,0,0,0,6215,1000,null,1000,1000,75580,5668500,66,-4320451.2494117618,75,5668500]
[null,"Auxiliar de Educación",{"$f":"SUM(C92)","v":19},{"$f":"SUM(D92)","v":1394},0,0,0,0,0,0,0,1394,1000,1000,0,1000,17728,336832,1239,1320,0,0,0,1320,1000,0,1000,1000,16840,20864760,-1220,20527928,{"$f":"SUM(AG92)","v":1239},{"$f":"SUM(AH92)","v":21783941}]
[null,"Profesor E-30 con Est.Secund.Completa",19,1394,0,0,0,0,0,0,0,{"$f":"SUM(D92:K92)","v":1394},1000,1000,null,{"$f":"+N92+O92","v":1000},{"$f":"+L92*12+P92","v":17728},{"$f":"+C92*Q92","v":336832},1239,1320,0,0,0,{"$f":"SUM(T92:W92)","v":1320},1000,null,1000,{"$f":"+Y92+Z92","v":1000},{"$f":"+X92*12+AB92","v":16840},{"$f":"+S92*AC92","v":20864760},{"$f":"+C92-S92","v":-1220},{"$f":"+AD92-R92","v":20527928},{"$f":"+S92","v":1239},21783941]
[null,"Palmas Magisterial",null,null,null,null,null,null,null,null,null,null,null,null,null,null,null,null,{"$f":"SUM(S94)","v":2},{"$f":"SUM(T94)","v":2500},0,0,0,2500,0,0,0,0,30000,30000,-2,30000,2,30000]
[null,"Palmas Magisterial",null,null,null,null,null,null,null,null,null,null,null,null,null,null,null,null,2,2500,0,0,0,{"$f":"SUM(T94:W94)","v":2500},null,null,null,{"$f":"+Y94+Z94","v":0},{"$f":"+X94*12+AB94","v":30000},{"$f":"+AC94","v":30000},{"$f":"+C94-S94","v":-2},{"$f":"+AD94-R94","v":30000},{"$f":"+S94","v":2},{"$f":"+AD94","v":30000}]
[null,"CARRERA MEDICA Y PROFESIONALES  DE LA SALUD",{"$f":"+C96","v":2557},{"$f":"+D96","v":141712.18519980734},0,0,0,0,0,0,18811.7641373119,160523.94933711915,41000,41000,0,41000,1967287.3920454306,144589775.96025383,2888,169239.60069883472,0,0,18811.7641373119,188051.36483614662,41000,{"$f":"+Z96","v":0},41000,{"$f":"+AB96","v":41000},{"$f":"+AC96","v":2297616.37803376},{"$f":"+AD96","v":188680929.30915326},{"$f":"+AE96","v":-331},44091153.348899417,{"$f":"+AG96","v":2888},188680929.30915326]
[null,"Profesionales de la Salud",{"$f":"SUM(C97:C138)","v":2557},{"$f":"SUM(D97:D138)","v":141712.18519980734},{"$f":"SUM(E97:E138)","v":0},0,0,0,0,0,18811.7641373119,160523.94933711915,41000,41000,0,41000,1967287.3920454306,144589775.96025383,2888,169239.60069883472,0,0,18811.7641373119,188051.36483614662,41000,{"$f":"SUM(Z97:Z138)","v":0},{"$f":"SUM(AA97:AA138)","v":41000},{"$f":"SUM(AB97:AB138)","v":41000},{"$f":"SUM(AC97:AC138)","v":2297616.37803376},{"$f":"SUM(AD97:AD138)","v":188680929.30915326},{"$f":"SUM(AE97:AE138)","v":-331},44091153.348899417,{"$f":"SUM(AG97:AG138)","v":2888},{"$f":"SUM(AH97:AH138)","v":188680929.30915326}]
[null,"Cirujano Dentista (nivel I)",48,3289.9749999999999,0,0,0,0,0,0,492.9953571428573,{"$f":"SUM(D97:K97)","v":3782.9703571428572},1000,1000,null,{"$f":"+N97+O97","v":1000},{"$f":"+L97*12+P97","v":46395.644285714283},{"$f":"+C97*Q97","v":2226990.9257142856},58,3819.9749999999999,0,0,492.9953571428573,{"$f":"SUM(T97:W97)","v":4312.9703571428572},1000,null,1000,{"$f":"+Y97+Z97","v":1000},{"$f":"+X97*12+AB97","v":52755.644285714283},{"$f":"+S97*AC97","v":3059827.3685714286},{"$f":"+C97-S97","v":-10},{"$f":"+AD97-R97","v":832836.442857143},{"$f":"+S97","v":58},{"$f":"+AD97","v":3059827.3685714286}]
[null,"Cirujano Dentista (nivel II)",9,3478.27,0,0,0,0,0,0,295.50888888888886,3773.778888888889,1000,1000,null,1000,46285.346666666665,416568.12,9,3778.27,0,0,295.50888888888886,4073.778888888889,1000,null,1000,1000,49885.346666666665,448968.12,0,32400,9,448968.12]
[null,"Cirujano Dentista (nivel III)",2,3297.23,0,0,0,0,0,0,149.25,3446.48,1000,1000,null,1000,42357.760000000002,84715.520000000004,2,3611.23,0,0,149.25,3760.48,1000,null,1000,1000,46125.760000000002,92251.520000000004,0,7536,2,92251.520000000004]
[null,"Cirujano Dentista (nivel IV)",1,3486.7,0,0,0,0,0,0,370,3856.7,1000,1000,null,1000,47280.399999999994,47280.399999999994,1,3856.7,0,0,370,4226.7,1000,null,1000,1000,51720.399999999994,51720.399999999994,0,4440,1,51720.399999999994]
[null,"Cirujano Dentista (nivel V)",9,4134.9233333333332,0,0,0,0,0,0,202.49444444444444,4337.4177777777777,1000,1000,null,1000,53049.013333333336,477441.12,9,4701.9233333333304,0,0,202.49444444444444,4904.417777777775,1000,null,1000,1000,59853.0133333333,538677.11999999965,0,61235.999999999651,9,538677.11999999965]
[null,"Enfermera (nivel 10)",480,3149.0060100166929,0,0,0,0,0,0,627.81948247078606,3776.8254924874791,1000,1000,null,1000,46321.905909849753,22234514.83672788,621,3649.0060100166902,0,0,627.81948247078606,4276.8254924874764,1000,null,1000,1000,52321.905909849716,32491903.570016675,-141,10257388.733288795,621,32491903.570016675]
[null,"Enfermera (nivel 11)",68,3446.3781333333336,0,0,0,0,0,0,548.49453333333327,3994.8726666666671,1000,1000,null,1000,48938.472000000009,3327816.0960000008,68,4155,0,0,548.49453333333327,4703.4945333333335,1000,null,1000,1000,57441.934399999998,3906051.5392,0,578235.44319999916,68,3906051.5392]
[null,"Enfermera (nivel 12)",22,3347.7920833333333,0,0,0,0,0,0,796.58583333333343,4144.3779166666664,1000,1000,null,1000,50732.534999999996,1116115.77,22,4100,0,0,796.58583333333343,4896.5858333333335,1000,null,1000,1000,59759.03,1314698.6599999999,0,198582.8899999999,22,1314698.6599999999]
[null,"Enfermera (nivel 13)",3,2684.02,0,0,0,0,0,0,644.87000000000012,3328.8900000000003,1000,1000,null,1000,40946.680000000008,122840.04000000002,3,4685,0,0,644.87000000000012,5329.87,1000,null,1000,1000,64958.44,194875.32,0,72035.279999999984,3,194875.32]
[null,"Enfermera (nivel 14)",262,3885.2579272727271,0,0,0,0,0,0,742.57152727272705,4627.8294545454537,1000,1000,null,1000,56533.953454545444,14811895.805090906,262,4550,0,0,742.57152727272705,5292.5715272727266,1000,null,1000,1000,64510.858327272719,16901844.881745454,0,2089949.0766545478,262,16901844.881745454]
[null,"Medico Cirujano N-1",334,4616.3821087314673,0,0,0,0,0,0,460.45846787479354,5076.8405766062606,1000,1000,null,{"$f":"+N107+O107","v":1000},61922.086919275127,20681977.031037893,354,6456.38210873147,0,0,460.45846787479354,6916.8405766062633,1000,null,1000,1000,84002.086919275156,29736738.769423407,-20,9054761.7383855134,354,29736738.769423407]
[null,"Medico Cirujano N-2",124,5734.1792142857139,0,0,0,0,0,0,640.91728571428621,6375.0964999999997,1000,1000,null,1000,77501.157999999996,9610143.5920000002,124,6999.1792142857103,0,0,640.91728571428621,7640.096499999996,1000,null,1000,1000,92681.157999999952,11492463.591999995,0,1882319.9999999944,124,11492463.591999995]
[null,"Medico Cirujano N-3",75,6003.3482142857147,0,0,0,0,0,0,676.53952380952387,6679.8877380952381,1000,1000,null,1000,81158.65285714285,6086898.9642857136,74,7210.3482142857101,0,0,676.53952380952387,7886.8877380952345,1000,null,1000,1000,95642.652857142821,7077556.3114285683,1,990657.34714285471,74,7077556.3114285683]
[null,"Medico Cirujano N-4",21,6874.7668181818181,0,0,0,0,0,0,830.41590909090917,7705.1827272727269,1000,1000,null,1000,93462.192727272719,1962706.0472727271,21,7594.7668181818199,0,0,830.41590909090917,8425.1827272727296,1000,null,1000,1000,102102.19272727275,2144146.0472727278,0,181440.0000000007,21,2144146.0472727278]
[null,"Medico Cirujano N-5",230,7094.6570539419081,0,0,0,0,0,0,849.8805394190872,7944.5375933609957,1000,1000,null,1000,96334.451120331942,22156923.757676348,230,8090,0,0,849.8805394190872,8939.8805394190877,1000,null,1000,1000,108278.56647302906,24904070.288796682,0,2747146.5311203338,230,24904070.288796682]
[null,"Obstetriz (nivel I)",380,3230.6575826446274,0,0,0,0,0,0,567.00111570248066,3797.6586983471079,1000,1000,null,{"$f":"+N112+O112","v":1000},46571.904380165295,17697323.664462812,496,3850,0,0,567.00111570248066,4417.001115702481,1000,null,1000,1000,54004.013388429768,26785990.640661165,-116,9088666.9761983529,496,26785990.640661165]
[null,"Obstetriz (nivel II)",36,2995.1104878048782,0,0,0,0,0,0,435.58731707317071,3430.6978048780488,1000,1000,null,1000,42168.373658536584,1518061.451707317,34,4100,0,0,435.58731707317071,4535.5873170731711,1000,null,1000,1000,55427.04780487805,1884519.6253658538,2,366458.17365853675,34,1884519.6253658538]
[null,"Obstetriz (nivel III)",2,2198.1533333333332,0,0,0,0,0,0,388.33333333333331,2586.4866666666667,1000,1000,null,1000,32037.84,64075.68,2,4150,0,0,388.33333333333331,4538.333333333333,1000,null,1000,1000,55460,110920,0,46844.32,2,110920]
[null,"Obstetriz (nivel IV)",1,3910.1,0,0,0,0,0,0,540,4450.1000000000004,1000,1000,null,1000,54401.200000000004,54401.200000000004,1,4285,0,0,540,4825,1000,null,1000,1000,58900,58900,0,4498.7999999999956,1,58900]
[null,"Obstetriz (nivel V)",17,3527.4339999999997,0,0,0,0,0,0,500.40600000000006,4027.8399999999997,1000,1000,null,1000,49334.079999999994,838679.35999999987,17,4649,0,0,500.40600000000006,5149.4059999999999,1000,null,1000,1000,62792.872000000003,1067478.824,0,228799.46400000015,17,1067478.824]
[null,"Otro Profesional de Salud (G4 nivel-I)",null,0,0,0,0,0,0,0,0,0,0,0,null,0,0,0,null,0,0,0,0,0,0,null,0,0,0,0,0,0,0,0]
[null,"Otro Profesional de Salud (G4 nivel-II)",28,1984.6489285714274,0,0,0,0,0,0,317.98464285714277,2302.6335714285701,1000,1000,null,1000,28631.60285714284,801684.87999999954,22,2389,0,0,317.98464285714277,2706.9846428571427,1000,null,1000,1000,33483.815714285709,736643.9457142856,6,-65040.934285713942,22,736643.9457142856]
[null,"Otro Profesional de Salud (G4 nivel-III)",2,2250.37,0,0,0,0,0,0,149.25,2399.62,1000,1000,null,1000,29795.439999999999,59590.879999999997,2,2250.37,0,0,149.25,2399.62,1000,null,1000,1000,29795.439999999999,59590.879999999997,0,0,2,59590.879999999997]
[null,"Otro Profesional de Salud (G4 nivel-IV)",4,2257.7800000000002,0,0,0,0,0,0,243.77500000000001,2501.5550000000003,1000,1000,null,1000,31018.660000000003,124074.64000000001,1,3028,0,0,243.77500000000001,3271.7750000000001,1000,null,1000,1000,40261.300000000003,40261.300000000003,3,-83813.340000000011,1,40261.300000000003]
[null,"Otro Profesional de Salud (G4 nivel-V)",4,2373.16,0,0,0,0,0,0,374.4,2747.56,1000,1000,null,1000,33970.720000000001,135882.88,4,2473.16,0,0,374.4,2847.56,1000,null,1000,1000,35170.720000000001,140682.88,0,4800,4,140682.88]
[null,"Otro Profesional de Salud (G4 nivel-VI)",8,2365.9699999999998,0,0,0,0,0,0,305.96250000000003,2671.9324999999999,1000,1000,null,1000,33063.19,264505.52,8,2450,0,0,305.96250000000003,2755.9625000000001,1000,null,1000,1000,34071.550000000003,272572.40000000002,0,8066.8800000000047,8,272572.40000000002]
[null,"Otro Profesional de Salud (G5 nivel-I)",1,2219.67,0,0,0,0,0,0,372.59,2592.2600000000002,1000,1000,null,1000,32107.120000000003,32107.120000000003,1,2219.67,0,0,372.59,2592.2600000000002,1000,null,1000,1000,32107.120000000003,32107.120000000003,0,0,1,32107.120000000003]
[null,"Otro Profesional de Salud (G5 nivel-II)",1,2696.44,0,0,0,0,0,0,279.10000000000002,2975.54,1000,1000,null,1000,36706.479999999996,36706.479999999996,1,2696.44,0,0,279.10000000000002,2975.54,1000,null,1000,1000,36706.479999999996,36706.479999999996,0,0,1,36706.479999999996]
[null,"Otro Profesional de Salud (G5 nivel-V)",1,2681.18,0,0,0,0,0,0,410.92,3092.1,1000,1000,null,1000,38105.199999999997,38105.199999999997,1,2681.18,0,0,410.92,3092.1,1000,null,1000,1000,38105.199999999997,38105.199999999997,0,0,1,38105.199999999997]
[null,"Otro Profesional de Salud (nivel IV)",227,3233.8170484581497,0,0,0,0,0,0,535.41237885462476,3769.2294273127745,1000,1000,null,{"$f":"+N126+O126","v":1000},46230.753127753298,10494380.959999999,232,3680,0,0,535.41237885462476,4215.4123788546249,1000,null,1000,1000,51584.948546255502,11967708.062731277,-5,1473327.1027312782,232,11967708.062731277]
[null,"Otro Profesional de Salud (nivel V)",25,3199.372068965517,0,0,0,0,0,0,509.25517241379316,3708.6272413793104,1000,1000,null,1000,45503.526896551724,1137588.1724137932,27,3850,0,0,509.25517241379316,4359.2551724137929,1000,null,1000,1000,53311.062068965519,1439398.675862069,-2,301810.50344827585,27,1439398.675862069]
[null,"Otro Profesional de Salud (nivel VI)",10,3024.0269230769231,0,0,0,0,0,0,85.901538461538465,3109.9284615384618,1000,1000,null,1000,38319.141538461539,383191.41538461542,10,4290,0,0,85.901538461538465,4375.9015384615386,1000,null,1000,1000,53510.818461538467,535108.18461538467,0,151916.76923076925,10,535108.18461538467]
[null,"Otro Profesional de Salud (nivel VII)",4,3104.7200000000003,0,0,0,0,0,0,314.8,3419.5200000000004,1000,1000,null,1000,42034.240000000005,168136.96000000002,4,4250,0,0,314.8,4564.8,1000,null,1000,1000,55777.600000000006,223110.40000000002,0,54973.440000000002,4,223110.40000000002]
[null,"Otro Profesional de Salud (nivel VIII)",73,3523.1538095238093,0,0,0,0,0,0,263.91583333333341,3787.0696428571428,1000,1000,null,1000,46444.835714285713,3390473.0071428572,73,4580,0,0,263.91583333333341,4843.9158333333335,1000,null,1000,1000,59126.990000000005,4316270.2700000005,0,925797.2628571433,73,4316270.2700000005]
[null,"Psicologo IV",16,3152.7796428571428,0,0,0,0,0,0,485.93642857142862,3638.7160714285715,1000,1000,null,1000,44664.592857142859,714633.48571428575,35,3512,0,0,485.93642857142862,3997.9364285714287,1000,null,1000,1000,48975.237142857142,1714133.3,-19,999499.8142857143,35,1714133.3]
[null,"Psicologo VI",1,3720.63,0,0,0,0,0,0,0,3720.63,1000,1000,null,1000,45647.56,45647.56,1,3980,0,0,0,3980,1000,null,1000,1000,48760,48760,0,3112.4400000000023,1,48760]
[null,"Psicologo VIII",1,3716.39,0,0,0,0,0,0,609.45000000000005,4325.84,1000,1000,null,1000,52910.080000000002,52910.080000000002,1,4100,0,0,609.45000000000005,4709.45,1000,null,1000,1000,57513.399999999994,57513.399999999994,0,4603.3199999999924,1,57513.399999999994]
[null,"Tecnologo Medico (nivel 1)",12,2932.0382051282054,0,0,0,0,0,0,509.25153846153859,3441.2897435897439,1000,1000,null,1000,42295.476923076931,507545.72307692317,42,3220,0,0,509.25153846153859,3729.2515384615385,1000,null,1000,1000,45751.018461538464,1921542.7753846154,-30,1413997.0523076924,42,1921542.7753846154]
[null,"Tecnologo Medico (nivel 2)",3,3127.8700000000003,0,0,0,0,0,0,720,3847.8700000000003,1000,1000,null,1000,47174.44,{"$f":"+C135*Q135+10.4","v":141533.72},3,3398,0,0,720,4118,1000,null,1000,1000,50416,151248,0,9714.2799999999988,3,151248]
[null,"Tecnologo Medico (nivel 3)",2,3297.23,0,0,0,0,0,0,491.2,3788.43,1000,1000,null,1000,46461.159999999996,92922.319999999992,2,3600,0,0,491.2,4091.2,1000,null,1000,1000,50094.399999999994,100188.79999999999,0,7266.4799999999959,2,100188.79999999999]
[null,"Tecnologo Medico (nivel 4)",2,3486.7,0,0,0,0,0,0,721.22500000000002,4207.9250000000002,1000,1000,null,1000,51495.100000000006,{"$f":"+C137*Q137","v":102990.20000000001},2,3780,0,0,721.22500000000002,4501.2250000000004,1000,null,1000,1000,55014.700000000004,110029.40000000001,0,7039.1999999999971,2,110029.40000000001]
[null,"Tecnologo Medico (nivel 5)",8,2979.897272727273,0,0,0,0,0,0,351.30454545454546,3331.2018181818185,1000,1000,null,1000,40974.421818181821,327795.37454545457,8,4520,0,0,351.30454545454546,4871.3045454545454,1000,null,1000,1000,59455.654545454541,475645.23636363633,0,147849.86181818176,8,475645.23636363633]
[null,"SERUMISTAS",{"$f":"+SUM(C140:C145)","v":61},{"$f":"+SUM(D140:D145)","v":19609.205652173914},{"$f":"+SUM(E140:E145)","v":0},0,0,0,0,0,0,19609.205652173914,6000,6000,0,6000,241310.46782608697,2724463.12,{"$f":"+SUM(S140:S145)","v":61},20710.895652173909,0,0,0,20710.895652173909,6000,0,6000,6000,254530.74782608691,2896175.6799999997,0,171712.55999999918,{"$f":"+SUM(AG140:AG145)","v":61},{"$f":"+SUM(AH140:AH145)","v":2896175.6799999997}]
[null,"Cirujano Dentista (nivel I)",2,2846.31,null,null,null,null,null,null,null,{"$f":"SUM(D140:K140)","v":2846.31},1000,1000,null,{"$f":"+N140+O140","v":1000},{"$f":"+L140*12+P140","v":35155.72},{"$f":"+C140*Q140","v":70311.44},2,3250,null,null,null,{"$f":"SUM(T140:W140)","v":3250},1000,null,1000,{"$f":"+Y140+Z140","v":1000},{"$f":"+X140*12+AB140","v":40000},{"$f":"+S140*AC140","v":80000},{"$f":"+C140-S140","v":0},{"$f":"+AD140-R140","v":9688.5599999999977},{"$f":"+S140","v":2},{"$f":"+AD140","v":80000}]
[null,"Enfermera (nivel 10)",23,2905.0056521739134,null,null,null,null,null,null,null,2905.0056521739134,1000,1000,null,1000,35860.067826086961,824781.56,23,2965.0056521739102,null,null,null,2965.0056521739102,1000,null,1000,1000,36580.067826086924,841341.55999999924,0,16559.999999999185,23,841341.55999999924]
[null,"Medico Cirujano N-1",19,5318.96,null,null,null,null,null,null,null,5318.96,1000,1000,null,1000,64827.520000000004,1231722.8800000001,19,5956.96,null,null,null,5956.96,1000,null,1000,1000,72483.520000000004,1377186.8800000001,0,145464,19,1377186.8800000001]
[null,"Obstetriz (nivel I)",10,2846.31,null,null,null,null,null,null,null,2846.31,1000,1000,null,1000,35155.72,351557.2,10,2846.31,null,null,null,2846.31,1000,null,1000,1000,35155.72,351557.2,0,0,10,351557.2]
[null,"Otro Profesional de Salud (nivel IV)",5,2846.31,null,null,null,null,null,null,null,2846.31,1000,1000,null,1000,35155.72,175778.6,5,2846.31,null,null,null,2846.31,1000,null,1000,1000,35155.72,175778.6,0,0,5,175778.6]
[null,"Psicologo IV",2,2846.31,null,null,null,null,null,null,null,2846.31,1000,1000,null,1000,35155.72,70311.44,2,2846.31,null,null,null,2846.31,1000,null,1000,1000,35155.72,70311.44,0,0,2,70311.44]
[null,"DESTACADOS DE SALUD",{"$f":"+C147","v":34},{"$f":"+D147","v":0},0,0,0,0,0,0,0,0,0,0,0,0,0,0,{"$f":"+S147","v":34},1150,0,0,0,1150,1000,0,1000,1000,14800,503200,0,503200,34,503200]
[null,"DESTACADOS DE SALUD",34,null,null,null,null,null,null,null,null,{"$f":"SUM(D147:K147)","v":0},null,null,null,{"$f":"+N147+O147","v":0},{"$f":"+L147*12+P147","v":0},null,34,1150,null,null,null,{"$f":"SUM(T147:W147)","v":1150},1000,null,1000,{"$f":"+Y147+Z147","v":1000},{"$f":"+X147*12+AB147","v":14800},{"$f":"+S147*AC147","v":503200},{"$f":"+C147-S147","v":0},{"$f":"+AD147-R147","v":503200},{"$f":"+S147","v":34},{"$f":"+AD147","v":503200}]
[null,"RESIDENTES DE SALUD",{"$f":"+C149","v":133},{"$f":"+D149","v":0},0,0,0,0,0,0,0,0,0,0,0,0,0,0,{"$f":"+S149","v":133},{"$f":"+T149","v":6500},0,0,0,6500,1000,0,1000,1000,79000,10507000,0,10507000,133,10507000]
[null,"RESIDENTES DE SALUD",133,null,null,null,null,null,null,null,null,{"$f":"SUM(D149:K149)","v":0},null,null,null,{"$f":"+N149+O149","v":0},{"$f":"+L149*12+P149","v":0},null,133,6500,null,null,null,{"$f":"SUM(T149:W149)","v":6500},1000,null,1000,{"$f":"+Y149+Z149","v":1000},{"$f":"+X149*12+AB149","v":79000},{"$f":"+S149*AC149","v":10507000},{"$f":"+C149-S149","v":0},{"$f":"+AD149-R149","v":10507000},{"$f":"+S149","v":133},{"$f":"+AD149","v":10507000}]
[]
[null,"CONSEJEROS  REGIONALES",{"$f":"+C152","v":12},{"$f":"+D152","v":4290},{"$f":"+E152","v":0},0,0,0,0,0,0,4290,0,0,0,0,51480,617760,15,4290,0,0,0,4290,0,{"$f":"+Z152","v":0},0,{"$f":"+AB152","v":0},{"$f":"+AC152","v":51480},{"$f":"+AD152","v":772200},-3,154440,{"$f":"+AG152","v":15},{"$f":"+AH152","v":772200}]
[null,"Funcionarios Elegisdos por elección",12,4290,0,0,0,0,0,0,0,{"$f":"SUM(D152:K152)","v":4290},0,0,null,{"$f":"+N152+O152","v":0},{"$f":"+L152*12+P152","v":51480},{"$f":"+C152*Q152","v":617760},15,4290,0,0,0,{"$f":"SUM(T152:W152)","v":4290},0,null,0,{"$f":"+Y152+Z152","v":0},{"$f":"+X152*12+AB152","v":51480},{"$f":"+S152*AC152","v":772200},{"$f":"+C152-S152","v":-3},{"$f":"+AD152-R152","v":154440},{"$f":"+S152","v":15},{"$f":"+AD152","v":772200}]
[null,null,null,null,null,null,null,null,null,null,null,null,null,null,null,null,null,null,null,null,null,null,null,null,null,null,null,null,null,null,{"$f":"+C153-S153","v":0},{"$f":"+AD153-R153","v":0},0,0]
[null,"TOTAL ACTIVO",{"$f":"+C13+C44+C62+C95+C139+C151+C148+C146","v":31470},322284.00396027759,34669.551481023562,0,0,0,0,0,22329.237963371372,379282.79340467247,113000,113000,0,113000,4664393.5208560703,1007471169.9996758,{"$f":"+S13+S44+S62+S95+S139+S151+S148+S146","v":33279},367220.00427906774,47114.12,0,22329.237963371372,436663.36224243906,115000,0,115000,115000,5354960.3469092697,{"$f":"+AD13+AD44+AD62+AD95+AD139+AD151+AD148+AD146","v":1160464375.0011847},-1809,152993205.00150892,30526,{"$f":"+AH13+AH44+AH62+AH95+AH139+AH151+AH148+AH146","v":1170527355.696728}]
[null,null,null,null,null,null,null,null,null,null,null,null,null,null,null,null,null,null,null,null,null,null,null,null,null,null,null,null,null,null,{"$f":"+C155-S155","v":0},{"$f":"+AD155-R155","v":0}]
[null,"OTROS ",{"$f":"+C165+C167+C170","v":688},18308.566407490907,0,0,0,0,0,0,0,18308.566407490907,49406.537645469281,49406.537645469281,0,49406.537645469281,269109.33453536022,13085768.51,{"$f":"+S165+S167+S170+S157+S159+S162","v":688},18308.566407490907,0,0,0,18308.566407490907,49406.537645469281,0,49406.537645469281,49406.537645469281,269109.33453536022,38246912.509999998,0,0,688,38246912.510000005]
[null,"Uniforme Peronal Administrativo",{"$f":"SUM(C158)","v":459},{"$f":"SUM(D158)","v":628.10457516339875},0,0,0,0,0,0,0,628.10457516339875,0,0,0,0,7537.254901960785,3459600.0000000005,{"$f":"SUM(S158:S158)","v":0},0,0,0,0,0,0,0,0,0,0,3273430,0,0,0,3273430]
[null,"Uniforme Peronal Administrativo",459,628.10457516339875,0,0,0,0,0,0,0,{"$f":"SUM(D158:K158)","v":628.10457516339875},0,0,null,{"$f":"+N158+O158","v":0},{"$f":"+L158*12+P158","v":7537.254901960785},{"$f":"+C158*Q158","v":3459600.0000000005},null,null,0,0,0,{"$f":"SUM(T158:W158)","v":0},0,null,0,{"$f":"+Y158+Z158","v":0},{"$f":"+X158*12+AB158","v":0},3273430,null,null,{"$f":"+S158","v":0},{"$f":"+AD158","v":3273430}]
[null,"Asignaciones",{"$f":"SUM(C160)","v":459},628.10457516339875,0,0,0,0,0,0,0,628.10457516339875,0,0,0,0,7537.254901960785,3459600.0000000005,{"$f":"SUM(S160:S161)","v":0},{"$f":"SUM(T160:T161)","v":0},0,0,0,0,0,0,0,0,0,{"$f":"SUM(AD160:AD161)","v":9063162},{"$f":"SUM(AE160:AE161)","v":0},0,0,{"$f":"SUM(AH160:AH161)","v":9063162}]
[null,"CTS",459,628.10457516339875,0,0,0,0,0,0,0,{"$f":"SUM(D160:K160)","v":628.10457516339875},0,0,null,{"$f":"+N160+O160","v":0},{"$f":"+L160*12+P160","v":7537.254901960785},{"$f":"+C160*Q160","v":3459600.0000000005},null,null,0,0,0,{"$f":"SUM(T160:W160)","v":0},0,null,0,{"$f":"+Y160+Z160","v":0},{"$f":"+X160*12+AB160","v":0},5215923,null,null,{"$f":"+S160","v":0},{"$f":"+AD160","v":5215923}]
[null,"ATS",null,null,null,null,null,null,null,null,null,null,null,null,null,null,null,null,null,null,null,null,null,null,null,null,null,null,null,3847239,null,null,null,3847239]
[null,"AFP",{"$f":"SUM(C163)","v":459},628.10457516339875,0,0,0,0,0,0,0,628.10457516339875,0,0,0,0,7537.254901960785,3459600.0000000005,{"$f":"SUM(S163:S164)","v":0},{"$f":"SUM(T163:T164)","v":0},0,0,0,0,0,0,0,0,0,{"$f":"SUM(AD163:AD164)","v":12824552},0,0,0,12824552]
[null,"Aportes a los Fondos de Pensiones",459,628.10457516339875,0,0,0,0,0,0,0,{"$f":"SUM(D163:K163)","v":628.10457516339875},0,0,null,{"$f":"+N163+O163","v":0},{"$f":"+L163*12+P163","v":7537.254901960785},{"$f":"+C163*Q163","v":3459600.0000000005},null,null,0,0,0,{"$f":"SUM(T163:W163)","v":0},0,null,0,{"$f":"+Y163+Z163","v":0},{"$f":"+X163*12+AB163","v":0},11758714,null,null,{"$f":"+S163","v":0},{"$f":"+AD163","v":11758714}]
[null,"otras contribuciones del empleador",null,null,null,null,null,null,null,null,null,null,null,null,null,null,null,null,null,null,null,null,null,null,null,null,null,null,null,1065838,null,null,null,1065838]
[null,"ANIMADORAS",{"$f":"SUM(C166)","v":459},628.10457516339875,0,0,0,0,0,0,0,628.10457516339875,0,0,0,0,7537.254901960785,3459600.0000000005,459,628.10457516339875,0,0,0,628.10457516339875,0,0,0,0,7537.254901960785,3459600.0000000005,{"$f":"SUM(AE166)","v":0},{"$f":"SUM(AF166)","v":0},459,{"$f":"SUM(AH166)","v":3459600.0000000005}]
[null,"Auxiliares",459,628.10457516339875,0,0,0,0,0,0,0,{"$f":"SUM(D166:K166)","v":628.10457516339875},0,0,null,{"$f":"+N166+O166","v":0},{"$f":"+L166*12+P166","v":7537.254901960785},{"$f":"+C166*Q166","v":3459600.0000000005},459,628.10457516339875,0,0,0,{"$f":"SUM(T166:W166)","v":628.10457516339875},0,null,0,{"$f":"+Y166+Z166","v":0},{"$f":"+X166*12+AB166","v":7537.254901960785},{"$f":"+S166*AC166","v":3459600.0000000005},{"$f":"+C166-S166","v":0},{"$f":"+AD166-R166","v":0},{"$f":"+S166","v":459},{"$f":"+AD166","v":3459600.0000000005}]
[null,"INTERNOS DE MEDICINA HUMANA Y ODONTOLOGIA",{"$f":"SUM(C168:C169)","v":47},{"$f":"SUM(D168:D169)","v":800},0,0,0,0,0,0,0,800,200,200,0,200,9800,234600,{"$f":"SUM(S168:S169)","v":47},800,0,0,0,800,200,0,200,200,9800,{"$f":"SUM(AD168:AD169)","v":234600},{"$f":"SUM(AE168:AE169)","v":0},0,{"$f":"SUM(AG168:AG169)","v":47},{"$f":"SUM(AH168:AH169)","v":234600}]
[null,"Profesionales de la Salud",45,400,0,0,0,0,0,0,0,{"$f":"SUM(D168:K168)","v":400},200,200,null,{"$f":"+N168+O168","v":200},{"$f":"+L168*12+P168","v":5000},{"$f":"+C168*Q168","v":225000},45,400,0,0,0,{"$f":"SUM(T168:W168)","v":400},200,null,200,{"$f":"+Y168+Z168","v":200},{"$f":"+X168*12+AB168","v":5000},{"$f":"+S168*AC168","v":225000},{"$f":"+C168-S168","v":0},{"$f":"+AD168-R168","v":0},{"$f":"+S168","v":45},{"$f":"+AD168","v":225000}]
[null,"Sin Grupo Ocupacional - Practicantes ",2,400,0,0,0,0,0,0,0,{"$f":"SUM(D169:K169)","v":400},0,0,null,{"$f":"+N169+O169","v":0},{"$f":"+L169*12+P169","v":4800},{"$f":"+C169*Q169","v":9600},2,400,0,0,0,{"$f":"SUM(T169:W169)","v":400},0,null,0,{"$f":"+Y169+Z169","v":0},{"$f":"+X169*12+AB169","v":4800},{"$f":"+S169*AC169","v":9600},{"$f":"+C169-S169","v":0},{"$f":"+AD169-R169","v":0},2,9600]
[null,"REGIMEN PRIVADO",{"$f":"+C171+C174+C178+C183","v":182},{"$f":"+D171+D174+D178+D183","v":16880.46183232751},0,0,0,0,0,0,0,16880.46183232751,49206.537645469281,49206.537645469281,0,49206.537645469281,251772.07963339941,9391568.5099999998,{"$f":"+S171+S174+S178+S183","v":182},16880.46183232751,0,0,0,16880.46183232751,49206.537645469281,0,49206.537645469281,49206.537645469281,251772.07963339941,{"$f":"+AD171+AD174+AD178+AD183","v":9391568.5099999998},{"$f":"+AE171+AE174+AE178+AE183","v":0},{"$f":"+AF171+AF174+AF178+AF183","v":0},{"$f":"+AG171+AG174+AG178+AG183","v":182},9391568.5100000016]
[null,"Auxiliares",7,1979.5571428571427,0,0,0,0,0,0,0,{"$f":"SUM(D171:K171)","v":1979.5571428571427},5765.2214285714299,5765.2214285714299,null,{"$f":"+N171+O171","v":5765.2214285714299},{"$f":"+L171*12+P171","v":29519.907142857141},{"$f":"+C171*Q171","v":206639.34999999998},7,1979.5571428571427,0,0,0,{"$f":"SUM(T171:W171)","v":1979.5571428571427},5765.2214285714299,null,5765.2214285714299,{"$f":"+Y171+Z171","v":5765.2214285714299},{"$f":"+X171*12+AB171","v":29519.907142857141},{"$f":"+S171*AC171","v":206639.34999999998},{"$f":"+C171-S171","v":0},{"$f":"+AD171-R171","v":0},{"$f":"SUM(AG172:AG173)","v":7},{"$f":"SUM(AH172:AH173)","v":206639.35}]
[null,"Auxiliar 3",2,1925.7850000000001,0,0,0,0,0,0,0,1925.7850000000001,5608.3449999999993,5608.3449999999993,null,5608.3449999999993,28717.764999999999,57435.53,2,1925.7850000000001,0,0,0,1925.7850000000001,5608.3449999999993,null,5608.3449999999993,5608.3449999999993,28717.764999999999,57435.53,0,0,{"$f":"+S172","v":2},{"$f":"+AD172","v":57435.53}]
[null,"Auxiliar 6",5,2001.066,0,0,0,0,0,0,0,2001.066,5827.9719999999998,5827.9719999999998,null,5827.9719999999998,29840.764000000003,149203.82,5,2001.066,0,0,0,2001.066,5827.9719999999998,null,5827.9719999999998,5827.9719999999998,29840.764000000003,149203.82,0,0,5,149203.82]
[null,"Funcionarios y Directivos",13,7401.4969230769238,0,0,0,0,0,0,0,7401.4969230769238,21583.357692307694,21583.357692307694,null,21583.357692307694,110401.32076923078,1435217.1700000002,13,7401.4969230769238,0,0,0,7401.4969230769238,21583.357692307694,null,21583.357692307694,21583.357692307694,110401.32076923078,1435217.1700000002,0,0,{"$f":"SUM(AG175:AG177)","v":13},{"$f":"SUM(AH175:AH177)","v":1435217.1700000004}]
[null,"Directivo 2",11,7154.6345454545462,0,0,0,0,0,0,0,7154.6345454545462,20863.153636363641,20863.153636363641,null,20863.153636363641,106718.7681818182,1173906.4500000002,11,7154.6345454545462,0,0,0,7154.6345454545462,20863.153636363641,null,20863.153636363641,20863.153636363641,106718.7681818182,1173906.4500000002,0,0,{"$f":"+S175","v":11},{"$f":"+AD175","v":1173906.4500000002}]
[null,"Directivo 3",1,8267.65,0,0,0,0,0,0,0,8267.65,24110.300000000003,24110.300000000003,null,24110.300000000003,123322.09999999999,123322.09999999999,1,8267.65,0,0,0,8267.65,24110.300000000003,null,24110.300000000003,24110.300000000003,123322.09999999999,123322.09999999999,0,0,1,123322.09999999999]
[null,"Directivo 4",1,9250.83,0,0,0,0,0,0,0,9250.83,26978.660000000003,26978.660000000003,null,26978.660000000003,137988.62,137988.62,1,9250.83,0,0,0,9250.83,26978.660000000003,null,26978.660000000003,26978.660000000003,137988.62,137988.62,0,0,1,137988.62]
[null,"Profesionales",40,4820.7737500000003,0,0,0,0,0,0,0,4820.7737500000003,14054.275,14054.275,null,14054.275,71903.56,2876142.4,40,4820.7737500000003,0,0,0,4820.7737500000003,14054.275,null,14054.275,14054.275,71903.56,2876142.4,0,0,{"$f":"SUM(AG179:AG182)","v":40},{"$f":"SUM(AH179:AH182)","v":2876142.4000000004}]
[null,"Profesional 3",9,3813.3755555555563,0,0,0,0,0,0,0,3813.3755555555563,11115.260000000002,11115.260000000002,null,11115.260000000002,56875.766666666677,511881.90000000008,9,3813.3755555555563,0,0,0,3813.3755555555563,11115.260000000002,null,11115.260000000002,11115.260000000002,56875.766666666677,511881.90000000008,0,0,{"$f":"+S179","v":9},{"$f":"+AD179","v":511881.90000000008}]
[null,"Profesional 4",7,4515.4414285714283,0,0,0,0,0,0,0,4515.4414285714283,13163.488571428574,13163.488571428574,null,13163.488571428574,67348.78571428571,471441.5,7,4515.4414285714283,0,0,0,4515.4414285714283,13163.488571428574,null,13163.488571428574,13163.488571428574,67348.78571428571,471441.5,0,0,7,471441.5]
[null,"Profesional 5",5,4657.134,0,0,0,0,0,0,0,4657.134,13576.867999999999,13576.867999999999,null,13576.867999999999,69462.475999999995,347312.38,5,4657.134,0,0,0,4657.134,13576.867999999999,null,13576.867999999999,13576.867999999999,69462.475999999995,347312.38,0,0,5,347312.38]
[null,"Profesional 6",19,5453.516315789474,0,0,0,0,0,0,0,5453.516315789474,15900.257894736844,15900.257894736844,null,15900.257894736844,81342.45368421053,1545506.62,19,5453.516315789474,0,0,0,5453.516315789474,15900.257894736844,null,15900.257894736844,15900.257894736844,81342.45368421053,1545506.62,0,0,19,1545506.62]
[null,"Tecnicos",122,2678.6340163934428,0,0,0,0,0,0,0,2678.6340163934428,7803.6835245901621,7803.6835245901621,null,7803.6835245901621,39947.291721311478,4873569.59,122,2678.6340163934428,0,0,0,2678.6340163934428,7803.6835245901621,null,7803.6835245901621,7803.6835245901621,39947.291721311478,4873569.59,0,0,{"$f":"SUM(AG184:AG187)","v":122},{"$f":"SUM(AH184:AH187)","v":4873569.59}]
[null,"Tecnico 3",15,2095.8779999999997,0,0,0,0,0,0,0,2095.8779999999997,6104.5793333333313,6104.5793333333313,null,6104.5793333333313,31255.115333333328,468826.72999999992,15,2095.8779999999997,0,0,0,2095.8779999999997,6104.5793333333313,null,6104.5793333333313,6104.5793333333313,31255.115333333328,468826.72999999992,0,0,{"$f":"+S184","v":15},{"$f":"+AD184","v":468826.72999999992}]
[null,"Tecnico 4",15,2313.8053333333332,0,0,0,0,0,0,0,2313.8053333333332,6736.5953333333327,6736.5953333333327,null,6736.5953333333327,34502.259333333328,517533.8899999999,15,2313.8053333333332,0,0,0,2313.8053333333332,6736.5953333333327,null,6736.5953333333327,6736.5953333333327,34502.259333333328,517533.8899999999,0,0,15,517533.8899999999]
[null,"Tecnico 5",34,2768.9547058823532,0,0,0,0,0,0,0,2768.9547058823532,8068.2349999999979,8068.2349999999979,null,8068.2349999999979,41295.691470588237,1404053.51,34,2768.9547058823532,0,0,0,2768.9547058823532,8068.2349999999979,null,8068.2349999999979,8068.2349999999979,41295.691470588237,1404053.51,0,0,34,1404053.51]
[null,"Tecnico 6",58,2870.7524137931036,0,0,0,0,0,0,0,2870.7524137931036,8363.9962068965469,8363.9962068965469,null,8363.9962068965469,42813.025172413792,2483155.46,58,2870.7524137931036,0,0,0,2870.7524137931036,8363.9962068965469,null,8363.9962068965469,8363.9962068965469,42813.025172413792,2483155.46,0,0,58,2483155.46]
[null,"TOTAL GENERAL",{"$f":"+C154+C156","v":32158},340592.57036776852,34669.551481023562,0,0,0,0,0,22329.237963371372,397591.3598121634,162406.53764546927,162406.53764546927,0,162406.53764546927,4933502.8553914307,1020556938.5096757,33967,385528.57068655867,47114.12,0,22329.237963371372,454971.92864992999,164406.53764546927,0,164406.53764546927,164406.53764546927,5624069.68144463,1198711287.5111847,-1809,152993205.00150892,31214,1208774268.206728]
[]
[null,"NOTAS"]
[null,"(1) PEA: ","SE CONSIGNARA EL NUMERO TOTAL DE PERSONAL ACTIVO ( NOMBRADO Y CONTRATADO) SEGÚN EL PRESUPUESTO ANILITOCO DE PERSONAL (PAP) APROBADO"]
[null,"(2) REMUNERACION: ","SE CONSIGNARA LA REMUNERACION MENSUAL PROMEDIO DE UN SERVIDOR EN CADA NIVEL DE LA CARRERA PUBLICA SEGUN CORRESPONDA "]
[null,"(3) CAFAE: ","SE CONSIGNARA EL  INCENTIVO LABORAL  MENSUAL PROMEDIO QUE POR DISPOSICION EXPRESA SE LE OTORGUE A UN SERVIDOR EN CADA NIVEL SEGUN CORRESPONDA "]
[null,"(4) AETA: ","SOLO APLICABLE AL SECTOR SALUD. SE CONSIGNARA LA ASIGNACION EXTRAORDINARIA POR TRABAJO ASISTENCIAL  MENSUAL PROMEDIO DE UN SERVIDOR EN CADA NIVEL "]
[null,null,"SEGUN CORRESPONDA "]
[null,"(5) OTROS BENEFICIOS - ASIGNACION MENSUAL ","LAS COLUMNAS COMO SEAN NECESARIAS, SE CONSIGNARA LOS OTROS BENEFICIOS - ASIGNACIONES MENSUALES PERIODICOS  DE UN SERVIDOR EN CADA NIVEL SEGÚN CORRESPONDA NO CONSIGNADO EN LOS "]
[null,null,"RUBROS ANTERIORES . EN HOJA INDEPENDIENTES SE DETALLARA CADA CONCEPTO Y MONTO, ASI COMO LA DISPOSICION EXPRESA QUE LOS AUTORICE Y LA PERIODICIDAD CON QUE "]
[null,null,"SE OTORGA . DEBERA DETALLAR POR CADA CONCEPTO ASI COMO LA DISPOSICION EXPRESA QUE LOS AUTORICE Y LA PERIODICIDAD CON QUE SE OTORGA (MENSUAL, BIMENSUAL, "]
[null,null,"TRIMESTRAL , CUATRIMENSUAL)"]
[null,"(10) SUB TOTAL","SUMATORIA DE LAS COLUMNAS (2), (3), (4), (5), (6), (7), (8), (9)"]
[null,"(11) AGUINALDOS, GRAFICACIONES Y ESCOLARIDAD","MONTO ANUAL"]
[null,"(12) OTROS BENEFICIOS - ASIGNACION ANUAL","LAS COLUMNAS COMO SEAN NECESARIAS, SE CONSIGNARA LOS OTROS BENEFICIOS - ASIGNACIONES PERIODICOS O NO PERIODICAS DE UN SERVIDOR EN CADA NIVEL SEGÚN CORRESPONDA NO CONSIGNADO EN LOS "]
[null,null,"RUBROS ANTERIORES . EN HOJA INDEPENDIENTES SE DETALLARA CADA CONCEPTO Y MONTO, ASI COMO LA DISPOSICION EXPRESA QUE LOS AUTORICE Y LA PERIODICIDAD CON QUE "]
[null,null,"SE OTORGA . DEBERA DETALLAR POR CADA CONCEPTO ASI COMO LA DISPOSICION EXPRESA QUE LOS AUTORICE Y LA PERIODICIDAD CON QUE SE OTORGA (MENSUAL, BIMENSUAL, "]
[null,null,"TRIMESTRAL , CUATRIMENSUAL  O SIN PERIODICIDAD)"]
[null,"(13) SUB TOTAL OTROS BENEFICIOS","SUMATORIA DE LAS COLUMNAS (11) Y (12)"]
[null,"(14) TOTAL INGRESOS ANUAL POR PERSONA","MULTIMPLACIÓN DE LA COLUMNA (10) POR 12 (MESES) Y AL RESULTADO SE SUMA LA COLUMNA (13) "]
[null,"(15) TOTAL ANUAL PEA","MULTIPLICACIÓN DEL A COMUNTA (1) POR LA COLUMNA (14)"]
[]
[]
[null,"PROYECTO DE PRESUPUESTO PARA EL AÑO FISCAL 2020"]
[null,"INFORMACION PARA LA COMISION DE PRESUPUESTO Y CUENTA GENERAL DE LA REPUBLICA DEL CONGRESO DE LA REPUBLICA"]

{"sheet":"F.12","index":14,"n_rows":524,"n_cols":11,"rows_kept":524,"cut":false,"hidden":false,"merged":[[261,6,262,6],[261,7,262,7],[261,8,262,8],[261,9,262,9],[261,10,262,10],[136,6,137,6],[136,7,137,7],[136,8,137,8],[136,9,137,9],[136,10,137,10],[1,1,1,10],[2,1,2,10],[3,1,3,10],[8,1,9,1],[8,2,9,2],[8,3,9,3],[8,4,9,4],[8,5,9,5],[8,6,9,6],[8,8,9,8],[8,9,9,9],[8,10,9,10],[8,7,9,7],[136,1,137,1],[136,2,137,2],[136,3,137,3],[136,4,137,4],[136,5,137,5],[261,1,262,1],[261,2,262,2],[261,3,262,3],[261,4,262,4],[261,5,262,5],[263,1,264,1],[263,2,264,2],[263,3,264,3],[263,4,264,4],[263,5,264,5],[263,7,264,7],[263,8,264,8],[263,9,264,9],[263,10,264,10],[382,3,383,3],[382,4,383,4],[382,5,383,5],[382,7,383,7],[382,8,383,8],[382,9,383,9],[382,10,383,10],[382,6,383,6],[263,6,264,6],[380,1,381,1],[380,2,381,2],[380,3,381,3],[380,4,381,4],[380,5,381,5],[449,9,450,9],[449,10,450,10],[449,1,450,1],[449,2,450,2],[449,3,450,3],[449,4,450,4],[449,5,450,5],[382,1,383,1],[382,2,383,2],[449,6,450,6],[449,7,450,7],[449,8,450,8]]}
[]
[null,"FORMATO Nº 12"]
[null,"ASIGNACIÓN DE BIENES Y SERVICIOS - COMPARATIVO PRESUPUESTO 2018, 2019 y PROYECTO 2020"]
[null,"PROYECTO DE PRESUPUESTO - 2020"]
[null,"SECTOR : 99 GOBIERNOS REGIONALES"]
[null,"PLIEGO  : 451 GOBIERNO REGIONAL LA LIBERTAD"]
[null,"FUENTE DE FINANCIAMIENTO",": Recursos Públicos / Recursos Ordinarios / Recursos Directamente Recaudados / Donaciones  y"]
[null,null,"  Transferencias / Operaciones Oficiales de Crédito/ Recursos Determinados"]
[null,"RUBROS","PPTO 2018 (PIA)","PPTO 2018 (PIM)","PPTO 2019 (PIA)","PPTO 2019 (PIM 30 JUNIO)","PPTO 2020 (PROYECTO)","Diferencia PIA (2018-2019)","Variación % (2018-2019)","Diferencia PIA (2019-2020)","Variación % (2019-2020)"]
[]
[null,"ALIMENTOS Y BEBIDAS PARA CONSUMO HUMANO",4843648,7259347,5819115,7329100,5155983,{"$f":"+E11-C11","v":975467},{"$f":"+H11/C11","v":0.20139097638804471},{"$f":"+G11-E11","v":-663132},{"$f":"+J11/E11","v":-0.11395753477977322}]
[null,"ALIMENTOS Y BEBIDAS PARA CONSUMO ANIMAL",112821,67767,112132,109832,106577,{"$f":"+E12-C12","v":-689},{"$f":"+H12/C12","v":-6.1070190833266858E-3},{"$f":"+G12-E12","v":-5555},{"$f":"+J12/E12","v":-4.9539828059786677E-2}]
[null,"VESTUARIO, ACCESORIOS Y PRENDAS DIVERSAS",2213376,2283641,2638755,2917306,2786801,425379,0.19218560244621791,148046,5.6104488669846193E-2]
[null,"TEXTILES Y ACABADOS TEXTILES",270514,329866,339884,604979,371096,69370,0.25643774444206213,31212,9.1831330689294E-2]
[null,"CALZADO",147653,108171,91586,87281,84891,-56067,-0.37972137376145421,-6695,-7.3100692245539708E-2]
[null,"COMBUSTIBLES Y CARBURANTES",4540096,6348484,3971948,4445129,4495680,-568148,-0.12514008514357405,523732,0.13185771817757935]
[null,"GASES",163425,99801,92384,168443,81894,-71041,-0.43470093314976288,-10490,-0.11354780048493246]
[null,"LUBRICANTES, GRASAS Y AFINES",360989,285621,138945,236021,218715,-222044,-0.61509907504106776,79770,0.57411205872827376]
[null,"REPUESTOS Y ACCESORIOS",627903,555890,417988,526097,1007333,-209915,-0.33431119137828613,589345,1.4099567451697177]
[null,"PAPELERIA EN GENERAL, UTILES Y MATERIALES DE OFICINA",4752347,7842928,5548679,5848098,7780337,796332,0.16756604683959314,2231658,0.40219627049969914]
[null,"AGROPECUARIO, GANADERO Y DE JARDINERIA",14130,15549,23012,17360,20650,8882,0.62859164897381459,-2362,-0.10264209977403094]
[null,"ASEO, LIMPIEZA Y TOCADOR",2784740,4816249,3192190,4894064,4985491,407450,0.14631527539375311,1793301,0.56177765107966626]
[null,"DE COCINA, COMEDOR Y CAFETERIA",42757,63304,39662,131370,119148,-3095,-7.2385808171761351E-2,79486,2.0040845141445214]
[null,"ELECTRICIDAD, ILUMINACION Y ELECTRONICA",311718,568692,277145,314062,295685,-34573,-0.11091114404686286,18540,6.6896389976366169E-2]
[null,"OTROS",106346,38787,5943,19269,11826,-100403,-0.94411637485189848,5883,0.98990408884401815]
[null,"DE VEHICULOS",828788,1284378,410913,719781,440805,-417875,-0.5042001090749384,29892,7.274532565287542E-2]
[null,"DE COMUNICACIONES Y TELECOMUNICACIONES",38675,110080,7661,16344,13570,-31014,-0.8019133807369101,5909,0.7713092285602402]
[null,"DE CONSTRUCCION Y MAQUINAS",531327,756432,39612,336820,39712,-491715,-0.92544704108769171,100,2.5244875290316065E-3]
[null,"DE SEGURIDAD",200617,248392,90959,125585,79059,-109658,-0.54660372750066044,-11900,-0.13082817533174287]
[null,"OTROS ACCESORIOS Y REPUESTOS",79110,143969,64119,141836,91879,-14991,-0.18949563898369359,27760,0.43294499290381944]
[null,"ENSERES",179194,359754,148324,506753,334280,-30870,-0.17227139301539113,185956,1.253714840484345]
[null,"VACUNAS",64487,113986,72098,112098,119430,7611,0.11802378774016468,47332,0.65649532580654113]
[null,"MEDICAMENTOS",11833180,45686982,4162999,33281102,6669667,-7670181,-0.64819270897594727,2506668,0.60213033920978598]
[null,"OTROS PRODUCTOS SIMILARES",124695,2032747,109382,1960812,152603,-15313,-0.12280364088375637,43221,0.39513813973048584]
[null,"MATERIAL, INSUMOS, INSTRUMENTAL Y ACCESORIOS  MEDICOS, QUIRURGICOS, ODONTOLOGICOS Y DE LABORATORIO",10401101,41014016,8290343,39302271,11641554,-2110758,-0.20293601610060319,3351211,0.40423068140847729]
[null,"LIBROS, TEXTOS Y OTROS MATERIALES IMPRESOS",163735,103880,212000,112700,50450,48265,0.29477509390173146,-161550,-0.76202830188679249]
[null,"MATERIAL DIDACTICO, ACCESORIOS Y UTILES DE ENSEÑANZA",2445832,8831387,2056597,1990634,6148782,-389235,-0.15914216512009002,4092185,1.9897845810336201]
[null,"OTROS MATERIALES DIVERSOS DE ENSEÑANZA",52008,442844,13174,35378,23110,-38834,-0.74669281648977082,9936,0.75421284347958095]
[null,"SUMINISTROS DE USO ZOOTECNICO",20423,17566,8783,15915,5195,-11640,-0.56994564951280424,-3588,-0.40851645223727656]
[null,"FERTILIZANTES, INSECTICIDAS, FUNGICIDAS Y SIMILARES",26525,17652,33719,26249,24289,7194,0.27121583411875588,-9430,-0.27966428423144224]
[null,"SUMINISTROS DE ACCESORIOS Y/O MATERIALES DE USO FORESTAL",7395,17395,18835,24020,13797,11440,1.5469912102772143,-5038,-0.26748075391558268]
[null,"PRODUCTOS FARMACEUTICOS DE USO ANIMAL",3030,2100,4419,244,918,1389,0.45841584158415843,-3501,-0.79226069246435848]
[null,"PARA EDIFICIOS Y ESTRUCTURAS",121634,485457,266025,380247,150679,144391,1.1870940690925236,-115346,-0.43359082792970588]
[null,"PARA VEHICULOS",56176,47950,22819,27809,29706,-33357,-0.59379450299060099,6887,0.30180989526271967]
[null,"PARA MOBILIARIO Y SIMILARES",26535,29235,18042,18042,11600,-8493,-0.32006783493499152,-6442,-0.35705575878505708]
[null,"PARA MAQUINARIAS Y EQUIPOS",40934,33318,17294,26666,13279,-23640,-0.5775150241852739,-4015,-0.23216144327512431]
[null,"OTROS MATERIALES DE MANTENIMIENTO",1670005,1754892,115490,522588,72403,-1554515,-0.93084451842958549,-43087,-0.37307992033942333]
[null,"MATERIALES DE  ACONDICIONAMIENTO",58599,99255,69699,75199,61103,11100,0.18942302769671837,-8596,-0.12333032037762379]
[null,"HERRAMIENTAS",70527,51652,29667,40778,906480,-40860,-0.57935258837041137,876813,29.555162301547174]
[null,"PRODUCTOS QUIMICOS",19492,34381,23102,69644,62712,3610,0.18520418633285451,39610,1.7145701670851008]
[null,"LIBROS, DIARIOS, REVISTAS Y OTROS BIENES IMPRESOS NO VINCULADOS A ENSEÑANZA",683509,2440942,944820,2283413,1152170,261311,0.38230806031815234,207350,0.2194597912829957]
[null,"SIMBOLOS, DISTINTIVOS Y CONDECORACIONES",22500,102030,12817,55330,31478,-9683,-0.43035555555555555,18661,1.4559569321994226]
[null,"OTROS BIENES",413272,516158,2486613,632242,482314,2073341,5.0168920226872373,-2004299,-0.80603576028919655]
[null,"PASAJES Y GASTOS DE TRANSPORTE",500,0,362,1099,null,-138,-0.27600000000000002,-362,-1]
[null,"VIATICOS Y ASIGNACIONES POR COMISION DE SERVICIO",1500,10055,0,9600,null,-1500,-1,0]
[null,"OTROS GASTOS",1290,0,null,null,null,-1290,-1,0]
[null,"PASAJES Y GASTOS DE TRANSPORTE",1141716,982403,878726,872718,1242018,-262990,-0.23034625073135526,363292,0.41343035257861949]
[null,"VIATICOS Y ASIGNACIONES POR COMISION DE SERVICIO",4574435,5861719,5102108,4826414,4556886,527673,0.11535260638745549,-545222,-0.10686210483980348]
[null,"VIATICOS Y FLETES POR CAMBIO DE COLOCACION",94895,107177,134693,120509,27211,39798,0.41938985194161971,-107482,-0.79797762318754506]
[null,"OTROS GASTOS",1905828,2254320,1987339,2810249,996088,81511,4.2769337002079938E-2,-991251,-0.4987830460731662]
[null,"SERVICIO DE SUMINISTRO DE ENERGIA ELECTRICA",5358999,7746239,6493665,7309893,7593078,1134666,0.21173095945716727,1099413,0.16930546925349552]
[null,"SERVICIO DE AGUA Y DESAGUE",4106206,4884510,4082322,4295950,4621091,-23884,-5.8165615655912054E-3,538769,0.13197611555384411]
[null,"SERVICIO DE SUMINISTRO DE GAS",null,null,null,null,null,0,null,0]
[null,"SERVICIO DE TELEFONIA MOVIL",362203,318967,423023,395264,320601,60820,0.16791688638691563,-102422,-0.24211922283185547]
[null,"SERVICIO DE TELEFONIA FIJA",649514,475131,607308,494712,473247,-42206,-6.4980893406454673E-2,-134061,-0.22074630994487146]
[null,"SERVICIO DE INTERNET",897264,1606513,1103523,1547935,1295660,206259,0.22987548815064462,192137,0.1741123655782435]
[null,"CORREOS Y SERVICIOS DE MENSAJERIA",301291,487031,1822543,1932500,508251,1521252,5.0491119880779713,-1314292,-0.72113085946394684]
[null,"OTROS SERVICIOS DE COMUNICACION",25007,28516,0,1510,51400,-25007,-1,51400]
[null,"SERVICIO DE PUBLICIDAD",275055,528639,306550,534754,172554,31495,0.11450437185290215,-133996,-0.43710977002120371]
[null,"OTROS SERVICIOS DE PUBLICIDAD Y DIFUSION",359864,323902,null,null,null,-359864,-1,0]
[null,"SERVICIOS DE IMAGEN INSTITUCIONAL",13600,30440,11211,11211,54845,-2389,-0.17566176470588235,43634,3.8920702881098919]
[null,"PUBLICACION EN EL DIARIO OFICIAL",null,null,0,70347,138000,0,null,138000]
[null,"SERVICIOS DE IMPRESIONES, ENCUADERNACION Y EMPASTADO",1158289,2006326,470989,1480793,834965,-687300,-0.59337522846198143,363976,0.77279087197365548]
[null,"SERVICIOS DE LIMPIEZA E HIGIENE",1572487,3983175,1956010,4389247,1945285,383523,0.24389581599084761,-10725,-5.4831008021431387E-3]
[null,"SERVICIOS DE SEGURIDAD Y VIGILANCIA",2981372,3858906,4518920,4378398,4512893,1537548,0.51571826662355458,-6027,-1.3337257574818763E-3]
[null,"DE EDIFICACIONES, OFICINAS Y ESTRUCTURAS",1042173,11268283,9596733,9180756,7061506,{"$f":"+E76-C76","v":8554560},{"$f":"+H76/C76","v":8.2083876669228619},{"$f":"+G76-E76","v":-2535227},{"$f":"+J76/E76","v":-0.2641760482447516}]
[null,"DE CARRETERAS, CAMINOS Y PUENTES",95300,18083229,320775,4777939,12505094,225475,2.3659496327387197,12184319,37.984004364429893]
[null,"DE VEHICULOS",1061033,2861422,1152308,2607696,708699,91275,8.6024657103030727E-2,-443609,-0.38497432977988522]
[null,"DE MOBILIARIO Y SIMILARES",20730,25290,18563,27876,10150,-2167,-0.10453449107573565,-8413,-0.45321338145773848]
[null,"DE MAQUINARIAS Y EQUIPOS",1367499,3579477,911933,4790435,364747,-455566,-0.33313808638982551,-547186,-0.60002873018083569]
[null,"DE OTROS BIENES Y ACTIVOS",28609,46217,32851,195765,35764,4242,0.14827501835086862,2913,8.8673099753432169E-2]
[null,"DE EDIFICIOS Y ESTRUCTURAS",650478,1310737,1058562,1589569,1489085,408084,0.62736018743139665,430523,0.40670551181697434]
[null,"DE VEHICULOS",10000,121352,0,138900,7333,-10000,-1,7333]
[null,"DE MOBILIARIO Y SIMILARES",6000,22559,6607,11604,21107,607,0.10116666666666667,14500,2.1946420463145149]
[null,"DE MAQUINARIAS Y EQUIPOS",20600,83280,11428,463918,157252,-9172,-0.44524271844660196,145824,12.760238011900595]
[null,"DE OTROS BIENES Y ACTIVOS",12408446,5924639,24413,211983,44610,-12384033,-0.99803254976489397,20197,0.82730512431901038]
[null,"GASTOS LEGALES Y JUDICIALES",11660,25270,14912,14912,7120,3252,0.27890222984562607,-7792,-0.52253218884120167]
[null,"ASESORIA LEGAL PARA SERVIDORES Y EX SERVIDORES",null,null,null,null,332,0,null,332]
[null,"GASTOS NOTARIALES",94814,111254,97023,98428,62361,2209,2.3298247094310966E-2,-34662,-0.35725549611947682]
[null,"CARGOS BANCARIOS",4700,7346,5000,6218,6636,300,6.3829787234042548E-2,1636,0.32719999999999999]
[null,"OTROS SERVICIOS FINANCIEROS",0,3000,5000,5000,5000,5000,null,0,0]
[null,"SEGURO DE VIDA",271011,280151,343749,427993,408376,72738,0.26839500979665032,64627,0.18800636510942578]
[null,"SEGURO DE VEHICULOS",1328872,1480652,182300,1321952,160000,-1146572,-0.86281598227669787,-22300,-0.12232583653318706]
[null,"SEGURO OBLIGATORIO ACCIDENTES DE TRANSITO (SOAT)",123211,120958,123721,135002,119674,510,4.1392408145376628E-3,-4047,-3.2710695839833173E-2]
[null,"OTROS SEGUROS PERSONALES",74112,45922,201332,184070,17701,127220,1.7165911053540588,-183631,-0.91208054357975876]
[null,"OTROS SEGUROS DE  BIENES MUEBLES E INMUEBLES",15500,13028,11835,26947,34335,-3665,-0.23645161290322581,22500,1.9011406844106464]
[null,"GASTOS POR PRESTACIONES DE SALUD",40000,13342426,0,4128550,4800,-40000,-1,4800]
[null,"CONSULTORIAS",28700,1424433,18590,769726,172500,-10110,-0.35226480836236934,153910,8.2791823561054336]
[null,"ASESORIAS",2000,2000,190000,180000,null,188000,94,-190000,-1]
[null,"AUDITORIAS",100000,188800,null,null,null,-100000,-1,0]
[null,"OTROS SERVICIOS SIMILARES",9853,63238,9853,131900,null,0,0,-9853,-1]
[null,"CONSULTORIAS",32371,14221,9000,96500,null,-23371,-0.72197337122733307,-9000,-1]
[null,"ASESORIAS",250090,264486,272393,313082,null,22303,8.9179895237714427E-2,-272393,-1]
[null,"ESTUDIOS E INVESTIGACIONES",null,null,null,null,null,0,null,0]
[null,"OTROS SERVICIOS SIMILARES",359069,558161,38154,277380,1119760,-320915,-0.8937418713394919,1081606,28.348430046653039]
[null,"REALIZADO POR PERSONAS JURIDICAS",126420,154024,132921,378787,518384,6501,5.1423825344091123E-2,385463,2.8999405662009767]
[null,"REALIZADO POR PERSONAS NATURALES",217670,305163,265247,155714,279400,47577,0.21857398814719531,14153,5.3357813660474956E-2]
[null,"ELABORACION DE PROGRAMAS INFORMATICOS",1700,1000,null,null,null,-1700,-1,0]
[null,"PROCESAMIENTOS DE DATOS",47360,29960,39926,36000,79926,-7434,-0.15696790540540539,40000,1.0018534288433603]
[null,"SOPORTE TECNICO",55090,38470,30661,38141,32940,-24429,-0.44343801052822651,2279,7.4328952088972958E-2]
[null,"OTROS SERVICIOS DE INFORMATICA",2500,908,3487,16377,3000,987,0.39479999999999998,-487,-0.13966160022942356]
[null,"PROPINAS PARA PRACTICANTES",8000,16780,12200,12200,43799,4200,0.52500000000000002,31599,2.5900819672131146]
[null,"ANIMADORAS Y ALFABETIZADORES",1447606,3390599,4865872,4865872,2623330,3418266,2.3613234540337635,-2242542,-0.46087155601298185]
[null,"INTERNOS DE MEDICINA Y ODONTOLOGIA",null,null,374936,389936,389936,374936,{"$error":"#DIV/0!"},15000,4.0006827831949983E-2]
[null,"OTROS GASTOS",null,null,31599,31599,null,31599,{"$error":"#DIV/0!"},-31599,-1]
[null,"SERVICIOS RELACIONADOS CON EL MEDIO AMBIENTE",3400,6000,3600,17530,3000,200,5.8823529411764705E-2,-600,-0.16666666666666666]
[null,"ORGANIZACION Y CONDUCCION DE EVENTOS DEPORTIVOS",5000,0,0,29800,null,-5000,-1,0]
[null,"ORGANIZACION DE EVENTOS CULTURALES",4500,0,null,null,35000,-4500,-1,35000]
[null,"OTROS RELACIONADOS A ORGANIZACION DE EVENTOS",9357,12173,45116,0,21130,35759,3.8216308645933528,-23986,-0.53165174217572475]
[null,"SEMINARIOS ,TALLERES Y SIMILARES ORGANIZADOS POR LA  INSTITUCION",3388415,3799362,1958146,1828262,1307163,-1430269,-0.42210561575249783,-650983,-0.33244865296050446]
[null,"ATENCIONES OFICIALES Y CELEBRACIONES INSTITUCIONALES",130350,211518,165570,230128,158039,35220,0.2701956271576525,-7531,-4.5485293229449782E-2]
[null,"OTRAS ATENCIONES Y CELEBRACIONES",14517,15389,12834,15430,34128,-1683,-0.11593304401735896,21294,1.6591865357643758]
[null,"EMBALAJE Y ALMACENAJE",0,23000,null,null,null,0,null,0]
[null,"TRANSPORTE Y TRASLADO DE CARGA, BIENES Y MATERIALES",2532747,4381361,3065655,5554514,3900326,532908,0.21040711922667366,834671,0.272265143990436]
[null,"SERVICIOS RELACIONADOS CON FLORERIA, JARDINERIA Y OTRAS ACTIVIDADES SIMILARES",0,25850,0,3000,13200,0,null,13200]
[null,"SERVICIOS DE ALIMENTACION DE CONSUMO HUMANO",0,128346,4889,908475,256378,4889,null,251489,51.439762732665166]
[null,"SERVICIOS DIVERSOS",13262269,25835234,18801889,33224864,7412963,5539620,0.41769775594206393,-11388926,-0.60573307288432565]
[null,"CONTRATO ADMINISTRATIVO DE SERVICIOS",90920429,88735301,71797009,89285434,99414548,-19123420,-0.21033138767965998,27617539,0.38466141395945896]
[null,"CONTRIBUCIONES A ESSALUD DE C.A.S.",5504442,5366467,5190052,5495450,4273855,-314390,-5.7115689474064764E-2,-916197,-0.17652944517704255]
[null,"AGUINALDOS DE CAS",null,null,1709176,2350021,1826249,1709176,null,117073,6.8496749310778995E-2]
[null,"VACACIONES TRUNCAS DE CAS",null,null,1306697,1347722,659350,1306697,null,-647347,-0.49540712192650632]
[null,"OTROS GASTOS DE CAS",null,null,18859810,7594754,null,18859810,null,-18859810,-1]
[null,"TOTAL    (*)",{"$f":"SUM(C11:C132)","v":214395686},366705632,215693312,331896125,233499190,1297626,{"$f":"+H133/C133","v":6.0524818582403756E-3},{"$f":"SUM(J11:J132)","v":17805878},8.2551831741542361E-2]
[]
[]
[null,"FUENTE DE FINANCIAMIENTO",": Recursos Ordinarios"]
[null,"RUBROS","PPTO 2018 (PIA)","PPTO 2018 (PIM)","PPTO 2019 (PIA)","PPTO 2019 (PIM 30 JUNIO)","PPTO 2020 (PROYECTO)","Diferencia PIA (2018-2019)","Variación % (2018-2019)","Diferencia PIA (2019-2020)","Variación % (2019-2020)"]
[]
[null,"ALIMENTOS Y BEBIDAS PARA CONSUMO HUMANO",2671764,2482121,3853229,3193583,3259066,{"$f":"+E139-C139","v":1181465},{"$f":"+H139/C139","v":0.44220410185929593},{"$f":"+G139-E139","v":-594163},{"$f":"+J139/E139","v":-0.15419872527690412}]
[null,"ALIMENTOS Y BEBIDAS PARA CONSUMO ANIMAL",49943,45467,82132,90027,98267,32189,0.644514746811365,16135,0.19645205279306482]
[null,"VESTUARIO, ACCESORIOS Y PRENDAS DIVERSAS",1038136,985283,1555053,1391944,1387913,516917,0.49792801713840962,-167140,-0.10748186717751743]
[null,"TEXTILES Y ACABADOS TEXTILES",50582,102156,204477,157434,202281,153895,3.0424854691392196,-2196,-1.0739594184186975E-2]
[null,"CALZADO",109620,58463,79594,71660,71981,-30026,-0.2739098704615946,-7613,-9.5647913159283365E-2]
[null,"COMBUSTIBLES Y CARBURANTES",1398938,1466717,2978257,2173613,3482683,1579319,1.128941382677431,504426,0.16936953392537984]
[null,"GASES",56015,38241,49834,44885,55694,-6181,-0.1103454431848612,5860,0.11759040012842638]
[null,"LUBRICANTES, GRASAS Y AFINES",105375,43237,36221,113460,193109,-69154,-0.65626571767497033,156888,4.3314099555506473]
[null,"REPUESTOS Y ACCESORIOS",269026,129332,208099,129405,615117,-60927,-0.22647253425319486,407018,1.9558863810013503]
[null,"PAPELERIA EN GENERAL, UTILES Y MATERIALES DE OFICINA",3311533,4433728,4044222,3558234,4133264,732689,0.22125372146374503,89042,2.2017090060832467E-2]
[null,"AGROPECUARIO, GANADERO Y DE JARDINERIA",8910,11740,14512,13360,17010,5602,null,2498,0.17213340683572217]
[null,"ASEO, LIMPIEZA Y TOCADOR",1728114,2154686,2164976,1882848,4315708,436862,{"$f":"+H150/C150","v":0.25279697982887706},2150732,0.99342071228503226]
[null,"DE COCINA, COMEDOR Y CAFETERIA",20532,38891,24537,116245,108448,4005,0.1950613676212741,83911,3.4197742185271225]
[null,"ELECTRICIDAD, ILUMINACION Y ELECTRONICA",84195,126529,102518,89240,127841,18323,0.2176257497476097,25323,0.24701028112136406]
[null,"OTROS",1058,27710,1743,5069,2826,685,0.64744801512287331,1083,0.62134251290877796]
[null,"DE VEHICULOS",674557,736030,330962,337595,275209,-343595,-0.50936392328594915,-55753,-0.16845740598618572]
[null,"DE COMUNICACIONES Y TELECOMUNICACIONES",3875,28113,261,1596,390,-3614,-0.9326451612903226,129,0.4942528735632184]
[null,"DE CONSTRUCCION Y MAQUINAS",454237,582436,33612,34648,21712,-420625,-0.92600338589767017,-11900,-0.35404022372962035]
[null,"DE SEGURIDAD",75883,85143,67609,74445,68439,-8274,-0.10903627953560086,830,1.2276472067328315E-2]
[null,"OTROS ACCESORIOS Y REPUESTOS",5660,7501,11119,31173,31379,5459,0.96448763250883396,20260,1.8221063045237882]
[null,"ENSERES",44384,69777,40864,161035,165787,-3520,-7.9307858687815425E-2,124923,3.0570428739232578]
[null,"VACUNAS",147,0,4497,4497,5530,4350,29.591836734693878,1033,0.2297086946853458]
[null,"MEDICAMENTOS",633812,225889,976442,630569,849163,342630,0.5405861675070841,-127279,-0.13034978012006856]
[null,"OTROS PRODUCTOS SIMILARES",14950,193,19882,20064,37603,4932,0.32989966555183947,17721,0.8913087214565939]
[null,"MATERIAL, INSUMOS, INSTRUMENTAL Y ACCESORIOS  MEDICOS, QUIRURGICOS, ODONTOLOGICOS Y DE LABORATORIO",2818748,2764030,4385436,3941006,7438802,1566688,0.55580988438838808,3053366,0.69625141035007698]
[null,"LIBROS, TEXTOS Y OTROS MATERIALES IMPRESOS",70685,30524,181500,82200,50450,110815,1.567730070029002,-131050,-0.7220385674931129]
[null,"MATERIAL DIDACTICO, ACCESORIOS Y UTILES DE ENSEÑANZA",2297582,7552209,2049097,1720565,6098258,-248485,-0.10815065577637707,4049161,1.9760709229480107]
[null,"OTROS MATERIALES DIVERSOS DE ENSEÑANZA",5008,172517,13174,35378,23110,8166,1.630591054313099,9936,0.75421284347958095]
[null,"SUMINISTROS DE USO ZOOTECNICO",3800,8943,5283,7415,3495,1483,0.39026315789473687,-1788,-0.33844406587166381]
[null,"FERTILIZANTES, INSECTICIDAS, FUNGICIDAS Y SIMILARES",21339,8921,20149,13479,19598,-1190,-5.576643704016121E-2,-551,-2.7346270286366568E-2]
[null,"SUMINISTROS DE ACCESORIOS Y/O MATERIALES DE USO FORESTAL",0,6950,2885,12245,7027,2885,null,4142]
[null,"PRODUCTOS FARMACEUTICOS DE USO ANIMAL",2630,1700,4419,244,918,1789,0.68022813688212924,-3501,{"$f":"+J170/E170","v":-0.79226069246435848}]
[null,"PARA EDIFICIOS Y ESTRUCTURAS",72906,390300,221345,265723,74129,148439,2.036032699640633,-147216,-0.66509747227179294]
[null,"PARA VEHICULOS",27792,31792,21419,24419,27258,-6373,-0.22931059297639608,5839,0.27260843176618887]
[null,"PARA MOBILIARIO Y SIMILARES",17300,18200,15707,15707,10000,-1593,-9.2080924855491325E-2,-5707,-0.36334118545871269]
[null,"PARA MAQUINARIAS Y EQUIPOS",28379,20763,16769,26141,13279,-11610,-0.40910532435956165,-3490,-0.20812213012105671]
[null,"OTROS MATERIALES DE MANTENIMIENTO",10730,2203,8620,11852,11990,-2110,-0.19664492078285181,3370,0.39095127610208819]
[null,"MATERIALES DE  ACONDICIONAMIENTO",20382,59738,23502,24002,34731,3120,0.15307624374448042,11229,0.47778912432984427]
[null,"HERRAMIENTAS",16295,10018,16547,9732,887022,252,1.5464866523473458E-2,870475,52.606212606514774]
[null,"PRODUCTOS QUIMICOS",14492,6043,11902,6445,26832,-2590,-0.17871929340325696,14930,1.2544110233574188]
[null,"LIBROS, DIARIOS, REVISTAS Y OTROS BIENES IMPRESOS NO VINCULADOS A ENSEÑANZA",324563,520647,737438,711203,772984,412875,1.2720950940187268,35546,4.8202018339168852E-2]
[null,"SIMBOLOS, DISTINTIVOS Y CONDECORACIONES",21000,87340,10937,48575,27178,-10063,-0.47919047619047617,16241,1.484959312425711]
[null,"OTROS BIENES",194970,261090,2428061,377017,471309,2233091,11.4535107965328,-1956752,-0.80589079104684769]
[null,"PASAJES Y GASTOS DE TRANSPORTE",0,0,362,1099,null,362,null,-362,-1]
[null,"VIATICOS Y ASIGNACIONES POR COMISION DE SERVICIO",1000,null,0,9600,null,-1000,{"$f":"+H183/C183","v":-1},0]
[null,"OTROS GASTOS",1290,0]
[null,"PASAJES Y GASTOS DE TRANSPORTE",956946,593278,735797,650038,1040931,{"$f":"+E185-C185","v":-221149},{"$f":"+H185/C185","v":-0.23109872448393118},{"$f":"+G185-E185","v":305134},{"$f":"+J185/E185","v":0.41469861932027446}]
[null,"VIATICOS Y ASIGNACIONES POR COMISION DE SERVICIO",3970771,3960566,4613848,3848193,3937811,643077,0.16195267871151472,-676037,-0.14652346587924006]
[null,"VIATICOS Y FLETES POR CAMBIO DE COLOCACION",53500,53500,93298,93298,null,39798,0.74388785046728967,-93298,-1]
[null,"OTROS GASTOS",1316956,1414165,1571771,2184451,664065,254815,0.1934878614015958,-907706,-0.57750524726566399]
[null,"SERVICIO DE SUMINISTRO DE ENERGIA ELECTRICA",4306336,6169990,5448980,5867027,6415080,1142644,0.26534018711034157,966100,0.17729923765548783]
[null,"SERVICIO DE AGUA Y DESAGUE",3327558,4017185,3320601,3417433,3867761,-6957,-2.0907223856052996E-3,547160,0.16477740023568022]
[null,"SERVICIO DE TELEFONIA MOVIL",259051,262953,388023,365084,303101,128972,0.4978633550922405,-84922,-0.21885816046986906]
[null,"SERVICIO DE TELEFONIA FIJA",439218,301407,488672,409807,389907,49454,0.1125955675769208,-98765,-0.20210898107524064]
[null,"SERVICIO DE INTERNET",718382,1223122,913468,1116409,1164604,195086,0.27156304027662165,251136,0.27492588684004254]
[null,"CORREOS Y SERVICIOS DE MENSAJERIA",247599,292793,1724633,1789495,465151,1477034,5.9654279702260506,-1259482,-0.73028986456828782]
[null,"OTROS SERVICIOS DE COMUNICACION",25007,3516,null,1510,51400,-25007,-1,51400]
[null,"SERVICIO DE PUBLICIDAD",211038,222259,157150,161294,115513,-53888,-0.25534737819729147,-41637,{"$f":"+J196/E196","v":-0.26495068405981548}]
[null,"OTROS SERVICIOS DE PUBLICIDAD Y DIFUSION",354864,318302,null,null,null,-354864,-1,0]
[null,"SERVICIOS DE IMAGEN INSTITUCIONAL",12600,29440,11211,11211,15845,-1389,-0.11023809523809523,4634,{"$f":"+J198/E198","v":0.41334403710641332}]
[null,"PUBLICACION EN EL DIARIO OFICIAL",null,null,null,null,120000]
[null,"SERVICIO DE IMPRESIONES, ENCUADERNACION Y EMPASTADO",629657,1088639,296855,{"$f":"736146+63847","v":799993},689356,{"$f":"+E200-C200","v":-332802},{"$f":"+H200/C200","v":-0.52854490619496008},{"$f":"+G200-E200","v":392501},{"$f":"+J200/E200","v":1.3221977059507166}]
[null,"SERVICIOS DE LIMPIEZA E HIGIENE",771172,773582,477315,468207,396342,-293857,-0.38105247597163799,-80973,-0.16964268879042141]
[null,"SERVICIOS DE SEGURIDAD Y VIGILANCIA",1862904,1831776,2519049,2047984,2811391,656145,0.35221621726079283,292342,0.116052526171583]
[null,"DE EDIFICACIONES, OFICINAS Y ESTRUCTURAS",746401,1963023,1500893,5069852,1444259,754492,1.0108400176312733,-56634,-3.7733535968253566E-2]
[null,"DE CARRETERAS, CAMINOS Y PUENTES",300,14568764,320775,321524,12505094,320475,1068.25,12184319,37.984004364429893]
[null,"DE VEHICULOS",829148,983470,1054908,1656557,571481,225760,0.27227949654343975,-483427,-0.4582646069609862]
[null,"DE MOBILIARIO Y SIMILARES",13010,11120,14763,19376,8150,1753,0.13474250576479632,-6613,-0.44794418478629006]
[null,"DE MAQUINARIAS Y EQUIPOS",985727,948115,649099,2435819,309080,-336628,-0.34150226178242049,-340019,-0.52383226595634869]
[null,"DE OTROS BIENES Y ACTIVOS",28609,45567,32851,40765,32164,4242,0.14827501835086862,-687,-2.0912605400140026E-2]
[null,"DE EDIFICIOS Y ESTRUCTURAS",539550,1004544,972154,880461,1372765,432604,0.80178667408025206,400611,0.41208594523089964]
[null,"DE VEHICULOS",10000,36852,null,88600,7333,-10000,-1,7333]
[null,"DE MOBILIARIO Y SIMILARES",6000,10559,6607,7604,21107,607,0.10116666666666667,14500,{"$f":"+J211/E211","v":2.1946420463145149}]
[null,"DE MAQUINARIAS Y EQUIPOS",15600,17830,6428,40415,112252,-9172,-0.58794871794871795,105824,{"$f":"+J212/E212","v":16.462974486621032}]
[null,"DE OTROS BIENES Y ACTIVOS",98200,127546,24413,167972,44610,-73787,-0.75139511201629328,20197,{"$f":"+J213/E213","v":0.82730512431901038}]
[null,"GASTOS LEGALES Y JUDICIALES",5540,4150,7792,7792,null,2252,0.40649819494584838,-7792,{"$f":"+J214/E214","v":-1}]
[null,"ASESORIA LEGAL PARA SERVIDORES Y EX SERVIDORES",null,null,null,null,332]
[null,"GASTOS NOTARIALES",52275,28581,59073,63278,34725,{"$f":"+E216-C216","v":6798},{"$f":"+H216/C216","v":0.13004304160688665},{"$f":"+G216-E216","v":-24348},{"$f":"+J216/E216","v":-0.41216799553095324}]
[null,"CARGOS BANCARIOS",null,600,null,100,636,0,{"$error":"#DIV/0!"},636]
[null,"SEGURO DE VIDA",208564,220904,277058,336704,334033,68494,0.32840758711954127,56975,{"$f":"+J218/E218","v":0.20564286178345328}]
[null,"SEGURO DE VEHICULOS",4920,0,3348,150000,151000,-1572,-0.31951219512195123,147652,{"$f":"+J219/E219","v":44.101553166069294}]
[null,"SEGURO OBLIGATORIO ACCIDENTES DE TRANSITO (SOAT)",83277,56644,92000,87622,97814,8723,0.10474680884277772,5814,{"$f":"+J220/E220","v":6.3195652173913042E-2}]
[null,"OTROS SEGUROS PERSONALES",40473,12093,173226,158550,null,132753,3.2800385442146616,-173226,{"$f":"+J221/E221","v":-1}]
[null,"OTROS SEGUROS DE  BIENES MUEBLES E INMUEBLES",6500,13028,11335,14335,11335,4835,0.74384615384615382,0,{"$f":"+J222/E222","v":0}]
[null,"GASTOS POR PRESTACIONES DE SALUD",null,null,null,10541,4800,0,null,4800]
[null,"CONSULTORIAS",10000,878097,null,149470,null,-10000,{"$f":"+H224/C224","v":-1},0]
[null,"ASESORIAS",2000,2000,null,0,null,-2000,{"$f":"+H225/C225","v":-1},0]
[null,"OTROS SERVICIOS SIMILARES",9853,4238,9853,11400,null,0,{"$f":"+H226/C226","v":0},-9853,{"$f":"+J226/E226","v":-1}]
[null,"CONSULTORIAS",32371,14221,9000,78500,null,-23371,{"$f":"+H227/C227","v":-0.72197337122733307},-9000,{"$f":"+J227/E227","v":-1}]
[null,"ASESORIAS",141740,173636,200543,227082,null,58803,{"$f":"+H228/C228","v":0.41486524622548326},-200543,{"$f":"+J228/E228","v":-1}]
[null,"ESTUDIOS E INVESTIGACIONES",null,null,null,null,null,0,null,0]
[null,"OTROS SERVICIOS SIMILARES",4100,159240,null,194226,1119760,-4100,{"$f":"+H230/C230","v":-1},1119760,{"$f":"+J230/E230","v":{"$error":"#DIV/0!"}}]
[null,"REALIZADO POR PERSONAS JURIDICAS",73746,31222,75352,125358,353405,1606,2.1777452336397905E-2,278053,3.6900546767172737]
[null,"REALIZADO POR PERSONAS NATURALES",14410,37943,3487,11954,7900,-10923,-0.75801526717557255,4413,1.265557786062518]
[null,"ELABORACION DE PROGRAMAS INFORMATICOS",1700,1000,null,null,null,-1700,-1,0,{"$error":"#DIV/0!"}]
[null,"PROCESAMIENTOS DE DATOS",19200,21400,20926,15000,20926,1726,8.9895833333333328E-2,0,0]
[null,"SOPORTE TECNICO",9150,3330,11461,15861,16340,2311,0.25256830601092894,4879,0.42570456330163164]
[null,"OTROS SERVICIOS DE INFORMATICA",2500,200,3487,11487,1000,987,0.39479999999999998,-2487,-0.71322053340980784]
[null,"PROPINAS PARA PRACTICANTES",null,null,null,null,23599,0,{"$error":"#DIV/0!"},23599]
[null,"ANIMADORAS Y ALFABETIZADORES",1447606,3390599,4865872,4865872,2623330,3418266,2.3613234540337635,-2242542,{"$f":"+J238/E238","v":-0.46087155601298185}]
[null,"INTERNOS DE MEDICINA Y ODONTOLOGIA",null,0,374936,389936,389936,374936,null,15000]
[null,"OTRS GASTOS",null,null,23599,23599,null,23599]
[null,"ORGANIZACION Y CONDUCCION DE EVENTOS DEPORTIVOS",5000,null,null,29800,null,-5000,{"$f":"+H241/C241","v":-1},{"$f":"+G241-E241","v":0}]
[null,"ORGANIZACION DE EVENTOS CULTURALES",4500,0,null,null,35000,-4500,{"$f":"+H242/C242","v":-1},35000]
[null,"OTROS RELACIONADOS A ORGANIZACION DE EVENTOS",9357,11459,45116,0,230,35759,null,-44886,{"$f":"+J243/E243","v":-0.99490203032183699}]
[null,"SEMINARIOS ,TALLERES Y SIMILARES ORGANIZADOS POR LA  INSTITUCION",3300715,3549869,1891135,1748965,1272590,-1409580,{"$f":"+H244/C244","v":-0.42705292641139875},-618545,-0.32707606807552081]
[null,"ATENCIONES OFICIALES Y CELEBRACIONES INSTITUCIONALES",98350,138010,146570,192428,153039,48220,{"$f":"+H245/C245","v":0.49028978139298424},6469,4.4135907757385552E-2]
[null,"OTRAS ATENCIONES Y CELEBRACIONES",9267,11111,9044,12540,32228,-223,{"$f":"+H246/C246","v":-2.4063882594151289E-2},23184,2.5634674922600618]
[null,"EMBALAJE Y ALMACENAJE",null,null,null,null,null,0,null,0]
[null,"TRANSPORTE Y TRASLADO DE CARGA, BIENES Y MATERIALES",1910224,2063120,2462040,2835966,3454906,551816,{"$f":"+H248/C248","v":0.2888750219869502},992866,{"$f":"+J248/E248","v":0.40326964630956441}]
[null,"SERVICIOS RELACIONADOS CON FLORERIA, JARDINERIA Y OTRAS ACT SIMILARES",0,1450,null,3000,13200,0,null,13200]
[null,"SERVICIOS DE ALIMENTACION DE CONSUMO HUMANO",0,114276,4889,529794,198596,4889,null,193707]
[null,"SERVICIO DE IMPRESIONES, ENCUADERNACION Y EMPASTADO",null,null,null,null,null,null,null,0]
[null,"SERVICIOS DIVERSOS",3583384,7705987,3254989,9398595,4539918,{"$f":"+E252-C252","v":-328395},{"$f":"+H252/C252","v":-9.1643820478073235E-2},1284929,{"$f":"+J252/E252","v":0.39475678719651586}]
[null,"CONTRATO ADMINISTRATIVO DE SERVICIOS",72685834,70405877,60464331,76947793,86721667,-12221503,{"$f":"+H253/C253","v":-0.16814147031731108},26257336,{"$f":"+J253/E253","v":0.43426158142723847}]
[null,"CONTRIBUCIONES A ESSALUD DE C.A.S.",4326182,4182280,4393591,4702324,3672100,67409,{"$f":"+H254/C254","v":1.5581637573268994E-2},-721491,{"$f":"+J254/E254","v":-0.16421442050477617}]
[null,"AGUINALDOS DE CAS",null,null,1358776,1960287,1544249,1358776,null,185473]
[null,"VACACIONES TRUNCAS DE CAS",null,null,1306697,1347722,659350,1306697,null,-647347]
[null,"OTROS GASTOS DE CAS",null,null,17298278,6033222,null,17298278,null,-17298278]
[]
[null,"TOTAL    (*)",{"$f":"SUM(C139:C258)","v":129620979},{"$f":"SUM(D139:D258)","v":161343739},{"$f":"SUM(E139:E258)","v":153260570},{"$f":"SUM(F139:F258)","v":168322158},{"$f":"SUM(G139:G258)","v":181889287},{"$f":"SUM(H139:H258)","v":23640881},{"$f":"+H259/C259","v":0.18238468172655908},{"$f":"SUM(J139:J258)","v":28531984},{"$f":"+J259/E259","v":0.18616650062047924}]
[]
[null,"FUENTE DE FINANCIAMIENTO",": Recursos Directamente Recaudados"]
[null,"RUBROS","PPTO 2017 (PIA)","PPTO 2017 (PIM)","PPTO 2018 (PIA)","PPTO 2018 (PIM JUNIO)","PPTO 2019 (Proyecto)","Diferencia PIA (2018-2017)","Variación % (2018-2017)/2017","Diferencia PIA (2019-2018)","Variación % (2019-2018)/2018"]
[]
[null,"RUBROS","PPTO 2018 (PIA)","PPTO 2018 (PIM)","PPTO 2019 (PIA)","PPTO 2019 (PIM 30 JUNIO)","PPTO 2020 (PROYECTO)","Diferencia PIA (2018-2019)","Variación % (2018-2019)","Diferencia PIA (2019-2020)","Variación % (2019-2020)"]
[]
[null,"ALIMENTOS Y BEBIDAS PARA CONSUMO HUMANO",2154784,3125127,1965886,1977896,1896917,{"$f":"+E266-C266","v":-188898},{"$f":"+H266/C266","v":-8.7664471241665057E-2},{"$f":"+G266-E266","v":-68969},{"$f":"+J266/E266","v":-3.5082909181915943E-2}]
[null,"ALIMENTOS Y BEBIDAS PARA CONSUMO ANIMAL",62878,22300,30000,19805,8310,{"$f":"+E267-C267","v":-32878},{"$f":"+H267/C267","v":-0.52288558796399376},{"$f":"+G267-E267","v":-21690},{"$f":"+J267/E267","v":-0.72299999999999998}]
[null,"VESTUARIO, ACCESORIOS Y PRENDAS DIVERSAS",1129890,1127014,1083702,1512582,1398888,{"$f":"+E268-C268","v":-46188},{"$f":"+H268/C268","v":-4.0878315588243105E-2},{"$f":"+G268-E268","v":315186},{"$f":"+J268/E268","v":0.29084194732500263}]
[null,"TEXTILES Y ACABADOS TEXTILES",219932,106341,135407,132667,168815,-84525,-0.38432333630394849,33408,0.24672284298448383]
[null,"CALZADO",3033,9068,11992,13121,12910,8959,2.9538410814375204,918,7.6551034022681791E-2]
[null,"COMBUSTIBLES Y CARBURANTES",1433658,1286276,993691,842153,1012997,-439967,-0.30688420808867944,19306,1.9428574878911049E-2]
[null,"GASES",107410,61260,42550,123058,26200,-64860,-0.60385438972162742,-16350,-0.38425381903642775]
[null,"LUBRICANTES, GRASAS Y AFINES",35614,64925,102724,101376,25606,67110,1.8843713146515415,-77118,-0.75073011175577276]
[null,"REPUESTOS Y ACCESORIOS",358877,257418,209889,303383,392216,-148988,-0.41515059477202498,182327,0.86868297052251431]
[null,"PAPELERIA EN GENERAL, UTILES Y MATERIALES DE OFICINA",1159414,1072059,1504457,1248402,3647073,345043,0.29760120198652079,2142616,1.4241789562612956]
[null,"AGROPECUARIO, GANADERO Y DE JARDINERIA",5220,3809,8500,4000,3640,3280,0.62835249042145591,-4860,-0.57176470588235295]
[null,"ASEO, LIMPIEZA Y TOCADOR",973926,894821,1027214,860562,669783,53288,5.4714629242878822E-2,-357431,-0.34796157373244524]
[null,"DE COCINA, COMEDOR Y CAFETERIA",22225,16913,15125,15125,10700,-7100,-0.31946006749156358,-4425,-0.29256198347107437]
[null,"ELECTRICIDAD, ILUMINACION Y ELECTRONICA",172523,314056,174627,165082,167844,2104,1.2195475385890577E-2,-6783,-3.8842790633750797E-2]
[null,"OTROS",105288,11077,4200,14200,9000,-101088,-0.96010941417825391,4800,1.1428571428571428]
[null,"DE VEHICULOS",94231,99673,79951,98323,165596,-14280,-0.15154248601840159,85645,1.071218621405611]
[null,"DE COMUNICACIONES Y TELECOMUNICACIONES",34800,81967,7400,14748,13180,-27400,-0.78735632183908044,5780,0.7810810810810811]
[null,"DE CONSTRUCCION Y MAQUINAS",1890,95580,6000,12172,18000,4110,2.1746031746031744,12000,2]
[null,"DE SEGURIDAD",29734,90244,23350,29440,10620,-6384,-0.21470370619492837,-12730,-0.54518201284796575]
[null,"OTROS ACCESORIOS Y REPUESTOS",49950,88426,53000,105800,60500,3050,6.1061061061061059E-2,7500,0.14150943396226415]
[null,"ENSERES",134260,245753,107460,308748,168493,-26800,-0.19961269179204527,61033,0.56796017122650289]
[null,"VACUNAS",64340,113986,67601,107601,113900,3261,5.0683866956792042E-2,46299,0.68488631824973001]
[null,"MEDICAMENTOS",5191358,5756555,3186557,4126274,3212089,-2004801,-0.38618045605793322,25532,8.012409632088803E-3]
[null,"OTROS PRODUCTOS SIMILARES",108945,171265,89500,483185,115000,-19445,-0.1784845564275552,25500,0.28491620111731841]
[null,"MATERIAL, INSUMOS, INSTRUMENTAL Y ACCESORIOS  MEDICOS, QUIRURGICOS, ODONTOLOGICOS Y DE LABORATORIO",6093682,5519574,3904907,4588968,3202752,-2188775,-0.35918759790878485,-702155,-0.17981350132026191]
[null,"LIBROS, TEXTOS Y OTROS MATERIALES IMPRESOS",85050,47400,30500,30500,null,-54550,-0.64138741916519693,-30500,-1]
[null,"MATERIAL DIDACTICO, ACCESORIOS Y UTILES DE ENSEÑANZA",4000,7916,7500,14860,50524,3500,0.875,43024,5.736533333333333]
[null,"OTROS MATERIALES DIVERSOS DE ENSEÑANZA",null,null,null,null,null,0,null,0]
[null,"SUMINISTROS DE USO ZOOTECNICO",16623,8623,3500,8500,1700,-13123,-0.78944835468928598,-1800,-0.51428571428571423]
[null,"FERTILIZANTES, INSECTICIDAS, FUNGICIDAS Y SIMILARES",5186,8731,13570,12770,4691,8384,1.6166602391052836,-8879,-0.65431098010316879]
[null,"SUMINISTROS DE ACCESORIOS Y/O MATERIALES DE USO FORESTAL",7395,10445,15950,11775,6770,8555,1.1568627450980393,-9180,-0.57554858934169284]
[null,"PRODUCTOS FARMACEUTICOS DE USO ANIMAL",400,400,null,null,null,-400,-1,0]
[null,"PARA EDIFICIOS Y ESTRUCTURAS",48728,84002,44680,114524,76550,-4048,-8.3073386964373663E-2,31870,0.71329453894359895]
[null,"PARA VEHICULOS",28384,11262,1400,3390,2448,-26984,-0.95067643742953778,1048,0.74857142857142855]
[null,"PARA MOBILIARIO Y SIMILARES",9235,9035,2335,2335,1600,-6900,-0.74715755278830531,-735,-0.31477516059957172]
[null,"PARA MAQUINARIAS Y EQUIPOS",12555,12555,525,525,null,-12030,-0.95818399044205493,-525,-1]
[null,"OTROS MATERIALES DE MANTENIMIENTO",59275,152689,106870,110959,60413,47595,0.80295234078447908,-46457,-0.43470571722653689]
[null,"MATERIALES DE  ACONDICIONAMIENTO",38217,39517,46197,51197,26372,7980,0.20880759871261481,-19825,-0.42914042037361733]
[null,"HERRAMIENTAS",12232,11634,13120,31046,19458,888,7.2596468279921514E-2,6338,0.48307926829268294]
[null,"PRODUCTOS QUIMICOS",5000,20118,11200,60799,35880,6200,1.24,24680,2.2035714285714287]
[null,"LIBROS, DIARIOS, REVISTAS Y OTROS BIENES IMPRESOS NO VINCULADOS A ENSEÑANZA",348946,406563,207382,361192,379186,-141564,-0.40569027872507496,171804,0.82844219845502498]
[null,"SIMBOLOS, DISTINTIVOS Y CONDECORACIONES",1500,14690,1880,6755,4300,380,0.25333333333333335,2420,1.2872340425531914]
[null,"OTROS BIENES",178302,210000,58552,203507,11005,-119750,-0.67161333019259462,-47547,-0.81204741084847654]
[null,"PASAJES Y GASTOS DE TRANSPORTE",162270,225397,142929,161673,201087,-19341,-0.11919023849140321,58158,0.40690132863169826]
[null,"VIATICOS Y ASIGNACIONES POR COMISION DE SERVICIO",535364,821710,488260,568837,619075,-47104,-8.7984997123452452E-2,130815,0.26792077991234181]
[null,"VIATICOS Y FLETES POR CAMBIO DE COLOCACION",41395,53677,41395,27211,27211,0,0,-14184,-0.34265007851189755]
[null,"OTROS GASTOS",586872,580688,415568,450332,332023,-171304,-0.29189329189329188,-83545,-0.20103809725484156]
[null,"SERVICIO DE SUMINISTRO DE ENERGIA ELECTRICA",1052663,1431241,1044685,1442866,1177998,-7978,-7.5788737706179469E-3,133313,0.12761071519166065]
[null,"SERVICIO DE AGUA Y DESAGUE",778648,867325,761721,878517,753330,-16927,-2.1738962920343982E-2,-8391,-1.1015844383967358E-2]
[null,"SERVICIO DE SUMINISTRO DE GAS",null,null,null,null,null,0,null,0]
[null,"SERVICIO DE TELEFONIA MOVIL",103152,54849,35000,30180,17500,-68152,-0.6606948968512486,-17500,-0.5]
[null,"SERVICIO DE TELEFONIA FIJA",210296,162514,118636,83105,83340,-91660,-0.43586183284513258,-35296,-0.29751508816885264]
[null,"SERVICIO DE INTERNET",178882,153713,190055,212930,131056,11173,6.2460169273599354E-2,-58999,-0.31043119097103472]
[null,"CORREOS Y SERVICIOS DE MENSAJERIA",53692,191238,97910,140605,43100,44218,0.82354913208671687,-54810,-0.55979981615769581]
[null,"OTROS SERVICIOS DE COMUNICACION",null,25000,null,null,null,0,null,0]
[null,"SERVICIO DE PUBLICIDAD",64017,301280,149400,338460,57041,85383,1.3337550963025446,-92359,-0.61819946452476571]
[null,"PUBLICACION EN EL DIARIO OFICIAL ",null,null,0,1000,18000,0,null,18000]
[null,"OTROS SERVICIOS DE PUBLICIDAD Y DIFUSION",5000,5600,null,null,null,-5000,-1,0]
[null,"SERVICIOS DE IMAGEN INSTITUCIONAL",1000,1000,null,null,39000,-1000,-1,39000]
[null,"SERVICIO DE IMPRESIONES, ENCUADERNACION Y EMPASTADO",495632,354694,null,null,null,-495632,-1,0]
[null,"SERVICIOS DE LIMPIEZA E HIGIENE",801315,1423254,1478695,2209023,1548943,677380,0.8453354798050704,70248,4.7506754266430876E-2]
[null,"SERVICIOS DE SEGURIDAD Y VIGILANCIA",1118468,2027130,1999871,2330414,1701502,881403,0.78804489712714176,-298369,-0.14919412302093485]
[null,"DE EDIFICACIONES, OFICINAS Y ESTRUCTURAS",293972,1288091,160898,842435,151148,-133074,-0.45267576503884721,-9750,-6.0597397108727268E-2]
[null,"DE VEHICULOS",156885,331634,97400,178683,137218,-59485,-0.37916308123784936,39818,0.40880903490759751]
[null,"DE MOBILIARIO Y SIMILARES",7720,14170,3800,8500,2000,-3920,-0.50777202072538863,-1800,-0.47368421052631576]
[null,"DE MAQUINARIAS Y EQUIPOS",313372,1144224,262834,1379071,55667,-50538,-0.16127158776151029,-207167,-0.78820472237229577]
[null,"DE OTROS BIENES Y ACTIVOS",null,650,0,5000,3600,{"$f":"+E332-C332","v":0},null,{"$f":"+G332-E332","v":3600}]
[null,"DE EDIFICIOS Y ESTRUCTURAS",110928,165793,86408,143508,116320,-24520,{"$f":"+H333/C333","v":-0.22104428097504689},29912,{"$f":"+J333/E333","v":0.34617165077307654}]
[null,"DE VEHICULOS",null,null,null,null,null,0,null,0]
[null,"DE MOBILIARIO Y SIMILARES",null,12000,null,null,null,0,null,0]
[null,"DE MAQUINARIAS Y EQUIPOS",5000,1950,5000,22500,45000,0,0,40000,8]
[null,"DE OTROS BIENES Y ACTIVOS",0,93032,0,44011,null,0,null,0]
[null,"GASTOS LEGALES Y JUDICIALES",6120,21120,7120,7120,7120,1000,0.16339869281045752,0,0]
[null,"GASTOS NOTARIALES",42539,82673,37950,35150,27636,-4589,-0.10787747713862574,-10314,-0.27177865612648222]
[null,"CARGOS BANCARIOS",4700,6510,5000,5000,6000,300,6.3829787234042548E-2,1000,0.2]
[null,"OTROS SERVICIOS FINANCIEROS",0,3000,5000,5000,5000,5000,null,0,0]
[null,"SEGURO DE VIDA",62447,59247,66691,91289,74343,4244,6.7961631463481026E-2,7652,0.11473812058598612]
[null,"SEGURO DE VEHICULOS",123952,88042,178952,78952,9000,55000,0.44372014973538143,-169952,-0.94970718404935406]
[null,"SEGURO OBLIGATORIO ACCIDENTES DE TRANSITO (SOAT)",30434,39404,31721,27530,21860,1287,4.2288230268778343E-2,-9861,-0.31086661832855206]
[null,"OTROS SEGUROS PERSONALES",33639,33829,28106,25520,17701,-5533,-0.16448170278545735,-10405,-0.37020565003913752]
[null,"OTROS SEGUROS DE  BIENES MUEBLES E INMUEBLES",9000,0,500,12612,23000,-8500,-0.94444444444444442,22500,45]
[null,"GASTOS POR PRESTACIONES DE SALUD",null,null,null,null,null,0,null,0]
[null,"CONSULTORIAS",18700,346700,18590,620256,172500,-110,-5.8823529411764705E-3,153910,8.2791823561054336]
[null,"ASESORIAS",null,null,null,null,null,0,null,0]
[null,"AUDITORIAS",100000,188800,190000,180000,null,90000,0.9,-190000,-1]
[null,"CONSULTORIAS",null,null,0,18000,null,0,null,0]
[null,"ASESORIAS",108350,90850,71850,86000,null,-36500,-0.33687125057683431,-71850,-1]
[null,"OTROS SERVICIOS SIMILARES",null,24000,38154,38154,null,38154,null,-38154,-1]
[null,"OTROS SERVICIOS SIMILARES",331469,375421,null,null,null,-331469,-1,0]
[null,"REALIZADO POR PERSONAS JURIDICAS",52674,122802,57569,253429,164979,4895,9.2930098340737372E-2,107410,1.8657610866959649]
[null,"REALIZADO POR PERSONAS NATURALES",203260,267220,261760,143760,271500,58500,0.2878087178982584,9740,3.7209657701711495E-2]
[null,"ELABORACION DE PROGRAMAS INFORMATICOS",null,null,null,null,null,0,null,0]
[null,"PROCESAMIENTOS DE DATOS",28160,8560,19000,21000,59000,-9160,-0.32528409090909088,40000,2.1052631578947367]
[null,"SOPORTE TECNICO",45940,35140,19200,20200,16600,-26740,-0.58206356116673919,-2600,-0.13541666666666666]
[null,"OTROS SERVICIOS DE INFORMATICA",0,708,0,4890,2000,0,null,2000]
[null,"PROPINAS PARA PRACTICANTES",8000,16780,12200,12200,20200,4200,0.52500000000000002,8000,0.65573770491803274]
[null,"OTROS GASTOS",null,null,8000,8000,null,8000,null,-8000,-1]
[null,"SERVICIOS RELACIONADOS CON EL MEDIO AMBIENTE",3400,0,3600,3600,3000,200,5.8823529411764705E-2,-600,-0.16666666666666666]
[null,"OTROS RELACIONADOS A ORGANIZACION DE EVENTOS",null,null,null,null,20900,0,null,20900]
[null,"SEMINARIOS ,TALLERES Y SIMILARES ORGANIZADOS POR LA  INSTITUCION",87700,58870,67011,54511,34573,-20689,-0.23590649942987457,-32438,-0.48406977958842579]
[null,"ATENCIONES OFICIALES Y CELEBRACIONES INSTITUCIONALES",32000,58678,19000,30000,5000,-13000,-0.40625,-14000,-0.73684210526315785]
[null,"OTRAS ATENCIONES Y CELEBRACIONES",5250,4278,3790,2890,1900,-1460,-0.27809523809523812,-1890,-0.49868073878627966]
[null,"EMBALAJE Y ALAMACENAJE",0,23000,null,null,null,0,null,0]
[null,"TRANSPORTE Y TRASLADO DE CARGA, BIENES Y MATERIALES",558368,407442,603615,748442,305369,45247,8.1034371597226207E-2,-298246,-0.49409971587849871]
[null,"SERVICIOS RELACIONADOS CON FLORERIA, JARDINERIA Y OTRAS ACTIVIDADES SIMILARES",0,24400,null,null,null,0,null,0]
[null,"SERVICIOS DE ALIMENTACION DE CONSUMO HUMANO",null,6980,0,240662,57782,0,null,57782]
[null,"SERVICIO DE IMPRESIONES, ENCUADERNACION Y EMPASTADO",null,null,174134,248829,145609,174134,null,-28525,-0.1638106285963683]
[null,"SERVICIOS DIVERSOS",9362635,6507246,15546900,15960064,2873045,6184265,0.66052612325483162,-12673855,-0.81520142279168195]
[null,"CONTRATO ADMINISTRATIVO DE SERVICIOS",14654595,14749424,11332678,12337641,12692881,-3321917,-0.22668091475745319,1360203,0.12002485202526711]
[null,"CONTRIBUCIONES A ESSALUD DE C.A.S.",958260,964187,796461,793126,601755,-161799,-0.16884665957047149,-194706,-0.24446394738725435]
[null,"AGUINALDOS DE CAS",null,null,350400,389734,282000,350400,null,-68400,-0.1952054794520548]
[null,"OTROS GASTOS DE CAS",null,null,1561532,1561532,null,1561532,null,-1561532,-1]
[null,"TOTAL    (*)",{"$f":"SUM(C266:C377)","v":54557025},58038232,54497800,63797259,{"$f":"SUM(G266:G377)","v":42395338},{"$f":"SUM(H266:H377)","v":-59225},{"$f":"+H378/C378","v":-1.085561391956398E-3},-12102462,{"$f":"+J378/E378","v":-0.22207248732976376}]
[]
[null,"FUENTE DE FINANCIAMIENTO",": Donaciones y Transferencias"]
[null,"RUBROS","PPTO 2017 (PIA)","PPTO 2017 (PIM)","PPTO 2018 (PIA)","PPTO 2018 (PIM JUNIO)","PPTO 2019 (Proyecto)","Diferencia PIA (2018-2017)","Variación % (2018-2017)/2017","Diferencia PIA (2019-2018)","Variación % (2019-2018)/2018"]
[]
[null,"RUBROS","PPTO 2018 (PIA)","PPTO 2018 (PIM)","PPTO 2019 (PIA)","PPTO 2019 (PIM 30 JUNIO)","PPTO 2020 (PROYECTO)","Diferencia PIA (2018-2019)","Variación % (2018-2019)","Diferencia PIA (2019-2020)","Variación % (2019-2020)"]
[]
[null,"ALIMENTOS Y BEBIDAS PARA CONSUMO HUMANO",17100,1528340,null,2151365,null,{"$f":"+E385-C385","v":-17100},null,{"$f":"+G385-E385","v":0}]
[null,"VESTUARIO, ACCESORIOS Y PRENDAS DIVERSAS",350,7548,null,7320,null,-350,null,0]
[null,"TEXTILES Y ACABADOS TEXTILES",0,99765,null,314878,null,0,null,0]
[null,"CALZADO",0,3400,null,2500,null,0,null,0]
[null,"COMBUSTIBLES Y CARBURANTES",7500,1957515,null,1427076,null,-7500,null,0]
[null,"GASES",0,300,null,500,null,0,null,0]
[null,"LUBRICANTES, GRASAS Y AFINES",0,7959,null,21185,null,0,null,0]
[null,"REPUESTOS Y ACCESORIOS",0,168640,null,93309,null,0,null,0]
[null,"PAPELERIA EN GENERAL, UTILES Y MATERIALES DE OFICINA",281400,1879815,null,930149,null,-281400,null,0]
[null,"ASEO, LIMPIEZA Y TOCADOR",82700,1543629,null,2083975,null,-82700,null,0]
[null,"ELECTRICIDAD, ILUMINACION Y ELECTRONICA",0,71130,null,59078,null,0,null,0]
[null,"DE VEHICULOS",0,382675,null,77863,null,0,null,0]
[null,"DE CONSTRUCCION Y MAQUINAS",0,3216,null,null,null,0,null,0]
[null,"DE SEGURIDAD",50000,28005,null,1700,null,-50000,null,0]
[null,"OTROS ACCESORIOS Y REPUESTOS",0,24542,null,4863,null,0,null,0]
[null,"ENSERES",550,7732,null,36970,null,-550,null,0]
[null,"MEDICAMENTOS",6008010,39654401,null,28515525,2608415,-6008010,null,2608415]
[null,"OTROS PRODUCTOS SIMILARES",800,1861289,null,1457563,null,-800,null,0]
[null,"MATERIAL, INSUMOS, INSTRUMENTAL Y ACCESORIOS  MEDICOS, QUIRURGICOS, ODONTOLOGICOS Y DE LABORATORIO",1488671,31849167,null,30689086,1000000,-1488671,null,1000000]
[null,"LIBROS, TEXTOS Y OTROS MATERIALES IMPRESOS",8000,17500,null,null,null,-8000,null,0]
[null,"MATERIAL DIDACTICO, ACCESORIOS Y UTILES DE ENSEÑANZA",144250,797511,null,100065,null,-144250,null,0]
[null,"OTROS MATERIALES DIVERSOS DE ENSEÑANZA",47000,250827,null,null,null,-47000,null,0]
[null,"PARA EDIFICIOS Y ESTRUCTURAS",0,8000,null,null,null,0,null,0]
[null,"PRODUCTOS QUIMICOS",null,6000,null,2000,null,0,null,0]
[null,"LIBROS, DIARIOS, REVISTAS Y OTROS BIENES IMPRESOS NO VINCULADOS A ENSEÑANZA",10000,1436169,null,1204977,null,-10000,null,0]
[null,"OTROS BIENES",17500,5624,null,49832,null,-17500,null,0]
[null,"PASAJES Y GASTOS DE TRANSPORTE",500,0,null,52810,null,-500,null,0]
[null,"VIATICOS Y ASIGNACIONES POR COMISION DE SERVICIO",500,10055,null,348551,null,-500,null,0]
[null,"PASAJES Y GASTOS DE TRANSPORTE",500,84932,null,null,null,-500,null,0]
[null,"VIATICOS Y ASIGNACIONES POR COMISION DE SERVICIO",3300,752717,null,null,null,-3300,null,0]
[null,"OTROS GASTOS",2000,140195,null,153419,null,-2000,null,0]
[null,"SERVICIO DE SUMINISTRO DE ENERGIA ELECTRICA",0,127105,null,null,null,0,null,0]
[null,"SERVICIO DE AGUA Y DESAGUE",0,null,null,null,null,0,null,0]
[null,"SERVICIO DE TELEFONIA MOVIL",0,1165,null,null,null,0,null,0]
[null,"SERVICIO DE TELEFONIA FIJA",0,11210,null,1800,null,0,null,0]
[null,"SERVICIO DE INTERNET",null,229678,null,218596,null,0,null,0]
[null,"CORREOS Y SERVICIOS DE MENSAJERIA",0,3000,null,2400,null,0,null,0]
[null,"PUBLICACION EN EL DIARIO OFICIAL ",null,null,null,5500,null,0,null,0]
[null,"SERVICIO DE PUBLICIDAD",null,null,null,null,null,0,null,0]
[null,"OTROS SERVICIOS DE PUBLICIDAD Y DIFUSION",8000,363359,null,null,null,-8000,null,0]
[null,"SERVICIO DE IMPRESIONES, ENCUADERNACION Y EMPASTADO",null,1786339,null,465115,null,0,null,0]
[null,"SERVICIOS DE LIMPIEZA E HIGIENE",1800,6210236,null,1712017,null,-1800,null,0]
[null,"DE EDIFICACIONES, OFICINAS Y ESTRUCTURAS",null,null,null,947356,null,0,null,0]
[null,"DE CARRETERAS, CAMINOS Y PUENTES",0,1163685,null,null,null,0,null,0]
[null,"DE VEHICULOS",3400,1225396,null,710956,null,-3400,null,0]
[null,"DE MAQUINARIAS Y EQUIPOS",0,128400,null,922545,null,0,null,0]
[null,"DE EDIFICIOS Y ESTRUCTURAS",0,74500,null,565600,null,0,null,0]
[null,"DE VEHICULOS",null,236,null,29500,null,0,null,0]
[null,"DE MAQUINARIAS Y EQUIPOS",null,null,null,12000,null,{"$f":"+E433-C434","v":0},null,0]
[null,"CARGOS BANCARIOS",0,11410,null,1118,null,-40000,null,0]
[null,"SEGURO OBLIGATORIO ACCIDENTES DE TRANSITO (SOAT)",40000,13342426,null,12850,null,0,null,0]
[null,"GASTOS POR PRESTACIONES DE SALUD",null,null,null,4118009,null,0,null,0]
[null,"CONSULTORIAS",0,35000,null,null,null,0,null,0]
[null,"OTROS SERVICIOS SIMILARES",null,null,null,120500,null,0,null,0]
[null,"OTROS SERVICIOS SIMILARES"]
[null,"REALIZADO POR PERSONAS JURIDICAS"]
[null,"PROCESAMIENTOS DE DATOS",0,103235,null,null,null,{"$f":"+E439-C440","v":0},null,{"$f":"+G441-E439","v":0}]
[null,"SEMINARIOS ,TALLERES Y SIMILARES ORGANIZADOS POR LA  INSTITUCION",19155,1844549,null,800,null,{"$f":"+E440-C441","v":0},null,{"$f":"+G442-E440","v":0}]
[null,"TRANSPORTE Y TRASLADO DE CARGA, BIENES Y MATERIALES",0,1500,null,1970106,140051,{"$f":"+E441-C442","v":-19155},null,{"$f":"+G443-E441","v":140051}]
[null,"SERVICIO DE ALIMENTACION DE CONSUMO HUMANO",281250,8997181,null,128653,null,{"$f":"+E442-C443","v":0},null,{"$f":"+G444-E442","v":0}]
[null,"SERVICIOS DIVERSOS",null,null,null,7039810,null,{"$f":"+E443-C444","v":-281250},null,{"$f":"+G445-E443","v":0}]
[]
[null,"TOTAL    (*)",{"$f":"SUM(C385:C446)","v":8524236},120248208,0,88771790,3748466,-8524236,null,{"$f":"SUM(J385:J446)","v":3748466}]
[]
[null,"FUENTE DE FINANCIAMIENTO",": Recursos Determinados"]
[null,"RUBROS","PPTO 2018 (PIA)","PPTO 2018 (PIM)","PPTO 2019 (PIA)","PPTO 2019 (PIM 30 JUNIO)","PPTO 2020 (PROYECTO)","Diferencia PIA (2018-2019)","Variación % (2018-2019)","Diferencia PIA (2019-2020)","Variación % (2019-2020)"]
[]
[null,"ALIMENTOS Y BEBIDAS PARA CONSUMO HUMANO",0,123759,null,6256,null,{"$f":"+E452-C452","v":0},null,{"$f":"+G452-E452","v":0}]
[null,"VESTUARIO, ACCESORIOS Y PRENDAS DIVERSAS",45000,163796,null,5460,null,-45000,{"$f":"+H453/C453","v":-1},0]
[null,"TEXTILES Y ACABADOS TEXTILES",null,21604,null,null,null,0,null,0]
[null,"CALZADO",35000,37240,null,null,null,-35000,{"$f":"+H455/C455","v":-1},0]
[null,"COMBUSTIBLES Y CARBURANTES",1700000,1637976,null,2287,null,-1700000,{"$f":"+H456/C456","v":-1},0]
[null,"GASES",null,null,null,null,null,0,null,0]
[null,"LUBRICANTES, GRASAS Y AFINES",220000,169500,null,null,null,-220000,{"$f":"+H458/C458","v":-1},0]
[null,"REPUESTOS Y ACCESORIOS",null,500,null,null,null,0,null,0]
[null,"PAPELERIA EN GENERAL, UTILES Y MATERIALES DE OFICINA",0,457326,null,111313,null,0,null,0]
[null,"ASEO, LIMPIEZA Y TOCADOR",0,223113,null,66679,null,0,null,0]
[null,"DE COCINA, COMEDOR Y CAFETERIA",null,7500,null,null,null,0,null,0]
[null,"ELECTRICIDAD, ILUMINACION Y ELECTRONICA",55000,56977,null,662,null,-55000,{"$f":"+H463/C463","v":-1},0]
[null,"DE VEHICULOS",60000,66000,null,206000,null,-60000,{"$f":"+H464/C464","v":-1},0]
[null,"DE CONSTRUCCION Y MAQUINAS",75200,75200,null,290000,null,-75200,{"$f":"+H465/C465","v":-1},0]
[null,"DE SEGURIDAD",45000,45000,null,20000,null,-45000,{"$f":"+H466/C466","v":-1},0]
[null,"OTROS ACCESORIOS Y REPUESTOS",23500,23500,null,null,null,-23500,null,0]
[null,"ENSERES",0,36492,null,null,null,0,null,0]
[null,"MEDICAMENTOS",0,50137,null,8734,null,0,null,0]
[null,"MATERIAL, INSUMOS, INSTRUMENTAL Y ACCESORIOS  MEDICOS, QUIRURGICOS, ODONTOLOGICOS Y DE LABORATORIO",0,881245,null,83211,null,0,null,0]
[null,"LIBROS, TEXTOS Y OTROS MATERIALES IMPRESOS",null,8456,null,null,null,0,null,0]
[null,"MATERIAL DIDACTICO, ACCESORIOS Y UTILES DE ENSEÑANZA",0,473751,null,155144,null,0,null,0]
[null,"OTROS MATERIALES DIVERSOS DE ENSEÑANZA",0,19500,null,null,null,0,null,0]
[null,"PARA EDIFICIOS Y ESTRUCTURAS",null,3155,null,null,null,0,null,0]
[null,"PARA VEHICULOS",null,4896,null,null,null,{"$f":"+E475-C477","v":-1600000},{"$f":"+H475/C477","v":-1},0]
[null,"PARA MOBILIARIO Y SIMILARES",null,2000,null,null,null,-42000,{"$f":"+H476/C478","v":-1},0]
[null,"OTROS MATERIALES DE MANTENIMIENTO",1600000,1600000,null,399777,null,0,null,0]
[null,"HERRAMIENTAS",42000,30000,null,null,null,0,null,0]
[null,"PRODUCTOS QUIMICOS",null,2220,null,400,null,-22500,{"$f":"+H479/C481","v":-1},0]
[null,"LIBROS, DIARIOS, REVISTAS Y OTROS BIENES IMPRESOS NO VINCULADOS A ENSEÑANZA",0,77563,null,6041,null,-22000,{"$f":"+H480/C482","v":-1},0]
[null,"OTROS BIENES",22500,39444,null,1886,null,-65000,{"$f":"+H481/C483","v":-1},0]
[null,"PASAJES Y GASTOS DE TRANSPORTE",22000,78796,null,8197,null,0,null,0]
[null,"VIATICOS Y ASIGNACIONES POR COMISION DE SERVICIO",65000,326726,null,60833,null,0,null,0]
[null,"OTROS GASTOS",0,119272,null,22047,null,0,null,0]
[null,"SERVICIO DE SUMINISTRO DE ENERGIA ELECTRICA",null,17903,null,null,null,0,null,0]
[null,"SERVICIO DE TELEFONIA MOVIL",null,null,null,null,null,0,null,0]
[null,"SERVICIO DE INTERNET",null,null,null,null,null,0,null,0]
[null,"CORREOS Y SERVICIOS DE MENSAJERIA",null,null,null,null,null,0,null,0]
[null,"SERVICIO DE PUBLICIDAD",0,5100,null,35000,null,-25000,{"$f":"+H489/C491","v":-1},0]
[null,"OTROS SERVICIOS DE PUBLICIDAD Y DIFUSION",null,null,null,null,null,0,null,0]
[null,"SERVICIO DE IMPRESIONES, ENCUADERNACION Y EMPASTADO",25000,199634,null,30703,null,-95000,{"$f":"+H491/C493","v":-1},0]
[null,"DE EDIFICACIONES, OFICINAS Y ESTRUCTURAS",null,1806933,7934942,2321113,5466099,7859942,{"$f":"+H492/C494","v":104.79922666666667},-2468843,{"$f":"+J492/E492","v":-0.31113560754445341}]
[null,"DE CARRETERAS, CAMINOS Y PUENTES",95000,3514465,null,4456415,null,-65000,{"$f":"+H493/C495","v":-1},0]
[null,"DE VEHICULOS",75000,382633,null,61500,null,0,null,0]
[null,"DE MAQUINARIAS Y EQUIPOS",65000,261742,null,53000,null,0,null,0]
[null,"DE EDIFICIOS Y ESTRUCTURAS",0,12000,null,null,null,0,null,0]
[null,"DE VEHICULOS",null,10000,null,20800,null,-12310246,null,0]
[null,"DE MAQUINARIAS Y EQUIPOS",0,63500,null,389003,null,0,null,0]
[null,"DE OTROS BIENES Y ACTIVOS",12310246,5704061,null,150000,null,-1200000,{"$f":"+H499/C501","v":-1},0]
[null,"GASTOS NOTARIALES",null,null,null,null,null,{"$f":"+E500-C503","v":-9500},{"$f":"+H500/C503","v":-1},0]
[null,"SEGURO DE VEHICULOS",1200000,1392610,null,1093000,null,{"$f":"+E501-C505","v":-23500},{"$f":"+H501/C505","v":-1},0]
[null,"DE MOBILIARIO Y SIMILARES",null,null,null,4000,null,{"$f":"+E502-C508","v":0},null,0]
[null,"SEGURO OBLIGATORIO ACCIDENTES DE TRANSITO (SOAT)",9500,13500,null,7000,null,{"$f":"+E503-C509","v":0},null,0]
[null,"CONSULTORIAS",null,199636,null,null,null,{"$f":"+E504-C510","v":0},null,0]
[null,"OTROS SERVICIOS SIMILARES",23500,23500,null,45000,null,{"$f":"+E505-C511","v":-45000},{"$f":"+H505/C511","v":-1},0]
[null,"SOPORTE TECNICO",null,null,null,2080,null,{"$f":"+E506-C513","v":-35000},null,0]
[null,"SERVICIOS RELACIONADOS CON EL MEDIO AMBIENTE",null,6000,null,13930,null,{"$f":"+E507-C514","v":-3580000},{"$f":"+H507/C514","v":-1},0]
[null,"OTROS RELACIONADOS A ORGANIZACION DE EVENTOS",0,714,null,null,null,{"$f":"+E508-C515","v":-220000},{"$f":"+H508/C515","v":-1},0]
[null,"SEMINARIOS ,TALLERES Y SIMILARES ORGANIZADOS POR LA  INSTITUCION",0,87388,null,23986]
[null,"ATENCIONES OFICIALES Y CELEBRACIONES INSTITUCIONALES",0,14830,null,7700]
[null,"TRANSPORTE Y TRASLADO DE CARGA, BIENES Y MATERIALES",45000,66250,null,0]
[null,"SERVICIOS DE ALIMENTACION DE CONSUMO HUMANO",null,5590,null,9366]
[null,"SERVICIOS DIVERSOS",35000,2624820,null,826395]
[null,"CONTRATO ADMINISTRATIVO DE SERVICIOS",3580000,3580000]
[null,"CONTRIBUCIONES A ESSALUD DE C.A.S.",220000,220000]
[]
[]
[null,"TOTAL    (*)",{"$f":"SUM(C452:C517)","v":21693446},27075453,7934942,11004918,5466099,-13758504,{"$f":"+H518/C518","v":-0.63422399557912557},{"$f":"SUM(J452:J517)","v":-2468843},{"$f":"+J518/E518","v":-0.31113560754445341}]
[null,"(PIA) = Presupuesto Institucional de Apertura"]
[null,"(*) DEBE COINCIDIR CON LOS MONTOS ASIGNADOS EN LA GENERICA 3. BIENES Y SERVICIOS CONSIDERADAS EN EL PRESUPUESTO 2018 - 2019 - 2020"]
[null,"(**) Recursos Públicos / Recursos Ordinarios / Recursos Directamente Recaudados / Donaciones  y  Transferencias / Operaciones Oficiales de Crédito/ Recursos Determinados"]
[]
[null,"PROYECTO DE PRESUPUESTO PARA EL AÑO FISCAL 2020"]
[null,"INFORMACION PARA LA COMISION DE PRESUPUESTO Y CUENTA GENERAL DE LA REPUBLICA DEL CONGRESO DE LA REPUBLICA"]

{"sheet":"F.13","index":15,"n_rows":46,"n_cols":16,"rows_kept":46,"cut":false,"hidden":false,"merged":[[1,1,1,15],[2,1,2,15],[3,1,3,15]]}
[]
[null,"FORMATO 13"]
[null,"CONTRATOS DE OBRAS SUSCRITOS EN LOS AÑOS 2018 Y 2019"]
[null,"PROYECTO DE PRESUPUESTO - 2020"]
[null,"SECTOR : 99 GOBIERNOS REGIONALES"]
[null,"PLIEGO  : 451 GOBIERNO REGIONAL LA LIBERTAD"]
[]
[null,"PROYECTO","CODIGO SNIP","TIPO DE PROCESO DE SELECCIÓN","MODALIDAD","NUMERO DEL PROCESO","MONTO PRESUPUESTADO (*)","FECHA DE SUSCRIPCION DEL CONTRATO","CONTRATISTA (RUC y Denominacion)","PLAZO DE EJEUCION DE OBRAS","FECHA DE VENCIMIENTO DEL PLAZO","AMPLIACION DE PLAZO/SUSPENSION DE PLAZO","FECHA DE VENCIMIENTO DE PLAZO","FECHA DE ENTREGA","FECHA DE CONFORMIDAD DE OBRA","OBSERVACIONES"]
[null,"EJECUCION DE LA OBRA REHABILITACION DE LA AV. HUAMAN TRAMO AV. PROLONGACION CESAR VALLEJO-AV. PROLONGACION JUAN PABLO II, DISTRITO DE VICTOR LARCO HERRERA-PROVINCIA DE TRUJILLO-REGION LA LIBERTAD",2376976,"AS","CONTRATADO","AS N° 17-2017-GRLL-GRCO",1769693.94,"2018-01-15","CONSORCIO EL VALLE : CONSTRUCTORA & PROMOTORA DE VIVIENDA SOCIAL EL VALLE S.A.C. - CONSTRUCTORA VIALES CONTRATISTAS GENERALES S.A.C._VIALES S.A.C.","45 dc.","2018-03-02",null,null,"2018-01-16"]
[null,"EJECUCION DE LA OBRA REHABILITACION DE LA AV. BOLIVIA INTERSECCION AV. MANUEL SEOANE-AV. VICTOR LARCO, DISTRITO DE VICTOR LARCO HERRERA-PROVINCIA DE TRUJILLO-REGION LA LIBERTAD",2376980,"AS","CONTRATADO","AS N° 18-2017-GRLL-GRCO",538406.29,"2018-01-04","CONSTRUCTORA PAVIMENTOS DEL PERU SOCIEDAD ANONIMA CERRADA","30 dc.","2018-02-04",null,null,"2018-01-05"]
[null,"EJECUCION DE LA OBRA REHABILITACION DE LA AV. JUAN PABLO INTERSECCION AV. LOS PAUJILES-AV. HUAMAN, DISTRITO DE VICTOR LARCO HERRERA-PROVINCIA DE TRUJILLO-REGION LA LIBERTAD",2376990,"AS","CONTRATADO","AS N° 19-2017-GRLL-GRCO",1379683.18,"2018-04-04","CONSTRUCTORA PAVIMENTOS DEL PERU SOCIEDAD ANONIMA CERRADA","30 dc.","2018-05-05","SUSPENSION DE PLAZO","2018-06-04","2018-04-05"]
[null,"EJECUCION DE LA OBRA: MEJORAMIENTO DEL SERVICIO EDUCATIVO DEL SISTEMA DE AGUA POTABLE Y ALCANTARILLADO DEL AA.HH. TECAPA, DISTRITO DE SAN JOSE, PACASMAYO, LA LIBERTAD-SNIP 235116",2165189,"AS","CONTRATADO","AS N° 39-2017-GRLL-GRCO",1380661.4,"2018-01-23","CONSORCIO VIRGEN DEL ROSARIO : MERINO CORREA VICTOR FERNANDO - CIEZA BARRANTES MARLON VICENTE","120 dc.","2018-06-05","SUSPENSION DE PLAZO","2018-08-27","2018-02-05"]
[null,"EJECUCION DE LA OBRA: MEJORAMIENTO DEL SERVICIO DEPORTIVO Y RECREATIVO EN EL COMPLEJO DEPORTIVO AUGUSTO GILDEMEISTER EN LA LOCALIDAD DE SAUSAL, DISTRITO DE CHICAMA - ASCOPE - LA LIBERTAD-CODIGO 314509",2258101,"AS","CONTRATADO","AS N° 43-2017-GRLL-GRCO",1177027.5,"2018-03-07","CONSORCIO DEL NORTE : MAROSE CONTRATISTAS GENERALES S.A.C. - INGENIEROS CONTRATISTAS DE PAVIMENTOS SAC","120 dc.","2018-07-17","_","_","2018-03-19"]
[null,"EJECUCION DE LA OBRA: MEJORAMIENTO DEL SERVICIO EDUCATIVO EN EL CENTRO DE EDUCACION TECNICO PRODUCTIVA - CETPRO DE SAN PEDRO DE LLOC - PROVINCIA DE PACASMAYO - LA LIBERTAD",2251338,"LP","CONTRATADO","LP N° 03-2017-GRLL-GRCO",1949805.8,"2018-03-22","KIBE CONSTRUCCIONES GENERALES SAC","150 dc.","2018-09-28","_","_","2018-04-06"]
[null,"EJECUCION DE LA OBRA: MEJORAMIENTO DEL SERVICIO EDUCATIVO EN LA I.E. INICIAL 295, DISTRITO DE CACHICADAN, SANTIAGO DE CHUCO, LA LIBERTAD-CON CODIGO SNIP 324467",2281285,"LP","CONTRATADO","LP N° 07-2017-GRLL-GRCO",3669344.36,"2018-08-28","CONSORCIO SANTA ANA :\nCONSORCIO F & F CONTRATISTAS GENERALES S.A.C. - GRUPO C & CH CONTRATISTAS Y SERVICIOS GENERALES SAC","150 dc.","2019-02-20","SUSPENSION DE PLAZO","2019-04-08","2018-09-12"]
[null,"EJECUCION DE LA OBRA: MEJORAMIENTO DE LA CALIDAD DEL SERVICIO EDUCATIVO EN LA I.E. N° 80488, NIVEL PRIMARIO DEL CASERIO HUAGANTO, DISTRITO DE SANTIAGO DE CHALLAS, PATAZ, LA LIBERTAD-SNIP 233988",2220999,"LP","CONTRATADO","LP N° 08-2017-GRLL-GRCO",4016630.95,"2018-04-06","VITOU CONTRATISTAS GENERALES S.A.C.                                                                                                                                                                                                                        ","150 dc.","2018-09-15","_","_","18/042018",null,"OBRA AUN NO CULMINA"]
[null,"EJECUCIÓN DE LA OBRA: MEJORAMIENTO DE LOS SERVICIOS DE SALUD PARA LA ATENCIÓN INTEGRAL EN EL PUESTO DE SALUD SAN ANTONIO, DISTRITO DE JULCAN, PROVINCIA DE JULCAN, LA LIBERTAD, CÓDIGO SNIP 348617",2311396,"LP","CONTRATADO","LP N° 09-2017-GRLL-GRCO",2433775.85,"2018-05-18","INMOBILIARIA Y CONSTRUCTORA SAN FERNANDO ","120 dc.","2018-09-25","AMPLIACION DE PLAZO","2018-10-05","2018-05-28"]
[null,"EJECUCION DE LA OBRA: MEJORAMIENTO Y AMPLIACION DEL SERVICIO DE SALUD DE PRIMER NIVEL DE COMPLEJIDAD 1-2 EN EL CENTRO POBLADO DE LLUIN, DISTRITO DE MACHE, PROVINCIA DE OTUZCO, LA LIBERTAD-CODIGO UNIFICADO 265305",2183694,"LP","CONTRATADO","LP N° 10-2017-GRLL-GRCO",2050000,"2018-07-18","CONSORCIO DEL NORTE : INVERSIONES KRAVA S.A.C. - EMPRESA DE TRANSPORTES ACOSVI S.A.C","120 dc.","2018-11-22","_","_","2018-07-25"]
[null,"EJECUCIÓN DE OBRA MEJORAMIENTO DE LOS SERVICIOS DE TRANSITABILIDAD VEHICULAR Y PEATONAL EN LA AV. LIBERTAD DESDE LA CALLE JOSE CARLOS MARIATEGUI HASTA LA PANAMERICANA NORTE LOCALIDAD DE GUADALUPITO, DISTRITO DE GUADALUPITO - VIRU - LA LIBERTAD  CODIGO 357193",2320147,"AS","CONTRATADO","AS N° 014-2018-GRLL-GRCO",1343946.25,"2018-07-03","CONSTRUCTORA PAVIMENTOS DEL PERU SOCIEDAD ANONIMA CERRADA - RUC: 20440131931","60 dc.","2018-09-04","_","_","2018-07-06"]
[null,"EJECUCIÓN DE OBRA MEJORAMIENTO DEL SISTEMA DE AGUA POTABLE E INSTALACION DEL SISTEMA DE ALCANTARILLADO DEL AA.HH. SANTA VICTORIA DISTRITO Y, PROVINCIA DE CHEPEN - LA LIBERTAD CODIGO 355439",2318388,"AS","CONTRATADO","AS N° 015-2018-GRLL-GRCO",1516019.56,"2018-04-30","CONSORCIO O Y G : QUINTANA GUEVARA ELMER OSCAR - H & M GROUP CONTRATISTAS GENERALES S.A.C. - RUC: 10266989259 -20477731059","150 dc.","2019-01-10",null,null,"2018-08-13"]
[null,"EJECUCIÓN DE OBRA: MEJORAMIENTO DE LOS SERVICIOS DE SALUD CUYUCHUGO DISTRITO DE USQUIL-PROVINCIA DE OTUZCO - LA LIBERTAD",2198315,"AS","CONTRATADO","AS N° 016-2018-GRLL-GRCO",1504093.98,"2018-07-05","CONSORCIO LIBERTAD : MEGA CONSTRUCCIONES ENVIOR S. R. L.  - AMERITECH CONSTRUCTORA E INVERSIONES S.A.C.  - RUC: 20481502927 - 20480904941","120 dc.","2018-12-15","_","_","2018-08-17"]
[null,"EJECUCION DE LA OBRA: MEJORAMIENTO DEL SERVICIO EDUCATIVO EN LA I.E. INICIAL 295, DISTRITO DE CACHICADAN, SANTIAGO DE CHUCO, LA LIBERTAD-CON CODIGO SNIP 324467",2281285,"LP","CONTRATADO","LP N° 07-2017-GRLL-GRCO",3669344.36,"2018-08-28","CONSORCIO SANTA ANA :\nCONSORCIO F & F CONTRATISTAS GENERALES S.A.C. - GRUPO C & CH CONTRATISTAS Y SERVICIOS GENERALES SAC  - RUC: 20481242836 -20481749141 ","150 dc.","2019-02-20","SUSPENSION DE PLAZO","2019-04-08","2018-09-12"]
[null,"EJECUCIÓN DE OBRA MEJORAMIENTO DEL SERVICIO EDUCATIVO EN LA I.E. N° 80591 NIVEL INICIAL EN EL CASERIO PIJOBAMBA, DISTRITO DE SITABAMBA - SANTIAGO DE CHUCO - LA LIBERTAD- CODIGO 2309274",2309274,"LP","CONTRATADO","LP N° 001-2018-GRLL-GRCO",1784213.29,"2018-07-26","CONSORCIO KREAR : HOJAMI GRUPO CONSTRUCTOR S.A.C. - HOJAMI S.A.C.- BLAKAR CONTRATISTAS GENERALES SAC  - RUC: 20539970314 - 20481100535 ","120 dc.","2018-12-25","_","_","2018-08-08"]
[null,"EJECUCION DE OBRA MEJORAMIENTO DEL SERVICIO EDUCATIVO DEL CENTRO DE EDUCACION TECNICO PRODUCTIVO VICTOR RAUL HAYA DE LA TORRE, DISTRITO DE TRUJILLO,PROVINCIA DE TRUJILLO, DEPARTAMENTO DE LA LIBERTAD CODIGO 254585",2234715,"LP","CONTRATADO","LP N° 002-2018-GRLL-GRCO",2416172.62,"2018-08-22","GRUPO G Y G CONTRATISTAS GENERALES SRLTD  - RUC: 20354444594","150 dc.","2019-02-03","_","_","2018-09-06"]
[null,"EJECUCIÓN DE LA OBRA: “MEJORAMIENTO DEL SERVICIO DE EDUCACIÓN INICIAL Y PRIMARIA EN LA I.E. N 80905/A1-UEPM DEL CASERIO CHINAC, DISTRITO DE CHUGAY - SANCHEZ CARRION - LA LIBERTAD”",2235289,"LP","CONTRATADO","LP N° 005-2018-GRLL-GRCO",2359931.63,"2018-07-23","NUEVA ERA CONTRATISTAS GENERALES E.I.R.L  - RUC: 20501557227 ","120 dc.","2018-12-19","OBRA SUSPENDIDA","_","2018-08-07",null,"OBRA REINICIO EL 18/09/2019 "]
[null,"CONTRATACION DE LA EJECUCION DE LA OBRA: CREACION DE LA DEFENSA RIBEREÑA Y ENCAUSAMIENTO DEL RIO VIJUS, DISTRITO DE PATAZ, PATAZ, LA LIBERTAD",2329198,"LP","CONTRATADO","LP N° 006-2018-GRLL-GRCO",2379733.73,"2018-09-18","CONSORCIO NORTE : ALTAVISTA INVERSIONES GLOBALES SOCIEDAD ANONIMA CERRADA - AIG S.A.C. - SERVICIOS VC PERU SOCIEDAD ANONIMA CERRADA -SERVICIOS VC PERU S.A.C.\n - CONSTRUCCIONES R & Z S.A.C  - RUC: 20523386469 - 20553108404 - 20537254816 \n","120 dc.","2019-02-28","SUSPENSION DE PLAZO","2019-05-15","2018-10-03"]
[null,"EJECUCION DE LA OBRA: MEJORAMIENTO DEL SERVICIO DE TRANSITABILIDAD VEHICULAR Y PEATONAL EN LA URBANIZACION SANTA EDELMIRA, DISTRITO DE VICTOR LARCO HERRERA - TRUJILLO - LA LIBERTAD",2309280,"LP","CONTRATADO","LP N° 007-2018-GRLL-GRCO",4662622.17,"2018-10-26","CONSORCIO INGENIERÍA : CIVILMEC CONTRATISTAS GENERALES S.A.C. - GRUPO G Y G CONTRATISTAS GENERALES SRLTD - RUC:  20600435761 - 20354444594","180 dc.","2019-04-28","_","_","2018-10-30"]
[null,"EJECUCION DE LA OBRA MEJORAMIENTO DEL SERVICIO DE TRANSITABILIDAD VEHICULAR Y PEATONAL DEL SECTOR BUENOS AIRES SUR, DISTRITO DE VICTOR LARCO HERRERA TRUJILLO LA LIBERTAD CODIGO SNIP 353082",2315802,"LP","CONTRATADO","LP N° 008-2018-GRLL-GRCO",2009541.22,"2018-10-29","CONSORCIO LIMA NORTE :  KATERIN CONSTRUCCIONES S.R.L. - CONSTRUCTORA BLAS S.A.C. - FM CONTRATISTAS GENERALES S.R.L - RUC: 20601310733 - 20338936398 - 20261295246 \n","90 dc.","2019-01-29","_","_","2018-10-31"]
[null,"ELABORACION DEL EXPEDIENTE TECNICO Y EJECUCION DE LA OBRA: RECUPERACION ADECUADAS CONDICIONES DE TRANSITABILIDAD VEHICULAR Y PEATONAL EN LA AV. FEDERICO VILLAREAL, TRAMO AV. MIRAFLORES PROLONGACION SANTA, CENTRO POBLADO TRUJILLO, DE DISTRITO DE TRUJILLO - PROVINCIA TRUJILLO - REGION LA LIBERTAD.",2400297,"PEC","CONTRATADO","PEC N° 001-2018-GRLL-GRCO",1153530.22,"2018-11-30","CONSORCIO VILLARREAL : CONSTRUCTORA & PROMOTORA DE VIVIENDA SOCIAL EL VALLE S.A.C. - FENIX CONTRATISTAS GENERALES S.A.C. - CONSTRUCTORA GEB S.A.C.- GAMBINI AGUILAR SHERLIE GIOVANA  - VARGAS VIGO PAUL YERKO - JIMENEZ CARRASCO JUAN ANTONIO - RUC: 20481094039 - 20481014612 - 20601747309 - 10440019876 - 10181107940 - 10166567535 ","60 dc.","2019-10-17","_","_","2019-08-19"]
[null,"ELABORACION DE EXPEDIENTE TECNICO Y EJECUCION DE OBRA: MEJORAMIENTO DE LA AV. CESAR VALLEJO, TRAMO AV. JOSE MARIA EGUREN  AV. FEDERICO VILLARREAL, CENTRO POBLADO DE TRUJILLO, DISTRITO DE TRUJILLO, PROVINCIA DE TRUJILLO, REGION LA LIBERTAD",2402818,"PEC","CONTRATADO","PEC N° 002-2018-GRLL-GRCO",3565763.74,"25/02/2019","CONSORCIO AMERICA : CONSTRUCTORA PARAMAX S.A.C. - QUINTANA GUEVARA ELMER OSCAR - AMAYO LOBATO RAUL MILTHON - IMPORTACIONES Y SERVICIOS E.I.R.L. - PATRON SAN MIGUEL SERVICIOS GENERALES S.R.L. - HSJ TRANSVIA S.A.C. - RUC: 20477458883 -10266989259 - 10267064780 -\n20397595782 - .\n20491560909\n \n"]
[null,"ELABORACION DE EXPEDIENTE TECNICO Y EJECUCION DE OBRA: MEJORAMIENTO DEL SERVICIO DE TRANSITABILIDAD DE LA AV. PROLONGACION CESAR VALLEJO, TRAMO AV. FATIMA  AV HUAMAN, DISTRITO VICTOR LARCO HERRERA, PROVINCIA TRUJILLO, REGION LA LIBERTAD",2400100,"PEC","CONTRATADO","PEC N° 003-2018-GRLL-GRCO-2DA CONVOCTORIA",2483637.62,"2019-03-18","CONSORCIO LUAL : LUAL CONSTRUCCIONES S.A.C. - LUALCO S.A.C. - LLANOS CALUA LUIS EDILBERTO - LLIQUE MONDRAGON GUSTAVO ADOLFO - RUC: 20529688017 - .\n10266854892 - \n10266095029 \n","60 dc.","2019-10-17","_","_","2019-08-15"]
[null,"ELABORACION DE EXPEDIENTE TECNICO Y EJECUCION DE OBRA: RECUPERACION DE LA AV. MIRAFLORES TRAMO AV. 26 DE MARZO Y AV. ESPAÑA, DISTRITO DE TRUJILLO, PROVINCIA DE TRUJILLO, REGION LA LIBERTAD",2403584,"PEC","CONTRATADO","PEC N° 004-2018-GRLL-GRCO",5101743.33,"2019-02-08","CONSORCIO CORAL: OB INGENIEROS CONTRATISTAS S.R.L.- CONSTRUCTORA DE INGENIERIA PERU S.A.C. - AVC INFRAESTRUCTURAS E.I.R.L. - CORPORACION CORAL CONTRATISTAS GENERALES S.A.C. - LOZANO CORTEZ JOE JAIR  - RUC: 20445575411 - 20531659075 - 20482676538 - 20559654397 \n10409447908\n"]
[null,"CONTRATACION DE LA EJECUCIÓN DE LA OBRA: CREACION DEL SERVICIO DE EDUCACION INICIAL ESCOLARIZADA EN LA I.E. 2213 DEL SECTOR LA VIÑA, EN EL CENTRO POBLADO PACANGUILLA, DISTRITO DE PACANGA, PROVINCIA DE CHEPEN, LA LIBERTAD",2334604,"AS","CONTRATADO","AS N° 001-2019-GRLL-GRCO",1269689.55,"2019-06-05","INGENIEROS CONTRATISTAS DE PAVIMENTOS SAC - RUC: 20481605491","75 dc.","2019-09-03",null,null,"2019-06-20"]
[null,"EJECUCION DE LA OBRA. MEJORAMIENTO DEL SERVICIO EDUCATIVO EN LA I.E. N 80072 DEL CENTRO POBLADO TOMABAL DEL DISTRITO Y PROVINCIA DE VIRU - REGION LA LIBERTAD",2193941,"LP","CONTRATADO","LP N° 001-2019-GRLL-GRCO",2651508.34,"2019-06-28","CONSORCIO OBRAS : OBRAS CIVILES SAC EJECUCION Y CONSULTORIA - BETO CONTRATISTAS GENERALES SOCIEDAD ANONIMA CERRADA - RUC: 20481700729 - 20482021442 ","135 dc.","2019-11-24","_","_","12/07/219"]
[null,"EJECUCION DE LA OBRA: CREACION DEL SERVICIO DE EDUCACION INICIAL ESCOLARIZADA EN LA I.E. 2255 EN EL BARRIO 6B DEL SECTOR ALTO PORVENIR, DISTRITO EL PORVENIR, PROVINCIA DE TRUJILLO, REGION LA LIBERTAD",2291830,"LP","CONTRATADO","LP N° 002-2019-GRLL-GRCO",2580269.4900000002,"2019-07-04","CONSORCIO PORVENIR :\nE & R CONSTRUCTORES E.I.R.L - SANTO TORIBIO CONSTRUCTORES Y CONSULTORES S.A.C. - INVERSIONES RUIZ REYES S.A.C. - RUC:20477378693 - \n20560076798 - .\n20600357710 .\n","150 dc.","2019-12-12","_","_","2019-07-15"]
[null,"CONTRATACION DE LA EJECUCIÓN DE LA OBRA: CREACION DE DEFENSA RIBEREÑA EN LOS PUNTOS CRITICOS PARA EL RIO CHICAMA TRAMO PUENTE MORENO, BAÑOS CHIMU, HUANCAY, DISTRITO DE CASCAS,LUCMA Y COMPIN, PROVINCIA DE GRAN CHIMU, LA LIBERTAD, SALDO DE OBRA",2148165,"LP","CONTRATADO","LP N° 003-2019-GRLL-GRCO",5225920.78,"2019-06-26","CONSORCIO GC : LCL CONTRATISTAS S.A.C.\n - INMOBILIARIA Y CONSTRUCTORA SAN FERNANDO SAC - RUC: 20544771478 - 20481966672 ","180 dc.","2020-02-15","_","_","2019-08-19"]
[null,"TOTAL",null,null,null,null,{"$f":"SUM(G19:G36)","v":47677681.880000003}]
[null,"(*) Una linea por cada año fiscal, consignado en monto presupuestado por cada año presupuestal"]
[]
[]
[]
[null,"NOTA: LA INFORMACION REGISTRADA SIRVE COMO EJEMPLO"]
[]
[]
[]
[null,"NOTA: NO MODIFICACR LA ESTRUCTURA DEL FORMATO"]

{"sheet":"F.14","index":16,"n_rows":986,"n_cols":11,"rows_kept":986,"cut":false,"hidden":false,"merged":[[1,1,1,10],[2,1,2,10],[3,1,3,10],[26,1,29,1],[26,2,29,2],[26,3,29,3],[26,4,29,4],[26,7,29,7],[98,1,105,1],[98,2,105,2],[98,5,105,5],[106,1,110,1],[702,1,703,1],[140,1,141,1],[140,2,141,2],[140,5,141,5],[106,2,110,2],[106,5,110,5],[118,1,123,1],[118,2,123,2],[118,5,123,5],[124,1,131,1],[124,2,131,2],[124,5,131,5],[132,1,139,1],[132,2,139,2],[132,5,139,5],[354,9,356,9],[358,1,361,1],[358,2,361,2],[358,3,361,3],[358,4,361,4],[358,9,361,9],[367,1,368,1],[367,2,368,2],[367,3,368,3],[367,4,368,4],[369,1,371,1],[369,2,371,2],[369,3,371,3],[369,4,371,4],[375,1,376,1],[375,2,376,2],[375,3,376,3],[375,4,376,4],[697,1,698,1],[697,2,698,2],[697,3,698,3],[697,4,698,4],[702,2,703,2],[702,3,703,3],[702,4,703,4],[711,1,712,1],[711,2,712,2],[711,4,712,4],[747,1,755,1],[747,2,755,2],[747,3,755,3],[747,4,755,4],[747,5,755,5],[756,1,757,1],[756,2,757,2],[756,3,757,3],[756,4,757,4],[756,5,757,5],[758,1,760,1],[758,2,760,2],[758,3,760,3],[758,4,760,4],[758,5,760,5],[761,1,766,1],[761,2,766,2],[761,3,766,3],[761,4,766,4],[761,5,766,5]]}
[]
[null,"FORMATO 14"]
[null,"PRINCIPALES ADQUISICIONES DE BIENES Y SERVICIOS AÑO 2018, 2019 Y PROYECTO PARA EL 2020"]
[null,"PROYECTO DE PRESUPUESTO - 2020"]
[null,"SECTOR : 99 GOBIERNOS REGIONALES"]
[null,"PLIEGO  : 451 GOBIERNO REGIONAL LA LIBERTAD"]
[null,"FUENTE DE FINANCIAMIENTO",": Recursos Públicos / Recursos Ordinarios / Recursos Directamente Recaudados / Donaciones  y"]
[null,null,"  Transferencias / Operaciones Oficiales de Crédito/ Recursos Determinados"]
[]
[null,"ADQUISICIONES/CONTRATACIONES/OBRAS",null,null,null,null,null,"NUEVOS SOLES","FECHA PROG. CONV."]
[null,"ADQUISICIÓN","TIPO DE PROCESO DE SELECCIÓN","MODALIDAD","NUMERO DEL PROCESO","MONTO","CONTRATISTA (RUC y Denominacion)","ESTADO DEL PROCESO","FECHA DE SUSCRIPCION DEL CONTRATO","FECHA DE ENTREGA","OBSERVACIONES"]
[null,"UE SEDE LA LIBERTAD (0831)"]
[null,2018,null,null,null,{"$f":"SUM(F14:F33)","v":3671799}]
[null,"1 SERVICIO DE CONSULTORIA DE UN ABOGADO PARA LLEVAR LOS PROCESOS CONSTITUCIONALES PARA LA PROCURADURIA PUBLICA REGIONAL DEL GOBIERNO REGIONAL LA LIBERTAD.","ADJUDICACIÓN SIMPLIFICADA","SIN MODALIDAD",1,60000,"10178641234 - SUAREZ PASCO NESTOR WALTER","CONCLUIDO","2018-04-13"]
[null,"2 CONTRATACIÓN PARA EL SERVICIO DE MANTENIMIENTO CORRECTIVO DE LOS ELEMENTOS ESTRUCTURALES Y NO ESTRUCTURALES DE LAS AREAS ADMINISTRATIVAS DEL IREN NORTE TRUJILLO- REGION LA LIBERTAD","ADJUDICACIÓN SIMPLIFICADA","SIN MODALIDAD",2,175600,"20540013391 - NEGOCIOS E INVERSIONES LYSEN S.A.C.","CONCLUIDO","2018-05-03"]
[null,"3 SERVICIO DE FOTOCOPIADO ON SITE PARA LA SEDE CENTRAL DEL GOBIERNO REGIONAL LA LIBERTAD","ADJUDICACIÓN SIMPLIFICADA","SIN MODALIDAD",3,586200,"20482495401 - COPY & PRINT CENTER S.A.C.","CONCLUIDO","2018-06-06"]
[null,"4 ADQUISICION DE ALIMENTO BALANCEADO PARA TRUCHAS PRESENTACION EXTRUIDO","ADJUDICACIÓN SIMPLIFICADA","SIN MODALIDAD",4,86160,"20407565828 - CENTRAL AGROPECUARIA S.R.L.","CONCLUIDO","2018-06-06"]
[null,"5 ADQUISICION DE FILTROS Y LUBRICANTES PARA LA FLOTA VEHICULAR DEL GOBIERNO REGIONAL LA LIBERTAD","ADJUDICACIÓN SIMPLIFICADA","SIN MODALIDAD",5,69888,"20601442231 - INKAMOTRIZ E.I.R.L.","CONCLUIDA","2018-08-15"]
[null,"6  ADQUISICION DE NEUMATICOS PARA LOS VEHICULOS DE LA SEDE CENTRAL DEL GOBIERNO REGIONAL LA LIBERTAD","ADJUDICACIÓN SIMPLIFICADA","SIN MODALIDAD",6,88800,"20565303806 - INNOVACIONES & SOLUCIONES INTEGRALES E.I.R.L.","CONCLUIDA","2018-09-21"]
[null,"7 SERVICIO DE POLIZA DE SEGURO CONTRA TODO RIESGO PARA LOS VEHICULOS DEL GOBIERNO REGIONAL LA LIBERTAD","ADJUDICACIÓN SIMPLIFICADA","SIN MODALIDAD",7,93132.4,"RIMAC SEGUROS Y REASEGUROS","CONCLUIDA","2018-10-29"]
[null,"8 ADQUISICION DE ALIMENTOS PERECIBLES Y NO PERECIBLES PARA LA ALDEA INFANTIL","ADJUDICACIÓN SIMPLIFICADA","SIN MODALIDAD",8,203849.3,"CONSORCIO - CONSORCIO DE ALIMENTOS NF (20481368341 - DISTRIBUIDORA FINA SRL - 20477171321 - NEGOCIOS NEGI S.A.C.)","VIGENTE","2018-11-07"]
[null,"9 ADQUISICION DE CALZADO VERANO/ INVIERNO PARA UNIFORME INSTITUCIONAL","ADJUDICACIÓN SIMPLIFICADA","SIN MODALIDAD",9,90145,"LUCKY GLOBAL  FASHION  S.A.C","CONCLUIDA","2018-11-22"]
[null,"10 MENSAJERIA PARA LA GERENCIA REGIONAL DE TRABAJO Y PROMOCION DEL EMPLEO, OFICINA DE EJECUCION COACTIVA Y SECRETARIA GENERAL \u0096 ","ADJUDICACIÓN SIMPLIFICADA","SIN MODALIDAD",10,255849.5,"AVAL S.A.C","VIGENTE","2018-12-26"]
[null,"11 ADQUISICIÓN DE MATERIAL DE LIMPIEZA PARA USO DE DIFERENTES OFICINAS DE LA SEDE CENTRAL DEL GOBIERNO REGIONAL LA LIBERTAD Y PARA LA ALDEA INFANTIL SANTA ROSA","ADJUDICACIÓN SIMPLIFICADA","SIN MODALIDAD",11,65962.2,"PROLIMFE & CIA SOCIEDAD ANONIMA CERRADA","VIGENTE","2018-12-17"]
[null,"13 ADQUISICION DE COMBUSTIBLE DIESEL B5 S50 PARA LAS UNIDADES VEHICULARES DE LA SEDE CENTRAL DEL GOBIERNO REGIONAL LA LIBERTAD","SUBASTA INVERSA ELECTRONICA","SIN MODALIDAD",1,366296,"20481744424 - EMPRESA SANTO TORIBIO SAC","CONCLUIDO","2018-03-06"]
[null,"14 ADQUISICION DE BOLSAS DE ALIMENTOS PARA TRABAJADOR D.L 276 - PRIMERA Y SEGUNDA ENTREGA","LICITACION PUBLICA","SIN MODALIDAD",1,537638.6,"CONSORCIO - CONSORCIO DE ALIMENTOS NF (20481368341 - DISTRIBUIDORA FINA SRL - 20477171321 - NEGOCIOS NEGI S.A.C.)","CONCLUIDO","2018-07-11"]
[null,"15 ADQUISICIÓN DE UNIFORME INSTITUCIONAL DE VERANO E INVIERNO PARA LOS SERVIDORES DEL DECRETO LEGISLATIVO 276 - GRLL","LICITACION PUBLICA","SIN MODALIDAD",2,158588,"10427318341 - QUESQUEN ABANTO WALTER ANTONIO","CONCLUIDO","2018-10-01"]
[null,null,null,null,null,174652,"10427318341 - QUESQUEN ABANTO WALTER ANTONIO",null,"2018-10-01"]
[null,null,null,null,null,45378,"20347408108 - COMPAÑIA DE SERVICIOS GENERALES A.G.P. S.A.C.",null,"2018-10-01"]
[null,null,null,null,null,60660,"10427318341 - QUESQUEN ABANTO WALTER ANTONIO",null,"2018-10-01"]
[null,"16 ADQUISICION DE BOLSA DE ALIMENTOS PARA SERVIDORES DL 276 - TERCERA ENTREGA","LICITACION PUBLICA","SIN MODALIDAD",3,419000,"CONSORCIO - CONSORCIO DE ALIMENTOS NF (20481368341 - DISTRIBUIDORA FINA SRL - 20477171321 - NEGOCIOS NEGI S.A.C.)",null,"2018-12-17"]
[null,"17 SERVICIO DE ARRENDAMIENTO DE INMUEBLE PARA LA GERENCIA REGIONAL DE DESARROLLO E INCLUSION SOCIAL DEL GOBIERNO REGIONAL LA LIBERTAD","CONTRATACION DIRECTA","SIN MODALIDAD",1,54000,"10427918811 - BALTODANO TAPIA CARLOS MANUEL","CONCLUIDO","2018-03-01"]
[null,"18 ARRENDAMIENTO DE INMUEBLE PARA EL CENTRO DE EMPLEO DE LA GERENCIA REGIONAL DE TRABAJO Y PROMOCION DEL EMPLEO","CONTRATACION DIRECTA","SIN MODALIDAD",2,80000,"10181341853 - CASTANEDA RAMIREZ GINO ENRIQUE","VIGENTE","2018-05-29"]
[]
[null,2019,null,null,null,{"$f":"SUM(F36:F55)","v":2088586.03}]
[null,"1 ADQUISICION DE COMBUSTIBLE DIESEL B5 S50 PARA LAS UNIDADES VEHICULARES DE LA SEDE DEL GOBIERNO REGIONAL LA LIBERTAD","SUBASTA INVERSA ELECTRONICA","SIN MODALIDAD",1,448000,"SERVICENTRO RAMIREZ S.A.C. ","VIGENTE","2019-05-21"]
[null,"2 ADQUSICION DE ALIMENTO BALANCEADO PARA TRUCHAS (PRSENTACION EXTRUIDO) ","ADJUDICACION SIMPLIFICADA","SIN MODALIDAD",1,95204,"CENTRAL AGROPECUARIA S.R.L.","VIGENTE","2019-04-21"]
[null,"3 SERVICIO DE INTERNET PARA PERIODO 2019 2020 PARA EL GOBIERNO REGIONAL LA LIBERTAD","ADJUDICACION SIMPLIFICADA","SIN MODALIDAD",2,264792.03000000003,"AMERICA MOVIL PERU S.A.C.","VIGENTE","2019-04-09"]
[null,"4 CONTRATACIÓN DEL SERVICIO DE FOTOCOPIADO","ADJUDICACION SIMPLIFICADA","SIN MODALIDAD",3,86370,"COPY MARKET EXPRESS S.A.C.","VIGENTE","2019-05-17"]
[null,"5 CONTRATACION DE UN PROFESIONAL CON CONOCIMIENTOS EN GESTION PUBLICA PARA EL SERVICIO DE COORDINACION, MONITOREO, SUPERVISION DEL II CONVENIO DE ASIGNACION POR DESEMPEÑO (CAD) Y EL FONDO DE ESTIMULO AL DESEMPEÑO Y LOGRO DE RESULTADOS (FED)","ADJUDICACION SIMPLIFICADA","SIN MODALIDAD",4,60000,"FIESTAS CHUNGA EDWIN ROY","VIGENTE","2019-06-04"]
[null,"6 SERVICIO DE ALQUILER DE LOCAL PARA LA SUB GERENCIA DE PROMOCION DEL EMPLEO Y CAPACITACION LABORAL DE LA GERENCIA DE TRABAJO Y PROMOCION DEL EMPLEO DE LA GRLL","ADJUDICACION SIMPLIFICADA","SIN MODALIDAD",5,null,null,null,null,null,"DESIERTO"]
[null,"7 SERVICIO DE SEGURIDAD Y VIGILANCIA PARA EL CENTRO DE EMERGENCIA DE OPERACIONES REGIONAL","ADJUDICACION SIMPLIFICADA","SIN MODALIDAD",6,144000,null,null,null,null,"EN FIRMA DE CONTRATO"]
[null,"8 SERVICIO DE SEGURIDAD Y VIGILANCIA PARA LA GERENCIA REGIONAL DE TRABAJO","ADJUDICACION SIMPLIFICADA","SIN MODALIDAD"]
[null,"9 CONTRATACION DE SEGURO CONTRA TODO RIESGO","ADJUDICACION SIMPLIFICADA","SIN MODALIDAD"]
[null,"10 ADQUISICION DE FILTROS","ADJUDICACION SIMPLIFICADA","SIN MODALIDAD"]
[null,"11 ADQUISICION DE MATERIAL DE LIMPIEZA","ADJUDICACION SIMPLIFICADA","SIN MODALIDAD"]
[null,"12 MENSAJERIA PARA LA GERENCIA REGIONAL DE TRABAJO Y PROMOCION DEL EMPLEO, OFICINA DE EJECUCION COACTIVA Y SECRETARIA GENERAL \u0096 ","ADJUDICACION SIMPLIFICADA","SIN MODALIDAD"]
[null,"13 ADQUISICIÓN DE MAQUINA DE ANESTESIA CON MONITOREO AVANZADO","ADJUDICACION SIMPLIFICADA","LLAVE EN MANO"]
[null,"14 ADQUISICION DE MONITORES FETALES Y DE FUNCIONES VITALES /","ADJUDICACION SIMPLIFICADA","LLAVE EN MANO"]
[null,"15 ADQUISICIÓN DE AMBULANCIA","ADJUDICACION SIMPLIFICADA","LLAVE EN MANO"]
[null,"16 ADQUISICION DE VENTILADOR MECANICO ADULTO - PEDIATRICO","ADJUDICACION SIMPLIFICADA","LLAVE EN MANO"]
[null,"17ADQUISICION DE CUNA DE CALOR RADIANTE","ADJUDICACION SIMPLIFICADA","LLAVE EN MANO"]
[null,"18 ADQUISICION DE ANALIZADOR BIOQUIMICO","ADJUDICACION SIMPLIFICADA","LLAVE EN MANO"]
[null,"19 ADQUISICIÓN DE BOLSA DE ALIMENTOS PARA TRABAJADORES PARA SERVIDORES DEL DECRETO LEGISLATIVO 276","LP","SIN MODALIDAD",1,990220,"CONSORCIO - CONSORCIO DE ALIMENTOS NF (20481368341 - DISTRIBUIDORA FINA SRL - 20477171321 - NEGOCIOS NEGI S.A.C.)","2019-09-02"]
[null,"20 ADQUISICIÓN DE UNIFORMES INSTITUCIONALES","LP","SIN MODALIDAD",2,null,null,null,null,null,"EVALUACION DE PROPUESTAS"]
[]
[null,2020]
[null,"1 ADQUISICION DE COMBUSTIBLE DIESEL B5 S50 PARA LAS UNIDADES VEHICULARES DE LA SEDE DEL GOBIERNO REGIONAL LA LIBERTAD","SUBASTA INVERSA ELECTRONICA","SIN MODALIDAD"]
[null,"2 ADQUSICION DE ALIMENTO BALANCEADO PARA TRUCHAS (PRSENTACION EXTRUIDO) ","ADJUDICACION SIMPLIFICADA","SIN MODALIDAD"]
[null,"3 SERVICIO DE INTERNET PARA PERIODO 2019 2020 PARA EL GOBIERNO REGIONAL LA LIBERTAD","ADJUDICACION SIMPLIFICADA","SIN MODALIDAD"]
[null,"4 CONTRATACIÓN DEL SERVICIO DE FOTOCOPIADO","ADJUDICACION SIMPLIFICADA","SIN MODALIDAD"]
[null,"5 CONTRATACION DE UN PROFESIONAL CON CONOCIMIENTOS EN GESTION PUBLICA PARA EL SERVICIO DE COORDINACION, MONITOREO, SUPERVISION DEL II CONVENIO DE ASIGNACION POR DESEMPEÑO (CAD) Y EL FONDO DE ESTIMULO AL DESEMPEÑO Y LOGRO DE RESULTADOS (FED)","ADJUDICACION SIMPLIFICADA","SIN MODALIDAD"]
[null,"6 SERVICIO DE ALQUILER DE LOCAL PARA LA SUB GERENCIA DE PROMOCION DEL EMPLEO Y CAPACITACION LABORAL DE LA GERENCIA DE TRABAJO Y PROMOCION DEL EMPLEO DE LA GRLL","ADJUDICACION SIMPLIFICADA","SIN MODALIDAD"]
[null,"7 SERVICIO DE SEGURIDAD Y VIGILANCIA PARA EL CENTRO DE EMERGENCIA DE OPERACIONES REGIONAL","ADJUDICACION SIMPLIFICADA","SIN MODALIDAD"]
[null,"8 SERVICIO DE SEGURIDAD Y VIGILANCIA PARA LA GERENCIA REGIONAL DE TRABAJO","ADJUDICACION SIMPLIFICADA","SIN MODALIDAD"]
[null,"9 CONTRATACION DE SEGURO CONTRA TODO RIESGO","ADJUDICACION SIMPLIFICADA","SIN MODALIDAD"]
[null,"10 ADQUISICION DE FILTROS","ADJUDICACION SIMPLIFICADA","SIN MODALIDAD"]
[null,"11 ADQUISICION DE MATERIAL DE LIMPIEZA","ADJUDICACION SIMPLIFICADA","SIN MODALIDAD"]
[null,"12 MENSAJERIA PARA LA GERENCIA REGIONAL DE TRABAJO Y PROMOCION DEL EMPLEO, OFICINA DE EJECUCION COACTIVA Y SECRETARIA GENERAL \u0096 ","ADJUDICACION SIMPLIFICADA","SIN MODALIDAD"]
[null,"13 ADQUISICIÓN DE BOLSA DE ALIMENTOS PARA TRABAJADORES PARA SERVIDORES DEL DECRETO LEGISLATIVO 276","LP","SIN MODALIDAD",1]
[null,"14 ADQUISICIÓN DE UNIFORMES INSTITUCIONALES","LP","SIN MODALIDAD",2]
[]
[null,"TOTAL",null,null,null,{"$f":"F57+F35+F13","v":5760385.0300000003}]
[null,"GERENCIA REGIONAL DE AGRCIULTURA  (832)"]
[null,2018,null,null,null,{"$f":"SUM(F76:F80)","v":708796}]
[null,"1. ADQUISICIÓN DE VALES CONSUMO PARA LA ALIMENTACIÓN CON LECHE EVAPORADA DEL PERSONAL ACTIVO","AS","PROCESO CLASICO",2,142500,"20481750823 - COMERCIAL TODO BARATO S.A.C","CULMINADO","2018-05-09"]
[null,"2. ADQUISICIÓN DE UNIFORMES INSTITUCIONALES PARA EL PERSONAL ACTIVO","AS","PROCESO CLASICO",3,128680,"20482473181 - TERNOS CRISTHIAN & ASOCIADOS S.A.C.","CULMINADO","2018-05-30"]
[null,"3. ADQUISICION DE VALES DE CONSUMO PARA LA BOLSA DE ALIMENTOS DEL PERSONAL ACTIVO","AS","PROCESO ELECTRONICO",1,137616,"20481750823 - COMERCIAL TODO BARATO SAC","CULMINADO","2018-07-06"]
[null,"4. ELABORACIÓN DEL EXPEDIENTE TÉCNICO PARA LA EJECUCIÓN DE LA OBRA: \"AMPLIACIÓN DEL SISTEMA DE RIEGO DEL SECTOR PARASIVE DEL DISTRITO DE HUASO - PROVINCIA DE JULCAN - DEPARTAMENTO LA LIBERTAD","AS","PROCESO ELECTRONICO",4,110000,"20560076798 - SANTO TORIBIO CONSTRUCTORES Y CONSULTORES S.A.C.","EJECUCION CONTRACTUAL","2018-12-12","SETIEMBRE"]
[null,"5. ELABORACIÓN DEL EXPEDIENTE TÉCNICO PARA LA EJECUCIÓN DE LA OBRA: AMPLIACIÓN DEL SISTEMA DE RIEGO QUE PASA POR 06 LOCALIDADES DEL DISTRITO DE CURGOS - PROVINCIA DE SÁNCHEZ CARRIÓN - DEPARTAMENTO DE LA LIBERTAD","AS","PROCESO ELECTRONICO",5,190000,"20560076798 - SANTO TORIBIO CONSTRUCTORES Y CONSULTORES S.A.C.","EJECUCION CONTRACTUAL","2018-12-21","SETIEMBRE"]
[null,2019,null,null,null,{"$f":"SUM(F82:F87)","v":3718582.71}]
[null,"1. ADQUISICIÓN DE UNIFORMES INSTITUCIONALES PARA EL PERSONAL NOMBRADO DE LA GERENCIA REGIONAL DE AGRICULTURA","AS","PROCESO ELECTRONICO",1,127005,"20482473181 - TERNOS CRISTHIAN & ASOCIADOS S.A.C.","CONCLUIDO","2019-04-04"]
[null,"2. ADQUISICIÓN DE PRODUCTO LÁCTEO PARA EL PERSONAL DE LA GERENCIA REGIONAL DE AGRICULTURA LA LIBERTAD","AS","PROCESO ELECTRONICO",2,117118.3,"CONSORCIO DE ALIMENTOS NyF","CONCLUIDO","2019-04-29"]
[null,"3. SUMINISTRO DE COMBUSTIBLE DIESEL B5 S-50 PARA LA GERENCIA REGIONAL DE AGRICULTURA","SIE","PROCESO ELECTRONICO",1,20630.849999999999,"20481744424 - EMPRESA SANTO TORIBIO SAC","EJECUCION CONTRACTUAL","2019-07-26","DIARIA"]
[null,"4. ADQUISICION DE SUMINISTRO COMBUSTIBLE DIESEL B5 S-50","SIE","PROCESO ELECTRONICO",2,123000,"10196869323 - BERMUDEZ CARRION MILTON WILMER","CONSENTIMIENTO DE BUENA PRO"]
[null,"5. ADQUISICIÓN DE GEOMEMBRANA DE POLIETILENO DE ALTA DENSIDAD GM 13 (HDPE) LISA 1.50 MM (NORMA MINERA) ","LP","PROCESO ELECTRONICO",1,3189459.84,null,"FORMULAC. DE CONSULTAS Y OBSERV."]
[null,"6. ADQUISICION DE BOLSA DE ALIMENTOS ","AS","PROCESO ELECTRONICO",3,141368.72,null,"PRESENTACION DE OFERTAS"]
[null,2020]
[null,"1. SUMINISTRO DE COMBUSTIBLE DIESEL B5 S-50 PARA LA GERENCIA REGIONAL DE AGRICULTURA","SIE","PROCESO ELECTRONICO",1,26188.5,"20481744424 - EMPRESA SANTO TORIBIO SAC","EJECUCION CONTRACTUAL","2019-07-26","DIARIA"]
[]
[null,"TOTAL",null,null,null,{"$f":"+F75+F81+F88","v":4427378.71}]
[null,"UE 200 TRANSPORTES LA LIBERTAD (0833)"]
[null,2018,null,null,null,{"$f":"SUM(F94:F111)","v":914325.09}]
[null,"1 ADQUISICION DE COMBUSTIBLE DIESEL B5 S50 ","SIE","PROCESO CLASICO",1,37488,"20481744424 - EMPRESA SANTO TORIBIO SAC","CULMINADO","2018-03-21","2019-05-23"]
[null,"2 ADQUISICION DE INSUMOS PARA EMISION DE LICENCIAS DE CONDUCIR","AS","PROCESO CLASICO",1,343868.64,"20417494406 - SALMON CORP SAC","CULMINADO","2018-06-06","2018-06-22"]
[null,"3 SERVICIO DE ELABORACIÓN DEL EXPEDIENTE TÉCNICO DEL PARQUE TEMÁTICO DE SEGURIDAD VIAL DE LA REGIÓN LA LIBERTAD/","AS","PROCESO CLASICO",2,177000,"-","-",null,null,"Hubo cambios en terminos de referencia por parte del MTC, area usuaria tuvo ambigüedad de realizar como Servicio u Obra."]
[null,"4 SERVICIO DE CONSULTORÍA PARA DETERMINAR EL ESTADO SITUACIONAL DEL SERVICIO DE TELECOMUNICACIONES EN TODA LA REGIÓN LA LIBERTAD","AS","PROCESO CLASICO",3,140000,"-","CANCELADO",null,null,"MTC realizó la consultoria a nivel nacional. Area usuaria desistió de lo requerido."]
[null,"5 ADQUISICION DE UNIFORME INSTITUCIONAL 2018","AS","PROCESO CLASICO",4,129240,"10427318341 - QUESQUEN ABANTO WALTER ANTONIO","CULMINADO","2018-12-27","2019-01-31"]
[null,"6 TONERES COLOR NEGRO PARA IMPRESORA LASER Y MULTIFUNCIONAL LASER ,Y CINTA PARA IMPRESORA MATRICIAL","ACUERDO MARCO",null,null,{"$f":"24192.61+393.18+2603.66","v":27189.45},"20481066094 - HARDTECH SOLUTIONS SAC","CULMINADO","2018-04-03","2018-04-04"]
[null,null,null,null,null,null,"10181638376 - SEGURA ANGELES MARCO ANTONIO","CULMINADO","2018-04-03","2018-04-04"]
[null,null,null,null,null,null,"20600203682 - INVERSIONES MADASA SAC","CULMINADO","2018-04-03","2018-04-04"]
[null,null,null,null,null,null,"20481818991 -LOGISYSTEM CORPORATION SAC","CULMINADO","2018-04-03","2018-04-04"]
[null,null,null,null,null,null,"20603010397 - WS IMPORTS S.A.C.","CULMINADO","2018-10-17","2018-10-19"]
[null,null,null,null,null,null,"20601693136 - WS GROUP S.A.C.","CULMINADO","2018-12-03","2018-12-04"]
[null,null,null,null,null,null,"20603010397 - WS IMPORTS S.A.C.","CULMINADO","2018-12-03","2018-12-05"]
[null,null,null,null,null,null,"20520778340 - SISCOP DATA S.A.C. ","CULMINADO","2018-12-03","2018-12-06"]
[null,"ADQUISICION DE EQUIPOS DE COMPUTO POR ACUERDO MARCO","ACUERDO MARCO",null,null,{"$f":"7282.2+7247.47+40205.53+2774.53+2029.27","v":59538.999999999993},"20440384049 - COMPU CENTER BUSSINES S.A.C.","CULMINADO","2018-08-22","2018-08-24"]
[null,null,null,null,null,null,"20600802021 - INVERSIONES & SERVICIOS GENERALES JGC E.I.R.L. ","CULMINADO","2018-08-22","2018-08-23"]
[null,null,null,null,null,null,"20438509039 - COMPURED S.A.C","CULMINADO","2018-10-26","2018-10-27"]
[null,null,null,null,null,null,"20486468913 - PERU DATA CONSULT E.I.R.L.","CULMINADO","2018-11-09","2018-11-19"]
[null,null,null,null,null,null,"10181638376 - SEGURA ANGELES MARCO ANTONIO","CULMINADO","2018-11-19","2018-11-20"]
[]
[null,2019,null,null,null,{"$f":"SUM(F114:F142)","v":1037681.3}]
[null,"1 ADQUISICION DE UNIFORME INSTITUCIONAL 2019","AS","PROCESO CLASICO",null,129705,null,null,null,null,"EN COMITÉ DE SELECCIÓN"]
[null,"2 ADQUISICION DE INSUMOS PARA EMISION DE LICENCIAS DE CONDUCIR","AS","PROCESO CLASICO",2,301000,"20417494406 - SALMON CORP SAC","CULMINADO","2019-05-15","2019-07-01"]
[null,"3 CONTRATACION DEL SERVICIO DE SEGURIDAD Y VIGILANCIA","AS","PROCESO CLASICO",1,234508.4,"20477591702 - PROXUS SECURITY SAC","EJECUCION","2019-03-13","2020-03-12"]
[null,"4 SUMINISTRO DE DIESEL B5 S50 UV PARA VEHICULOS DE LA GRTC-LL","SIE","PROCESO CLASICO",1,47998,"20477536787 - VILBO NEGOCIOS SAC","EJECUCION","2019-08-05","2020-08-04"]
[null,"5 SERVICIO DE MANTENIMIENTO CORRECTIVO DE DOCE ESTACIONES DEL PROYECTO CPACC","AS","PROCESO CLASICO",null,324469.90000000002,null,null,null,null,"EN COMITÉ DE SELECCIÓN"]
[null,"6 ADQUISICION DE MATERIALES Y UTILES DE ESCRITORIO","ACUERDO MARCO",null,null,{"$f":"SUM(M119:M124)","v":0},"20600005805 - COMERCIALIZADORA VEGUZ E.I.R.L.","CULMINADO","2019-05-09","2019-05-10"]
[null,null,null,null,null,null,"20559712427 - INVERSIONES MIÑANO CORONEL S.A.C.","CULMINADO","2019-05-09","2019-05-10"]
[null,null,null,null,null,null,"20550006899 - INVERSIONES Y SOLUCIONES G & F S.A.C.","CULMINADO","2019-05-09","2019-05-10"]
[null,null,null,null,null,null,"20603036965 - GRUPO EMPRESARIAL F & T ASOCIADOS E.I.R.L. ","CULMINADO","2019-05-20","2019-05-21"]
[null,null,null,null,null,null,"10468520961 - RIOS VASQUEZ PIERO JUNIOR","CULMINADO","2019-05-28","2019-06-07"]
[null,null,null,null,null,null,"20600767985 - GRUPO SERSUNOR S.A.C.","CULMINADO","2019-06-05","2019-06-06"]
[null,"7 ADQUISICION DE TONERES COLOR NEGRO PARA IMPRESORA LASER Y MULTIFUNCIONAL LASER","ACUERDO MARCO",null,null,{"$f":"SUM(M125:M132)","v":0},"20555815418 - CORPORACION LUZMAR S.A.C.","CULMINADO","2019-03-12","2019-03-14"]
[null,null,null,null,null,null,"20545678633 - VISUAL AMERICA DATA E.I.R.L","CULMINADO","2019-03-12","2019-03-13"]
[null,null,null,null,null,null,"20602612211 - CORPORACION SOLUTLE S.A.C.","CULMINADO","2019-03-12","2019-03-15"]
[null,null,null,null,null,null,"10431038663 - DIAZ VEGA OSCAR","CULMINADO","2019-03-12","2019-03-13"]
[null,null,null,null,null,null,"20166041784 - SUMINISTROS Y SERVICIOS GENERALES SA","CULMINADO","2019-03-12","2019-03-13"]
[null,null,null,null,null,null,"10448180293 - CIPRIAN MENDOZA HILDA GEMELA ","CULMINADO","2019-03-12","2019-03-14"]
[null,null,null,null,null,null,"20601693136 - WS GROUP S.A.C.","CULMINADO","2019-03-12","2019-03-13"]
[null,null,null,null,null,null,"20601724970 - DISTRIBUIDORA LAKEN S.A.C.","CULMINADO","2019-03-12","2019-03-14"]
[null,"8 ADQUISICIÓN DE EQUIPOS INFORMÁTICOS","ACUERDO MARCO",null,null,{"$f":"SUM(M133:M140)","v":0},"20600898222 - CLOUDTECH E.I.R.L.","CULMINADO","2019-07-03","2019-07-05"]
[null,null,null,null,null,null,"20551755275 - COMPUSOFT DATA S.A.C.","CULMINADO","2019-07-03","2019-07-05"]
[null,null,null,null,null,null,"20502099460 - REPRESENTACIONES FAROA S.A.C.","CULMINADO","2019-07-15","2019-07-24"]
[null,null,null,null,null,null,"20601357691 - SERVICOMPUTO S.A.C.","CULMINADO","2019-07-15","2019-07-16"]
[null,null,null,null,null,null,"20600968514 - KIPUDATA DEL PERU S.A.C.","CULMINADO","2019-08-07","2019-08-09"]
[null,null,null,null,null,null,"20601858283 - DURCOR LOGISTIC S.R.L.","CULMINADO","2019-08-07","2019-08-09"]
[null,null,null,null,null,null,"20601357691 - SERVICOMPUTO S.A.C.","CULMINADO","2019-08-07","2019-08-08"]
[null,null,null,null,null,null,"20601357691 - SERVICOMPUTO S.A.C.","CULMINADO","2019-08-20","2019-08-21"]
[null,"9 ADQUISICIÓN DE EQUIPOS DE AIRE ACONDICIONADO","ACUERDO MARCO",null,null,{"$f":"SUM(M141:M142)","v":0},"20480725931 - COMERCIAL FRIONORTE E.I.R.L.","CULMINADO","2019-07-05","2019-07-09"]
[null,null,null,null,null,null,"20602801315 - D & M MEDICAL TECHNOLOGY CORPORATION S.R.L.","CULMINADO","2019-07-16","2019-07-19"]
[]
[null,2020,null,null,null,{"$f":"SUM(F145:F151)","v":870000}]
[null,"1 ADQUISICION DE UNIFORME INSTITUCIONAL 2019","AS","PROCESO CLASICO",null,130000]
[null,"2 ADQUISICION DE INSUMOS PARA EMISION DE LICENCIAS DE CONDUCIR","AS","PROCESO CLASICO",null,350000]
[null,"3 CONTRATACION DEL SERVICIO DE SEGURIDAD Y VIGILANCIA","AS","PROCESO CLASICO",null,250000]
[null,"4 SUMINISTRO DE DIESEL B5 S50 UV PARA VEHICULOS DE LA GRTC-LL","SIE","PROCESO CLASICO",null,50000]
[null,"5 ADQUISICION DE TONERES COLOR NEGRO PARA IMPRESORA LASER Y MULTIFUNCIONAL LASER","ACUERDO MARCO",null,null,50000]
[null,"6 ADQUISICION DE MATERIALES Y UTILES DE ESCRITORIO","ACUERDO MARCO",null,null,40000]
[]
[null,"TOTAL",null,null,null,{"$f":"+F93+F113+F144","v":2822006.39}]
[null,"UE 300 EDUCACION LA LIBERTAD (0834)"]
[null,2018,null,null,null,{"$f":"SUM(F155:F166)","v":1564212.41}]
[null,"ADQUISICION DE RECURSOS EDUCATIVOS PARA LABORATORIO DE CIENCIAS DE LOS INSTITUTOS DE EDUCACION SUPERIOR PEDAGOGICA DE LA REGION LA LIBERTAD","AS","PROCESO CLASICO",1,167055.07,"20560158921 - DAMIL E.I.R.L.","EJECUCION","2018-12-31"]
[null,"ADQUISICION DE RECURSOS EDUCATIVOS PARA EDUCACION FISICA DE LOS INSTITUTOS DE EDUCACION SUPERIOR PEDAGOGICA DE LA REGION DE LA LIBERTAD ","AS","PROCESO CLASICO",1,137446.70000000001,"20601879094  -DISTRIBUCIONES Y SERVICIOS GENERALES PACIFICO E.I.R.L.","EJECUCION","2018-12-31"]
[null,"CONTRATACION DEL SERVICIO DE MANTENIMIENTO DE INFRAESTRUCTURA Y AMBIENTES EN GENERAL DE LAS AULAS, SERVICIOS HIGIÉNICOS, PATIOS, COCINAS, ALMACENES, DENTRO DE LA ACTIVIDAD GESTIÓN, OPERACIÓN Y ACONDICIONAMIENTO BÁSICO DE LAS UNIDADES DE ATENCIÓN DE LA JURISDICCIÓN DE LA REGIÓN LA LIBERTAD (COSTA Y SIERRA), EN EL MARCO DEL PROGRAMA PRESUPUESTAL 0091 INCREMENTO EN EL ACCESO DE LA POBLACIÓN DE 3 A 16 AÑOS A LOS SERVICIOS EDUCATIVOS PUBLICOS DE LA EDUCACION BASICA REGULAR ","AS","PROCESO CLASICO",1,399349.04,"CONSORCIO GRUPO CASTILLO Y OLVA","EJECUCION","2018-12-31"]
[null,"ADQUISICION DE MALLA DE ALAMBRE, MALLA RASCHEL, PLANCHA POLIPROPILENO, PLANCHA DE FIBROCEMENTO, ALAMBRE DE FIERRO Y CLAVOS DE ACERO GALVANIZADOS PARA CERCO PERIMETRICO EN LAS UNIDADES DE ATENCION DE LA JURISDICCION DE LA REGION LA LIBERTAD, EN MARCO DEL PROGRAMA PRESUPUESTAL 0091 INCREMENTO EN EL ACCESO DDE LA POBLACION DE 3 A 16 AÑOS A LOS SERVICIOS EDUCATIVOS PUBLICOS DE LA EDUCACIÒN BASICA REGULAR","AS","PROCESO CLASICO",1,128222.68,"20600279280 - CONSTRUCTORA E INMOBILIARIA LAZARO S.A.C.","EJECUCION","2018-12-17"]
[null,"ADQUISICION DE TANQUES DE PVC DE 2500 LITROS, BIODIGESTORES DE 1300 LITROS, APARATOS SANITARIOS Y ACCESORIOS DE GASFITERIA PARA LOS SEVICIOS HIGIENICOS EN LAS UNIDADES DE ATENCIÒN DE LA JURISDICCION DE LA REGION LA LIBERTA, EN EL MARCO DEL PROGRAMA PRESUPUESTAL 0091 INCREMENTO EN EL ACCESO DE LA POBLACION DE 3 A 16 AÑOS A LOS SERVICIOS EDUICATIVOS PUBLICOS DE LA EDUCACIÒN BASICA REGULAR","AS","PROCESO CLASICO",1,54999.199999999997,"20600279280 - CONSTRUCTORA E INMOBILIARIA LAZARO S.A.C.","EJECUCION","2018-12-17"]
[null,"CONTRATACION DEL SERVICIO DE CONSULTORIA PARA DESARROLLO DE UNA PROPUESTA DE PLAN DE ESTUDIO DE LA CARRERA DE CONTABILIDAD EN EL MARCO DE LOS LINEAMIENTOS ACADÉMICOS GENERALES PARA LOS INSTITUTOS DE EDUCACIÓN SUPERIOR TECNOLÓGICA DE LA REGIÓN LA LIBERTAD","AS","PROCESO CLASICO",1,120000,"20601808944 - HUMAN CAPITAL SOLUTIONS GROUP S.A.","EJECUCION","2018-11-28"]
[null,"ADQUISICION DE UNIFORMES PARA EL PERSONAL NOMBRADO Y CONTRATADO DE LA 276 DE LOS INSTITUTOS DE LA GERENCIA REGIONAL DE EDUCACIÓN","AS","PROCESO CLASICO",1,50400,"10179678191 - ROGER ERASMO SALVADOR SANTOS","EJECUCION","2018-12-10"]
[null,"ADQUISICION DE BOLSA DE ALIMENTOS PARA EL PERSONAL CAP DE LA GERENCIA REGIONAL DE EDUCACIÓN LA LIBERTAD","AS","PROCESO CLASICO",1,81896.84,"20559712427 - INVERSIONES MIÑANO CORONEL S.A.C.","EJECUCION","2018-11-19"]
[null,"ADQUISICION DE REFRIGERIOS PARA LAS ACTIVIDADES APLICACIONES DEL PROGRAMA FAMILIAS FUERTES AMORY LIMITES Y DE LAS ACTIVIDADES DE PROGRAMA PRESUPUESTAL 0051 PARA LA GERENCIA REGIONAL DE EDUCACIÓN","AS","PROCESO CLASICO",1,48718.89,"20477582118 - ROSMER COMERCIO Y SERVICIO S.A.C.","EJECUCION","2018-07-06"]
[null,"CONTRATACIÓN DE LOS SERVICIOS DE ALOJAMIENTO Y ALIMENTACIÓN PARA LA EJECUCIÓN DE LOS JUEGOS DEPORTIVOS ESCOLARES NACIONALES 2018 ETAPA REGIONAL - GRELL","AS","PROCESO CLASICO",1,204000,"20440243810 - JORGE CHAVEZ E HIJOS S.R.L.","EJECUCION","2018-06-14"]
[null,"ADQUISICION DE BOLSA DE ALIMENTOS PARA EL PERSONAL CAP DE LA GERENCIA REGIONAL DE EDUCACIÓN LA LIBERTAD","AS","PROCESO CLASICO",1,85358.99,null,"DESIERTO"]
[null,"ADQUISICION DE UNIFORMES PARA LA TEMPORADA VERANO E INVIERNO PARA EL PERSONAL DEL CAP DE LA GERENCIA REGIONAL DE EDUCACIÓN LA LIBERTAD","AS","PROCESO CLASICO",1,86765,null,"DESIERTO"]
[]
[null,2019,null,null,null,{"$f":"SUM(F169:F180)","v":2104933.85}]
[null,"ADQUISICION DE MATERIAL FUNGIBLE DE ACUERDO AL PP147 DE INSTITUTOS DE EDUCACION SUPERIOR TECNOLOGICA ","PERU COMPRAS","PROYECTADO",null,44700,null,"EN REQUERIMIENTO","PENDIENTE"]
[null,"ADQUISICION DE EQUIPOS INFORMATICOS DE ACUERDO AL PP147 DE INSTITUTOS DE EDUCACION SUPERIOR TECNOLOGICA ","PERU COMPRAS","PROYECTADO",null,236400,null,"EN REQUERIMIENTO","PENDIENTE"]
[null,"SERVICIO DE ASISTENCIA TECNICA PARA ELABORACION DE DOCUMENTOS DE GESTION Y PORTAL WEB PARA LOS INSTITUTOS DE EDUCACION SUPERIOR PEDAGOGICO \"AYABAMBA\" Y \"DAVID SANCHEZ INFANTE\"","AS","PROYECTADO",null,90000,null,"EN REQUERIMIENTO","PENDIENTE"]
[null,"ADQUISICION DE MATERIAL DE ACUERDO AL PP107 DE INSTITUTOS DE EDUCACION SUPERIOR PEDAGOGICO ","AS","PROYECTADO",null,135000,null,"EN REQUERIMIENTO","PENDIENTE"]
[null,"SERVICIO DE IMPLEMENTACIÓN DE CERCO PERIMÉTRICO Y TOLDOS PARA LAS INSTITUCIONES EDUCATIVAS FOCALIZADAS POR EL PROGRAMA PRESUPUESTAL 091 INCREMENTO EN EL ACCESO","AS","PROYECTADO",null,300000,null,"EN REQUERIMIENTO","PENDIENTE"]
[null,"SERVICIO DE ALIMENTACION PARA LAS ACTIVIDADES DEL PROGRAMA PRESUPUESTAL 051 PREVENCION Y TRATAMIENTO DEL CONSUMO DE DROGAS","AS","PROYECTADO",null,336280,null,"EN REQUERIMIENTO","PENDIENTE"]
[null,"ADQUISICION DE MATERIAL FUNGIBLE DE ACUERDO AL PP068 REDUCCION DE VULNERABILIDAD Y ATENCION DE EMERGENCIAS POR DESASTRES","AS","PROYECTADO",null,200000,null,"EN REQUERIMIENTO","PENDIENTE"]
[null,"ADQUISICION DE 1760 KIT DE ORIENTACION PEDAGOGICA (INCLUYE EL MODULO I, II, III, IV, V Y VI, 01 COLECTOR) PARA EL PROGRAMA PRESUPUESTAL 051 PREVENCION Y TRATAMIENTO DEL CONSUMO DE DROGAS","AS","PROCESO CLASICO",null,113443.85,null,"INCLUIDO EN EL PAC","PENDIENTE"]
[null,"ADQUISICION DE UNIFORMES PARA EL PERSONAL NOMBRADO Y CONTRATADO DE LA 276 DE LOS INSTITUTOS DE LA GERENCIA REGIONAL DE EDUCACION LA LIBERTAD.","AS","PROYECTADO",null,150000,null,"INCLUIDO EN EL PAC","PENDIENTE"]
[null,"ADQUISICION DE UNIFORMES TEMPORADA VERANO E INVIERNO PARA EL PERSONAL 276 DE LA GERENCIA REGIONAL DE EDUCACION LA LIBERTAD","AS","PROYECTADO",null,50400,null,"INCLUIDO EN EL PAC","PENDIENTE"]
[null,"CONTRATACION DE SERVICIOS DE ALIMENTACION, ALOJAMIENTO Y PASAJES PARA EJECUCION DE LOS JUEGOS DEPORTIVOS ESCOLARES 2019 ETAPA MACRO REGIONAL CON SEDE EN CAJAMARCA","AS","PROCESO CLASICO",1,159960,null,"DESIERTO"]
[null,"CONTRATACION DE LOS SERVICIO DE ALOJAMINETO Y ALIMENTACION PARA LA EJECUCION DE JUEGOS DEPORTIVOS ESCOLARES NACIONALES 2019 ETAPA REGIONAL GRELL","AS","PROCESO CLASICO",1,288750,null,"DESIERTO"]
[]
[null,2020,null,null,null,{"$f":"SUM(F183:F190)","v":1205868.99}]
[null,"CONTRATACION DE SERVICIOS DE ALIMENTACION, ALOJAMIENTO Y PASAJES PARA EJECUCION DE LOS JUEGOS DEPORTIVOS ESCOLARES 2019 ETAPA MACRO REGIONAL CON SEDE EN CAJAMARCA","AS","PROCESO CLASICO",1,159960]
[null,"CONTRATACION DE LOS SERVICIO DE ALOJAMINETO Y ALIMENTACION PARA LA EJECUCION DE JUEGOS DEPORTIVOS ESCOLARES NACIONALES 2019 ETAPA REGIONAL GRELL","AS","PROCESO CLASICO",1,288750]
[null,"ADQUISICION DE UNIFORMES PARA EL PERSONAL NOMBRADO Y CONTRATADO DE LA 276 DE LOS INSTITUTOS DE LA GERENCIA REGIONAL DE EDUCACION LA LIBERTAD.","AS","PROYECTADO",null,150000]
[null,"ADQUISICION DE UNIFORMES TEMPORADA VERANO E INVIERNO PARA EL PERSONAL 276 DE LA GERENCIA REGIONAL DE EDUCACION LA LIBERTAD","AS","PROYECTADO",null,50400]
[null,"SERVICIO DE ALIMENTACION PARA LAS ACTIVIDADES DEL PROGRAMA PRESUPUESTAL 051 PREVENCION Y TRATAMIENTO DEL CONSUMO DE DROGAS","AS","PROYECTADO",null,100000]
[null,"ADQUISICION DE MATERIAL DE ACUERDO AL PP107 DE INSTITUTOS DE EDUCACION SUPERIOR PEDAGOGICO ","AS","PROYECTADO",null,135000]
[null,"ADQUISICION DE EQUIPOS INFORMATICOS DE ACUERDO AL PP147 DE INSTITUTOS DE EDUCACION SUPERIOR TECNOLOGICA ","PERU COMPRAS","PROYECTADO",null,236400]
[null,"ADQUISICION DE BOLSA DE ALIMENTOS PARA EL PERSONAL CAP DE LA GERENCIA REGIONAL DE EDUCACIÓN LA LIBERTAD","AS","PROCESO CLASICO",1,85358.99]
[]
[null,"TOTAL",null,null,null,{"$f":"+F154+F168+F182","v":4875015.25}]
[null,"UE  301 EDUCACIÓN CHEPÉN"]
[null,2018,null,null,null,{"$f":"SUM(F195:F201)","v":403951.88}]
[null,"1 ADQUISICION DE EQUIPOS COMPUTACIONALES Y PERIFERICOS","CCE","COMPRA POR CATALOGO (CONVENIO MARCO)","1",65000,"20600815467 - DK SOLUTIONS S.A.C.","CULMINADO","2018-07-25","2018-08-05"]
[null,"2 ADQUISICION DE MATERIAL DE ASEO , LIMPIEZA Y TOCADOR","AS","PROCESO CLASICO",1,34262.14,"20602753710 - INVERSIONES VALUPA E.I.R.L.","CULMINADO","2018-07-25","2018-08-04"]
[null,"3 ADQUISICION DE PAPELERIA , UTILES Y MATERIAL DE OFICINA","CCE","COMPRA POR CATALOGO (CONVENIO MARCO)",1,87026.74,"20559723542 -BIENES Y SERVICIOS - AD INVERSIONES SOCIEDAD ANONIMA CERRADA ","CULMINADO","2018-02-09","2018-04-23"]
[null,"4 ADQUISICION DE MATERIAL DIDACTICO","CCE","COMPRA POR CATALOGO (CONVENIO MARCO)",1,80163,"20559723542 -BIENES Y SERVICIOS - AD INVERSIONES SOCIEDAD ANONIMA CERRADA ","CULMINADO","2018-04-18","2018-04-30"]
[null,"5 ADQUISICION DE UNIFORMES PARA EL PERSONAL DE LA SEDE Y PERSONAL ADMINITRATIVO DE LAS II.EE.","AS","PROCESO CLASICO",1,77500,"10483244709-CASTILLO MONDRAGON LUZ MERITA","CULMINADO","2019-09-26","2018-12-31"]
[null,"6. SERVICIO DE MODULADO Y TRANSPORTE DE MATERIAL EDUCATIVO PARA LAS II.EE. DE EBR","COMPARACION DE PRECIOS","PROCESO CLASICO",1,60000,"20602236847 - INVERSIONES TRIGAL S &L SOCIEDAD ANONIMA CERRADA","CULMINADO","2018-02-16"]
[]
[null,2019,null,null,null,"-"]
[null,"1 ADQUISICIÓN DE PAPELERIA UTILES Y MATERIAL DE OFICINA","CCE","COMPRA POR CATALOGO (CONVENIO MARCO)",1,117520,"20559723542 -BIENES Y SERVICIOS - AD INVERSIONES SOCIEDAD ANONIMA CERRADA ","EN PROCESO","2019-02-02",null,"ADQUISICION EN PROCESO HASTA EL 31/12/2019"]
[null,"2 ADQUISICION DE UNIFORMES PARA EL PERSONAL DE LA SEDE Y PERSONAL ADMINISTRATIVO DE LAS II.EE.","AS ","ADJUDICACION SIMPLIFICADA",1,87100,"EN PROCESO","EN PROCESO"]
[null,"3 CONTRATACION  DE SERVICIO DE VIGILANCIA DE SEGURIDAD DE LA SEDE UGEL CHEPEN","AS ","ADJUDICACION SIMPLIFICADA",1,72000,"20600836022 - EMPRESA VIGILANCIA PRIVADA CONTROL RESGUARDO SEGURIDAD ","CULMINADO","2019-04-01",null,"SERVICIO EN PROCESO HASTA EL 31/12/2019"]
[null,"4 SERVICIO DE TRANSPORTE PARA LA DISTRIBUCION DE MATERIAL EDUCATIVO Y/O MATERIAL FUNGIBLE ","COMPARACION DE PRECIOS","PROCESO CLASICO",1,63000,"20560189991- VENTAS Y SERVICIOS CLESED SOCIEDAD ANONIMA CERRADA ","CULMINADO","2019-02-11",null,"SERVICIO CULMINADO"]
[null,"CONTRATACION DE MATERIAL DIDACTICO","CCE","COMPRA POR CATALOGO (CONVENIO MARCO)",1,47100,"20559723542 -BIENES Y SERVICIOS - AD INVERSIONES SOCIEDAD ANONIMA CERRADA ","EN PROCESO","2019-02-02",null,"ADQUISICION EN PROCESO HASTA EL 31/12/2019"]
[]
[null,2020]
[null,"1 ADQUISICIÓN DE PAPELERIA UTILES Y MATERIAL DE OFICINA","CCE","COMPRA POR CATALOGO (CONVENIO MARCO)",1,100000]
[null,"2 ADQUISICION DE MATERIAL DE ASEO , LIMPIEZA Y TOCADOR","CCE","COMPRA POR CATALOGO (CONVENIO MARCO)",1,40000]
[null,"3 ADQUISICION DE EQUIPOS COMPUTACIONALES Y PERIFERICOS","CCE","COMPRA POR CATALOGO (CONVENIO MARCO)",1,20000]
[null,"4 MOBILIARIO","ADS","ADJUDICACION SIMPLIFICADA",1,40000]
[null,"5 CONTRATACION DE MATERIAL DIDACTICO","CCE","COMPRA POR CATALOGO (CONVENIO MARCO)",1,60000]
[null,"6  ADQUISICION DE UNIFORMES PARA EL PERSONAL DE LA SEDE Y PERSONAL ADMINISTRATIVO DE LAS II.EE.","AS ","ADJUDICACION SIMPLIFICADA",1,87100]
[null,"7  CONTRATACION  DE SERVICIO DE VIGILANCIA DE SEGURIDAD DE LA SEDE UGEL CHEPEN","AS ","ADJUDICACION SIMPLIFICADA",1,72000]
[null,"8 PINTADO DE LA SEDE UGEL","AS ","ADJUDICACION SIMPLIFICADA",1,34000]
[null,"9 SERVICIO DE LINEA DE INTERNET","AS ","ADJUDICACION SIMPLIFICADA",1,48000]
[null,"7 SERVICIO DE TRANSPORTE PARA LA DISTRIBUCION DE MATERIAL EDUCATIVO Y/O MATERIAL FUNGIBLE ","COMPARACION DE PRECIOS","PROCESO CLASICO",1,63000]
[null,"TOTAL",null,null,null,{"$f":"SUM(F195:F219)","v":1354771.88}]
[null,"UE 302 EDUCACION PACASMAYO (0836)"]
[null,2018,null,null,null,155399.87]
[null,"1 SERVICIO DE TRANSPORTE PARA LA DISTRIBUCION DE MATERIAL EDUCATIVO- DOTACION 2018","CONTRATACION MENORES A 8 UITS","PROCESO CLASICO",null,25207,"1044045826 - LOZADA UCANCIAL CESAR","CULMINADO","2018-01-25",null,"NINGUNA"]
[null,"2 POR LA ADQUISICION DE UNIFORMES PARA EL PERSONAL DE LA SEDE UGEL PACASMAYO DL. 276 PERIODO 2018","CONTRATACION MENORES A 8 UITS","PROCESO CLASICO",null,27138,"10423980759-REQUE CHAGLOQUE RONALD","CULMINADO","2018-12-07",null,"NINGUNA"]
[null,"3 POR LA ADQUISICION DE UNIFORMES PARA EL PERSONAL DE LA SEDE UGEL PACASMAYO DL. 276 PERIODO 2018","CONTRATACION MENORES A 8 UITS","PROCESO CLASICO",null,8485,"10423980759-REQUE CHAGLOQUE RONALD","CULMINADO","2018-12-10",null,"NINGUNA"]
[null,"4 POR LA ADQUISICION DE TERNOS PARA EL PERSONAL ADMINISTRATIVO DE LAS IIEE DL. 276","CONTRATACION MENORES A 8 UITS","PROCESO CLASICO",null,29700,"10193330024-MARCHENA VASQUEZ ANA BERTHA ","CULMINADO","2018-12-17",null,"NINGUNA"]
[null,"5 POR LA ADQUISICION DE TERNO PARA EL PERSONAL ADMINITRATIVO DE LAS IIEE DL 276","CONTRATACION MENORES A 8 UITS","PROCESO CLASICO",null,20400,"20554434321-TEXTILES PACIMEX E.I.R.L","CULMINADO","2018-12-17",null,"NINGUNA"]
[null,"6 ADQUISICION DE BOLSA DE VIVERES PARA EL PERSONAL ADMINISTRATIVO DL. 276","CONTRATACION MENORES A 8 UITS","PROCESO CLASICO",null,24700,"20600767896-PAPELERIA Y DISTRIBUIDORA EL PACIFICO S.A.C","CULMINADO","2018-12-17",null,"NINGUNA"]
[null,"7 POR LA ADQUISICION DE MATERIAL FUNGIBLE PARA OPERACION DE LAS IIEE 2019 NIVEL INICIAL","PERU COMPRAS ","CONTRATACION POR CATALAGO ELECTRONICO ",null,19769.87,"20481068381-NECOFESA S.A.C","CULMINADO","2018-12-28",null,"NINGUNA"]
[]
[null,2019,null,null,null,200384]
[null,"POR EL SERVICIO DE TRANSPORTE DE MATERIAL EDUCATIVO Y FUNGIBLE PARA LAS IIEE _ DOTACION 2019","CP ","PROCESO  SE SELECCIÓN ",1,50007.4,"20600512898 - AUTOSETMA","CONCLUIDO","2019-02-08",null,"NINGUNA"]
[null,"POR LA ADQUISICION DE MATERIAL FUNGIBLE (MATERIAL DIDACTICO) NIVEL PRIMARIO","CP ","PROCESO  SE SELECCIÓN ",2,39669.599999999999,"20557191446 -CORPORACION TECMOLOGICA Y EQUIPAMIENTO S.A.C","CONCLUIDO","2019-07-02",null,"NINGUNA"]
[null,"POR LA ADQUISICION DE UNIFORME DE VERANO E INVIERNO PARA EL PERSONAL ADMINISTRATIVOS DL 276","AS","PROCESO  SE SELECCIÓN ",1,35946,"10427318341-QUESQUEN ABANTO WALTER ANTONIO ","EN PROCESO","2019-09-05",null,"NINGUNA"]
[null,"POR LA ADQUISICION DE UNIFORMES PARA EL PERSONAL ADMINISTRATIVO DE LAS IIEE","AS","PROCESO  SE SELECCIÓN ",2,50061,"1042731834- QUESQUEN ABANTO WALTER ANTONIO ","EN PROCESO","2019-09-06",null,"NINGUNA"]
[null,"ADQUISICION DE BOLSA DE VIVERES PARA EL PERSONAL ADMINISTRATIVO DL. 276","CONTRATACION MENORES A 8 UITS","PROCESO CLASICO",null,24700,"PENDIENTE","PENDIENTE","PENDIENTE",null,"NINGUNA"]
[null,2020]
[null,"1 POR EL SERVICIO DE TRANSPORTE DE MATERIAL EDUCATIVO Y FUNGIBLE PARA LAS IIEE _ DOTACION 2019","CP ","PROCESO  SE SELECCIÓN ",1,50007.4]
[null,"2 POR LA ADQUISICION DE MATERIAL FUNGIBLE (MATERIAL DIDACTICO) NIVEL PRIMARIO","CP ","PROCESO  SE SELECCIÓN ",2,39669.599999999999]
[null,"3 POR LA ADQUISICION DE UNIFORME DE VERANO E INVIERNO PARA EL PERSONAL ADMINISTRATIVOS DL 276","AS","PROCESO  SE SELECCIÓN ",1,35946]
[null,"4 POR LA ADQUISICION DE UNIFORMES PARA EL PERSONAL ADMINISTRATIVO DE LAS IIEE","AS","PROCESO  SE SELECCIÓN ",2,50061]
[null,"5 ADQUISICION DE BOLSA DE VIVERES PARA EL PERSONAL ADMINISTRATIVO DL. 276","CONTRATACION MENORES A 8 UITS","PROCESO CLASICO",null,24700]
[]
[null,"TOTAL",null,null,null,{"$f":"+F222+F231+F237","v":355783.87}]
[null,"UE 303 EDUCACION ASCOPE (0837)"]
[]
[null,2018,null,null,null,{"$f":"SUM(F248:F250)","v":248622}]
[null,"CONTRATACIÓN DE UNIFORMES PARA LOS TRABAJADORES DE LA SEDE DE LA UGEL ASCOPE EN EL AÑO 2018","AS","PROCESO CLASICO","1",38425,"10427318341 - QUESQUEN ABANTO WALTER ANTONIO","CULMINADO","09 DE AGOSTO DEL 2018","2018-07-05"]
[null,"CONTRATACIÓN DE UNIFORMES PARA LOS TRABAJADORES ADMINISTRATIVOS DE LAS INSTITUCIONES EDUCATIVAS DE LA UGEL ASCOPE EN EL AÑO 2019","AS","PROCESO CLASICO",2,79997,"10433727733 - DE LA CRUZ CERQUIN SINTIA ELIZABETH","CULMINADO","16 DE NOVIEMBRE DEL 2018","2018-12-27"]
[null,"MANTENIMIENTO DE INFRAESTRUCTURA DE LA SEDE DE LA UGEL ASCOPE EN EL AÑO 2019","AS","PROCESO CLASICO",3,130200,"20559855881- TQM ARGOS","CULMINADO","06 DE DICIEMBRE DEL 2018","2018-12-30"]
[]
[null,2019,null,null,null,{"$f":"SUM(F253:F255)","v":225076.46000000002}]
[null,"CONTRATACIÓN DE TRANSPORTE PARA MATERIAL EDUCATIVO Y FUNGIBLE PARA LAS INSTITUCIONES EDUCATIVAS EN LA JURISDICCIÓN DE LA PROVINCIA DE ASCOPE EN EL 2019","AS","PROCESO ELECTRONICO",1,93576.46,"20560177713 - INVERSIONES Y TRANSPORTES SANTA TERESITA S.R.L","CONCLUIDO","2019-02-27","2019-05-27"]
[null,"CONTRATACIÓN DE UNIFORMES PARA LOS TRABAJADORES ADMINISTRATIVOS DE LAS INSTITUCIONES EDUCATIVAS DE LA UGEL ASCOPE ","AS","PROCESO ELECTRONICO",2,86700,null,"ESTUDIO DE MERCADO"]
[null,"CONTRATACIÓN DE UNIFORMES PARA LOS TRABAJADORES DE LA SEDE DE LA UGEL ASCOPE EN EL AÑO 2018","AS","PROCESO ELECTRONICO",3,44800,null,"ESTUDIO DE MERCADO"]
[null,2020]
[null,"CONTRATACIÓN DE TRANSPORTE PARA MATERIAL EDUCATIVO Y FUNGIBLE PARA LAS INSTITUCIONES EDUCATIVAS EN LA JURISDICCIÓN DE LA PROVINCIA DE ASCOPE EN EL 2020",null,"PROCESO ELECTRONICO",null,103983]
[null,"CONTRATACIÓN DE UNIFORMES PARA LOS TRABAJADORES ADMINISTRATIVOS DE LAS INSTITUCIONES EDUCATIVAS DE LA UGEL ASCOPE ",null,"PROCESO ELECTRONICO",null,86700]
[]
[null,"TOTAL",null,null,null,{"$f":"+F247+F252+F256","v":473698.46}]
[null,"UE 305 EDUCACION OTUZCO (0839)"]
[null,2018,null,null,null,{"$f":"SUM(F263:F278)","v":1074502.3899999999}]
[null,"ADQUISICION DE MATERIAL DE ASEO PARA LAS II.EE.","AS","PROCESO CLASICO","1",108932.06,"20545792177 - CHAPOLAB SAC","CULMINADO","2018-09-17"]
[null,"ADQUISICION DE KIT BASICO DE MATERIAL DEPORTIVO PARA EDUCACION FISICA","CP","PROCESO CLASICO",3,44196,"10190328878 - GONZALES VENTURA EUSEBIA ANASTASIA","CULMINADO","2018-10-18"]
[null," ASQUISICION DE MATERIAL DIDACTICO PARA LAS II.EE. NIVEL INICIAL Y PRIMARIA","AS","PROCESO CLASICO",3,117038.6,"20557191446 - CORPORACION TECNOLOGICA Y EQUIPAMIENTOS S.A.C.","CULMINADO","2018-12-27"]
[null," ADQUISICION DE MATERIAL FUNGIBLE PARA EL BUEN INICIO DEL AÑO ESCOLAR 2018","SIN PROCESO",null,null,28071.14,"20600802021 - INVERSIONES & SERVICIOS GENERALES JGC E.I.R.L.","CULMINADO"]
[null,"ADQUISICION DE MATERIAL FUNGIBLE PARA EL BUEN INICIO DEL AÑO ESCOLAR 2018","SIN PROCESO",null,null,172024.11,"20600802021 - INVERSIONES & SERVICIOS GENERALES JGC E.I.R.L.","CULMINADO"]
[null,"ADQUISICION DE MATERIAL FUNGIBLE PARA EL BUEN INICIO DEL AÑO ESCOLAR 2018","SIN PROCESO",null,null,26400,"20601637881 - CORPORACION TOUCH PERU E.I.R.L.","CULMINADO"]
[null,"ADQUISICION DE MATERIAL DE ESCRITORIO PARA LAS II.EE.","SIN PROCESO",null,null,70531.86,"20600802021 - INVERSIONES & SERVICIOS GENERALES JGC E.I.R.L.","CULMINADO"]
[null,"ADQUISICION DE MATERIAL DE ESCRITORIO PARA LAS II.EE.","SIN PROCESO",null,null,55798.74,"20601637881 - CORPORACION TOUCH PERU E.I.R.L.","CULMINADO"]
[null,"TRANSPORTE DE MATERIAL EDUCATIVO Y FUNGIBLE - BUEN INICIO DEL AÑO ESCOLAR 2018","SIN PROCESO",null,null,33165.9,"20601386586 - JULMEN CONTRATISTAS GENERALES S.R.L.","CULMINADO"]
[null,"ADQUISICION DE MATERIAL PARA EL PROGRAMA DEVIDA","SIN PROCESO",null,null,21110,"20482473181 - TERNOS CRISTHIAN & ASOCIADOS S.A.C.","CULMINADO"]
[null,"ADQUISICION DE UNIFORME ADMINISTRATIVO PARA EL PERSONAL DE LA UGEL OTUZCO","SIN PROCESO",null,null,32780,"20482473181 - TERNOS CRISTHIAN & ASOCIADOS S.A.C.","CULMINADO"]
[null,"ADQUISICION DE MATERIAL PARA EL PROGRAMA DEVIDA","SIN PROCESO",null,null,10074.200000000001,"20603036965 - GRUPO EMPRESARIAL F & T ASOCIADOS E.I.R.L.","CULMINADO"]
[null,"ADQUISICION DE EQUIPOS DE COMPUTO","SIN PROCESO",null,null,25623.35,"20603036965 - GRUPO EMPRESARIAL F & T ASOCIADOS E.I.R.L.","CULMINADO"]
[null,"ADQUISICION DE MATERIAL FUNGIBLE PARA EL BUEN INICIO DEL AÑO ESCOLAR 2019","SIN PROCESO",null,null,32243.07,"20601637881 - CORPORACION TOUCH PERU E.I.R.L.","CULMINADO"]
[null,"ADQUISICION DE MATERIAL FUNGIBLE PARA LAS II.EE.","SIN PROCESO",null,null,263352.36,"20603036965 - GRUPO EMPRESARIAL F & T ASOCIADOS E.I.R.L.","CULMINADO"]
[null,"SERVICIO DE TRANSPORTE DE MATERIAL EDUCATIVO DADO DE BAJA A LAS II.EE.","SIN PROCESO",null,null,33161,"10190250224 - MENDEZ HURTADO ASTERIA ASUCENA","CULMINADO"]
[null,2019,null,null,null,{"$f":"SUM(F280:F281)","v":222308.15}]
[null,"SERVICIO DE TRANSPORTE Y DISTRIBUCION DE MATERIAL EDUCATIVO PARA EL BUEN INICIO DEL AÑO ESCOLAR 2019 , PROCESO DE SELECCION BAJO LA MODALIDAD DE ADJUDICACION SIMPLIFICADA N°01-2019 , SEGUN CONTRATO 04-2019 /ABAST Y ORDEN DE SERVICIO N°012-2019.","AS","PROCESO CLASICO",1,186848.15,"10190250224 - MENDEZ HURTADO ASTERIA ASUCENA","CONCLUIDO","2019-03-01"]
[null,"ADQUISICION DE UNIFORMES DE VERANO E INVIERNO PARA LOS TRABAJADORES DEL D.L.276 UGEL OTUZCO","CP","PROCESO CLASICO",2,35460,"10427318341 - QUESQUEN ABANTO WALTER ANTONIO","CONCLUIDO","2019-05-13"]
[null,2020,null,null,null,{"$f":"+F283","v":40000}]
[null,"ADQUISICION DE UNIFORMES DE VERANO E INVIERNO PARA LOS TRABAJADORES DEL D.L.276 UGEL OTUZCO","CP","PROCESO CLASICO",2,40000]
[]
[null,"TOTAL",null,null,null,{"$f":"+F262+F279+F282","v":1336810.5399999998}]
[null,"UE 306 EDUCACION SANTIAGO DE CHUCO (0840)"]
[null,2018,null,null,null,{"$f":"SUM(F288:F289)","v":112550}]
[null,"CONTRATACION DE TRANSPORTE Y DISTRIBUCION DE MATERIAL EDUCATIVO PARA LAS II.EE UGEL SCH- COMPROMISO 2018","COMPARACION DE PRECIOS","PROCESO CLASICO","1",49980,"20600735323 - SERVICIOS GENERALES TRANSOMIL SAC","CULMINADO","2018-02-08","2018-03-09"]
[null,"CONTRATACION PARA LA ADQUISICIÓN DE UNIFORME INSTITUCIONAL PARA EL PERSONAL ADMINISTRATIVO DE LA SEDE Y DE LAS II.EE DE LA UGEL SCH","ADJUDICACIÓN SIMPLIFICADA","PROCESO CLASICO",2,62570,"20561237337- SASTRERIA REQUE EIRL","CULMINADO","2018-12-28","2019-01-24"]
[null,2019,null,null,null,{"$f":"SUM(F291:F292)","v":98400}]
[null,"CONTRATACION DE TRANSPORTE Y DISTRIBUCION DE MATERIAL FUNGIBLE Y EDUCATIVO PARA LAS II.EE DE LA UGEL SANTIAGO DE CHUCO","COMPARACION DE PRECIOS","PROCESO CLASICO",1,62800,"10196922178- TANTAQUISPE BACILIO RAMIRO LEONIDAS","CULMINADO","2019-01-24","2019-01-30"]
[null,"CONTRATACION DE TRANSPORTE Y DISTRIBUCION DE MATERIAL ESCRITORIO Y DIDACTICO PARA LAS II.EE DE LA UGEL SANTIAGO DE CHUCO","COMPARACION DE PRECIOS","PROCESO CLASICO",2,35600,"10196922178- TANTAQUISPE BACILIO RAMIRO LEONIDAS","CULMINADO","2019-05-09","2019-05-30"]
[null,2020]
[null,"CONTRATACION DE TRANSPORTE Y DISTRIBUCION DE MATERIAL FUNGIBLE Y EDUCATIVO PARA LAS II.EE DE LA UGEL SANTIAGO DE CHUCO","COMPARACION DE PRECIOS","PROCESO CLASICO",1,62800]
[null,"CONTRATACION DE TRANSPORTE Y DISTRIBUCION DE MATERIAL ESCRITORIO Y DIDACTICO PARA LAS II.EE DE LA UGEL SANTIAGO DE CHUCO","COMPARACION DE PRECIOS","PROCESO CLASICO",2,35600]
[null,"TOTAL",null,null,null,{"$f":"+F287+F290+F293","v":210950}]
[null,"UE  (307 EDUCACION SANCHEZ CARRION)"]
[null,2018,null,null,null,{"$f":"SUM(F299:F314)","v":844774.41999999993}]
[null,"SERVICIO DE TRANSPORTE Y DISTRIBUCION DE MATERIAL EDUCATIVO","COMPARACION\nDE PRECIOS","NO CORRESPONDE","-",62247.17,"10195609158 -GASPAR CHACON VACA","CULMINADO","2018-02-20","2018-03-02"]
[null,"1ADQUISICION  DE 01 IMPRESORA MATRICIAL PARA LA OFICINA DE\nPLANILLAS EN MARCA PRITRONIX","COMPRA POR CATALOGO\nELECTRONICO","NO CORRESPONDE","-",40995.69,"20559840182 - GRUPO TECNOLOGICO ML S.A.C.","CULMINADO","2018-03-27","2018-04-04"]
[null,"ADQUISICION DE 190 KIT DE MATERIAL FUNGIBLE PARA EL NIVEL PRIMARIA","COMPRA POR CATALOGO\nELECTRONICO","NO CORRESPONDE","-",48090.9,"20477208771 - SERVICIOS SEÑOR DE LA HUMILDAD","CULMINADO","2018-04-09","2018-04-11"]
[null,"ADQUISICION DE 107 KIT DE MATERIAL FUNGIBLE PARA EL NIVEL INICIAL - II.EE.","COMPRA POR CATALOGO\nELECTRONICO","NO CORRESPONDE","-",32379.38,"20477208771 - SERVICIOS SEÑOR DE LA HUMILDAD","CULMINADO","2018-04-09","2018-04-11"]
[null,"ADQUISICION DE 831 KIT DE MATERIAL DE ESCRITORIO PARA LAS AULAS DE LAS II.EE. DEL NIVEL INICIAL","COMPRA POR CATALOGO\nELECTRONICO","NO CORRESPONDE","-",36605.06,"20477208771 - SERVICIOS SEÑOR DE LA HUMILDAD","CULMINADO","2018-05-04","2018-05-07"]
[null,"ADQUISICION DE 1987 KIT DE MATERIAL DE ESCRITORIO PARA LAS AULAS DE LAS II.EE. DEL NIVEL PRIMARIA","COMPRA POR CATALOGO\nELECTRONICO","NO CORRESPONDE","-",46752.52,"20477208771 - SERVICIOS SEÑOR DE LA HUMILDAD","CULMINADO","2018-05-04","2018-05-04"]
[null,"ADQUISICION DE 1080 KIT DE MATERIAL DE ESCRITORIO PARA LOS DOCENTES DE LAS II.EE. DE SECUNDARIA","COMPRA POR CATALOGO\nELECTRONICO","NO CORRESPONDE","-",32981.47,"20477208771 - SERVICIOS SEÑOR DE LA HUMILDAD","CULMINADO","2018-05-04","2018-05-08"]
[null,"ADQUISICION DE 1987 KIT DE MATERIAL DE LIMPIEZA PARA EL NIVEL PRIMARIA","COMPRA POR CATALOGO\nELECTRONICO","NO CORRESPONDE","-",73505.09,"10195577281-ANTICONA ASTO AMELIA","CULMINADO","2018-05-10","2018-05-14"]
[null,"ADQUISICION DE 831 KIT DE MATERIAL DE LIMPIEZA PARA EL NIVEL INICIAL","COMPRA POR CATALOGO\nELECTRONICO","NO CORRESPONDE","-",30741.18,"10195577281-ANTICONA ASTO AMELIA","CULMINADO","2018-05-10","2018-05-14"]
[null,"ADQUISICION DE 771 KIT DE MATERIAL DE LIMPIEZA PARA EL NIVEL SECUNDARIA","COMPRA POR CATALOGO\nELECTRONICO","NO CORRESPONDE","-",28521.61,"10195577281-ANTICONA ASTO AMELIA","CULMINADO","2018-05-11","2018-05-15"]
[null,"ADQUISICION DE MATERIAL FUNGIBLE PARA LAS II.EE. FOCALIZADAS PO EL PP091","COMPRA POR CATALOGO\nELECTRONICO","NO CORRESPONDE","-",32668.66,"20477208771 - SERVICIOS SEÑOR DE LA HUMILDAD","CULMINADO","2018-06-10","2018-08-14"]
[null,"ADQUISICION DE 349 KIT DE MATERIAL FUNGIBLE PARA 108 II.EE. PRIMARIA PRIORIDAD 2, 3 Y 4","COMPRA POR CATALOGO\nELECTRONICO","NO CORRESPONDE","-",84122.48,"20477208771 - SERVICIOS SEÑOR DE LA HUMILDAD","CULMINADO","2018-11-05","2018-11-07"]
[null,"ADQUISICION DE 371 KIT DE MATERIAL FUNGIBLE PARA 112 IE DEL NIVEL PRIMARIA - PRIORIDAD 1","COMPRA POR CATALOGO\nELECTRONICO","NO CORRESPONDE","-",95926.35,"20477208771 - SERVICIOS SEÑOR DE LA HUMILDAD","CULMINADO","2018-11-05","2018-11-07"]
[null,"ADQUISICION DE 328 KIT DE MATERIAL FUNGIBLE, PARA LAS 239 II.EE. FOCALIZADAS POR EL MINEDU","COMPRA POR CATALOGO\nELECTRONICO","NO CORRESPONDE","-",48418.7,"20477208771 - SERVICIOS SEÑOR DE LA HUMILDAD","CULMINADO","2018-12-13","2018-12-17"]
[null,"ADQUISICION DE MATERIAL FUNGIBLE PARA 65 II.EE. DE INICIAL ","COMPRA POR CATALOGO\nELECTRONICO","NO CORRESPONDE","-",73702.8,"20477208771 - SERVICIOS SEÑOR DE LA HUMILDAD","CULMINADO","2018-12-13","2018-12-17"]
[null,"ADQUISICION DE 480 KIT DE MATERIAL FUNGIBLE PARA 50 II.EE. DEL NIVEL PRIMARIA","COMPRA POR CATALOGO\nELECTRONICO","NO CORRESPONDE","-",77115.360000000001,"20477208771 - SERVICIOS SEÑOR DE LA HUMILDAD","CULMINADO","2018-12-21","2018-12-18"]
[null,2019,null,null,null,{"$f":"SUM(F316:F322)","v":362632.91}]
[null,"SERVICIO DE TRANSPORTE Y DISTRIBUCION DE MATERIAL EDUCATIVO- RUTA 02 CONDORMARCA, BAMBAMARCA Y PATAZ","COMPARACION DE PRECIOS","NO CORRESPONDE",2,58070.05,"10195609158 -GASPAR CHACON VACA","CULMINADO","2019-02-22","2019-03-08"]
[null,"SERVICIO DE TRANSPORTE Y DISTRIBUCION DE MATERIAL EDUCATIVO- RUTA 06 COCHORCO","COMPARACION DE PRECIOS","NO CORRESPONDE",4,40038.449999999997,"10737724242 - KARLA ESTEFANY VERA VERA","CULMINADO","2019-02-22","2019-03-08"]
[null,"SERVICIO DE TRANSPORTE Y DISTRIBUCION DE MATERIAL EDUCATIVO- RUTA 04 SANAGORAN","COMPARACION DE PRECIOS","NO CORRESPONDE",3,51034.79,"20481584125 - EMPRESA INVERSIONES CAMPO GRANDE","CULMINADO","2019-02-22","2019-03-08"]
[null,"SERVICIO DE TRANSPORTE Y DISTRIBUCION DE MATERIAL EDUCATIVO- RUTA 08 MARCABAL","COMPARACION DE PRECIOS","NO CORRESPONDE",1,50059.68,"20481584125 - EMPRESA INVERSIONES CAMPO GRANDE","CULMINADO","2019-02-25","2019-03-08"]
[null,"SERVICIO DE TRANSPORTE Y DISTRIBUCION DE MATERIAL EDUCATIVO- RUTA 07 SARTIMBAMBA"," 54 ADJUDICACION SIMPLIFICADA","NO CORRESPONDE",1,43789.14,"TRANSPORTES HONESA EIRL","CULMINADO","2019-02-25","2019-03-08"]
[null,"SERVICIO DE TRANSPORTE Y DISTRIBUCION DE MATERIAL EDUCATIVO- RUTA 03 SARIN"," 54 ADJUDICACION SIMPLIFICADA","NO CORRESPONDE",2,66113.87,"SERVICIOS SEÑOR DE LA HUMILDAD SAC","CULMINADO","2019-02-28","2019-03-08"]
[null,"ADQUISICION DE MATERIAL DE ESCRITORIO PARA LAS 304 II.EE. DEL NIVEL PRIMARIA","COMPRA POR CATALOGO\nELECTRONICO","NO CORRESPONDE","-",53526.93,"SERVICIOS SEÑOR DE LA HUMILDAD SAC","CULMINADO","03//06/2019","2019-06-05"]
[null,"ADQUISICION DE MATERIAL DE LIMPIEZA PARA LAS 304 II.EE. DEL NIVEL PRIMARIA","COMPRA POR CATALOGO\nELECTRONICO","NO CORRESPONDE","-",73246.149999999994,"10195577281-ANTICONA ASTO AMELIA","CULMINADO","2019-06-04","2019-06-06"]
[null,2020,null,null,null,{"$f":"F325+F326","v":790000}]
[null,"SERVICIO DE TRANSPORTE Y DISTRIBUCION DE MATERIAL EDUCATIVO- RUTA 01,02,03,04,05,06,07Y08"," 54 ADJUDICACION SIMPLIFICADA","NO CORRESPONDE","-",390000]
[null,"ADQUISICION DE MATERIAL FUNGIBLE PARA LAS II.EE. FOCALIZADAS POR EL MINEDU","COMPRA POR CATALOGO\nELECTRONICO","NO CORRESPONDE","-",400000]
[null,"TOTAL",null,null,null,{"$f":"+F298+F315+F324","v":1997407.3299999998}]
[null,"UE  (308 EDUCACION PATAZ)"]
[null,2018,null,null,null,{"$f":"SUM(F330:F331)","v":253147.8}]
[null,"SERVICIO DE TRANSPORTE DE MATERIAL EDUCATIVO Y FUNGIBLE CORRESPONDIENTE A LA DOTACION 2018 HACIA LAS INSTITUCIONES EDUCATIVAS DE LA JURISDICCION DE LA UNIDAD DE GESTION EDUCATIVA LOCAL PATAZ","ADJUDICACION SIMPLIFICADA","PROCESO CLASICO",1,253147.8,"MENDEZ HURTADO ASTERIA ASUCENA","CULMINADO","2017-12-01","01.02.2019\n28.02.2019","LA DISTRIBUCION SE REALIZO EN EL AÑO 2018"]
[]
[null,2019,null,null,null,{"$f":"SUM(F333:F334)","v":306032}]
[null,"SERVICIO DE MODULADO Y TRANSPORTE Y DISTRIBUCIÓN DE MATERIAL EDUCATIVO Y FUNGIBLE CORRESPONDIENTE A LA DOTACION 2019 HACIA LAS INSTITUCIONES EDUCATIVAS DE LA JURISDICCION DE LA UNIDAD DE GESTION EDUCATIVA LOCAL PATAZ","ADJUDICACION SIMPLIFICADA","PROCESO CLASICO",1,306032,"MENDEZ HURTADO ASTERIA ASUCENA","CULMINADO","2019-02-06"]
[]
[null,2020]
[]
[null,"TOTAL",null,null,null,{"$f":"+F329+F332+F335","v":559179.80000000005}]
[null,"UE 309 EDUCACION BOLIVAR (0843)"]
[null,2018,null,null,null,{"$f":"SUM(F340:F343)","v":196357.78}]
[null,"1 ADQUISICION DE TONER","CM","Compras por catálogo ",1,12757.78,"20508900407 COPY PACKAR E I R L, 20600886283 IMPORTACIONES JUVAS HNOS. S.A.C.","CULMINADO","ABRIL","********"]
[null,"2 ADQUISICION DE EQUIPO DE COMPUTO","CM","Compras por catálogo ",2,50000,"20600976550 SMART VALUE SOLUTIONS S.R.L.","CULMINADO","ABRIL","********"]
[null,"3 ADQUISICION DE UNIFORME PARA PERSONAL ADMINISTRATIVO SEDE Y PERSONAL ADMINISTRATIVO DE LAS INSTITUCIONES EDUCATIVA","CM","Compras por catálogo ",3,36600,"20549755624 INVERSIONES D'VERINO S.A.C.","CULMINADO","ABRIL","********"]
[null,"4 ADQUISICIÓN DE MATERIAL DIDÁCTICO PARA LAS INSTITUCIONES EDUCATIVAS DEL NIVEL PRIMARIO","CM","Compras por catálogo ",4,97000,"20600450272 INVERSIONES Y SERVICIOS GENERALES KAMARI S.A.C, 20600767985 GRUPO SERSUNOR S.A.C.","CULMINADO","AGOSTO","********"]
[null,2019,null,null,null,{"$f":"SUM(F345:F350)","v":196873.89}]
[null,"1 Adquisición de material fungible para las instituciones educativas del nivel inicial y primaria ","C M","Compras por catálogo ",1,69946,"20481068381 NECOFESA , 20602879560 ALMACENES  GUREMI SAC , 20600005805 COMERCIAL VEGU EIRL.","CULMINADO","MARZO","**********"]
[null,"2 Adquisición de material de escritorio y papelería para las instituciones educativas del nivel inicial, primaria y secundaría","C M","Compras por catálogo ",2,26363,"10476307339 CUEVA CACHI SEGUNDO DAVID , 20604027447 INVERSIONES LU STATIONERY S.A.C. ","CULMINADO","MARZO","**********"]
[null,"3 CONTRATACIÓN DEL SERVICIO DE TRANSPORTE DE CARGA DE MATERIALES EDUCATIVOS DE UGEL A INSTITUCIONES EDUCATIVAS","C M","Compras por catálogo ",3,46467.97,"20496139110 - GRAN CANARIA SRL","CULMINADO","FEBRERO","**********"]
[null,"4 ADQUISICIÓN DE MATERIALES DE ASEO PARA LAS II.EE DE LOS NIVELES INICIAL, PRIMARIA Y SECUNDARIA DE LA UGEL BOLIVAR 2019.","C M","Compras por catálogo ",4,31992.01,"20602753710 INVERSIONES VALUPA E.I.R.L., 20512026274 FASHION GOODS S.A.C.",20512026274,"JUNIO","**********"]
[null,"5 ADQUISICION DE UTILES DE ESCRITORIO PARA LA SEDE CENTRAL DE LA UGEL BOLIVAR.","C M","Compras por catálogo ",5,3529.96,"20600767985 GRUPO SERSUNOR S.A.C, 20480781172 RGM DISTRIBUCIONES S.A.C","CULMINADO","JUNIO","**********"]
[null,"6 ADQUISICIÓN DE MATERIAL FUNGIBLE PARA LAS DIVERSAS INSTITUCIONES DEL NIVEL INICIAL DE LA UGEL BOLIVAR 2019.","C M","Compras por catálogo ",6,18574.95,"20600450272 INVERSIONES Y SERVICIOS GENERALES KAMARI S.A.C.","CULMINADO","JUNIO","**********"]
[]
[null,"TOTAL",null,null,null,{"$f":"+F339+F344","v":393231.67000000004}]
[null,"UE 310 COLEGIO MILITAR RAMON CASTILLA (0844)"]
[null,2018]
[null,"1. CONTRATACIÓN DE SUMINISTRO DE VIVERES SECOS ","ADJUDICACION SIMPLIFICADA","PROCESO CLASICO",1,348548.35,"CONSORCIO ALIMENTOS N&F (20481368341 - DISTRIBUIDORA FINA SRL - 20477171321 - NEGOCIOS NEGI S.A.C.)","CULMINADO","2018-02-27","MAR - DIC 2018"]
[null,"2. CONTRATACIÓN DE SUMINISTRO DE VERDURAS, TUBÉRCULOS Y FRUTAS ","ADJUDICACION SIMPLIFICADA","PROCESO CLASICO",2,356733.12,"CONSORCIO ALIMENTOS N&F (20481368341 - DISTRIBUIDORA FINA SRL - 20477171321 - NEGOCIOS NEGI S.A.C.)","CULMINADO","2018-02-27"]
[null,"3. CONTRATACIÓN DE SUMINISTRO DE CARNES DIVERSAS ","ADJUDICACION SIMPLIFICADA","PROCESO CLASICO",3,317449,"20481144231 - ALIMENTOS Y CARNES EIRL","CULMINADO","2018-02-27"]
[null,"4. CONTRATACIÓN DE PRENDAS ESCOLARES Y MILITARES  PARA CADETES","ADJUDICACION SIMPLIFICADA","PROCESO CLASICO",4,394860,"20135463559 - BENATELL S.R.LTDA.","CULMINADO","2018-03-13","ABR-MAY 2018"]
[null,"5. CONTRATACIÓN DE PRENDAS DE CAMA, DEPORTIVAS Y ACCESORIOS DIVERSOS PARA VESTUARIO DE CADETES","ADJUDICACION SIMPLIFICADA","PROCESO CLASICO",5,113753.4,"20135463559 - BENATELL S.R.LTDA.","CULMINADO","2018-03-06","ABR-MAY 2018"]
[null,null,null,null,null,68850,"20602581382 - EPROFAM AMY S.A.C.","CULMINADO","2018-03-09"]
[null,null,null,null,null,51005,"CONSORCIO JAROMI Y S. YANAC (20515669125 - JAROMI CORPORATION S.A.C. - 10480833151  STEPHANY CAROLINA YANAC SUERO)","CULMINADO","2018-03-09"]
[null,null,null,null,null,49025,"20600825101 -CONFECCIONES WALLIQ PERU S.A.C. ","CULMINADO","2018-03-09"]
[null,"6. CONTRATACIÓN DE SUMINISTRO DE ARROZ EXTRA ","ADJUDICACION SIMPLIFICADA","SUBASTA INVERSA ELECTRONICA",1,43999,"20477171321 - NEGOCIOS NEGI S.A.C. ","CULMINADO","2018-03-05","MAR - DIC 2018"]
[null,"7. CONTRATACIÓN DE UNIFORME INSTITUCIONAL PARA PERSONAL ADMINISTRATIVO DE LA IEPM GMRC","ADJUDICACION SIMPLIFICADA","PROCESO CLASICO",6,51920,"10427318341 -WALTER ANTONIO QUESQUEN ABANTO ","CULMINADO","2018-08-01","SET\n 2018"]
[null,"TOTAL",null,null,null,{"$f":"SUM(F355:F364)","v":1796142.8699999999}]
[null,2019]
[null,"1. CONTRATACIÓN DE PRENDAS MILITARES  PARA CADETES","ADJUDICACION SIMPLIFICADA","PROCESO CLASICO",1,268125.14,"20135463559 - BENATELL S.R.L.","CULMINADO","2019-02-25","MAR - MAY 2019"]
[null,"2. CONTRATACIÓN DE PRENDAS ESCOLARES Y DE DEPORTE PARA CADETES","ADJUDICACION SIMPLIFICADA","PROCESO CLASICO",2,108575.63,"20135463559 - BENATELL S.R.L.","CULMINADO","2019-02-25","MAR - MAY 2019"]
[null,null,null,null,null,77457,"20507876219 - J.P.Y. SPORTS S.C.R.LTDA ","CULMINADO","2019-02-25","MAR - MAY 2019"]
[null,"3. CONTRATACIÓN DE PRENDAS DE CAMA Y ACCESORIOS DIVERSOS PARA VESTUARIO DE CADETES","ADJUDICACION SIMPLIFICADA","PROCESO CLASICO",3,74251.8,"CONSORCIO J.P.Y. SPORTS S.C.R.LTDA. & NEGOCIOS GENERALES GREEN WORDL E.I.R.L. (20507876219 J.P.Y. SPORTS S.C.R.LTDA. - 20601433860 NEGOCIOS GENERALES GREEN WORDL E.I.R.L.)","CULMINADO","2019-02-25","MAR - MAY 2019"]
[null,null,null,null,null,39468,"20602581382 - EMPRESA PROVEEDORA FAMILIAR AMY S.A.C. – EPROFAM AMY S.A.C. ","CULMINADO","2019-02-25","MAR - MAY 2019"]
[null,null,null,null,null,44537,"20600825101 - CONFECCIONES WALLIQ PERU S.A.C.","CULMINADO","2019-02-25","MAR - MAY 2019"]
[null,"4. CONTRATACIÓN DE SUMINISTRO DE VIVERES SECOS ","ADJUDICACION SIMPLIFICADA","PROCESO CLASICO",4,264170.8,"CONSORCIO ALIMENTOS N&F (20481368341 - DISTRIBUIDORA FINA SRL - 20477171321 - NEGOCIOS NEGI S.A.C.)","EN EJECUCIÓN ","2019-03-04","MAR - DIC 2019"]
[null,"5. CONTRATACIÓN DE SUMINISTRO DE VERDURAS, TUBÉRCULOS Y FRUTAS ","ADJUDICACION SIMPLIFICADA","PROCESO CLASICO",5,275748.90000000002,"CONSORCIO ALIMENTOS N&F (20481368341 - DISTRIBUIDORA FINA SRL - 20477171321 - NEGOCIOS NEGI S.A.C.)","EN EJECUCIÓN ","2019-03-04","MAR - DIC 2019"]
[null,"6. CONTRATACIÓN DE SUMINISTRO DE CARNES DIVERSAS ","ADJUDICACION SIMPLIFICADA","PROCESO CLASICO",6,331976.3,"20481144231 - ALIMENTOS Y CARNES E.I.R.L. ","EN EJECUCIÓN ","2019-03-04","MAR - DIC 2019"]
[null,"7. CONTRATACIÓN DE SUMINISTRO DE ALIMENTOS DIVERSOS ","SUBASTA INVERSA ELECTRONICA","SUBASTA INVERSA ELECTRONICA",1,141800,"20481368341 - DISTRIBUIDORA FINA SRL ","EN EJECUCIÓN ","2019-03-13","MAR - DIC 2019"]
[null,null,null,null,null,98300," 20477171321 - NEGOCIOS NEGI S.A.C.","EN EJECUCIÓN ","2019-03-13","MAR - DIC 2019"]
[null,"TOTAL",null,null,null,{"$f":"SUM(F367:F377)","v":1724410.57}]
[null,2020]
[null,"1. CONTRATACIÓN DE PRENDAS MILITARES  PARA CADETES","ADJUDICACION SIMPLIFICADA","PROCESO CLASICO",1,290000]
[null,"2. CONTRATACIÓN DE PRENDAS ESCOLARES Y DE DEPORTE PARA CADETES","ADJUDICACION SIMPLIFICADA","PROCESO CLASICO",2,230000]
[null,"3. CONTRATACIÓN DE PRENDAS DE CAMA Y ACCESORIOS DIVERSOS PARA VESTUARIO DE CADETES","ADJUDICACION SIMPLIFICADA","PROCESO CLASICO",3,240000]
[null,"4. CONTRATACIÓN DE SUMINISTRO DE VIVERES SECOS ","ADJUDICACION SIMPLIFICADA","PROCESO CLASICO",4,310000]
[null,"5. CONTRATACIÓN DE SUMINISTRO DE VERDURAS, TUBÉRCULOS Y FRUTAS ","ADJUDICACION SIMPLIFICADA","PROCESO CLASICO",5,320000]
[null,"6. CONTRATACIÓN DE SUMINISTRO DE CARNES DIVERSAS ","ADJUDICACION SIMPLIFICADA","PROCESO CLASICO",6,380000]
[null,"7. CONTRATACIÓN DE SUMINISTRO DE ALIMENTOS DIVERSOS ","SUBASTA INVERSA ELECTRONICA","SUBASTA INVERSA ELECTRONICA",1,290000]
[null,"TOTAL",null,null,null,{"$f":"SUM(F380:F386)","v":2060000}]
[null,"UE  311 EDUCACIÓN JULCÁN"]
[null,2018,null,null,null,{"$f":"SUM(F390:F393)","v":104000}]
[null,"1. ADQUISICIÓN DE PAPELERIA EN GENERAL, UTILES Y MATERIAL DE OFICINA","ACUERDO MARCO","DIRECTO",1,23000,"10476307339 CACHY CUEVA SEGUNDO DAVID","CULMINADO","2018-01-16","2018-03-01"]
[null,"2 ADQUISICIÓN DE PAPELERIA EN GENERAL, UTILES Y MATERIAL DE OFICINA","ACUERDO MARCO","DIRECTO",2,28000,"10476307339 CACHY CUEVA SEGUNDO DAVID","CULMINADO","2018-03-20","2018-05-01"]
[null,"3. TRANSPORTE DE MATERIAL EDUCATIVO","COMPARACION DE PRECIOS","DIRECTO",3,53000,"10181252460 CASTRO AVALOS FIDEL ULISES","CULMINADO","2018-01-18","2018-02-01"]
[]
[null,2019,null,null,null,{"$f":"SUM(F395:F398)","v":125000}]
[null,"1. ADQUISICIÓN DE PAPELERIA EN GENERAL, UTILES Y MATERIAL DE OFICINA","ACUERDO MARCO","DIRECTO",1,28000,"10476307339 CACHY CUEVA SEGUNDO DAVID","CULMINADO","2019-02-12","2019-04-01"]
[null,"2. ADQUISICIÓN DE PAPELERIA EN GENERAL, UTILES Y MATERIAL DE OFICINA","ACUERDO MARCO","DIRECTO",2,32000,"10476307339 CACHY CUEVA SEGUNDO DAVID","CULMINADO","2019-04-25","2019-06-01"]
[null,"3. TRANSPORTE DE MATERIAL EDUCATIVO","COMPARACION DE PRECIOS","DIRECTO",3,65000,"101907940868 AVALOS CAYETANO MIRIAM JANETT","CULMINADO","2019-01-22","2019-02-01"]
[]
[null,2020,null,null,null,{"$f":"SUM(F400:F402)","v":145000}]
[null,"1. ADQUISICIÓN DE PAPELERIA EN GENERAL, UTILES Y MATERIAL DE OFICINA","ACUERDO MARCO","DIRECTO",1,35000,null,null,null,"2020-04-01"]
[null,"2. ADQUISICIÓN DE PAPELERIA EN GENERAL, UTILES Y MATERIAL DE OFICINA","ACUERDO MARCO","DIRECTO",2,40000,null,null,null,"2020-04-01"]
[null,"3. TRANSPORTE DE MATERIAL EDUCATIVO","COMPARACION DE PRECIOS","DIRECTO",3,70000,null,null,null,"2020-02-01"]
[]
[null,"TOTAL",null,null,null,{"$f":"+F389+F394+F399","v":374000}]
[null,"UE 312 EDUCACION VIRU (1307)"]
[null,2018,null,null,null,{"$f":"SUM(F407:F429)","v":1008268.53}]
[null,"01.- SERVICIO DE TRANSPORTE DE MATERIAL EDUCATIVO MINEDU II TRAMO 2018","CONTRATACION MENORES A 8 UIT´S","PROCESO CLASICO","1",29954,"10190250224-TRANSPORTE MENDEZ","CULMINADO","2018-02-01"]
[null,"02.- SERVICIO DE PREPARACION DE ALMUERZOS Y COFEE BREACK PARA TALLERES DE AGP DE LA UGEL VIRU 2018","AS","PROCESO CLASICO",1,104532,"20559795292-INVERSIONES Y SERVICIOS GENERALES VIRU S.A.C","CULMINADO","2018-05-17"]
[null,"03.- SERVICIO DE ARREGLO DE INFRAESTRUCTURA DE LAS II.EE N° 2275 VALLE DE DIOS.","CONTRATACION MENORES A 8 UIT´S","PROCESO CLASICO",2,16340,"20601386586-JULMEN CONTRATISTAS GENERALES S.R.L","CULMINADO","2018-12-11"]
[null,"04.- ADQUISICION DE MATERIAL FUNGIBLE NIVEL PRIMARIA DE LA UGEL VIRU","PERU COMPRAS OSCE","PROCESO CLASICO",1,42966.83,"20600802021 - INVERSIONES & SERVICIOS GENERALES JGC E.I.R.L","CULMINADO","2018-01-19","2018-01-22"]
[null,"05.- ADQUISICION DE MATERIAL FUNGIBLE NIVEL INICIAL DE LA UGEL VIRU","PERU COMPRAS OSCE","PROCESO CLASICO",2,40052.730000000003,"20600802021 - INVERSIONES & SERVICIOS GENERALES JGC E.I.R.L","CULMINADO","2018-01-30","2018-02-06"]
[null,"06.- ADQUISICION DE MATERIALES FUNGIBLE NIVEL PRIMARIA DE LA UGEL VIRU","CONTRATACION MENORES A 8 UIT´S","PROCESO CLASICO",3,27432,"10459096251 - CORONEL ROJAS ASHLY","CULMINADO","2018-01-30","2018-02-06"]
[null,"07.- ADQUISICION DE MATERIAL DIDACTICO PARA II.EE NO FOCALIZADOS MINEDU 2018","PERU COMPRAS OSCE","PROCESO CLASICO","3",62210.67,"20601637881 - CORPORACION TOUCH PERU E.I.R.L","CULMINADO","2018-04-12","2018-04-13"]
[null,"08.- ADQUISICION DE MATERIAL DE ASEO PARA LAS II.EE DE LOS NIVELES DE INICIAL, PRIMARIA Y SECUNDARIA DE LA UGEL VIRU","AS","PROCESO CLASICO","2",67550,"10068624369 - CABANILLAS COLLANTES LITA DANY","CULMINADO","2108-05-25","2018-05-30"]
[null,"09.- ADQUISICION DE MATERIALES PARA ESPECIALISTAS DE LOS NIVELES DE INICIAL, PRIMARIA Y SECUNDARIA DE LA UGEL VIRU","PERU COMPRAS OSCE","PROCESO CLASICO","4",28611.919999999998,"20603009615 - DE TODO CONVENIO E.I.R.L","CULMINADO","2018-06-13","2018-06-18"]
[null,"10.- ADQUISICION DE MATERIALES PARA KIT DE DIRECTORES DEL NIVEL DE INICIAL DE LA UGEL VIRU 2018","PERU COMPRAS OSCE","PROCESO CLASICO","5",24790.98,"20603009615 - DE TODO CONVENIO E.I.R.L","CULMINADO","2018-07-12","2018-06-15"]
[null,"11.- ADQUISICION DE KIT DE DEPORTE DE EDUCACION FISICA PARA II.EE FOCALIZADAS DE LA UGEL VIRU 2018","CONTRATACION MENORES A 8 UIT´S","PROCESO CLASICO","4",27190,"20602753710 - INVERSIONES VALUPA E.I.R.L","CULMINADO","2018-08-02","2018-08-05"]
[null,"12.- ADQUISICION DE KIT PARA DIRECTORES DEL NIVEL DE PRIMARIA DE LA UGEL VIRU 2018","PERU COMPRAS OSCE","PROCESO CLASICO","6",27213.88,"20603009615 - DE TODO CONVENIO E.I.R.L","CULMINADO","2018-09-25","2018-09-27"]
[null,"13.- ADQUISICION DE MATERIALES DIDACTICOS PARA ALUMNOS DEL NIVEL DE PRIMARIA DE LA UGEL VIRU 2018","PERU COMPRAS OSCE","PROCESO CLASICO","7",30796.84,"20603009615 - DE TODO CONVENIO E.I.R.L","CULMINADO","2018-09-25","2018-09-26"]
[null,"14.- ADQUISICION DE MATERIALES DIDACTICOS PARA ALUMNOS DE SECUNDARIA DE LA UGEL VIRU 2018","PERU COMPRAS OSCE","PROCESO CLASICO","8",30746.28,"20603009615 - DE TODO CONVENIO E.I.R.L","CULMINADO","2018-09-25","2018-09-27"]
[null,"15.- ADQUISICION DE MATERIALES PARA REPOSICION DE ALMACEN DE LA UGEL VIRU 2018","PERU COMPRAS OSCE","PROCESO CLASICO","9",30001.01,"20603036965 - GRUPO EMPRESARIAL F&T ASOCIADOS E.I.R.L","CULMINADO","2018-09-25","2018-09-27"]
[null,"16.- ADQUISICION DE MATERIALES DIDACTICO PARA EL NIVEL DE INICIAL DE LA UGEL VIRU 2018","CONTRATACION MENORES A 8 UIT´S","PROCESO CLASICO","5",30746.9,"20557191446 - CORPORACION TECNOLOGICA Y EQUIPAMIENTOS S.A.C","CULMINADO","2018-09-27","2018-09-30"]
[null,"17.- ADQUISICION DE COMPUTADORAS DE ESCRITORIO PARA LAS II.EE DE LA UGEL VIRU ","PERU COMPRAS OSCE","PROCESO CLASICO","10",81000,"20603009615 - DE TODO CONVENIO E.I.R.L","CULMINADO","2018-10-19","2018-10-21"]
[null,"18.- ADQUISICION DE MATERIAL FUNGIBLE DEL NIVEL DE INCIAL DOTACION 2019","PERU COMPRAS OSCE","PROCESO CLASICO","11",70751.09,"20603009615 - DE TODO CONVENIO E.I.R.L","CULMINADO","2018-10-26","2018-10-28"]
[null,"19.- ADQUISICION DE KIT DE FUNGIBLE DOTACION 2019 PARA EL NIVEL DE PRIMARIA DE LA UGEL VIRU","PERU COMPRAS OSCE","PROCESO CLASICO","12",26823,"20603036965 - GRUPO EMPRESARIAL F&T ASOCIADOS E.I.R.L","CULMINADO","2018-11-26","2018-11-27"]
[null,"20.- ADQUISICION DE MATERIALES PARA LAS II.EE DE LA UGEL VIRU 2018","PERU COMPRAS OSCE","PROCESO CLASICO","13",32671.78,"20603036965 - GRUPO EMPRESARIAL F&T ASOCIADOS E.I.R.L","CULMINADO","2018-12-04","2018-12-05"]
[null,"21.- ADQUISICION DE EQUIPOS COMPUTACIONALES PARA LAS II.EE DE LA UGEL VIRU 2018","CONTRATACION MENORES A 8 UIT´S","PROCESO CLASICO","6",31976.62,"20603009615 - DE TODO CONVENIO E.I.R.L","CULMINADO","2018-12-05","2018-12-06"]
[null,"22.- ADQUISICION DE MOBILIARIO PARA LAS II.EE DEL AMBITO DE LA UGEL VIRU 2018","AS","PROCESO CLASICO","3",113200,"20525136346 - MOBILIARIO GRUPO CARDENAS E.I.R.L","CULMINADO","2018-12-12","2018-12-28"]
[null,"23.- ADQUISICION DE SILLAS Y MESAS PARA LAS II.EE DEL NIVEL DE INCIAL DE LA UGEL VIRU","CONTRATACION MENORES A 8 UIT´S","PROCESO CLASICO","7",30710,"20602753710 - INVERSIONES VALUPA E.I.R.L","CULMINADO","2018-12-20","2018-12-28"]
[null,2019,null,null,null,{"$f":"SUM(F431:F444)","v":381163.5}]
[null,"01.- ADQUISICION DE MATERIALES FUNGIBLE DOTACION 2019 NIVEL PRIMARIA","PERU COMPRAS OSCE","PROCESO CLASICO",1,41373.51,"20603009615 - DE TODO CONVENIO E.I.R.L","CULMINADO","2019-02-04","2019-02-06"]
[null,"02.- ADQUISICION DE MATERIALES DE LIMPIEZA PARA LAS II.EE DEL AMBITO DE LA UGEL VIRU","PERU COMPRAS OSCE","PROCESO CLASICO",2,28852.95,"20603009615 - DE TODO CONVENIO E.I.R.L","CULMINADO","2019-03-13","2019-03-14"]
[null,"03.- ADQUISICION DE MATERIALES DE LIMPIEZA PARA LAS II.EE DEL AMBITO DE LA UGEL VIRU","PERU COMPRAS OSCE","PROCESO CLASICO",3,32998.25,"20602753710 - INVERSIONES VALUPA E.I.R.L","CULMINADO","2019-03-13","2019-03-15"]
[null,"04.- ADQUISICION DE MATERIALES DE LIMPIEZA PARA LAS II.EE DEL AMBITO DE LA UGEL VIRU","CONTRATACION MENORES A 8 UIT´S","PROCESO CLASICO",1,14405.5,"20604094276 - OPERADOR LOGISTICO V&B E.I.R.L","CULMINADO","2019-03-13","2019-03-15"]
[null,"05.- ADQUISICION DE COMPUTADORAS DE ESCRITORIO PARA 11 II.EE DEL AMBITO DE LA UGEL VIRU 2019","PERU COMPRAS OSCE","PROCESO CLASICO",4,27262,"20603009615 - DE TODO CONVENIO E.I.R.L","CULMINADO","2019-04-29","2019-04-30"]
[null,"06.- ADQUISICION DE TONER PARA REPOSICION DE STOCK DEL ALMACEN DE LA UGEL VIRU 2019","PERU COMPRAS OSCE","PROCESO CLASICO",5,14927.8,"20600802021 - INVERSIONES & SERVICIOS GENERALES JGC E.I.R.L","CULMINADO","2019-05-06","2019-05-07"]
[null,"07.- ADQUISICION DE MATERIALES PARA TALLERES DE ESPECIALISTAS DE AGP DE LA UGEL VIRU 2019","PERU COMPRAS OSCE","PROCESO CLASICO",6,19785.09,"20604094276 - OPERADOR LOGISTICO V&B E.I.R.L","CULMINADO","2019-07-02","2019-07-04"]
[null,"08.- ADQUISICION DE MATERIALES DE LIMPIEZA PARA LAS II.EE DE LA UGEL VIRU 2019","PERU COMPRAS OSCE","PROCESO CLASICO",7,22164.93,"20602753710 - INVERSIONES VALUPA E.I.R.L","CULMINADO","2019-08-07","2019-08-08"]
[null,"09.- ADQUISICION DE MATERIALES PARA TALLERES DE ESPECIALISTAS DE AGP DE LA UGEL VIRU 2019","PERU COMPRAS OSCE","PROCESO CLASICO",8,19273.47,"20604094276 - OPERADOR LOGISTICO V&B E.I.R.L","CULMINADO","2019-08-08","2019-08-09"]
[null,"10.- CONTRATACION DE SERVICIO DE TRANSPORTE PARA LA DISTRIBUCION DE MATERIAL EDUCATIVO MINEDU 2019","AS","PROCESO CLASICO",1,57500,"10190250224 - MENDEZ HURTADO ASTERIA ASUCENA","CULMINADO","2019-02-11","2019-02-21"]
[null,"11.- TRANSPORTE PARA LA DISTRIBUCION DE MATERIAL FUNGIBLE A TODAS LAS II.EE DE INICIAL Y PRIMARIA DOTACION 2019","CONTRATACION MENORES A 8 UIT´S","PROCESO CLASICO",2,30000,"10190250224 - MENDEZ HURTADO ASTERIA ASUCENA","CULMINADO","2019-02-11","30-02-2019"]
[null,"12.- TRANSPORTE DE MATERIAL DE LIMPIEZA A TODAS LAS II.EE DEL AMBITO DE LA UGEL VIRU ","CONTRATACION MENORES A 8 UIT´S","PROCESO CLASICO",3,22000,"10190250224 - MENDEZ HURTADO ASTERIA ASUCENA","CULMINADO","2019-04-12","2019-04-22"]
[null,"13.- SERVICIO DE CONSTRUCCION DE CERCO PERIMETRICO EN LAS II.EE LAS GAVIOTAS Y LA CALERA DE VIRU","CONTRATACION MENORES A 8 UIT´S","PROCESO CLASICO",3,28290,"10190328878 - INVERSIONES Y MULTISERVICIOS MARICARMEN","CULMINADO","2019-06-18","2019-06-30"]
[null,"14.- SERVICIO DE ACONDICIONAMIENTO DE AMBIENTE EN EL TERCER PISO DE LA SEDE DE LA UGEL VIRU","CONTRATACION MENORES A 8 UIT´S","PROCESO CLASICO",4,22330,"10181212905 - SALAZAR MORILLAS CARLOS DANNY","CULMINADO","2019-07-05","2019-07-18"]
[null,2020,null,null,null,{"$f":"+F446+F447+F448+F449","v":260000}]
[null,"01.- ADQUISICION DE MATERIALES DE LIMPIEZA PARA LAS II.EE DEL AMBITO DE LA UGEL VIRU 2020","PERU COMPRAS OSCE","PROCESO CLASICO",1,58000]
[null,"02.-SERVICIO DE TRANSPORTE DE MATERIAL EDUCATIVO DEL MINEDU A TODAS LAS II.EE DE LA UGEL VIRU","AS","PROCESO CLASICO",1,78000]
[null,"03.-SERVICIO DE TRANSPORTE DE MATERIAL FUNGIBLE A TODAS LAS II.EE DE LA UGEL VIRU","AS","PROCESO CLASICO",2,40000]
[null,"04.- ADQUISICION DE MATERIAL FUNGIBLE PARA LAS II.EE DE TODOS LOS NIVELES DEL AMBITO DE LA UGEL VIRU","PERU COMPRAS OSCE","PROCESO CLASICO",2,84000]
[]
[]
[]
[null,"TOTAL",null,null,null,{"$f":"+F406+F430+F445","v":1649432.03}]
[null,"UE EDUCACION EL PORVENIR (1485)"]
[null,2018,null,null,null,{"$f":"SUM(F456:F457)","v":37002}]
[null,"1 CONFECCION DE UNIFORME DESTINADO PARA EL PERSONAL ADMINISTRATIVO DE LAS INSTITUCIONES EDUCATIVAS DE LA JURISDICCION DE LA UNIDAD EJECUTORA DE EDUCACION 313 EL PORVENIR, PROVINCIA DE TRUJILLO, DEPARTAMENTO DE LA LIBERTAD.","AS","PROCESO CLASICO","1",37002,"10179837299 LEON CABOS LIDUBINA ELIZABETH","CULMINADO","2018-10-04",null,"Los uniformes fueron entregados sin novedad, no hubo reclamos."]
[]
[null,2019,null,null,null,{"$f":"SUM(F459:F460)","v":37200}]
[null,"1 ADQUISICIÓN DE VESTUARIO PARA EL PERSONAL NOMBRADO Y CONTRATADO DE LAS INSTITUCIONES EDUCATIVAS DE LA JURISDICCION DE LA UNIDAD EJECUTORA DE EDUCACION 313 EL PORVENIR, PROVINCIA DE TRUJILLO, DEPARTAMENTO DE LA LIBERTAD.","AS","PROCESO CLASICO",6,37200,null,"EN PROCESO"]
[]
[null,2020,null,null,null,{"$f":"+F462","v":37200}]
[null,"1 ADQUISICIÓN DE VESTUARIO PARA EL PERSONAL NOMBRADO Y CONTRATADO DE LAS INSTITUCIONES EDUCATIVAS DE LA JURISDICCION DE LA UNIDAD EJECUTORA DE EDUCACION 313 EL PORVENIR, PROVINCIA DE TRUJILLO, DEPARTAMENTO DE LA LIBERTAD.","AS","PROCESO CLASICO",6,37200]
[]
[null,"TOTAL",null,null,null,{"$f":"+F455+F458+F461","v":111402}]
[null,"UE 314 EDUCACION LA ESPERANZA (1486)"]
[null,2018,null,null,null,{"$f":"SUM(F467:F468)","v":89575.45}]
[null,"1 ADQUISICION DE UNIFORMES PARA PERSONAL ADMINISTRATIVO DE LAS II.EE DE LA JURISDICCION DE LA UGEL 02 LA ESPERANZA","AS","PROCESO CLASICO","1",49384,"18107330 -LEON CABOS LIDUBINA ELIZABETH","CULMINADO","2018-09-27","2018-11-09"]
[null,"2. SERVICIO  DE TRANSPORTE Y DITSTRIBUCION DE MATERIAL EDUCATIVO","AS","PROCESO CLASICO",1,40191.449999999997,"19025022-MENDEZ HURTADO ASTERIA ASUCENA","CULMINADO","2018-01-23","2018-02-24"]
[null,2019,null,null,null,{"$f":"SUM(F470:F470)","v":49800}]
[null,"1 ADQUISICION DE UNIFORMES PARA PERSONAL ADMINISTRATIVO DE LAS II.EE DE LA JURISDICCION DE LA UGEL 02 LA ESPERANZA","AS","PROCESO CLASICO","1",49800,"-","EN PROCESO"]
[null,2020,null,null,null,{"$f":"SUM(F472:F473)","v":101145}]
[null,"1 ADQUISICION DE UNIFORMES PARA PERSONAL ADMINISTRATIVO DE LAS II.EE DE LA JURISDICCION DE LA UGEL 02 LA ESPERANZA","AS","PROCESO CLASICO",null,55800,null,"-","-","-","-"]
[null,"2. SERVICIO  DE TRANSPORTE Y DITSTRIBUCION DE MATERIAL EDUCATIVO","AS","PROCESO CLASICO",1,45345,null,"-","-",null,"-"]
[null,"TOTAL",null,null,null,{"$f":"+F466+F469+F471","v":240520.45}]
[null,"UE: 315 EDUCACIÓN TRUJILLO NOR OESTE"]
[null,2018,null,null,null,{"$f":"SUM(F477:F514)","v":1774721.0399999998}]
[null,"1 POR EL SERVICIO DE AGUA PARA LAS INSTITUCIONES EDUCATIVAS  PERTENECIENTES A LA UGEL N°03 TNO CORRESPONDIENTE A LA FACTURACION ENERO 2018","ASP","CONTRATACION DIRECTA",null,56080.6,"20131911310-SEDALIB S.A.","CULMINADO",null,"24/01/2018","CONTRATACION DIRECTA POR PROVEEDOR UNICO"]
[null,"2 POR EL SERVICIO DE AGUA POTABLE Y ALCANTARILLADO PARA LAS INSTITUCIONES EDUCATIVAS PERTENECIENTES A LA UGEL N° 03 TNO, CORRESPONDIENTE AL MES DE ABRIL-2018.","ASP","CONTRATACION DIRECTA",null,55127.55,"20131911310-SEDALIB S.A.","CULMINADO",null,"23/04/2018","CONTRATACION DIRECTA POR PROVEEDOR UNICO"]
[null,"3 POR LA ADQUISICION DE MATERIALES DE ESCRITORIO PARA EL PROGRAMA DEVIDA.","CCE","CATÁLOGO ELECTRÓNICO",null,143936.87,"20603036965-GRUPO EMPRESARIAL F & T ASOCIADOS E.I.R.L.","CULMINADO",null,"12/06/2018","ADQUISICION POR CATALOGO ELECTRONICO"]
[null,"4 POR LA ADQUISICION DE MATERIAL DE ESCRITORIO PARA LAS II,EE FOCALIZADAS POR EL PROGRAMA DEVIDA.","CCE","CATÁLOGO ELECTRÓNICO",null,134197.19,"20603036965-GRUPO EMPRESARIAL F & T ASOCIADOS E.I.R.L.","CULMINADO",null,"15/06/2018","ADQUISICION POR CATALOGO ELECTRONICO"]
[null,"5 POR EL SERVICIO DE ENERGIA ELECTRICA   DE LAS INSTITUCIONES CORRESPONDIENTE AL MES DE  MAYO Y JUNIO.","ASP","CONTRATACION DIRECTA",null,76309.3,"20132023540-EMPRESA REGIONAL DE SERVICIO PUBLICO DE ELECTRICIDAD ELECTRONORTEMEDIO SOCIEDAD ANONIMA - HIDRANDINA","CULMINADO",null,"11/07/2018","CONTRATACION DIRECTA POR PROVEEDOR UNICO"]
[null,"6 POR EL SERVICIO DE AGUA POTABLE Y ALCANTARILLADO DE LAS II.EE DE LA JURISDICCION DE LA UGEL 03 TNO CORRESPONDIENTE AL MES DE JUNIO Y JULIO.","ASP","CONTRATACION DIRECTA",null,127830.55,"20131911310-SEDALIB S.A.","CULMINADO",null,"24/07/2018","CONTRATACION DIRECTA POR PROVEEDOR UNICO"]
[null,"7 POR EL SERVICIO DE AGUA POTABLE Y ALCANTARILLADO DE LAS II.EE, MES DE SEPTIEMBRE.","ASP","CONTRATACION DIRECTA",null,55677.85,"20131911310-SEDALIB S.A.","CULMINADO",null,"11/09/2018","CONTRATACION DIRECTA POR PROVEEDOR UNICO"]
[null,"8 POR EL SERVICIO DE AGUA POTABLE Y ALCANTERILLADO DE LAS II.EE, MES DE AGOSTO","ASP","CONTRATACION DIRECTA",null,61950.8,"20131911310-SEDALIB S.A.","CULMINADO",null,"4/09/2018","CONTRATACION DIRECTA POR PROVEEDOR UNICO"]
[null,"9 POR EL SERVICIO DE LUZ ELECTRICA DE LAS II.EE, MES DE JULIO","ASP","CONTRATACION DIRECTA",null,41289.4,"20132023540-EMPRESA REGIONAL DE SERVICIO PUBLICO DE ELECTRICIDAD ELECTRONORTEMEDIO SOCIEDAD ANONIMA - HIDRANDINA","CULMINADO",null,"4/09/2018","CONTRATACION DIRECTA POR PROVEEDOR UNICO"]
[null,"10 POR EL SERVICIO DE LUZ ELECTRICA DE LAS II.EE DE LA JURISDICCION DE LA UGEL N°03TNO,  CORRESPONDIENTE AL MES DE SETIEMBRE.","ASP","CONTRATACION DIRECTA",null,38636.800000000003,"20132023540-EMPRESA REGIONAL DE SERVICIO PUBLICO DE ELECTRICIDAD ELECTRONORTEMEDIO SOCIEDAD ANONIMA - HIDRANDINA","CULMINADO",null,"12/10/2018","CONTRATACION DIRECTA POR PROVEEDOR UNICO"]
[null,"11 POR EL SERVICIO DE AGUA POTABLE Y ALCANTARILLADO DE LAS II.EE DE LA JURISCCION DE LA UGEL N°03 TNO CORRESPONDIENTE  MES DE OCTUBRE.","ASP","CONTRATACION DIRECTA",null,57697.3,"20131911310-SEDALIB S.A.","CULMINADO",null,"12/10/2018","CONTRATACION DIRECTA POR PROVEEDOR UNICO"]
[null,"12 POR LA ADQUISICION DE KITS DE ASEO PARA II.EE. DEL NIVEL INICIAL.","ASP","CONTRATACION DIRECTA",null,9394.84,"10709922195-ROJAS SALVADOR EBERTH SEGUNDO","CULMINADO",null,"18/10/2018","ADJUDICACION SIN PROCEDIMIENTO"]
[null,"13 POR EL SERVICIO  DE DISEÑO E IMPRESIÓN DE AGENDAS EDUCATIVAS CON INFORMACIÓN DE LAS INTERVENCIONES.","ASP","CONTRATACION DIRECTA",null,13000,"20482367403-MASS IMPRESOS S.R.L.","CULMINADO",null,"18/10/2018","ADJUDICACION SIN PROCEDIMIENTO"]
[null,"14 POR LA ADQUISICION DE MATERIAL DE ESCRITORIO  PARA II.EE DE INICIAL","CCE","CATÁLOGO ELECTRÓNICO",null,39950.400000000001,"20603036965-GRUPO EMPRESARIAL F & T ASOCIADOS E.I.R.L.","CULMINADO",null,"24/10/2018","ADQUISICION POR CATALOGO ELECTRONICO"]
[null,"13 POR LA ADQUISICION DE MATERIALES DE ESCRITORIO PARA II.EE PRIMARIA","CCE","CATÁLOGO ELECTRÓNICO",null,26000.85,"20603036965-GRUPO EMPRESARIAL F & T ASOCIADOS E.I.R.L.","CULMINADO",null,"24/10/2018","ADQUISICION POR CATALOGO ELECTRONICO"]
[null,"14 POR LA ADQUISICION DE MATERIALES  DE ESCRITORIO PARA II.EE SECUNDARIA.","CCE","CATÁLOGO ELECTRÓNICO",null,21703.96,"20603036965-GRUPO EMPRESARIAL F & T ASOCIADOS E.I.R.L.","CULMINADO",null,"24/10/2018","ADQUISICION POR CATALOGO ELECTRONICO"]
[null,"15 POR EL SERVICIO DE DELINEADO Y MANTENIMIENTO DE CAMPO DE FULBITO DE LAS II.EE FOCALIZADAS DEL NIVEL PRIMARIA.","ASP","CONTRATACION DIRECTA",null,23287,"20603563094-FAMWORK CONTRATISTAS S.A.C","CULMINADO",null,"24/10/2018","ADJUDICACION SIN PROCEDIMIENTO"]
[null,"16 POR LA ADQUISICION  DE MAQUINAS FOTOCOPIADORAS PARA LAS DIFERENTES OFICINAS DE LA SEDE ADMINISTRATIVA DE LA UGEL N°03 TNO.","CCE","CATÁLOGO ELECTRÓNICO",null,67327.19,"20600802021-INVERSIONES & SERVICIOS GENERALES JGC E.I.R.L.","CULMINADO",null,"06/11/2018",{"$f":"+K490","v":"ADQUISICION POR CATALOGO ELECTRONICO"}]
[null,"17 POR EL SERVICIO DE LUZ ELECTRICA DE LAS II.EE DE LA JURISDICCION DE LA UGELN°03 TNO, MES DE OCTUBRE.","ASP","CONTRATACION DIRECTA",null,36054.699999999997,"20132023540-EMPRESA REGIONAL DE SERVICIO PUBLICO DE ELECTRICIDAD ELECTRONORTEMEDIO SOCIEDAD ANONIMA - HIDRANDINA","CULMINADO",null,"06/11/2018","CONTRATACION DIRECTA POR PROVEEDOR UNICO"]
[null,"18 POR LA ADQUISICION DE MOBILIARIO PARA LA SEDE ADMINISTRATIVA DE LA UGEL N°03 TNO.","ASP","CONTRATACION DIRECTA",null,20950,"10433283380-GARCIA TOLENTINO YANINA ELIZABETH","CULMINADO",null,"07/11/2018",{"$f":"+K493","v":"ADJUDICACION SIN PROCEDIMIENTO"}]
[null,"19 POR EL SERVICIO DE AGUA POTABLE Y ALCANTARILLADO DE LAS II.EE DE LA JURISDICCION DE LA UGEL N°03TNO, MES DE NOVIEMBRE.","ASP","CONTRATACION DIRECTA",null,61405.2,"20131911310-SEDALIB S.A.","CULMINADO",null,"09/11/2018","CONTRATACION DIRECTA POR PROVEEDOR UNICO"]
[null,"20 POR LA  ADQUISICION  DE UNIFORMES PARA EL PERSONAL ADMINISTRATIVO DE LA JURISDICCION DE LA UGEL N°03TNO.","AS","CATÁLOGO ELECTRÓNICO",1,59690,"10179837299-LEON CABOS LIDUBINA ELIZABETH","CULMINADO",null,"17/12/2018","ADJUDICACION SIMPLIFICADA"]
[null,"21 POR LA ADQUISICIÓN DE MATERIAL FUNGIBLE PARA LAS II.EE DEL NIVEL INICIAL DE LA JURISDICCIÓN DE LA UGEL N°03 TNO","CCE","CATÁLOGO ELECTRÓNICO",null,22306.51,"20600802021-INVERSIONES & SERVICIOS GENERALES JGC E.I.R.L.","CULMINADO",null,"22/11/2018",{"$f":"+K494","v":"ADQUISICION POR CATALOGO ELECTRONICO"}]
[null,"22 POR LA ADQUISICIÓN DE EQUIPOS DE COMPUTO PARA LAS DIFERENTES AREAS DE LA UGEL N°03 TNO","CCE","CATÁLOGO ELECTRÓNICO",null,64760.15,"20600802021-INVERSIONES & SERVICIOS GENERALES JGC E.I.R.L.","CULMINADO",null,"26/11/2018",{"$f":"+K499","v":"ADQUISICION POR CATALOGO ELECTRONICO"}]
[null,"23 POR LA ADQUISICIÓN DE MATERIAL FUNGIBLE PARA LAS II.EE DEL NIVEL PRIMARIA DE LA UGEL N°03 TNO","CCE","CATÁLOGO ELECTRÓNICO",null,26836.39,"20600802021-INVERSIONES & SERVICIOS GENERALES JGC E.I.R.L.","CULMINADO",null,"27/11/2018",{"$f":"+K500","v":"ADQUISICION POR CATALOGO ELECTRONICO"}]
[null,"24 POR LA ADQUISICIÓN DE MATERIAL FUNGIBLE PARA II.EE DEL NIVEL PRIMARIA  DE LA UGEL 03 TNO","CCE","CATÁLOGO ELECTRÓNICO",null,26391.55,"10459606179-QUIROZ CRUZADO XIMENA YAJAIRA","CULMINADO",null,"28/11/2018",{"$f":"+K501","v":"ADQUISICION POR CATALOGO ELECTRONICO"}]
[null,"25 POR LA ADQUISICION DE SERVIDOR PARA LA SEDE ADMINISTRATIVA DE LA UGEL N°03 TNO.","ASP","CONTRATACION DIRECTA",null,20009.5,"10407545546-GONZALES CALLE JHONY ARTURO","CULMINADO",null,"30/11/2018",{"$f":"+K496","v":"ADJUDICACION SIN PROCEDIMIENTO"}]
[null,"26 POR EL SERVICIO DE ENERGIA ELECTRICA DE LAS II.EE DE LA UGEL N°03 TNO, MES DE NOVIEMBRE","ASP","CONTRATACION DIRECTA",null,23906,"20132023540-GARCIA TOLENTINO YANINA ELIZABETH","CULMINADO",null,"04/12/2018",{"$f":"+K503","v":"ADJUDICACION SIN PROCEDIMIENTO"}]
[null,"27 POR LA ADQUISICIÓN DE MATERIAL FUNGIBLE PARA LAS II.EE DEL NIVEL INICIAL DE LA UGEL N°03 TNO","CCE","CATÁLOGO ELECTRÓNICO",null,26390.23,"20600802021-INVERSIONES & SERVICIOS GENERALES JGC E.I.R.L.","CULMINADO",null,"11/12/2018",{"$f":"+K502","v":"ADQUISICION POR CATALOGO ELECTRONICO"}]
[null,"28 POR LA  ADQUISICIÓN DE MATERIAL FUNGIBLE PARA LAS II.EE DEL NIVEL PRIMARIA DE LA UGEL N°03 TNO","CCE","CATÁLOGO ELECTRÓNICO",null,24691.3,"20600802021-INVERSIONES & SERVICIOS GENERALES JGC E.I.R.L.","CULMINADO",null,"11/12/2018",{"$f":"+K505","v":"ADQUISICION POR CATALOGO ELECTRONICO"}]
[null,"29 POR EL SERVICIO DE AGUA POTABLE Y ALCANTARILLADO DE LA S II.EE DE LA UGEL 03 TNO, MES DE DICIEMBRE.","ASP","CONTRATACION DIRECTA",null,64356.5,"20131911310-SEDALIB S.A.","CULMINADO",null,"11/12/2018",{"$f":"+K504","v":"ADJUDICACION SIN PROCEDIMIENTO"}]
[null,"30 POR LA ADQUISICIÓN DE AIRE ACONDICIONADO PARA LA SEDE ADMINISTRATIVO DE LA UGEL N°03 TNO","ASP","CONTRATACION DIRECTA",null,31500,"20603563094-FAMWORK CONTRATISTAS S.A.C.","CULMINADO",null,"12/12/2018",{"$f":"+K507","v":"ADJUDICACION SIN PROCEDIMIENTO"}]
[null,"31 POR LA ADQUISICION DE MATERIAL DIDÁCTICO PARA II.EE. DE PRIMARIA.","ASP","CONTRATACION DIRECTA",null,31790,"20603132468-SERVICIOS GENERALES AÑAY E.I.R.L","CULMINADO",null,"14/12/2018",{"$f":"+K506","v":"ADQUISICION POR CATALOGO ELECTRONICO"}]
[null,"32 POR LA ADQUISICION DE MATERIAL DIDÁCTICO PARA II.EE. DE PRIMARIA.","ASP","CONTRATACION DIRECTA",null,30960,"20603132468-SERVICIOS GENERALES AÑAY E.I.R.L","CULMINADO",null,"14/12/2018",{"$f":"+K507","v":"ADJUDICACION SIN PROCEDIMIENTO"}]
[null,"33 POR LA ADQUISICION DE KIT DE PSICOMOTRICIDAD PARA  II.EE DEL NIVEL INICIAL.","ASP","CONTRATACION DIRECTA",null,20760,"20600802021-- INVERSIONES & SERVICIOS GENERALES JGC E.I.R.L.","CULMINADO",null,"19/12/2018",{"$f":"+K508","v":"ADJUDICACION SIN PROCEDIMIENTO"}]
[null,"34 POR EL SERVICIO   DE INSTALACION  DE CABLEADO DE REDES DE INTERNET DE LAS DIFERENTES OFICINAS DE LA SEDE ADMINISTRATIVA  DE LA UGEL N°03 TNO.","ASP","CONTRATACION DIRECTA",null,28500,"20603563094-FAMWORK CONTRATISTAS S.A.C.","CULMINADO",null,"27/12/2018",{"$f":"+K511","v":"ADJUDICACION SIN PROCEDIMIENTO"}]
[null,"35 POR LA CANCELACION DE DEUDA  DE AGUA  DE LA I.E SAN JUAN CORRESPONDIENTE   AÑOS ANTERIORES.","ASP","CONTRATACION DIRECTA",null,73993.8,"20131911310-SEDALIB S.A.","CULMINADO",null,"27/12/2018",{"$f":"+K516","v":"CONTRATACION DIRECTA POR PROVEEDOR UNICO"}]
[null,"36 POR EL SERVICIO DE INSTALACION ELECTRICA EN LAS DIFERENTES OFICINAS DE LA SEDE ADMINISTRATIVA DE LA UGEL N°03 TNO.","ASP","CONTRATACION DIRECTA",null,30070.76,"20482510991-DIAZ & RAMIREZ ASOCIADOS CONSTRUCCIONES E INVERSIONES ELECTROMECANICOS S.A.C.","CULMINADO",null,"27/12/2018",{"$f":"+K507","v":"ADJUDICACION SIN PROCEDIMIENTO"}]
[null,2019,null,null,null,{"$f":"SUM(F516:F533)","v":683923.83}]
[null,"1 POR EL SERVICIO DE LUZ ELECTRICA DE LAS II.EE PERTENECIENTES A LA UGEL N°03 TNO, MES DE DICIEMBRE.","ASP","CONTRATACION DIRECTA",null,38553.599999999999,"20132023540-EMPRESA REGIONAL DE SERVICIO PUBLICO DE ELECTRICIDAD ELECTRONORTEMEDIO SOCIEDAD ANONIMA - HIDRANDINA","CULMINADO",null,"16/01/2019",{"$f":"+K497","v":"CONTRATACION DIRECTA POR PROVEEDOR UNICO"}]
[null,"2 POR EL SERVICIO DE AGUA POTABLE Y ALCANTARILLADO DE LAS II.EE PERTENECIENTES A LA UGEL N°03, CORRESPONDIENTE AL MES DE ENERO.","ASP","CONTRATACION DIRECTA",null,64382.6,"20131911310-SEDALIB S.A.","CULMINADO",null,"23/01/2019",{"$f":"+K516","v":"CONTRATACION DIRECTA POR PROVEEDOR UNICO"}]
[null,"3 POR EL SERVICIO DE AGUA POTABLE Y ALCANTARILLADO DE LAS II.EE DE LA UGEL N° 03 TNO, CORRESPONDIENTE AL MES DE FEBRERO","ASP","CONTRATACION DIRECTA",null,51232.800000000003,"20131911310-SEDALIB S.A.","CULMINADO",null,"11/02/2019",{"$f":"+K517","v":"CONTRATACION DIRECTA POR PROVEEDOR UNICO"}]
[null,"4 POR EL SERVICIO DE ENERGÍA ELÉCTRICA DE LAS II.EE DE LA UGEL N°03 TNO, CORRESPONDIENTE AL MES DE ENERO","ASP","CONTRATACION DIRECTA",null,22586.5,"20132023540-EMPRESA REGIONAL DE SERVICIO PUBLICO DE ELECTRICIDAD ELECTRONORTEMEDIO SOCIEDAD ANONIMA - HIDRANDINA","CULMINADO",null,"12/02/2019",{"$f":"+K517","v":"CONTRATACION DIRECTA POR PROVEEDOR UNICO"}]
[null,"5 CONTRATACION DEL SERVICIO DE TRANSPORTE PARA LA DISTRIBUCION DE MATERIAL EDUCATIVO Y MATERIAL FUNGIBLE PARA EL AÑO 2019","AS","CATÁLOGO ELECTRÓNICO",1,42750,"20440065296-EMPRESA DE TRANSPORTES HONESA E.I.R.L.","CULMINADO",null,"18/02/2019","ADJUDICACION SIMPLIFICADA"]
[null,"6 POR EL SERVICIO DE AGUA POTABLE Y ALCANTARILLADO DE LAS II.EE DE LA JURISDICCIÓN DE LA UGEL N°03, CORRESPONDIENTE AL MES DE MARZO","ASP","CONTRATACION DIRECTA",null,42751,"20131911310-SEDALIB S.A.","CULMINADO",null,"15/03/2019",{"$f":"+K519","v":"CONTRATACION DIRECTA POR PROVEEDOR UNICO"}]
[null,"7 POR EL SERVICIO DE ENERGIA ELECTRICA  DE LAS II.EE DE LA JURISDICCION DE LA UGEL N°03 TNO, CORRESPONDIENTE AL MES DE FEBRERO.","ASP","CONTRATACION DIRECTA",null,42752,"20132023540-EMPRESA REGIONAL DE SERVICIO PUBLICO DE ELECTRICIDAD ELECTRONORTEMEDIO SOCIEDAD ANONIMA - HIDRANDINA","CULMINADO",null,"15/03/2019",{"$f":"+K519","v":"CONTRATACION DIRECTA POR PROVEEDOR UNICO"}]
[null,"8 POR EL SERVICIO DE LUZ EN LAS DIERENTES II.EE DE LA UGEL N°03 TNO, MES DE MARZO.","ASP","CONTRATACION DIRECTA",null,42753,"20132023540-EMPRESA REGIONAL DE SERVICIO PUBLICO DE ELECTRICIDAD ELECTRONORTEMEDIO SOCIEDAD ANONIMA - HIDRANDINA","CULMINADO",null,"10/04/2019",{"$f":"+K522","v":"CONTRATACION DIRECTA POR PROVEEDOR UNICO"}]
[null,"9 POR EL SERVICIO DE AGUA POTABLE A LAS II.EE DE LA UGEL N°03TNO, MES DE ABRIL.","ASP","CONTRATACION DIRECTA",null,42754,"20131911310-SEDALIB S.A.","CULMINADO",null,"12/04/2019",{"$f":"+K522","v":"CONTRATACION DIRECTA POR PROVEEDOR UNICO"}]
[null,"10 POR EL SERVICIO DE ENERGIA ELECTRICA PARA II.EE DE  LA UGEL N°03 TNO, MES DE ABRIL.","ASP","CONTRATACION DIRECTA",null,29706.7,"20132023540-EMPRESA REGIONAL DE SERVICIO PUBLICO DE ELECTRICIDAD ELECTRONORTEMEDIO SOCIEDAD ANONIMA - HIDRANDINA","CULMINADO",null,"10/05/2019",{"$f":"+K523","v":"CONTRATACION DIRECTA POR PROVEEDOR UNICO"}]
[null,"11 POR EL SERVICIO DE AGUA POTABLE A LAS II.EE DE LA UGEL N°03TNO, MES DE MAYO.","ASP","CONTRATACION DIRECTA",null,87063.5,"20131911310-SEDALIB S.A.","CULMINADO",null,"17/05/2019",{"$f":"+K524","v":"CONTRATACION DIRECTA POR PROVEEDOR UNICO"}]
[null,"12 POR EL SERVICIO DE LUZ ELECTRICA DE LAS II.EE DE LA UGEL N°03TNO, MES DE ABRIL.","ASP","CONTRATACION DIRECTA",null,9088.7999999999993,"20132023540-EMPRESA REGIONAL DE SERVICIO PUBLICO DE ELECTRICIDAD ELECTRONORTEMEDIO SOCIEDAD ANONIMA - HIDRANDINA","CULMINADO",null,"17/05/2019",{"$f":"+K525","v":"CONTRATACION DIRECTA POR PROVEEDOR UNICO"}]
[null,"13 POR EL  SERVICIO DE TOPOGRAFÍA PARA INICIAR EL TRÁMITE DE SANEAMIENTO FÍSICO LEGAL DE LAS II.EE N°81007 MODELO Y N°80010 RICARDO PALMA.","ASP","CONTRATACION DIRECTA",null,4420,"10803979389-CRUZADO LEON LUIS EDUARDO","CULMINADO",null,"27/05/2019",{"$f":"+K529","v":"ADJUDICACION SIN PROCEDIMIENTO"}]
[null,"14 ADQUISICIÓN DE UTILES DE ASEO PARA LAS II.EE DEL NIVEL INICIAL, PRIMARIA Y SECUNDARIA DE LA UGEL 03","ASP","CONTRATACION DIRECTA",null,18393.75,"20603036965- GRUPO EMPRESARIAL F & T ASOCIADOS E.I.R.L.","CULMINADO",null,"05/06/2019",{"$f":"+K514","v":"ADJUDICACION SIN PROCEDIMIENTO"}]
[null,"15 POR LA ADQUISICIÓN DE UTILES DE ESCRITORIO PARA LAS II.EE DEL NIVEL INICIAL, PRIMARIA, SECUNDARIA.","CCE","CATÁLOGO ELECTRÓNICO",null,20473.73,"20603036965- GRUPO EMPRESARIAL F & T ASOCIADOS E.I.R.L.","CULMINADO",null,"05/06/2019",{"$f":"+K506","v":"ADQUISICION POR CATALOGO ELECTRONICO"}]
[null,"16 POR EL SERVICIO DE ENERGIA ELECTRICA DE LAS III.EE QUE PERTENECEN A LA UGEL 03 TNO, MES DE MAYO","ASP","CONTRATACION DIRECTA",null,13003.3,"20131911310-EMPRESA REGIONAL DE SERVICIO PUBLICO DE ELECTRICIDAD ELECTRONORTEMEDIO SOCIEDAD ANONIMA - HIDRANDINA","CULMINADO",null,"11/06/2019",{"$f":"+K524","v":"CONTRATACION DIRECTA POR PROVEEDOR UNICO"}]
[null,"17 POR EL SERVICIO DE ENERGIA ELECTRICA DE LAS II.EE PERTENECIENTES A LA UGEL 03 TNO, MES DE MAYO","ASP","CONTRATACION DIRECTA",null,30838.7,"20132023540-EMPRESA REGIONAL DE SERVICIO PUBLICO DE ELECTRICIDAD ELECTRONORTEMEDIO SOCIEDAD ANONIMA - HIDRANDINA","CULMINADO",null,"12/06/2019",{"$f":"+K524","v":"CONTRATACION DIRECTA POR PROVEEDOR UNICO"}]
[null,"18 POR EL SERVICIO DE AGUA POTABLE Y ALCANTARILLADO DE LAS II.EE DE LA UGEL 03, MES DE JUNIO.","ASP","CONTRATACION DIRECTA",null,80419.850000000006,"20132023540-SEDALIB S.A.","CULMINADO",null,"17/06/2019",{"$f":"+K524","v":"CONTRATACION DIRECTA POR PROVEEDOR UNICO"}]
[null,2020]
[]
[null,"TOTAL",null,null,null,{"$f":"+F476+F515+F534","v":2458644.8699999996}]
[null,"UE 316 EDUCACION TRUJILLO SUR ESTE ()"]
[null,2018,null,null,null,{"$f":"SUM(F539:F542)","v":194212.5}]
[null,"1 ADQUISICIÓN DE UNIFORMES PARA PERSONAL ADMINISTRATIVO DE LA UGEL 04 TSE EN EL AÑO 2018.","AS","PROCESO ELECTRONICO","1",75212,"10179678191 - SALVADOR SANTOS ROGER ERASMO","CULMINADO","2018-08-04"]
[null,"2 SERVICIO DE ALQUILER DE INMUEBLE PARA EL FUNCIONAMIENTO DE LA UGEL 04 TRUJILLO SUR ESTE.","CD","PROCESO CLASICO",2,66000,"101891093612 - ALVARADO ORBEGOZO MARTHA ALICIA","CULMINADO","2018-03-27"]
[null,"3 ACONDICIONAMIENTO DE UN ALMACEN PARA LA UGEL 04 TSE EN LA I.E. 1591.","AS","PROCESO ELECTRONICO",3,53000.5,"20482009663 - CONSTRUCTORA VEGA & ASOCIADOS SAC","CULMINADO","2019-01-09"]
[]
[null,2019,null,null,null,{"$f":"SUM(F544:F545)","v":75212}]
[null,"1 ADQUISICIÓN DE UNIFORMES PARA PERSONAL ADMINISTRATIVO DE LA UGEL 04 TSE EN EL AÑO 2019.","AS","PROCESO ELECTRONICO",1,75212," EN PROCESO","EN PROCESO"]
[]
[null,2020]
[null,"1 ADQUISICIÓN DE UNIFORMES PARA PERSONAL ADMINISTRATIVO DE LA UGEL 04 TSE EN EL AÑO 2020.","AS","PROCESO ELECTRONICO",1,75212,"EN PROCESO","EN PROCESO"]
[]
[null,"TOTAL",null,null,null,{"$f":"+F538+F543+F546","v":269424.5}]
[null,"UE 400 SALUD LA LIBERTAD (0845)"]
[null,2018,null,null,null,{"$f":"SUM(F552:F560)","v":1388561.79}]
[null,"SERVICIO DE SEGURIDAD VIGILANCIA PARA LOS ANEXOS DE LA GERESA","AS","PROCESO CLASICO",1,340000,"PROXUS SECURITY S.A.C.","EJECUCION MENSUAL","2018-05-25"]
[null,"Contratacion del Servicio de Transporte por el Traslado de Insumos Medicos, Vacunas Cadena de Frio ","AS","PROCESO CLASICO",2,178904.8,"ASUCENA MENDEZ HURTADO","EJECUCION MENSUAL","2018-08-22"]
[null,"Adquisicon de Llantas para las Unidades Moviles de la Geresa/ll","AS","PROCESO CLASICO",4,44000,"INNOVACIONES AMERICANAS E.I.R.L","EJECUTADO","2018-07-20"]
[null,"Adquisicion de una Cuna Rodante - Hospital Pataz\nAdquisicion de dos Coches de Paro - Hospital Pataz y Bolivar  - Equipos por Reposicion","AS","PROCESO CLASICO",5,129133,"BAYOMED HEALT PERU SAC\nDRAEGER PERU SAC","PLAZO PARA ENTREGA DE DOCUMENTO FIRMA DE CONTRATO","00:00:00"]
[null,"Uniformes del Personal  2018- Verano","AS","PROCESO CLASICO",6,197610,null,"POR CONVOCAR POR SEGÚNDA VEZ","00:00:00"]
[null,"Uniformes del Personal 2018- Invierno","AS","PROCESO CLASICO",7,254660,"EDALMAR EQUIPAMIENTO Y SERVICIOS S.A.C.","PLAZO PARA ENTREGA DE DOCUMENTO FIRMA DE CONTRATO","00:00:00"]
[null,"Adquisicion de Refrigeradoras para Cadena de Frio- Equipos por Reposicion","AS","PROCESO CLASICO",8,100000,null,"EVALUACION Y CALIFICACION DE PROPUESTAS","2018-09-11"]
[null,"Adquisicion de Combustible para los Vehiculos de la GERESA/LL","AS","PROCESO CLASICO",1,93053.99,null,"EVALUACION Y CALIFICACION DE PROPUESTAS Y OTORGAMIENTO BUENA PRO","2018-09-11"]
[null,"Adquisicion de Formatos Unicos de Atencion (FUAS) Bolivar y Pataz","AS","PROCESO CLASICO",9,51200,null,"APROBACION DE BASES","2018-09-11"]
[null,2019,null,null,null,{"$f":"SUM(F573:F576)","v":726250.82000000007}]
[null,"SERVICIO DE INTERNET PARA LAS REDES DE SALUD DE BOLIVAR Y PATAZ","AS","PROCESO CLASICO",1,59420,"CISTEL CHIMER EIRL","EJECUCION MENSUAL","2019-05-15"]
[null,"CONTRATACION DE SERVICIO DE MENSAJERIA DE LA GERENCIA REGIONAL DE  SALUD LA LIBERTAD","AS","PROCESO CLASICO",2,34245.83,null,"Emision de resolucion de Desierto para segunda convocatoria","00:00:00"]
[null,"SERVICIO DE TRANSPORTE DE MUESTRAS BIOLOGICAS EN LOS ESTABLECIMIENTOS DE SALUD PERTENECIENTES A LA GERENCIA REGIONAL DE SALUD LA LIBERTAD","AS","PROCESO CLASICO",3,135000,"ASTERIA ASUCENA MENDEZ HURTADO","EJECUCION MENSUAL","2019-08-02"]
[null,"ADQUISICION DE 05 CONGELADORAS ELECTRICAS HORIZONTALES PARA LA RED DE SALUD DE PATAZ","AS","PROCESO CLASICO",4,99500,null,"Etapa de otorgamiendo de buena pro","00:00:00"]
[null,"ADQUISICON  DE MOBILIARIO MÉDICO, PARA LOS ESTABLECIMIENTOS DE SALUD DE LA GERENCIA REGIONAL DE SALUD","AS","PROCESO CLASICO",5,71480,null,"Etapa para Convocatoria","00:00:00"]
[null,"ADQUISICION DE EQUIPOS ODONTOLOGICOS PARA LOS ESTABLECIMIENTO DE SALUD DE LA GERENCIA REGIONAL DE SALUD LA LIBERTAD","AS","PROCESO CLASICO",6,42405,null,"Emision de resolucion de Desierto para segunda convocatoria","00:00:00"]
[null,"ADQUISICION DE FORMATOS  UNICO  DE ATENCIÓN (FUA) Y FORMATO TERAPEUTIA, INSUMO , PROCEDIMIENTO Y APOYO AL DIAGNOSTICO","AS","PROCESO CLASICO",7,85729,null,"Etapa de suscripcion de contrato","00:00:00"]
[null,"CONTRATACION DE SERVICIO DE MANTENIMIENTO Y ACONDICIONAMIENTO DEL ALMACEN ESPECIALIZADO DE LA GERESA","AS","PROCESO CLASICO",10,190000,null,"En la proyeccion de documento para aprobacion de expediente y designacion de comité","00:00:00"]
[null,"ADQUISICION DE COMBUSTIBLE PARA LOS VEHICULOS DE LA GERESA/LL","SIE","PROCESO CLASICO",9,113094,null,"Emision de resolucion de Desierto para segunda convocatoria","00:00:00"]
[null,"CONTRATACION DEL SERVICIO DE SEGURIDAD VIGILANCIA PARA LOS ANEXOS DE LA GERESA","CP","PROCESO CLASICO",1,858577.61,null,"Convocado y etapa de formulacion y consulta","00:00:00"]
[null,"SERVICIO DE IMPRESIÓN DE RECETAS UNICA ESTANDARIZADA","AS","PROCESO CLASICO",8,149987.5,null,"En la proyeccion de documento para aprobacion de expediente y designacion de comité","00:00:00"]
[null,"AQUISICION DE GASA FRACCIONADA ESTRIL","AS","PROCESO CLASICO",9,81200,null,"En la proyeccion de documento para aprobacion de expediente y designacion de comité","00:00:00"]
[null,"SERVICIO DE TRANSPORTE Y TRASLADO DE PRODUCTOS FARMACEUTICOS Y DISPOSITIVO MEDICOS 2019","AS","PROCESO CLASICO",11,219750.82,null,"En la proyeccion de resolicion para aprobacion de expediente y designacion de comité","00:00:00"]
[null,"ADQUISICION DE UNIFORME DE INSTITUCIONAL DE INVIERNO PARA EL PERSONAL DE LA GERESA/LL","AS","PROCESO CLASICO",0,303480,null,"Etapa de certificación","00:00:00"]
[null,"ADQUISICION DE UNIFORME DE INSTITUCIONAL DE VERANO PARA EL PERSONAL DE LA GERESA/LL","AS","PROCESO CLASICO",0,121820,null,"Etapa de certificación","00:00:00"]
[]
[]
[null,"TOTAL",null,null,null,{"$f":"+F551+F561","v":2114812.6100000003}]
[null,"UE 401 INST. REG. DE OFTALMOLOGIA (0846)"]
[null,"Año 2018",null,null,null,{"$f":"+F582+F606+F607+F611+F612+F614+F617+F618+F619+F620+F621+F622+F623+F624+F625+F626+F627+F637+F638+F639+F640+F641+F644+F646+F647+F648+F649+F650","v":11291990.6}]
[null,"1. CONTRATACION DE MEDICAMENTOS E INSUMOS MEDICOS QUIRURGICOS","LICITACION PUBLICA","POR LA ENTIDAD","LP-SM-1-2018-IRO/CS-1",{"$f":"SUM(F583:F605)","v":4408403},null,"ADJUDICADO"]
[null,"BRIMONIDINA + DORZOLAMIDA+ TIMILOL 2MG+20MG+5MG/ML SOL OFT 5 ML",null,null,null,420300,"20513441208 LABORATORIOS OLFATLMICOS S.A.C.",null,"2018-07-05"]
[null,"TREPANO CORNEAL DE 6.00 mm a 9 mm",null,null,null,521040,"20509797766 ASG INVERSIONES E.I.R.L.",null,"2018-07-05"]
[null,"BRIMONIDINA 1.5 MG/ML SOL OFT 5 ML",null,null,null,78200,"20100085225 QUIMICA SUIZA S.A.C.",null,"2018-07-05"]
[null,"RANIBIZUMAB 10 MG/ML INY 0.23 ML",null,null,null,149805,"20100129028 NOVARTIS BIOCIENCES PERU S.A.",null,"2018-07-05"]
[null,"CASSETTE DE ULTRASONIDO PARA EQUIPO FACIEMULSIFICADOR CENTURION",null,null,null,1677278.2,"20212561534 ALCON PHARMACEUTICAL DEL PERU S.A.",null,"2018-07-05"]
[null,"BRINZOLAMIDA + TIMOLOL 10 MG + 5 MG/ML SUS 5ML",null,null,null,29100,"20305284174 LABORATORIOS LANSIER ",null,"2018-07-06"]
[null,"NEPAFENACO 1 MG/ML SUS OFT 5 ML",null,null,null,35000,"20100812542 LABORATORIOS ROSTER S.A.",null,"2018-07-09"]
[null,"TRAVOPROST 40 UG/ML SOL OFT 2.5 ML",null,null,null,84000,"20100812542 LABORATORIOS ROSTER S.A.",null,"2018-07-09"]
[null,"SUTURA NYLON NEGRO MONOFILAMENTO 10/0 C/DOBLE AGUJA 3/8 CIRCULO ESPATULADA 6.2 MM X 30 CM",null,null,null,87500,"20197705249 UNILENE SAC",null,"2018-07-11"]
[null,"AZUL DE TRIPAN 1 MG/ML SOL 1 ML",null,null,null,41223,"20509797766 ASG INVERSIONES E.I.R.L.",null,"2018-07-13"]
[null,"ACEITE DE SILICONA PURIFICADO ESTERIL 5.000 CPS SUS OFT DE 10 ML",null,null,null,50400,"20602808913 TAGA INTERNATIONAL SA.C.",null,"2018-07-13"]
[null,"LENTES INTRAOCULARES PLEGABLES 3 PIEZAS",null,null,null,204000,"20513441208 LABORATORIOS OLFATLMICOS S.A.C.",null,"2018-07-13"]
[null,"DEXAMETASONA + TOBRAMICINA 1MG+3MG/ML SOL OFT 5ML",null,null,null,40800,"20253768119 UNIMED DEL PERU S.A.",null,"2018-07-18"]
[null,"CARBOMERO 200 MG/100 G GEL 5G",null,null,null,70500,"20305284174 LABORATORIOS LANSIER ",null,"2018-07-20"]
[null,"CLORANFENICOL + HIDROCORTISONA",null,null,null,65000,"20305284174 LABORATORIOS LANSIER ",null,"2018-07-20"]
[null,"DORZOLAMIDA + TIMOLOL",null,null,null,72000,"20305284174 LABORATORIOS LANSIER ",null,"2018-07-20"]
[null,"HIALURONATO SODICO",null,null,null,255000,"20305284174 LABORATORIOS LANSIER ",null,"2018-07-20"]
[null,"MOXIFLOXACINO",null,null,null,32500,"20305284174 LABORATORIOS LANSIER ",null,"2018-07-20"]
[null,"POLIETILENGLICOL",null,null,null,48000,"20305284174 LABORATORIOS LANSIER ",null,"2018-07-20"]
[null,"VITAMINAS",null,null,null,86400,"20305284174 LABORATORIOS LANSIER ",null,"2018-07-20"]
[null,"HIALURONATO SODICO SOL OFT 85 ML",null,null,null,244450,"20515520831 TAGA INTERNATIONAL SA.C.",null,"2018-08-17"]
[null,"APOSITO OCULAR ADHESIVO ( PARCHE PEDIATRICO)",null,null,null,45000,"20509797766 ASG INVERSIONES E.I.R.L.",null,"2018-07-13"]
[null,"MICROPINZA PARA DELAMINACION DE MENBRANA 23 G",null,null,null,70906.8,"20509797766 ASG INVERSIONES E.I.R.L.",null,"2018-07-13"]
[null,"2. CONTRATACION DE MEDIO CULTIVO CELULAR X 20 ML","ADJUDICACION SIMPLIFICADA","POR LA ENTIDAD","AS-SM-1-2018-IRO/CS-1",69120,"20509797766 ASG INVERSIONES  EIRL","ADJUDICADO","2018-04-24","2018-05-15"]
[null,"3. CONTRATACIÓN DE EQUIPO Y MOBILIARIO MÉDICO","ADJUDICACION SIMPLIFICADA","POR LA ENTIDAD","AS-SM-3-2018-IRO/CS-1",{"$f":"SUM(F608:F610)","v":338085}," ","ADJUDICADO"]
[null,"ANGIOGRAFO",null,null,null,{"$f":"244590+2910","v":247500},"20101337261 ROCA S.A.C.","ADJUDICADO","2018-07-16","2018-09-04"]
[null,"AUTOQUERATOREFRACTOMETRO",null,null,null,35175,"20502811674 MEDINET S.A.C.","ADJUDICADO","2018-07-23","2018-08-15"]
[null,"CAMILLA ",null,null,null,55410,"20160340534 MASTER MEDIC .S.A.","ADJUDICADO","2018-08-06","2018-09-19"]
[null,"4. CONTRATACIÓN DE ECOGRAFO + PRESTACCIÓN ACCESORIA","ADJUDICACION SIMPLIFICADA","POR LA ENTIDAD","AS-SM-4-2018-IRO/CS-1",{"$f":"256500+6000","v":262500},"20555048905 VISUAL TECHNOLOGY S.A.C.","ADJUDICADO","2018-07-12","2018-08-31"]
[null,"5. CONTRATACIÓN DE MICROSCOPIO + PRESTACIÓN ACCESORIA","ADJUDICACION SIMPLIFICADA","POR LA ENTIDAD","AS-SM-5-2018-IRO/CS-1",{"$f":"370000+5580","v":375580},"20101337261 ROCA S.A.C.","ADJUDICADO","2018-07-10","2018-08-29"]
[null,"6. CONTRATACIÓN DE LÁMPARAS DE HENDIDURA","ADJUDICACION SIMPLIFICADA","POR LA ENTIDAD","AS-SM-6-2018-IRO/CS-1",null," ","CANCELADO"]
[null,"7. CONTRATACIÓN DE LÁMPARA CIALITICA Y LÁMPARA DE HENDIDURA CON SISTEMA DE VIDEO Y FOCO DE ÚLTIMA GENERACIÓN","ADJUDICACION SIMPLIFICADA","POR LA ENTIDAD","AS-SM-7-2018-IRO/CS-1",{"$f":"SUM(F615:F616)","v":291980}," ","ADJUDICADO"]
[null,"LAMPARA CIALITICA DE TECHO",null,null,null,{"$f":"163000+4980","v":167980},"20101337261 ROCA S.A.C.","ADJUDICADO","2018-07-17","2018-09-14"]
[null,"LAMPARA DE HENDIDURA CON CAMARA VIDEO Y FOCO DE ULTIMA GENERACION",null,null,null,124000,"20168548916 MEDICA DEL PACIFICO S.R.L.","ADJUDICADO","2018-07-17","2018-08-22"]
[null,"8. CONTRATACIÓN DE SUMINISTRO DE MONTURAS PARA EL SERVICIO DE OPTICA","ADJUDICACION SIMPLIFICADA","POR LA ENTIDAD","AS-SM-2-2018-IRO/CS-1",166590,"20538505618 MB CORP INTERNATIONAL S.A.C.","ADJUDICADO","2018-08-21"]
[null,"9. CONTRATACION DE MEDICAMENTOS E INSUMOS MEDICOS QUIRURGICOS","ADJUDICACION SIMPLIFICADA","POR LA ENTIDAD","AS-SM-8-2018-IRO/CS-1",88500,"20100812623 MOT S.A.","ADJUDICADO","2018-09-04"]
[null,"10. SERVICIO DE SEGURIDAD Y VIGILANCIA","CONCURSO PUBLICO","POR LA ENTIDAD","CP-SM-1-2018-IRO/CS-1",383761,"20559626938 GRUPO ELITES DEL NORTE S.A.C.","ADJUDICADO","2018-10-30"]
[null,"11. ARRENDAMIENTO DE INMUEBLE","CONTRATACION DIRECTA","POR LA ENTIDAD","DIRECTA-PROC-1-2018-IRO/CS-1",76800,"10267213629 TERESITA DE JESIS AGÜERO DE LOPEZ","ADJUDICADO","2018-09-06"]
[null,"12. LINEA DEDICADA INTERNET DE 40 MBPS","ADJUDICACION SIMPLIFICADA","POR LA ENTIDAD","AS-SM-10-2018-IRO/CS-1",226560,"20467534026 AMERICA MOVIL PERU S.A.C.","ADJUDICADO","2018-10-31"]
[null,"13. CONTRATACIÓN DE SUMINISTRO PIEZA DE MANO DE ULTRA SONIDO TORSIONAL PARA FACOEMULSIFICADOR","CONTRATACION DIRECTA","POR LA ENTIDAD","DIRECTA-PROC-2-2018-IRO-1",57320.800000000003,"20212561534 ALCON PHARMACEUTICAL DEL PERU SA","ADJUDICADO","2018-09-24"]
[null,"14. SERVICIO DE ESTERILIZACIÓN A BAJA TEMPERATURA CON OXIDO DE ETILENO","ADJUDICACION SIMPLIFICADA","POR LA ENTIDAD","AS-SM-9-2018-IRO/CS-1",171600,"20506666032 T & CH ASOCIADOS .A.C.","ADJUDICADO","2018-10-05"]
[null,"15. CONTRATACIÓN DE EQUIPO BIOMEDICO EQUIPO DE CIRUGÍA REFRACTARIA EXCIMER LÁSER","LICITACION PUBLICA","POR LA ENTIDAD","LP-SM-2-2018-IRO/CS-1",1364299,"20551771122 SOLUCIONES Y SOPORTES TECNICOS S.A.C. S Y ST S.A.C","ADJUDICADO","2018-12-11","2018-12-31"]
[null,"16. CONTRATACION DE VITRINA PARA INSTRUMENTAL QUIRURGICO","ADJUDICACION SIMPLIFICADA","POR LA ENTIDAD","AS-SM-11-2018-IRO/CS-1",26320,"20447790999 EXPORT PERU GLOBAL SOCIEDAD ANONIMA CERRADA","ADJUDICADO","2018-11-21","2018-12-31"]
[null,"17. CONTRATACION DE MONITOR MULTIPARÁMETRO DE 5 PARAMETROS","ADJUDICACION SIMPLIFICADA","POR LA ENTIDAD","AS-SM-12-2018-IRO/CS-1",59000,"20556349470 MULTIMEDICA TECNOLOGICA S.A.C.","ADJUDICADO","2018-12-04","2018-12-28"]
[null,"18. CONTRATACION DE MEDICAMENTOS E INSUMOS MEDICOS","CONTRATACION DIRECTA","POR LA ENTIDAD","DIRECTA-PROC-3-2018-IRO-1",{"$f":"SUM(F628:F636)","v":1302008.5}," "]
[null,"CARBACOL ",null,null,null,14200,"20212561534 ALCON PHARMACEUTICAL DEL PERU S.A.",null,"2018-10-30"]
[null,"MICROPINZA SCRAPER 25G",null,null,null,17500,"20212561534 ALCON PHARMACEUTICAL DEL PERU S.A.",null,"2018-10-30"]
[null,"MICROPINZA SCRAPER 27G",null,null,null,17500,"20212561534 ALCON PHARMACEUTICAL DEL PERU S.A.",null,"2018-10-30"]
[null,"LAPIZ DE ENDODIATERMIA 25 G",null,null,null,129800,"20212561534 ALCON PHARMACEUTICAL DEL PERU S.A.",null,"2018-10-30"]
[null,"LAPIZ DE ENDODIATERMIA 27 G",null,null,null,34250,"20212561534 ALCON PHARMACEUTICAL DEL PERU S.A.",null,"2018-10-30"]
[null,"MOXIFLOXACINO 5MG/ML SOL OFT 5 ML",null,null,null,346566.5,"20100129028 NOVARTIS BIOSCIENCES PERU S.A.",null,"2018-11-07"]
[null,"BEVACIZUMAB 100 MG/4 ML",null,null,null,141992,"20556799327 QUIMICA SUIZA .S.A.C",null,"2018-11-05"]
[null,"VALVULA DE GLAUCOMA",null,null,null,455000,"20501480178 INSTITTUTO DE GLAUCOMA Y CATARATAS S.A.C.",null,"2018-11-07"]
[null,"RIVOFLAVINA SOLUCION ISTONICA 0.1%",null,null,null,145200,"20602808913 TAGA INTERNACIONAL S.A..C",null,"2018-11-09"]
[null,"19. CONTRATACION IMPLANTE PARA GLAUCOMA NO VALVULADO","ADJUDICACION SIMPLIFICADA","POR LA ENTIDAD","AS-SM-13-2018-IRO/CS-1",65000,"20513441208 LABORATORIOS OFTALMICOS S.A.C.","ADJUDICADO","2018-11-23"]
[null,"20. CONTRATACION FOTOCOAGULADOR RETINAL","ADJUDICACION SIMPLIFICADA","POR LA ENTIDAD","AS-SM-15-2018-IRO/CS-1",284750,"20515520831 TECMED S.A.C.","ADJUDICADO","2018-11-29","2018-12-31"]
[null,"21. CONTRATACION DE MICROSCOPIO ESPECULAR","ADJUDICACION SIMPLIFICADA","POR LA ENTIDAD","AS-SM-14-2018-IRO/CS-1",117300,"20168548916 MEDICA DEL PACIFICO S.R.L.","ADJUDICADO","2018-11-19","2018-12-19"]
[null,"22. CONTRATACION DE FOTOCOAGULADOR LASER DIODO","ADJUDICACION SIMPLIFICADA","POR LA ENTIDAD","AS-SM-16-2018-IRO/CS-1",170000,"20515520831 TECMED S.A.C.","ADJUDICADO","2018-11-29","2018-12-13"]
[null,"23. CONTRATACION DE LAMPARAS DE HENDIDURA","ADJUDICACION SIMPLIFICADA","POR LA ENTIDAD","AS-SM-17-2018-IRO/CS-1",{"$f":"SUM(F642:F643)","v":150555}," ","ADJUDICADO"]
[null,"LAMPARA DE HENDIDURA CON CAMARA DE VIDEO",null,null,null,75900,"20513441208 LABORATORIOS OFTALMICOS S.A.C.","ADJUDICADO","2018-11-21","2018-12-27"]
[null,"LAMPARA DE HENDIDURA CON CAMARA 10X, 16X, 25 X",null,null,null,74655,"20101337261 ROCA S.A.C.","ADJUDICADO","2018-11-28","2018-12-19"]
[null,"24. CONTRATACIÓN DE GRUPO ELECTRÓGENO","ADJUDICACION SIMPLIFICADA","POR LA ENTIDAD","AS-SM-18-2018-IRO/CS-1",192000,"20553231273 GFF KEYPOWER","ADJUDICADO","2018-12-19","2018-12-31"]
[null,"25. CONTRATACION DE ENDOCICLOFOTOCOAGULACION","ADJUDICACION SIMPLIFICADA","POR LA ENTIDAD","AS-SM-19-2018-IRO/CS-1",null," ","CANCELADO"]
[null,"26. CONTRATACION DE RESINAS Y POLICARBONATOS","ADJUDICACION SIMPLIFICADA","POR LA ENTIDAD","AS-SM-20-2018-IRO/CS-1",301462.09999999998,"20506920354 A & C CASA DEL OPTICO S.A.C.","ADJUDICADO","2018-12-28"]
[null,"27. CONTRATACIÓN DE SUMINISTRO DE MONTURAS PARA EL SERVICIO DE OPTICA","ADJUDICACION SIMPLIFICADA","POR LA ENTIDAD","AS-SM-2-2018-IRO/CS-2",166590,"20538505618 MB CORP INTERNATIONAL SOCIEDAD ANONIMA CERRADA","ADJUDICADO"]
[null,"28. CONTRATACIÓN DEL SERVICIO DE MANTENIMIENTO PREVENTIVO DE VITREOFAGO","CONTRATACION DIRECTA","POR LA ENTIDAD","DIRECTA-PROC-4-2018-IRO-1",35506.199999999997,"20212561534 ALCON PHARMACEUTICAL DEL PERU S.A.","ADJUDICADO","2018-12-19"]
[null,"29. CONTRATACIÓN DE SERVICIO ALQUILER INMUEBLE PARA FARMACIA IRO","CONTRATACION DIRECTA","POR LA ENTIDAD","DIRECTA-PROC-5-2018-IRO/CS-1",104400,"10267213629 TERESITA DE JESIS AGÜERO DE LOPEZ","ADJUDICADO","2018-12-19"]
[null,"30. CONTRATACIÓN DE ASESOR LEGAL EXTERNO","CONTRATACION DIRECTA","POR LA ENTIDAD","DIRECTA-PROC-6-2018-IRO/CS-1",36000,"10190982365 ROBERTO CARLOS SANDOVAL PEREDA","ADJUDICADO","2018-12-28"]
[null,"Año 2019",null,null,null,{"$f":"+F652+F653+F654+F655+F660+F663+F664+F666+F671+F672","v":1429559.4}," "]
[null,"1. SERVICIO DE PREPARACION DE ALIMENTOS PARA EL PERSONAL ASISTENCIAL DEL INSTITUTO REGIONAL DE OFTALMOLOGIA JAVIER SERVAT UNIVAZO","ADJUDICACION SIMPLIFICADA","POR LA ENTIDAD","AS-SM-21-2018-IRO/CS-1",41929.199999999997,"10180342601 NUÑEZ SILVA LUIS FERNANDO","ADJUDICADO","2019-01-13"]
[null,"2. PIEZA DE MANO DE ULTRASONIDO PARA FACOEMULSIFICADOR","CONTRATACION DIRECTA","POR LA ENTIDAD","DIRECTA-1-2019-IRO",37080.199999999997,"20212561534 ALCON PHARMACEUTICAL DEL PERU SA","ADJUDICADO","2019-07-11"]
[null,"3. BRIMONIDINA 1.5 MG/ ML SOL OFT 5 ML","ADJUDICACION SIMPLIFICADA","POR LA ENTIDAD","AS-1-2019-IRO/CS ",101660,"20100085225 QUIMICA SUIZA SOCIEDAD ANONIMA CERRADA - QUIMICA SUIZA S.A.C.","ADJUDICADO","2019-06-20","2019-07-04"]
[null,"4. ADQUISICION DE PRODUCTOS OPTICOS MONTURAS","ADJUDICACION SIMPLIFICADA","POR LA ENTIDAD","AS-SM-2-2019-IRO/CS-1",{"$f":"SUM(F656:F659)","v":275500}," ","ADJUDICADO"]
[null,"MONTURA DE METAL UNISEX",null,null,null,35000,"20533341307 INVERSIONES BI GAN S.A.C.",null,"2019-08-09","2019-08-23"]
[null,"MONTURA DE GOMA UNISEX NIÑOS",null,null,null,60000,"20533341307 INVERSIONES BI GAN S.A.C.",null,"2019-08-09","2019-08-23"]
[null,"MONTURA DE ACETATO DE CELULOSA ARO COMPLETO PARA ADULTO",null,null,null,128000,"20533341307 INVERSIONES BI GAN S.A.C.",null,"2019-08-09","2019-08-23"]
[null,"MONTURA DE ACETATO DE CELULOSA ARO COMPLETO PARA NINOS",null,null,null,52500,"20533341307 INVERSIONES BI GAN S.A.C.",null,"2019-08-09","2019-08-23"]
[null,"5. CONTRATACION DE UN ECOGRAFO ULTRASONIDO (FIJO) Y UNA LAMPARA DE HENDIDURA","ADJUDICACION SIMPLIFICADA","POR LA ENTIDAD","AS-SM-3-2019-IRO/CS-1",{"$f":"SUM(F661:F662)","v":350500}," ","ADJUDICADO"]
[null,"CONTRATACION DE LAMPARA DE HENDIDURA",null,null,null,40000,"20555048905 VISUAL TECHNOLOGY S.A.C.",null,"2019-08-09"]
[null,"EQUIPO ECOGRAFO ULTRASONIDO",null,null,null,310500,"20555048905 VISUAL TECHNOLOGY S.A.C.",null,"2019-08-09"]
[null,"6. REFRIGERADORAS CONSERVADORAS DE MEDICAMENTOS","ADJUDICACION SIMPLIFICADA","POR LA ENTIDAD","AS-SM-4-2019-IRO/CS-1",92970," ","CONVOCADO"]
[null,"7. SERVICIO DE SERVICIO DE 01 MEDICO AUDITOR","ADJUDICACION SIMPLIFICADA","POR LA ENTIDAD","AS-SM-5-2019-IRO/CS-2",40500," ","CONVOCADO"]
[null,"8. SERVICIO DE TRANSORTE, RECOJO Y DISPOSICION FINAL","ADJUDICACION SIMPLIFICADA","POR LA ENTIDAD","AS-SM-6-2019-IRO-1",109800," ","CONVOCADO"]
[null,"9. ADQUISICIÓN DE EQUIPOS BIOMEDICOS",null,null,null,{"$f":"SUM(F667:F670)","v":364420}," ","POR CONVOCAR"]
[null,"OFTALMOSCOPIO INDIRECTO CON SISTEMA DE VIDEO",null,null,null,90200," "]
[null,"MANTENIMIENTO PREVENTIVO POR OFTALMOSCOPIO INDIRECTO POR DOS AÑOS",null,null,null,4800," "]
[null,"MICROSCOPIO QUIRURGICO",null,null,null,83420," "]
[null,"LASER DIODO FOTOCOAGULADOR",null,null,null,186000," "]
[null,"10. SERVICIO DE LAVADO DE ROPA HOSPITALARIA","ADJUDICACION SIMPLIFICADA","POR LA ENTIDAD",null,85000," ","POR CONVOCAR"]
[null,"11. SERVICIO DE RESGUARDO Y TRASLADO DE VALORES","ADJUDICACION SIMPLIFICADA","POR LA ENTIDAD",null,40000," ","POR CONVOCAR"]
[null,"TOTAL",null,null,null,{"$f":"+F581+F651","v":12721550}," "]
[null,"UE 402 SALUD NORTE ASCOPE (0847)"]
[null,"AÑO 2018",null,null,null,{"$f":"SUM(F676:F704)","v":6201765.0599999996}]
[null,"MICROSCOPIO QUIRURGICO ","ADJUDICACION SIMPLIFICADA","LLAVE EN MANO","AS-SM-21-2018-HRDT-3",105900,"20524232104                 OPEN MEDIC SAC ","ADJUDICADO","2018-12-18","45 DIASCALENDARIO"]
[null,"MONITOR DE 9 PARAMETROS","ADJUDICACION SIMPLIFICADA","LLAVE EN MANO","AS-SM-30-2018-HRDT-1",125000,"20512709088              CARDIO PULMONARY CARE SAC","ADJUDICADO","19.12.2018","45 DIAS CALENDARIO"]
[null,"AUDIOMETRO ","ADJUDICACION SIMPLIFICADA","LLAVE EN MANO","AS-SM-21-2018-HRDT-3",39800,"20503650186        SPECTRUMP INGENIEROS","ADJUDICADO","2018-10-18","45  DIAS CALENDARIO"]
[null,"VIDEO LARINGOSCOPIO CON ESTROBOSCOPIO","ADJUDICACION SIMPLIFICADA","LLAVE EN MANO","AS-SM-21-2018-HRDT-3",145000,"20210456831          PREMIUN MEDICAL EIRL","ADJUDICADO","2018-10-18","45  DIAS CALENDARIO"]
[null,"EQUIPO DE ELECTROCIRUGIA CON ARGON PLASMA ","ADJUDICACION SIMPLIFICADA","LLAVE EN MANO","AS-SM-10-2018-HRDT-1",169400,"20102032951                JAIME ROJAS REPRESENTACIONES GENERALES S.A","ADJUDICADO","2018-08-02","50 DIAS CALENDARIO"]
[null,"VENTILADOR MECANICO ADULTO/PEDIATRICO","ADJUDICACION SIMPLIFICADA","LLAVE EN MANO","AS-SM-07-2018-HRDT-1",128000,"20512709088               CARDIO PULMONARY CARE SAC","ADJUDICADO","03/19/2018","60 DIAS CALENDARIO"]
[null,"MONITOR DE OXIMETRIA CEREBRAL (CAVIDAD CEREBRAL)","ADJUDICACION SIMPLIFICADA","LLAVE EN MANO"," AS-SM-23-2018-HRDT-1",74000,"20502853750             COVIDIEN PERÚ SA","ADJUDICADO","2018-12-11","05 DIAS CALENDARIO"]
[null,"MONITOR GASTO CARDIACO","ADJUDICACION SIMPLIFICADA","LLAVE EN MANO"," AS-SM-23-2018-HRDT-1",135000,"20502130723           DIVCOM SAC ","ADJUDICADO","2018-12-11","40 DIAS CALENDARIO"]
[null,"ADQUISICION DE UN ECOGRAFO DOPPLER PARA EMERGENCIA DEL HRDT","ADJUDICACION SIMPLIFICADA","LLAVE EN MANO","AS-SM-14-2018-HRDT-2",195485.9,"20110133091            TECNOLOGIAINDUSTRIAL Y NACIONAL SAC","ADJUDICADO","21.03.2019","60 DIASCALENDARIO"]
[null,"ADQUISICION DE UN VENTILADOR MECANICO NO INVASIVO PARA LA UCEP DEL HRDT.","ADJUDICACION SIMPLIFICADA","LLAVE EN MANO","AS-SM-31-2018-HRDT-1",61166.66,"20508577193           VENTIMONT SAC","ADJUDICADO","09.01.2019","90 DIAS CALENDARIO"]
[null,"VENTILADOR VOLUMETRICO MECANICO ADULTO/PEDIATRICO/NEONATAL PARA EMERGENCIA DEL HRDT","ADJUDICACION SIMPLIFICADA","LLAVE EN MANO","AS-SM-41-2018-HRDT-1",214000,20538597121,"ADJUDICADO"]
[null,"NASOLARINGOSCOPIO/ADULTO PEDIATRICO","ADJUDICACION SIMPLIFICADA","LLAVE EN MANO","AS-SM-26-2018-HRDT-1",148000,"20210456831         PREMIUN MEDICAL EIRL","ADJUDICADO","27.12.2019","60 DIASCALENDARIO"]
[null,"CALDERA DE VAPOR DE 100 HP","ADJUDICACION SIMPLIFICADA","LLAVE EN MANO","AS-SM-28-2018-HRDT-1",269000,"20101386717          INGEIEROS Y TECNICOS EJECUTORES SAC","ADJUDICADO","11.12.2018","45 DIAS CALENDARIO"]
[null," ELECTROBISTURI PARA CIRUGIA MONOPOLAR Y BIPOLAR PARA CENTRO QUIRURGICO DEL HRDT","ADJUDICACION SIMPLIFICADA","LLAVE EN MANO","AS-SM-3-2018-HRDT-1",180000,"20465722119              GLOBAL SUPPLY SAC","ADJUDICADO","18.06.2018","30 DIAS CALENDARIO"]
[null,"ADQUISICION DE MONITORES MULTIPARAMETRO DE 7 PARAMETROS PARA EL HOSPITAL REGIONAL DOCENTE DE TRUJILLO","ADJUDICACION SIMPLIFICADA","LLAVE EN MANO","AS-SM-6-2018-HRDT-1",336000,"20538597121           DRAGUER PERU SAC","ADJUDICADO","11.06.2019","60 DIAS CALENDARIO"]
[null,"ADQUISICION DE UA MAQUINA DE ANESTESIA  CON MONITOREO AVANZADO","ADJUDICACION SIMPLIFICADA","LLAVE EN MANO","AS-SM-15-2018-HRDT-1",216990,"20538597121            DRAGUER PERU SAC","ADJUDICADO","17.10.2018","60 DIAS CALENDARIO"]
[null,"\"ADQUISICION DE MICROSCOPIO QUIRÚRGICO PARA EL SERVICIO DE OFTALMOLOGÍA DEL HOSPITAL REGIONAL DOCENTE DE TRUJILLO\"","ADJUDICACION SIMPLIFICADA","LLAVE EN MANO"," AS-SM-25-2018-HRDT-1",374999,"20101337261                           ROCA PERU SAC    ","ADJUDICADO","21.12.2018","60 DIAS CALENDARIO"]
[null,"\"SUMINISTRO DE FORMULAS LÁCTEAS PARA LA SUSTITUCIÓN DE LA LACTANCIA MATERNA EN EL HOSPITAL REGIONAL DOCENTE DE TRUJILLO\"- SEGUNDA CONVOCATORIA","ADJUDICACION SIMPLIFICADA","SIN MODALIDAD","AS-SM-8-2018-HRDT-2",90200,"20507062653              LUKOLL S.A.C.","ADJUDICADO","14.03.2019","12 MESES"]
[null,"\"ADQUISICION DE MEDICAMENTO CILASTATINA + IMIPENEM PARA EL DPTO DE FARMACIA DEL HRDT\"","SUBASTA INVERSA ELECTRONICA","SIN MODALIDAD","SIE-SIE-4-2018-HRDT-1",140910,"20100018625            MEDIFARMA S A ","ADJUDICADO","07.02.2019","12 MESES"]
[null,"DIESEL B5 S50","SUBASTA INVERSA ELECTRONICA","SIN MODALIDAD","SIE-SIE-1-2018-HRDT-1",417499,20477536787,"ADJUDICADO","05.07.2018","12 MESES","CULMINADO"]
[null,"SUMINISTRO DE ALIMENTOS (ACEITE, ARROZ, AZUCAR)PARA EL DPTO NUTRICION DEL HRDT","SUBASTA INVERSA ELECTRONICA","SIN MODALIDAD","SIE-SIE-2-2018-HRDT-1",165500,"20477171321                    VILBO NEGOCIOS SAC","ADJUDICADO","21.01.2019","24 MESES"]
[null,"SUMINISTRO DE MATERIAL MEDICO (GUANTES DE EXÁMEN, QUIRURGICOS Y JERINGAS) PARA FARMACIA Y OTROS SERVICIOS DEL HRDT","SUBASTA INVERSA ELECTRONICA","SIN MODALIDAD","SIE-SIE-3-2018-HRDT-1",256187,"20419385442                   UTILITARIOS MEDICOS S.A.C.","ADJUDICADO","20.09.2018","12 MESES"]
[null,"\"SUMINISTRO DE INSUMOS MEDICOS PARA EL DPTO DE FARMACIA DEL HOSPITAL REGIONAL DOCENTE DE TRUJILLO\"","ADJUDICACION SIMPLIFICADA","SIN MODALIDAD","AS-SM-33-2018-HRDT-1",70200,"20465722119                GLOBAL SUPPLY S.A.C.","ADJUDICADO","27.02.2019","12 MESES"]
[null,null,null,null,null,103500,"20377339461                 B.BRAUN MEDICAL PERU S.A","ADJUDICADO","14.03.2019","12 MESES"]
[null,"SERVICIO DE MANTENIMIENTO CORRECTIVO DE AIRES ACONDICIONADOS DE USI Y SALA DE OPERACIONES DEL HRDT","ADJUDICACION SIMPLIFICADA","SIN MODALIDAD","AS-SM-1-2018-HRDT-1",68735,"20555114622                    AIR PROYECT S.A.C. ","ADJUDICADO","03.10.2018","30 DIAS CALENDARIO"]
[null,"BOLSA COLECTORA DE SANGRE CUADRUPLE X 450 mL CON EQUIPO FRACCIONADOR EN CESIÓN DE USO","LICITACION PUBLICA","SIN MODALIDAD","LP-01-208-HRDT",344400,"20381450377                 SANDERSON S.A.","ADJUDICADO","17.10.2018","12 MESES"]
[null,"SUMINISTRO DE CARTUCHO PARA ANALIZADOR DE GASES ARTERIALES, ELECTROLITOS Y METABOLITOS PARA EQUIPO PROPIO STAT PROFILE PHOX ULTRA NOVA BIOMEDICAL","LICITACION PUBLICA","SIN MODALIDAD","LP-2-2018-HRDT  ",516960,"20552895496                   INGENIERIA DE DIAGNOSTICO CLINICO SOCIEDAD ANONIMA CERRADA   ","ADJUDICADO","070.09.2018","12 MESES"]
[null,"SUMINISTRO DE ALIMENTOS PARA DPTO. DE NUTRICION Y DIETETICA DEL HRDT","LICITACION PUBLICA","SIN MODALIDAD","LP-3-2018-HRDT  ",577717.5,"20477171321              CONSORCIO DE ALIMENTOS NEGOCIOS NEGI Y DISTRIBUIDORA FINA ","ADJUDICADO","10.10.2018","12 MESES"]
[null,null,null,null,null,532215,"20481144231                     ALIMENTOS Y CARNES E.I.R.L.","ADJUDICADO","10.10.2018","12 MESES"]
[null,"AÑO 2019",null,null,null,{"$f":"SUM(F706:F716)","v":2223373.4}]
[null,"SERVICIO DE MANTENIMIENTO CORRECTIVO Y PREVENTIVO AUTOCLAVE DE ESTERILIZACION.","ADJUDICACION SIMPLIFICADA","SIN MODALIDAD","AS-1-2019-HRDT  ",46800,"20503919908                  ESTERILIZA SOCIEDAD ANONIMA ","ADJUDICADO","11.04.2019","30 DIAS CALENDARIO"]
[null,"SUMINISTRO DE REACTIVOS DE COAGULACION CON EQUIPOS EN CESION DE USO PARA EL HRDT","ADJUDICACION SIMPLIFICADA","SIN MODALIDAD","AS-4-2019-HRDT  ",19216.8,"20537139120                    DELTALAB PERU E.I.R.L.","ADJUDICADO","11.04.2019","12 MESES"]
[null,"SUMINISTRO DE FORMULA ENTERAL POLIMERICA ADULTO X 900 g","ADJUDICACION SIMPLIFICADA","SIN MODALIDAD","AS-8-2019-HRDT  ",204000,"20100096936                        ABBOT LABORATORIOS SA","ADJUDICADO","11.09.2019","12MESES"]
[null,"SUMINISTRO DE REACTIVO DE HEMOGLOBINA GLICOSILADA CON EQUIPO LIGADO EN CESIÓN DE USO PARA EL HRDT","ADJUDICACION SIMPLIFICADA","SIN MODALIDAD","AS-10-2019-HRDT  ",86400,"20505110651                   WP. BIOMED EIRL","ADJUDICADO","15.08.2019","12 MESES"]
[null,"VENTILADOR VOLUMETRICO MECANICO ADULTO/PEDIATRICO","ADJUDICACION SIMPLIFICADA","LLAVE EN MANO","AS-12-2019-HRDT  ",34000,"2050546346                HEMOCARE SAC","ADJUDICADO","12.09.2019","60 DIAS"]
[null,"SUMINISTRO DE COMBUSTIBLE PARA CALDERAS DEL HRDT, periodo 24 meses","SUBASTA INVERSA ELECTRONICA","SIN MODALIDAD","SIE (POR SUBASTA INVERSA ELECTRONICA)-1-2019-HRDT  ",1071000,"20559517055                    SERVICIOS E INVERSIONES JESMAD S.A.C. - JESMAD S.A.C. ","ADJUDICADO","21.08.2019","24 MESES"]
[null,"SUMINISTRO DE MATERIAL MÉDICO ( ALGODÓN , GUANTE) PARA EL EL DPTO. DE ENFERMERA DEL HRDT, periodo 12 meses","SUBASTA INVERSA ELECTRONICA","SIN MODALIDAD","SIE (POR SUBASTA INVERSA ELECTRONICA)-2-2019-HRDT  ",270737,"20555589574                          L & M MEDICAL SUPPLIES SOCIEDAD ANONIMA CERRADA","ADJUDICADO","04.09.2019","12 MESES"]
[null,null,null,"SIN MODALIDAD",null,136589.20000000001,"20506744874                     MEDICAL CHANNEL S.A.C","ADJUDICADO","04.09.2019","12 MESES"]
[null,"REACTIVOS PARA INMUNOLOGIA CON EQUIPO EN CESION DE USO","LICITACION PUBLICA","SIN MODALIDAD","LP-2-2019-HRDT  ",58592,"20100177341                       PRODUCTOS ROCHE Q F S A ","ADJUDICADO","13.05.2019","12 MESES"]
[null,"CONTRATACIÓN DEL SERVICIO DE RECOJO, TRANSPORTE, TRATAMIENTO Y DISPOSICION FINAL DE RESIDUOS SÓLIDOS HOSPITALARIOS DEL HRDT, POR TRES MESES","CONTRATACION DIRECTA","SIN MODALIDAD","DIRECTA-1-2019-HRDT  ",199238.39999999999,"20397923381                     PRODUCTOSY SERVICIOSDE MANTEIMIENTO Y SEGURIDAD IDUSTRIAL SRL","ADJUDICADO","13.05.2019","3 MESES"]
[null,"SUMINISTRO DE SOLUCIÓN PARA NUTRICIÓN PARENTERAL","CONTRATACION DIRECTA","SIN MODALIDAD","DIRECTA-2-2019-HRDT  ",96800,"20518874684                    MEDICA NUTRICIO SAC","ADJUDICADO","28.06.2019","2 MESES"]
[null,"TOTAL",null,null,null,{"$f":"F675+F705","v":8425138.459999999}]
[null,"UE 403 SALUD TRUJILLO SUR OESTE (0848)"]
[null,2019]
[null,"1 RECOLECCION, TRANSPOTE DE RESIDUOS SOLIDOS","CP ",null," 02-2017-HBT",32750.92,"PROMAS SRL",null,"2017-12-13"]
[null,"2 SEGURIDAD Y VIGILANCIA","CP  ",null," 001-2017-HBT",378711.61,"ZEUS SEGURITY AND SERVICE S.A.C",null,"2017-07-20"]
[null,"3 INTERNET","AS",null,"  004-2017-HBT",24780,"INTERNET",null,"2017-08-03"]
[null,"4 ALIMENTOS","LP ",null,"004-2018-HBT","590 147,10 ","CONSORCIO DE ALIMENTOS N&F ",null,"2018-11-22"]
[null,"5 LIMPIEZA","CP  ",null," 002-2018-HBT",484200,"SERVICIOS DE LIMPIEZA TARAZONA SAC- SERLIMP SAC",null,"2018-12-06"]
[null,"6 PETROLEO PARA CALDEROS","SIEC ",null,"01-2018-HBT",105433.60000000001,"SERVICIOS E INVERSIONES JESMAD SAC",null,"2018-12-07"]
[null,"7 Heparina Sódica 5000 ","SIE ",null,"001-2019-HBT",52000,"NORDIC PHARMACEUTICAL COMPANY S.A.C",null,"2019-04-10"]
[null,"8 CARNES ROJAS","AS ",null,"020-2018-HBT",235095.48,"ALIMENTOS Y CARNES E.I.R.L",null,"2019-04-16"]
[null,"9 ARROZ, AZUCAR,ACEITE","SIE ",null,"002-2019-HBT ",41179.11,"DISTRIBUIDORA FINA SRL",null,"2019-05-27"]
[null,"10 Complejo Protrombínico Humano Ynyectable","CD ",null," 001-2019-HBT",48000,"GREY INVERSIONES S.A.C",null,"2019-05-20"]
[null,"11 CATETER ENDOVENSO PERIFERICO","LP ",null," 03-2019-HBT",136916.67000000001,"B. BRAUN MEDICAL PERU SA ",null,"2019-07-15"]
[null,"12 CONECTOR EN ESPIGA PARA SOLUCIONES ENDOVENOSAS","LP ",null," 03-2019-HBT",25496.880000000001,"B. BRAUN MEDICAL PERU SA ",null,"2019-07-15"]
[null,"13 EQUIPO DE INFUSION CON VOLUTROL MICROGOTERO","LP ",null," 03-2019-HBT",453333.33,"B. BRAUN MEDICAL PERU SA ",null,"2019-07-15"]
[null,"14 LINEA DE EXTENSION OPACA PARA BOMBA DE INFUSION","LP ",null," 03-2019-HBT",70000,"B. BRAUN MEDICAL PERU SA ",null,"2019-07-15"]
[null,"15 CATETER UMBILICAL ARTERIAL N° 2.5F","LP ",null," 03-2019-HBT",11250,"MAVART S.R.L ",null,"2019-07-17"]
[null,"16 TIRA REACTIVA PARA GLUCOMETRO 50 DET","LP ",null," 03-2019-HBT",60800,"PRODUCTOS ROCHE Q.F.S.A ",null,"2019-07-11"]
[null,"17 TUBO DE ASPIRACION 9/32 X 2.5M","LP ",null," 03-2019-HBT",33333.33,"ANJACK MEDICA SAC ",null,"2019-07-11"]
[null,"18 EQUIPO PARA BOMBA DE INFUSION CON JERINGA DE 50ML","LP ",null," 03-2019-HBT",57917,"FRESENIUS KABI PERU S.A ",null,"2019-07-18"]
[null,"19 CONECTOR TRIFURCADO CON ADAPTADOR EN Y NEONATO","LP ",null," 03-2019-HBT",14805,"HEMO MEDICAL S.A.C ",null,"2019-07-16"]
[null,"20 EXTENSION BIFURCADA DOS VALVULAS SIN AGUJAS X 12 CM","LP ",null," 03-2019-HBT",15933.33,"HEMO MEDICAL S.A.C ",null,"2019-07-17"]
[null,"21 CATETER PERCUTANEO CON INTRODUCTOR PELABLE 1.9 FR X 30CM","LP ",null," 03-2019-HBT",47500,"MAVART S.R.L",null,"2019-07-17"]
[null,"22 CATETER UMBILICAL VENOSO","LP ",null," 03-2019-HBT",13334,"MAVART S.R.L",null,"2019-07-17"]
[null,"23 APOSITO TRANSPARENTE CON GLUCONATO DE CLORHEXIDINA 8.5 X 11.5 CM","LP ",null," 03-2019-HBT",21458.33,"DROFAR E.I.R.L ",null,"2019-07-23"]
[null,"24 FRASCOS DE PLASTICOS","LP ",null," 03-2019-HBT",18633.330000000002,"PLASTILAB S.A.C  ",null,"2019-07-26"]
[null,"25 EQUIPO MICROGOTERO CON VOLUTROL","LP ",null," 03-2019-HBT",48000,"F&F PRODUCTOS GENERALES E.I.R.L ",null,"2019-07-23"]
[null,"26 LLAVE DE TRIPLE VIA CON EXTENSION X 10CM","LP ",null," 03-2019-HBT",18250,"DISTRIBUIDORA CONTINENTAL 6 S.AC  ",null,"2019-07-23"]
[null,"27 ESPARADRAPO DE PLASTICO 1\" X 10yd 12 CORTES","LP ",null," 03-2019-HBT",22678.33,"CYMED MEDICAL S.A.C",null,"2019-07-26"]
[null,"28 APOSITO TRANSPARENTE ADHESIVO","LP ",null," 03-2019-HBT",96390,"DROFAR E.I.R.L ",null,"2019-08-01"]
[null,"MEDICAMENTOS FARMACIA COMPRA CORPORATIVA","LP ",null,"17-2017-GERESA-LL",56213.52,"SIGMA",null,"2018-11-16"]
[null,null,null,null,null,null,"MULTIMEDICAL SUPPLIES",null,"2018-11-16"]
[null,null,null,null,null,null,"LAB AMERICANOS",null,"2018-11-16"]
[null,null,null,null,null,null,"JJ BOGGIO",null,"2018-11-16"]
[null,null,null,null,null,null,"NIPPRO MEDICAL",null,"2018-11-16"]
[null,null,null,null,null,null,"UNILENE",null,"2018-11-16"]
[null,null,null,null,null,null,"ARGOS",null,"2018-11-16"]
[null,null,null,null,null,null,"B.BRAUN",null,"2018-11-16"]
[null,null,null,null,null,null,"UNILENE",null,"2018-11-16"]
[null,"MEDICAMENTOS FARMACIA COMPRA CORPORATIVA","SIE",null,"12-2018-GERESA",4573.17,"LABORATORIOS AMERICANOS",null,"2019-05-06"]
[null,null,null,null,null,null,"NIPPRO MEDICAL",null,"2019-05-06"]
[null,"MEDICAMENTOS FARMACIA COMPRA CORPORATIVA","SIE",null,"14-2018-GERESA-LL",76362.399999999994,"MEDIFARMA",null,"10/08/209"]
[null,null,null,null,null,null,"PEREDA DISTRBUIDORES",null,"10/08/209"]
[null,null,null,null,null,null,"LABORATORIOS AMERICANOS",null,"10/08/209"]
[null,"MEDICAMENTOS FARMACIA COMPRA CORPORATIVA","SIE ",null,"21-2018-GERESA-LL",23054.87,"INSTITUTO QUIMIOTERAPICO",null,"2019-09-07"]
[null,null,null,null,null,null,"MEDIFARMA",null,"2019-09-07"]
[null,null,null,null,null,null,"LABORATORIOS AC FARMA",null,"2019-09-07"]
[null,null,null,null,null,null,"FRESENIUS KABI PERU S.A ",null,"2019-09-07"]
[null,null,null,null,null,null,"DROGUERIA INVERSIONES JPS",null,"2019-09-07"]
[null,null,null,null,null,null,"DISTRIBUIDORA SAGITARIO",null,"2019-09-07"]
[null,2020]
[null,"LIMPIEZA","CP  ",null," 002-2018-HBT",968400,"SERVICIOS DE LIMPIEZA TARAZONA SAC- SERLIMP SAC",null,"2018-12-06"]
[null,"CATETER ENDOVENSO PERIFERICO","LP ",null," 03-2019-HBT",273833.33,"B. BRAUN MEDICAL PERU SA ",null,"2019-07-15"]
[null,"CONECTOR EN ESPIGA PARA SOLUCIONES ENDOVENOSAS","LP ",null," 03-2019-HBT",50993.77,"B. BRAUN MEDICAL PERU SA ",null,"2019-07-15"]
[null,"EQUIPO DE INFUSION CON VOLUTROL MICROGOTERO","LP ",null," 03-2019-HBT",906666.67,"B. BRAUN MEDICAL PERU SA ",null,"2019-07-15"]
[null,"LINEA DE EXTENSION OPACA PARA BOMBA DE INFUSION","LP ",null," 03-2019-HBT",140000,"B. BRAUN MEDICAL PERU SA ",null,"2019-07-15"]
[null,"CATETER UMBILICAL ARTERIAL N° 2.5F","LP ",null," 03-2019-HBT",22500,"MAVART S.R.L ",null,"2019-07-17"]
[null,"TIRA REACTIVA PARA GLUCOMETRO 50 DET","LP ",null," 03-2019-HBT",121600,"PRODUCTOS ROCHE Q.F.S.A ",null,"2019-07-11"]
[null,"TUBO DE ASPIRACION 9/32 X 2.5M","LP ",null," 03-2019-HBT",66666.67,"ANJACK MEDICA SAC ",null,"2019-07-11"]
[null,"EQUIPO PARA BOMBA DE INFUSION CON JERINGA DE 50ML","LP ",null," 03-2019-HBT",115833,"FRESENIUS KABI PERU S.A ",null,"2019-07-18"]
[null,"CONECTOR TRIFURCADO CON ADAPTADOR EN Y NEONATO","LP ",null," 03-2019-HBT",29610,"HEMO MEDICAL S.A.C ",null,"2019-07-16"]
[null,"EXTENSION BIFURCADA DOS VALVULAS SIN AGUJAS X 12 CM","LP ",null," 03-2019-HBT",31866.67,"HEMO MEDICAL S.A.C ",null,"2019-07-17"]
[null,"CATETER PERCUTANEO CON INTRODUCTOR PELABLE 1.9 FR X 30CM","LP ",null," 03-2019-HBT",95000,"MAVART S.R.L",null,"2019-07-17"]
[null,"CATETER UMBILICAL VENOSO","LP ",null," 03-2019-HBT",26666,"MAVART S.R.L",null,"2019-07-17"]
[null,"APOSITO TRANSPARENTE CON GLUCONATO DE CLORHEXIDINA 8.5 X 11.5 CM","LP ",null," 03-2019-HBT",42916.67,"DROFAR E.I.R.L ",null,"2019-07-23"]
[null,"FRASCOS DE PLASTICOS","LP ",null," 03-2019-HBT",37266.67,"PLASTILAB S.A.C  ",null,"2019-07-26"]
[null,"EQUIPO MICROGOTERO CON VOLUTROL","LP ",null," 03-2019-HBT",96000,"F&F PRODUCTOS GENERALES E.I.R.L ",null,"2019-07-23"]
[null,"LLAVE DE TRIPLE VIA CON EXTENSION X 10CM","LP ",null," 03-2019-HBT",36500,"DISTRIBUIDORA CONTINENTAL 6 S.AC  ",null,"2019-07-23"]
[null,"ESPARADRAPO DE PLASTICO 1\" X 10yd 12 CORTES","LP ",null," 03-2019-HBT",45356.67,"CYMED MEDICAL S.A.C",null,"2019-07-26"]
[null,"APOSITO TRANSPARENTE ADHESIVO","LP ",null," 03-2019-HBT",192780,"DROFAR E.I.R.L ",null,"2019-08-01"]
[null,"MEDICAMENTOS FARMACIA COMPRA CORPORATIVA  *","SIE",null,"21-2018-GERESA-LL",972126.39,"VARIOS"]
[null,"TOTAL",null,null,null,{"$f":"SUM(F719:F788)","v":7000966.7199999997}]
[null,"UE 404 SALUD CHEPEN"]
[null,2018]
[null,"1 OXIGENO MEDICINAL","A.S. 001-2018","Precio Unitario",1,38550.6,"RUC 20100128994 LINDE GAS PERU","CULMINADO","2018-04-30","2018-05-01","ENTREGA MENSUAL"]
[null,"2 SERVICIO DE PREPARACION DE ALIMENTOS","A.S. 002-2018","Precio Unitario",2,90205.5,"RUC 20481494215 LA DAMA JUANA EIRL","CULMINADO","2018-04-15","2018-04-16","ENTREGA MENSUAL"]
[null,"3 COMBUSTIBLE (GASOLINA Y PETROLEO)","SIE. 001-2018","Precio Unitario",3,63900,"RUC 20220724809 GRIFOS KAMT SAC","CULMINADO","2018-07-02","2018-07-03","ENTREGA MENSUAL"]
[null,"4 LAMPARA CIALITICA 02 CUPULAS","A.S. 004-2018","SUMA ALZADA",4,61000,"RUC 20601901065 DROGUERIA CIAMEDICAL PERU SAC","CULMINADO","2018-11-28","2019-01-14","ACTA DE RECEPCION"]
[null,"5 MONITOR MULTIPARAMETROS","A.S. 006-2018","Precio Unitario",5,65800,"RUC 20512709088 CARDIOPULMONARY CARE SAC","CULMINADO","2018-11-30","2019-01-04","ACTA DE RECEPCION"]
[null,6]
[null,2019]
[null,"6 HEMOGRAMA AUTOMATIZADO","A.S. 001-2019","Precio Unitario",1,32280,"RUC 20481492433 UNILAP SAC","CULMINADO","2019-06-03","2019-06-12","UNA SOLA ENTREGA"]
[null,"7 OXIGENO MEDICINAL","A.S. 002-2019","Precio Unitario",2,27650,"RUC 20516367670 OXYMAN COMERCIAL SAC","EN PROCESO","2019-07-12","2019-07-13","ENTREGA MENSUAL"]
[null,"8 COMBUSTIBLE (GASOLINA Y PETROLEO)","A.S. 003-2019","Precio Unitario",3,76911.05,"RUC 20220724809 GRIFOS KAMT SAC","EN PROCESO","2019-07-18","2019-07-19","ENTREGA MENSUAL"]
[null,"TOTAL",null,null,null,{"$f":"SUM(F792:F801)","v":456297.14999999997}]
[null,"UE 405 SALUD PACASMAYO (0850)"]
[null,2018,null,null,null,{"$f":"SUM(F805:F807)","v":177500}]
[null,"PROCESO DE COMBUSTIBLE","AS","PROCESO CLASICO",1,69500,"SERVICIOS LA ESPERANZA SAC","CULMINADO","2018-07-18","2018-07-24"]
[null,"PROCESO DE SERVICIO DE ALIMENTACION HOSPITALARIA","AS","PROCESO CLASICO",2,{"$f":"13500*8","v":108000},"LA DAMA JUANA SAC","CULMINADO","2018-08-10","2018-08-15"]
[]
[null,2019,null,null,null,{"$f":"SUM(F809:F811)","v":169200}]
[null,"PROCESO DE COMBUSTIBLE","AS","PROCESO CLASICO",1,{"$f":"9800*9","v":88200},"SERVICIOS LA ESPERANZA SAC","EN PROCESO","2019-03-08"]
[null,"PROCESO DE SERVICIO DE ALIMENTACION HOSPITALARIA","AS","PROCESO CLASICO",2,{"$f":"13500*6","v":81000},"LA DAMA JUANA SAC","EN PROCESO","2019-06-28"]
[]
[null,2020]
[]
[null,"TOTAL",null,null,null,{"$f":"+F804+F808+F812","v":346700}]
[null,"UE 406 SALUD SANCHEZ CARRION (0851)"]
[null,2018,null,null,null,{"$f":"SUM(F817:F835)","v":1666957.47}]
[null,"ADQUISICION DE COMBUSTIBLE PARA LAS DIFERENTES UNIDADES MOVILES DE LA RED DE SALUD SANCHEZ CARRION","SUBASTA INVERSA\nELECTRÓNICA","SIN MODALIDAD","SIE-SIE-1-2018-RSSC-1",41599.519999999997,"20560038195 - ESTACION DE SERVICIOS \nDIEGO CUBA E.I.R.L.","CONTRATADO","2018-02-28","DIARIA"]
[null,"ADQUISICIÓN DE COMBUSTIBLE PARA LAS DIFERENTES \nUNIDADES MOVILES DE LA RED DE SALUD SANCHEZ CARRION -2018","SUBASTA INVERSA\nELECTRÓNICA","SIN MODALIDAD","SIE-SIE-2-2018-RSSC-1",57632.4,"20560038195 - ESTACION DE \nSERVICIOS DIEGO CUBA E.I.R.L.","CONTRATADO","2018-05-07","DIARIA"]
[null,"ADQUISICIÓN DE MATERIALES DE LIMPIEZA PARA LA RED DE \nSALUD SANCHEZ CARRION-2018","COMPARACION DE\nPRECIOS","SIN MODALIDAD","COMPRE-SM-1-2018-\nRSSC-1",54099.4,"10705560345 - MARTINEZ \nRODRIGUEZ MELVA","CONTRATADO","2018-04-27","05 DIAS"]
[null,"ADQUISICIÓN DE IMPRESIÓN DE FORMATERIA PARA EL SEGURO INTEGRAL DE SALUD , DE LA RED DE SALUD SANCHEZ CARRION","ADJUDICACIÓN\nSIMPLIFICADA","SIN MODALIDAD","AS-SM-1-2018-RSSC-1",30000,"20440413243 - GRAFICA CABRERA EIRL","CONTRATADO","2018-05-17","06 DIAS"]
[null,"ADQUISICION DE MICROCUBETAS PARA LA ATENCIÓN DE PACIENTES (NIÑOS, GESTANTES) DEL SIS DE LA RED DE SALUD DE SANCHEZ CARRION","ADJUDICACIÓN\nSIMPLIFICADA","SIN MODALIDAD","AS-SM-2-2018-RSSC-1",109742.39999999999,"20480981775 - BAYOMED HEALTH PERU SAC","CONTRATADO","2018-05-21","5 DIAS"]
[null,"ADQUISICIÓN DE MAQUINA DE ANESTESIA CON MONITOR MULTIPARAMETRO ADICIONADO PARA LA ATENCION DE PACIENTE DEL SIS, DE LA RED DE SALUD SANCHEZ CARRION","ADJUDICACIÓN\nSIMPLIFICADA","SIN MODALIDAD","AS-SM-3-2018-RSSC-1",237867,"20101337261 - ROCA S.A.C.","CONTRATADO","2018-06-08","60 DIAS"]
[null,"CONTRATACION DEL SERVICIO DE MANTENIMIENTO PREVENTIVO DE CANALETAS Y COBERTURA DEL TECHO DEL HOSPITAL LEONCIO PRADO-HUAMACHUCO DE LA PROVINCIA SANCHEZ CARRION-REGION LA LIBERTAD","ADJUDICACIÓN\nSIMPLIFICADA","SIN MODALIDAD","AS-SM-4-2018-RSSC-1",null,null,null,null,null,"CANCELADO"]
[null,"ADQUISICION DE COMBUSTIBLE PARA LAS DIFERENTES UNIDADES MOVILES DE LA RED SALUD SANCHEZ CARRION-2018","SUBASTA INVERSA\nELECTRÓNICA","SIN MODALIDAD","SIE-SIE-3-2018-RSSC-1",null,null,null,null,null,"DESIERTO"]
[null,"CONTRATACION DEL SERVICIO  DE DISTRIBUCION DE PRODUCTOS FARMACEUTICOS, DISPOSITIVOS MEDICOS Y VACUNAS  2018","ADJUDICACIÓN\nSIMPLIFICADA","SIN MODALIDAD","AS-SM-5-2018-RSSC-1",58000,"10195722841 - SANCHEZ SALINAS MIGUEL JOSE ","CONTRATADO","2018-07-31","SERVICIO\nMENSUAL"]
[null,"ADQUISICION DE MICROCUBETAS PARA LA ATENCION DE PACIENTES (NIÑOS, GESTANTES) DEL SIS DE LA RED DE SALUD SANCHEZ CARRION","ADJUDICACIÓN\nSIMPLIFICADA","SIN MODALIDAD","AS-SM-6-2018-RSSC-1",311572.8,null,null,null,null,"DESIERTO"]
[null,"ADQUISICION DE MESA QUIRURGICA ELECTRICA HIDRAULICA GINECOLOGICA PARA LA ATENCION DE PACIENTES SIS DE LA RED DE SALUD SANCHEZ CARRION","ADJUDICACIÓN\nSIMPLIFICADA","SIN MODALIDAD","AS-SM-7-2018-RSSC-1",134800,"20560116927 - G Y R MEDIC S.A.C.","CONTRATADO","2018-08-07","45 DIAS"]
[null,"ADQUISICION DE COMBUSTIBLE PARA LAS DIFERENTES UNIDADES MOVILES DE LA RED SALUD SANCHEZ CARRION-2018","SUBASTA INVERSA\nELECTRÓNICA","SIN MODALIDAD","SIE-SIE-3-2018-RSSC-2",125608.75,"20480990685 - ESTACION DE SERVICIOS JUANCJUMER S.A.C.","CONTRATADO","2018-07-31","DIARIA"]
[null,"ADQUISICIÓN DE FORMATERIA PARA EL SEGURO INTEGRAL DE SALUD DE LA RED DE SALUD SANCHEZ CARRION","ADJUDICACIÓN\nSIMPLIFICADA","SIN MODALIDAD","AS-SM-8-2018-RSSC-1",48896,"20440413243 - GRAFICA CABRERA EIRL","CONTRATADO","2018-08-10","3 DIAS"]
[null,"ADQUISICION DE MICROCUBETAS PARA LA ATENCION DE PACIENTES (NIÑOS, GESTANTES) DEL SIS DE LA RED DE SALUD SANCHEZ CARRION","ADJUDICACIÓN\nSIMPLIFICADA","SIN MODALIDAD","AS-SM-6-2018-RSSC-2",311572.8,"20480981775 - BAYOMED HEALTH PERU SAC","CONTRATADO","2018-08-17","5 DIAS"]
[null,"ADQUISICION DE MONITOR MULTIPARAMETRO DE 7 PARAMETROS PARA MONITORIZAR A LOS PACIENTES SIS, DE LA RED DE SALUD SANCHEZ CARRION","ADJUDICACIÓN\nSIMPLIFICADA","SIN MODALIDAD","AS-SM-9-2018-RSSC-1",null,null,null,null,null,"CANCELADO"]
[null,"ADQUISICIÓN DE COMBUSTIBLE PARA LAS DIFERENTES UNIDADES MÓVILES, DE LA RED DE SALUD SANCHEZ CARRION","SUBASTA INVERSA\nELECTRÓNICA","SIN MODALIDAD","SIE-SIE-4-2018-RSSC-1",null,null,null,null,null,"DESIERTO"]
[null,"ADQUISICION DE FORMATERIA PARA EL SEGURO INTEGRAL DE SALUD (SIS), DE LA RED DE SALUD SANCHEZ CARRION","ADJUDICACIÓN\nSIMPLIFICADA","SIN MODALIDAD","AS-SM-10-2018-RSSC-1",42566.400000000001,"20440413243 - GRAFICA CABRERA EIRL","CONTRATADO","2018-11-15","5 DIAS"]
[null,"ADQUISICIÓN DE COMBUSTIBLE PARA LAS DIFERENTES UNIDADES MÓVILES, DE LA RED DE SALUD SANCHEZ CARRION","SUBASTA INVERSA\nELECTRÓNICA","SIN MODALIDAD","SIE-SIE-4-2018-RSSC-2",103000,"20482107321 - SERVICENTROS MARIELENA S.A.C.","CONTRATADO","2018-11-21","DIARIA"]
[null,"ADQUISICION DE RACIONES ALIMENTICIAS PARA PACIENTES SIS DEL HOSPITAL LEONCIO PRADO DE LA RED DE SALUD SANCHEZ CARRION ","ADJUDICACIÓN\nSIMPLIFICADA","SIN MODALIDAD","AS-SM-11-2018-RSSC-1",null,null,null,null,null,"NULO"]
[]
[null,2019,null,null,null,{"$f":"SUM(F838:F849)","v":1477622.84}]
[null,"ADQUISICION DE COMBUSTIBLE PARA LAS DIFERENTES UNIDADES MOVILES DE LA RED DE SALUD SANCHEZ CARRION","SUBASTA INVERSA\nELECTRÓNICA","SIN MODALIDAD","SIE-01-2019-RSSC/OEC",264940,"20482107321 - SERVICENTROS MARIELENA S.A.C.","CONTRATADO","2019-03-13","DIARIA"]
[null,"ADQUISICION DE MATERIAL DE LIMPIEZA PARA LA RED DE SALUD SANCHEZ CARRION","COMPARACION DE\nPRECIOS","SIN MODALIDAD","COMPARACION DE \nPRECIOS-01-2019-RSSC/OEC\n",53800.3,"10467759219 - ASUNCION VILLANUEVA JAIME HUMBERTO","CONTRATADO","2019-04-12","03 DIAS"]
[null,"ADQUISICION DE MICROCUBETAS PARA LA ATENCION DE PACIENTES (NIÑOS, GESTANTES) DEL SIS DE LA RED DE SALUD SANCHEZ CARRION","ADJUDICACIÓN\nSIMPLIFICADA","SIN MODALIDAD","AS-01-2019-RSSC/OEC",302400,"20480981775 - BAYOMED HEALTH PERU SAC","CONTRATADO","2019-05-17","5 DIAS"]
[null,"ADQUISICIÓN DE FORMATERIA PARA EL SISTEMA INTEGRAL DE SALUD (SIS), DEL HOSPITAL LEONCIO PRADO HUAMACHUCO, DE LA RED DE SALUD SANCHEZ CARRION","ADJUDICACIÓN\nSIMPLIFICADA","SIN MODALIDAD","AS-02-2019-RSSC/OEC",99890,"20518517814 - GRAFICA GECER S.A.C.","CONTRATADO","2019-05-27","10 DIAS"]
[null,"MEJORAMIENTO Y REHABILITACIÓN POR PELIGRO INMINENTE ANTE INUNDACIONES Y MOVIMIENTOS EN MASA DURANTE EL PERIODO DE LLUVIAS 2018-2019 DEL HOSPITAL LEONCIO PRADO, DEPARTAMENTO LA LIBERTAD (CAMBIO DE COBERTURA)","CONTRATACIÓN DIRECTA","SIN MODALIDAD","CONTRATACION \nDIRECTA N° 01-2019-RSSC/OEC",117799.14,"20481074437 - SERVICIOS GENERALES SMITH EMPRESA INDIVIDUAL DE RESPONSABILIDAD LIMITADA","CONTRATADO","2019-05-23","15 DIAS"]
[null,"“ADQUISICIÓN DE MEDICAMENTOS PARA LA RED DE SALUD DE SANCHEZ CARRION - HOSPITAL LEONCIO PRADO”.","ADJUDICACIÓN\nSIMPLIFICADA","SIN MODALIDAD","AS-03-2019-RSSC/OEC-",157591.4,"20600941578 - CORPORACION MARSOF S.A.C.","CONTRATADO","2019-06-05","3 DIAS"]
[null,"ADQUISICIÓN DE MEDICAMENTOS PARA LA RED DE SALUD SÁNCHEZ CARRIÓN - HOSPITAL LEONCIO PRADO","SUBASTA INVERSA\nELECTRÓNICA","SIN MODALIDAD","SIE-SIE-2-2019-RSSC-2",null,null,null,null,null,"DESIERTO"]
[null,"“ADQUISICION DE RACIONES ALIMENTARIAS PARA PACIENTES SIS DEL HOSPITAL LEONCIO PRADO DE LA RED DE SALUD SANCHEZ CARRION”","ADJUDICACIÓN\nSIMPLIFICADA","SIN MODALIDAD","AS-04-2019-RSSC/OEC",49220,"MEGAINVERSIONES\nHERMANOS VARGAS S.A.C.","ADJUDICADO","2019-08-27"]
[null,"“CONTRATACION DEL SERVICIO DE TRANSPORTE DE PRODUCTOS FARMACEUTICOS (INCLUYE VACUNAS), DISPOSITIVOS MÉDICOS Y PRODUCTOS SANITARIOS, EQUIPOS Y OTROS BIENES DE LA GERENCIA REGIONAL DE SALUD LA LIBERTAD A CADA ESTABLECIMIENTO DE SALUD DE LA PROVINCIA DE SANCHEZ CARRION”","ADJUDICACIÓN\nSIMPLIFICADA","SIN MODALIDAD","AS-05-2019-RSSC/OEC",67000,"10195722841 - SANCHEZ SALINAS MIGUEL JOSE","CONTRATADO","2019-08-03","MENSUAL"]
[null,"\"ADQUISICION DE OXIGENO PARA ATENCION DE PACIENTES SIS DE LA RED DE SALUD SANCHEZ CARRION\"","ADJUDICACIÓN\nSIMPLIFICADA","SIN MODALIDAD","AS-06-2019-RSSC/OEC-",90000,"20495713564 - OPERADOR LOGISTICO GASES INDUSTRIALES S.A.C.","FIRMA DE \nCONTRATO"]
[null,"ADQUISICIÓN DE INSTRUMENTAL MEDICO PARA LA ATENCIÓN DE PARTOS, EN LOS ESTABLECIMIENTOS DE SALUD, DE LA RED DE SALUD DE SÁNCHEZ CARRIÓN","COMPARACION DE\nPRECIOS","SIN MODALIDAD","COMPARACIÓN DE \nPRECIOS N° 02-2019-RSSC/OEC",48000,"20482114882 - NEOBIO S.A.C.","CONTRATDO","2019-08-01","3 DIAS"]
[null,"\"ADQUISICIÓN DE COMBUSTIBLE PARA LAS DIFERENTES UNIDADES MÓVILES DE LA RED DE SALUD SÁNCHEZ CARRIÓN\"","SUBASTA INVERSA\nELECTRÓNICA","SIN MODALIDAD","SIE-SIE-3-2019-RSSC-1",226982,null,null,null,null,"CONVOCADO"]
[]
[null,"PROVECTADOS AL 2020",null,null,null,{"$f":"SUM(F852:F857)","v":1150250}]
[null,"ADQUISICION DE COMBUSTIBLE PARA LAS DIFERENTES UNIDADES MOVILES DE LA RED DE SALUD SANCHEZ CARRION","SUBASTA INVERSA\nELECTRÓNICA","SIN MODALIDAD",null,400000]
[null,"ADQUISICION DE MATERIAL DE LIMPIEZA PARA LA RED DE SALUD SANCHEZ CARRION","ADJUDICACIÓN\nSIMPLIFICADA","SIN MODALIDAD",null,90000]
[null,"ADQUISICION DE MICROCUBETAS PARA LA ATENCION DE PACIENTES (NIÑOS, GESTANTES) DEL SIS DE LA RED DE SALUD SANCHEZ CARRION","ADJUDICACIÓN\nSIMPLIFICADA","SIN MODALIDAD",null,305000]
[null,"ADQUISICIÓN DE FORMATERIA PARA EL SISTEMA INTEGRAL DE SALUD (SIS), DEL HOSPITAL LEONCIO PRADO HUAMACHUCO, DE LA RED DE SALUD SANCHEZ CARRION","ADJUDICACIÓN\nSIMPLIFICADA","SIN MODALIDAD",null,250]
[null,"“ADQUISICIÓN DE MEDICAMENTOS PARA LA RED DE SALUD DE SANCHEZ CARRION - HOSPITAL LEONCIO PRADO”.","SUBASTA INVERSA\nELECTRÓNICA","SIN MODALIDAD",null,280000]
[null,"“CONTRATACION DEL SERVICIO DE TRANSPORTE DE PRODUCTOS FARMACEUTICOS (INCLUYE VACUNAS), DISPOSITIVOS MÉDICOS Y PRODUCTOS SANITARIOS, EQUIPOS Y OTROS BIENES DE LA GERENCIA REGIONAL DE SALUD LA LIBERTAD A CADA ESTABLECIMIENTO DE SALUD DE LA PROVINCIA DE SANCHEZ CARRION”","ADJUDICACIÓN\nSIMPLIFICADA","SIN MODALIDAD",null,75000]
[null,"TOTAL",null,null,null,{"$f":"+F816+F837+F851","v":4294830.3100000005}]
[null,"UE 408 SALUD OTUZCO (0853)"]
[null,2018,null,null,null,{"$f":"SUM(F861:F874)","v":1400700.2499999998}]
[null,"1 SERVICIO DE ALIMENTACIÓN Y NUTRICIÓN HOSPITALARIA","AS","PROCESO CLASICO",1,59500,"10190901373 - TABOADA COLLANTES ROSA MARGARITA","CULMINADO","2018-05-16","2018-12-31"]
[null,"2 Adquisición de MICROCUBETA DESCARTABLE PARA HEMOGLOBINOMETRO HEMOCUE HB 201 X 50","AS","PROCESO CLASICO",2,41976,"20438551825 -         CORPORACION CIENTIFICA SRL","CULMINADO","2018-05-23","2018-05-28"]
[null,"3 SERVICIO DE TRANSPORTE Y TRASLADO DE PRODUCTOS FARMACÉUTICOS Y DISPOSITIVOS MÉDICOS PARA ESTABLECIMIENTOS DE SALUD DE LA RED OTUZCO","AS","PROCESO CLASICO",3,55969,"20482292471  -  AVAL S.A.C.","CULMINADO","2018-05-22","2019-01-17"]
[null,"4 ADQUISICION DE REFRIGERADORAS PARA VACUNAS ICE LINE DE 48 L Y 75 L PARA ESTABLECIMIENTOS DE SALUD DE LA RED OTUZCO","AS","PROCESO CLASICO",4,58000,"20433546394 - EDALMI S.A.C.","CULMINADO","2018-06-14","2018-06-30"]
[null,"5 ADQUISICIÓN DE LAMPARA CIALITICA DE TECHO POR REPOSICIÓN - D.S. N° 062-2018-EF","AS","PROCESO CLASICO",5,138000," 20538597121 -  DRAEGER PERU S.A.C.","CULMINADO","2018-06-15","2018-08-23"]
[null,"6 ADQUISICIÓN DE EQUIPO DE ANESTESIA CON MONITOREO POR REPOSICIÓN - D.S. N° 062-2018-EF","AS","PROCESO CLASICO",6,210000,"20538597121  -  DRAEGER PERU S.A.C.","CULMINADO","2018-06-15","2018-08-23"]
[null,"7 ADQUISICION DE COMBUSTIBLE PARA UNIDADES MÓVILES DE LA RED DE SALUD OTUZCO","SIE-SIE","PROCESO CLASICO",1,90779.7,null,"DESIERTO"]
[null,"8 ADQUISICION DE COMBUSTIBLE PARA UNIDADES MÓVILES DE LA RED DE SALUD OTUZCO","SIE-SIE","PROCESO CLASICO",1,90779.7,null,"DESIERTO"]
[null,"9 ADQUISICION DE COMBUSTIBLE PARA UNIDADES MÓVILES DE LA RED DE SALUD OTUZCO","AS","PROCESO CLASICO",8,90779.7,"20477456244  -  GRIFO'S E INVERSIONES SHADAAY S.A.C. - GRIF'S SHADAAY R.P. S.A.C.","CULMINADO","2018-08-21","2018-12-31"]
[null,"10 ADQUISICION DE MESA HIDRAULICA PARA OPERACIÓN QUIRURGICA","AS","PROCESO CLASICO",9,130000,null,"DESIERTO"]
[null,"11 ADQUISICION DE MESA HIDRAULICA PARA OPERACIÓN QUIRURGICA","AS","PROCESO CLASICO",9,130000," 20551789170  -  FABEL MEDICA EIRL","CULMINADO","2018-11-12","2018-12-24"]
[null,"12 ADQUISICIÓN DE FORMATERIA PARA LA RED DE SALUD OTUZCO","AS","PROCESO CLASICO",10,140103.65,"20440413243   -  GRAFICA CABRERA EIRL","CULMINADO","2018-12-24","2018-12-28"]
[null,"13 SERVICIO DE TRANSPORTE, TRATAMIENTO Y DISPOSICIÓN FINAL DE RESIDUOS BIOCONTAMINADOS ESPECIALES","AS","PROCESO CLASICO",11,50000,"20397923381 -  PROD. Y SERV. DE MANTEN. Y SEG. IND. S.R.L.","CULMINADO","2018-12-19","2019-09-18"]
[null,"14 ADQUISICIÓN DE MICROCUBETAS PARA HEMOGLOBINOMETRO HEMOCUE HB 201 PARA LA RED DE SALUD OTUZCO","AS","PROCESO CLASICO",12,114812.5," 20438551825       - CORPORACION CIENTIFICA SRL","CULMINADO","2018-12-27","2018-12-31"]
[null,2019,null,null,null,{"$f":"SUM(F876:F885)","v":1455439.2}]
[null,"1 ADQUISICIÓN DE COMBUSTIBLE PARA UNIDADES MÓVILES DE LA RED DE SALUD OTUZCO","SIE-SIE","PROCESO CLASICO",1,85958.6,null,"DESIERTO"]
[null,"2 ADQUISICIÓN DE COMBUSTIBLE PARA UNIDADES MÓVILES DE LA RED DE SALUD OTUZCO","SIE-SIE","PROCESO CLASICO",1,85958.6,"20539831543 - SERVI CAR M&M S.R.L.","CULMINADO","2019-05-07","2019-10-07"]
[null,"3 SERVICIO DE ALIMENTACION Y NUTRICION HOSPITALARIA PARA EL HEBP","AS","PROCESO CLASICO",1,47461,"10190901373  -  TABOADA COLLANTES ROSA MARGARITA","CULMINADO","2019-05-17","2019-10-17"]
[null,"4 ADQUISICIÓN DE CONGELADORAS DE VACUNAS Y PAQUETES FRÍOS POR 105 LITROS","COMPRE","PROCESO CLASICO",1,56800,"20600067606  - INVERSIONES FRIOLAB S.A.C. ","CULMINADO","2019-05-23","2019-06-26"]
[null,"5 ADQUISICIÓN DE MICROCUBETA DESCARTABLE PARA HEMOGLOBINOMETRO HEMOCUE HB 201 PARA LOS EE.SS DE LA RED DE SALUD OTUZCO","AS","PROCESO CLASICO",2,160050,null,"ANULADO"]
[null,"6 SERVICIO TRANSPORTE, TRATAMIENTO Y DISPOSICIÓN FINAL DE RESIDUOS SÓLIDOS","AS","PROCESO CLASICO",3,50000,"20397923381  -  PROD. Y SERV. DE MANTEN. Y SEG. IND. S.R.L.","CULMINADO","15/072019","15/072020"]
[null,"7 SERVICIO DE TRANSPORTE DE MEDICAMENTOS E INSUMOS MÉDICOS PARA EL AÑO 2019","AS","PROCESO CLASICO",4,72161,"20601162106 - JUAVI S.A.C","CULMINADO","2019-08-29","2010-01-29"]
[null,"8 MANTENIMIENTO PREVENTIVO Y CORRECTIVO DE AMBULANCIAS DE LA RED DE SALUD OTUZCO","CP","PROCESO CLASICO",1,522000,null,"ACTOS PREPARATORIOS"]
[null,"9 ADQUISICIÓN DE MICROCUBETA DESCARTABLE PARA HEMOGLOBINOMETRO HEMOCUE HB 201 PARA LOS EE.SS DE LA RED DE SALUD OTUZCO","AS","PROCESO CLASICO",5,160050,null,"ACTOS PREPARATORIOS"]
[null,"10 ADQUISICIÓN DE AUTOCLAVE PARA PARA EL HEBP","AS","PROCESO CLASICO",6,215000,null,"ACTOS PREPARATORIOS"]
[null,2020,null,null,null,{"$f":"SUM(F887:F892)","v":595000}]
[null,"1 SERVICIO DE ALIMENTACIÓN Y NUTRICIÓN HOSPITALARIA","AS","PROCESO CLASICO",null,45000]
[null,"2 ADQUISICIÓN DE MICROCUBETA DESCARTABLE PARA HEMOGLOBINOMETRO HEMOCUE HB 201 X 50","AS","PROCESO CLASICO",null,160000]
[null,"3 SERVICIO DE TRANSPORTE Y TRASLADO DE PRODUCTOS FARMACÉUTICOS Y DISPOSITIVOS MÉDICOS PARA ESTABLECIMIENTOS DE SALUD DE LA RED OTUZCO","AS","PROCESO CLASICO",null,75000]
[null,"4 ADQUISICION DE COMBUSTIBLE PARA UNIDADES MÓVILES DE LA RED DE SALUD OTUZCO","SIE-SIE","PROCESO CLASICO",null,95000]
[null,"5 ADQUISICIÓN DE FORMATERIA PARA LA RED DE SALUD OTUZCO","AS","PROCESO CLASICO",null,150000]
[null,"6 SERVICIO DE TRANSPORTE, TRATAMIENTO Y DISPOSICIÓN FINAL DE RESIDUOS BIOCONTAMINADOS ESPECIALES","AS","PROCESO CLASICO",null,70000]
[null,"TOTAL",null,null,null,{"$f":"+F860+F875+F886","v":3451139.4499999997}]
[null,"UE 409 SALUD TRUJILLO ESTE (0854)"]
[null,2018,null,null,null,{"$f":"SUM(F896:F911)","v":1474494.3499999999}]
[null,"1 CONTRATACIÓN DEL SERVICIO DE TRANSPORTE PRODUCTOS FARMACÉUTICOS Y DISPOSITIVOS MÉDICOS","AS","NO APLICA",1,69600,"20482292471 - AVAL S.A.C.","CULMINADO","2018-06-06"]
[null,"2 Adquisición de formato Único de Atención SIS - FUAS","AS","NO APLICA",2,89330,"20518517814 - GRAFICA GECER S.A.C.","CULMINADO","2018-07-13"]
[null,"3 Adquisición de Esterilizador a Vapor - Autoclave de 50 litros","AS","LLAVE EN MANO",5,42960,"20523412486 - CESPI PERU S.A.C.","CULMINADO","2018-07-16"]
[null,"4 Atún en filete en aceite vegetal x 180 gr. Aprox","SIE","NO APLICA",1,42979.02,"20514713694 - GRUPO SANTA ANA SOCIEDAD ANONIMA CERRADA","CULMINADO","2018-08-27"]
[null,"5 MICROCUBETA DESCARTABLE PARA HEMOGLOBINOMETRO PORTATIL X 50 UNIDADES","AS","LLAVE EN MANO",7,78000,"20501887286 - DIAGNOSTICA PERUANA S.A.C.","CULMINADO","2018-08-22"]
[null,"6 PRUEBA RÁPIDA PARA DIAGNOSTICO DE SIFILIS (RPR) X 30 DETERMINACIONES y PRUEBA RÁPIDA DE VIH 1 - 2 X 30 DETERMINACIONES","AS","LLAVE EN MANO",6,92943,"20423555182 - CIA IMPORTADORA AMERICANA S.A.","CULMINADO","2018-10-15"]
[null,"7 Adquisición de papel toalla interdoblado 21.6 cm x 25 cm aprox. x 200 hojas","AS","NO APLICA",8,36553,"20515386760 - LINEA INSTITUCIONAL LORENS E.I.R.L. - LINS E.I.R.L.","CULMINADO","2018-09-12"]
[null,"7 FORMATO DE RECETAS ÚNICAS ESTANDARIZADAS + INDICACIONES (1 ORIGINAL + 1 COPIA ) BLOCK X 50 JUEGOS","AS","NO APLICA",4,37600,"10806347448 - PAREDES ALVAREZ JULIO FRANCIS","CULMINADO","2018-10-02"]
[null,"6 ADQUISICIÓN DE AGUA DE MESA SIN GAS X 625 ML APROX.","CP","NO APLICA","1",34564.230000000003,"20602191835 - CATERING FOOD & DRINK E.I.R.L.","CULMINADO","2018-10-08"]
[null,"8 ADQUISICIÓN DE HEMOGRAMA AUTOMATIZADO DIFERENCIAL DE 03 ESTIRPES","AS",null,"10",72800,"20602007970 - LC BIOCORP S.A.C.","CULMINADO","2018-11-16"]
[null," 9 ADQUISICIÓN DE JABÓN GERMICIDA LIQUIDO X 1 LITRO CON TRICLOSAN 0.3%","AS","NO APLICA","12",46800,"20538871711 - COMPAÑIA PERUANA DE MATERIAL MEDICO SOCIEDAD ANONIMA CERRADA - MMED S.A.C.","CULMINADO","2018-11-21"]
[null,"10 EQUIPOS FRIGORIFICOS: REFRIGERADOR HORIZONTAL TIPO ICE LINE PARA VACUNAS","AS","LLAVE EN MANO","13",37000,"20543306771 - CORPORACION CIMMSA SOCIEDAD ANONIMA - CORPORACION CIMMSA S.A.","CULMINADO","2018-11-21"]
[null,"11 Servicio de Mantenimiento Preventivo y Correctivo de la Infraestructura en el Establecimiento de Salud - Centro de Salud Sagrado Corazón","AS","NO APLICA","14",155900,"20529360551 - TOGALA SAC","CULMINADO","2018-11-21"]
[null,"12  ADQUISICIÓN DE EQUIPO DE CRIOCIRUGIA","AS","LLAVE EN MANO","11",133000,"20480981775 - BAYOMED HEALTH PERU SAC","CULMINADO","2018-01-04"]
[null," 13 Servicio de Mantenimiento Preventivo y Correctivo de la Infraestructura en el Establecimiento de Salud - Centro de Salud Materno Infantil El Milagro","AS","NO APLICA","17",228499.9,"20482309462 - ESCALA CONSTRUCTORES S.A.C.","CULMINADO","2018-12-07"]
[null,"14 Servicio de Recolección, Transporte, Tratamiento y Disposición Final de Residuos Sólidos generados por los Establecimientos de Salud de la Red Trujillo Este","AS","NO APLICA","18",275965.2,"20397923381 - PROD.Y SERV.DE MANTEN. Y SEG.IND.S.R.L.","CULMINADO","2018-12-20"]
[]
[null,2019,null,null,null,{"$f":"SUM(F914:F915)","v":153763.20000000001}]
[null,"1 Adquisicion de Combustible para las unidades moviles de la UTES 6","SIE","NO APLICA","2",153763.20000000001,"20477536787 - VILBO NEGOCIOS S.A.C.","CONCLUIDO","2019-01-25"]
[]
[]
[null,"TOTAL",null,null,null,{"$f":"+F895+F913","v":1628257.5499999998}]
[]
[null,"410 INSTI. REG. DE ENFERMEDADES NEOPLASICAS (1282)"]
[null,2018]
[null,"1 CONTRATACION DEL SERVICIO DE RECOLECCION, TRANSPORTE, TRATAMIENTO O DISPOSICION FINAL DE RESIDUOS SOLIDOS HOSPITALARIOS ","ADJUDICACION SIMPLIFICADA","PRECIOS UNITARIOS","001-2018-IREN NORTE-DE LOGISTICA","75,402,00","RUC. Nº20511964653\nSERVICIO GENERALES MANTENIMIENTO HUANCHAQUITO S.R.L","CULMINADO","2018-06-04","MENSUAL","COTRATO POR 12 MESES"]
[null,"2 CONTRATACION DE TRASTUZUMAB 120 MG/MLINY 5 ML","CONTRATACION DIRECTA","PRECIOS UNITARIOS","Nº 001-2018-IREN NORTE","1,120.469.14","CONSORCIO.\nQUIMICA SUIZA\nRUC: 20100085225\nROCHEFARMA PERU S.A\n RUC: 20556799327 ","CULMINADO","19/04/25018","( ABRIL/JUNIO-2018)",0]
[null,"3 CONTRATACION DE TROLAMINA 670 MG EMUL X93 G","CONTRATACION DIRECTA","PRECIOS UNITARIOS","Nº 002-2018-IREN NORTE",57820,"RUC : 20467291883\nWORDD PHARMA  SAC","CULMINADO","2018-07-19","1 ENTREGA"]
[null,"4 BUPRENORFINA 35 MCG/ H (20 mg como sal)","CONTRATACION DIRECTA","PRECIOS UNITARIOS","Nº 003-2018-IREN NORTE",150000,"RUC: 20100091543\nGRUNENTHAL PERUANA S.A.","CULMINADO","2018-09-19","1 ENTREGA"]
[null,"5 LEUPRORELINA 3.75 MG INY","SUBASTA INVERSA","PRECIOS UNITARIOS","Nº 001-2018-IREN NORTE",48564,"RUC: 20602458939\nARGON PHARMA SAC.","CULMINADO","2018-10-02","1 ENTREGA"]
[null,"6 TRIPTORELINA 3.75 MG INY","SUBASTA INVERSA","PRECIOS UNITARIOS","Nº 002-2018-IREN NORTE",142865,"RUC: 20347605515\nGP PHARM S.A","CULMINADO","2018-10-23","1 ENTREGA"]
[null,"7 CONTRATACION DEL SERVICIO DE LAVADO Y PLANCHADO DE ROPARA HOSPITALARIA ","ADJUDICACION SIMPLIFICADA","PRECIOS UNITARIOS","Nº009-2017-DESIERTO-SEGUNDA CONVOCATORIA ",308160,"RUC: 20546548393\nINVERSIONES ZEMON SAC","VIGENTE","05 DE NOVIEMBRE -2018","MENSUAL","CONTRATO POR 12 MESES"]
[null,"8 CONTRATACION DEL SERVICIO DE RACIONES ALIMENTICIAS PARA PACIENTES Y PERSONAL DE GUARDIA","ADJUDICACION SIMPLIFICADA","PRECIOS UNITARIOS","N° 002-2017-DESIERTO QUINTA CONVOCATORIA ",327016,"FVC SERVICES SAC","VIGENTE","2018-11-05","MENSUAL","CONTRATO POR 12 MESES"]
[null,"9 CONTRATACION DE UNIFORME INSTITUCIONAL INVIERNO VERANO","ADJUDICACION SIMPLIFICADA","PRECIOS UNITARIOS","Nº 003-2018-IREN NORTE",278855,"RUC: 10427318341                                                                                                                                                                                                                                                                                                                                                                                                                                                                                                                                                                                                                                                                                                                                                                                                                                                                                                                                                                                                                                                                                                                                                             \nWALTER ANTONIO QUESQUEN ABANTO","CULMINADO","2018-11-12","1 ENTREGA"]
[null,"10 CONTRATACION DE SUPLEMENTO NUTRICIONAL PARA ADULTOS","ADJUDICACION SIMPLIFICADA","PRECIOS UNITARIOS","Nº 004-2018-IREN NORTE",153000,"RUC: 20100096936\nABBOTT LABORATORIOS S.A","CULMINADO","07/011/2019","NOVIEMBRE/DIC-2018)",0]
[null,"11 DENOSUMAB 70 MG/ML INY X 1.7 ML","CONTRATACION DIRECTA","PRECIOS UNITARIOS","Nº 004-2018-IREN NORTE",66906,"RUC: 20101260373\nTECNOFARMA S.A","CULMINADO","2019-12-18","1 ENTREGA"]
[]
[null,2019]
[null,"1 BUPRENORFINA 35 MCG/ H (20 mg como sal)","CONTRATACION DIRECTA","PRECIOS UNITARIOS","Nº 001-2019-IREN NORTE",210000,"RUC: 20100091543\nGRUNENTHAL PERUANA S.A.","VIGENTE","2019-04-23"]
[null,"2 TUBO DE PACIENTE  4 MM X 250 CM CON 2 VALVULAS ANTIREFELOS DESCATBALE PARA INYECTOR DE CONTRASTE","CONTRATACION DIRECTA","PRECIOS UNITARIOS","Nº 002-2019-IREN NORTE",74340,"RUC: 20549283358            SALUTEM TECHNICA SAC",null,"2019-05-21","(MAYO/AGOST/NOV-2019)"]
[null,"3 CONTRATACION DEL SERVICIO DE ATENCION MEDICA ESPECAILIZADA (INTENSIVISTA-INTERNISTA","ADJUDICACION SIMPLIFICADA","PRECIOS UNITARIOS","Nº 005-2018-IREN NORTE",285696,"RUC: 20539735668 MEDCLINIC GROUP S.A.C.","VIGENTE","2019-05-08","MENSUAL","CONTRATO POR 12 MESES"]
[null,"4 OXIGENO MEDICINAL","ADJUDICACION SIMPLIFICADA","PRECIOS UNITARIOS","Nº 002-2019-IREN NORTE",283766.40000000002,"RUC: 20338570041        PRAXAIR PERU SRL","VIGENTE","2019-06-21","MENSUAL","COTRATO POR 24 MESES"]
[null,"5 CONTRATACION DE IOHEXOL 755 MG/ML EQUIV. 350 MG IODO/ML","SIE 2 CONVOCATORIAS\nADS 1","PRECIOS UNITARIOS","Nº 004-2019-IREN NORTE",300200,"RUC: 20271470381  DROGUERIA PERU SAC","VIGENTE","2019-07-19","(AGOST/SET/OCT-2019)","CONTRATO POR 12 MESES"]
[null,"6 ADQUISICION DE REACTIVOS QUIMICOS CON EQUIPO EN CESION EN USO (INMUNOLOGIA, KIT DE GASES, REACTIVOS DE HEMOGRAMA Y BIOQUIMICA) ","LICITACION PUBLICA","SUMA ALZADA","Nº 001-2019-IREN NORTE",729424,"en proceso"]
[null,"7 ADQUISICION DE PANEL DE IDENTIFICACION + ANTIBIOGRAMA PARA BACTERIAS GRAM NEGATIVAS Y POSIIVAS CON EQUIPO EN CESION EN USO","ADJUDICACION SIMPLIFICADA","SUMA ALZADA","Nº 005-2019-IREN NORTE",90000,"RUC. Nº20108237148 REPRESENTACIONES MEDICAS DEL PERU SRL","VIGENTE","2019-08-02","MENSUAL","CONTRATO POR 12 MESES"]
[null,"8 CONTRATACION DEL SERVICIO DE RECOLECCION, TRANSPORTE, TRATAMIENTO O DISPOSICION FINAL DE RESIDUOS SOLIDOS HOSPITALARIOS ","ADJUDICACION SIMPLIFICADA","PRECIOS UNITARIOS","Nº 003-2019-IREN NORTE",91092.64,"RUC. Nº20511964653\nSERVICIO GENERALES MANTENIMIENTO HUANCHAQUITO S.R.L","VIGENTE","2019-08-12","MENSUAL","CONTRATO POR 12 MESES"]
[null,"9 CONTRATACION DE LIDOCAINA CLORHIDRATO 5G/100G PARCHE PARA EL DEPARTAMENTO DE FARMACIA DEL IREN NORTE","CONTRATACION DIRECTA","PRECIOS UNITARIOS","Nº 003-2019-IREN NORTE",72000,"RUC: 20100091543\nGRUNENTHAL PERUANA S.A.","VIGENTE","2019-08-15","(AGOST/ENERO-2019","CONTRATO POR 12 MESES"]
[null,"10 CONTRATACION DE TUBO DE BOMBA C/3 ENTRADAS PARA FRASCOS DE RESERVA PARA INYECTOR DE TOMOGRAFO ESPIRAL MULTICORTE","CONTRATACION DIRECTA","PRECIOS UNITARIOS","Nº 004-2019-IREN NORTE",37474.44,"RUC: 20549283358    SALUTEM TECHNICA SAC","VIGENTE","2019-08-07","(AGOST/OCT-2019)","CONTRATO POR 12 MESES"]
[null,"11 ADQUISICION DE GUANTES DESCARTABLES TALL S-M-L","SUBASTA INVERSA","en proceso"]
[null,"12 LEUPRORELINA 3.75 MG INY","SUBASTA INVERSA","en proceso"]
[null,"13 UNIFORME INSTITUCIONAL","ADJUDICACION SIMPLIFICADA","en proceso"]
[null,"14 CONTRATACION DEL SERVICIO DE LAVADO Y PLANCHADO DE ROPA HOSPITALARIA","ADJUDICACION SIMPLIFICADA","en proceso"]
[null,"15 CONTRATACION DEL SERVICIO DE RACIONES ALIMENTACIONES PARA PACIENTES ","ADJUDICACION SIMPLIFICADA","en proceso"]
[null,"16 CONTRATACION DEL SERVICIO DE TRANSPORTE Y TRASLADO DE VALORES ","ADJUDICACION SIMPLIFICADA","en proceso"]
[null,"17 CONTRATACION DEL SERVICIO DE SEGURIDAD Y VIGILANCIA ","LICITACION PUBLICA","en proceso"]
[]
[null,2020]
[null,"1 CONTRATACION DEL SERVICIO DE RECOLECCION, TRANSPORTE, TRATAMIENTO O DISPOSICION FINAL DE RESIDUOS SOLIDOS HOSPITALARIOS ","ADJUDICACION SIMPLIFICADA",0]
[null,"2 BUPRENORFINA 35 MCG/ H (20 mg como sal)","CONTRATACION DIRECTA",0]
[null,"3 LEUPRORELINA 3.75 MG INY","CONTRATACION DIRECTA",0]
[null,"4 CONTRATACION DEL SERVICIO DE LAVADO Y PLANCHADO DE ROPARA HOSPITALARIA ","ADJUDICACION SIMPLIFICADA",0]
[null,"5 CONTRATACION DEL SERVICIO DE RACIONES ALIMENTICIAS PARA PACIENTES Y PERSONAL DE GUARDIA","ADJUDICACION SIMPLIFICADA",0]
[null,"6 CONTRATACION DE UNIFORME INSTITUCIONAL INVIERNO VERANO","ADJUDICACION SIMPLIFICADA",0]
[null,"7 CONTRATACION DE SUPLEMENTO NUTRICIONAL PARA ADULTOS","ADJUDICACION SIMPLIFICADA",0]
[null,"8 DENOSUMAB 70 MG/ML INY X 1.7 ML","ADJUDICACION SIMPLIFICADA",0]
[null,"9 CONTRATACION DE IOHEXOL 755 MG/ML EQUIV. 350 MG IODO/ML","SUBASTA INVERSA",0]
[null,"10 CONTRATACION DE TUBO DE BOMBA C/3 ENTRADAS PARA FRASCOS DE RESERVA PARA INYECTOR DE TOMOGRAFO ESPIRAL MULTICORTE","CONTRATACION DIRECTA",0]
[null,"11 TUBO DE PACIENTE  4 MM X 250 CM CON 2 VALVULAS ANTIREFELOS DESCATBALE PARA INYECTOR DE CONTRASTE","CONTRATACION DIRECTA",0]
[null,"12 ADQUISICION DE PANEL DE IDENTIFICACION + ANTIBIOGRAMA PARA BACTERIAS GRAM NEGATIVAS Y POSIIVAS CON EQUIPO EN CESION EN USO","ADJUDICACION SIMPLIFICADA",0]
[null,"13 CONTRATACION DEL SERVICIO DE ATENCION MEDICA ESPECAILIZADA (INTENSIVISTA-INTERNISTA","ADJUDICACION SIMPLIFICADA",0]
[]
[null,"TOTAL"]
[]
[null,"412 SALUD VIRU (1617)"]
[null,2018,null,null,null,{"$f":"SUM(F971)","v":64500}]
[null,"1  ADQUISICION DE AUTOCLAVES O ESTERILIZADORES DE VAPOR","ADJUDICACIÓN SIMPLIFICADA","PROCESO CLASICO","2018-0001",64500,"FC EQUIPAMIENTO MEDICO SAC- 20600140451","CULMINADO","2018-07-03","-"]
[]
[null,2019,null,null,null,{"$f":"SUM(F974:F975)","v":129250}]
[null,"1 SERVICIO DE TRANSPORTE Y ENTREGA DE PRODUCTOS FARMACEUTICOS, DISPOSITIVOS MEDICOS Y PRODUCTOS AFINES","ADJUDICACIÓN SIMPLIFICADA","PRIVADO","0001-2019",{"$f":"28000+5600","v":33600},"10413395777- BLAS SANCHEZ WALTER ARTURO","-","CONTRATO VIGENTE","ENTREGAS BIMENSUALES"]
[null,"2 SERVICIO DE MANTENIMIENTO EN GENERAL","ADJUDICACIÓN SIMPLIFICADA","PRIVADO","0002-2019",95650,"20482257217 - J.J.O.Q. CONTRATISTAS GENERALES GENERALES SAC","CULMINADO","2019-07-03"]
[]
[null,2020,null,null,null,{"$f":"SUM(F978:F984)","v":632000}]
[null,"1 ADQUISICION DE UN ECOGRAFO PARA EL H.P.V","ADJUDICACION SIMPLIFICADA","PRIVADO","-",160000,"-","-","-","-","PROYECTADO PARA EL 2020"]
[null,"2 ADQUISICION DE COMBUSTIBLE","ADJUDICACION SIMPLIFICADA","PRIVADO","-",{"$f":"23000+40000","v":63000},"-","-","-","-","PROYECTADO PARA EL 2020"]
[null,"3 ADQUISICION DE INSUMOS DE LABORATORIO","ADJUDICACION SIMPLIFICADA","PRIVADO","-",100000,"-","-","-","-","PROYECTADO PARA EL 2020"]
[null,"4 ADQUISICION DE INSUMOS MEDICOS Y LABORATORIO","ADJUDICACION SIMPLIFICADA","PRIVADO","-",200000,"-","-","-","-","PROYECTADO PARA EL 2020"]
[null,"5 ADQUISICION DE MICROCUBETA DESCARTABLE PARA HEMOGLOBINÓMETRO HEMOCONTROL ","ADJUDICACION SIMPLIFICADA","PRIVADO","-",40000,"-","-","-","-","PROYECTADO PARA EL 2020"]
[null,"6 ADQUISICION DE MICROCUBETA DESCARTABLE PARA HEMOGLOBINÓMETRO HEMOCUE HB 201 ","ADJUDICACION SIMPLIFICADA","PRIVADO","-",35000,"-","-","-","-","PROYECTADO PARA EL 2020"]
[null,"7 SERVICIO DE TRANSPORTE Y ENTREGA DE PRODUCTOS FARMACEUTICOS, DISPOSITIVOS MEDICOS Y PRODUCTOS AFINES","ADJUDICACION SIMPLIFICADA","PRIVADO","-",34000,"-","-","-","-","PROYECTADO PARA EL 2020"]
[]
[null,"TOTAL",null,null,null,{"$f":"+F970+F973+F977","v":825750}]

{"sheet":"F.15","index":17,"n_rows":82,"n_cols":8,"rows_kept":82,"cut":false,"hidden":false,"merged":[[3,1,3,7],[1,1,1,7],[2,1,2,7]]}
[]
[null,"FORMATO Nº 15"]
[null,"DETALLE DE CONSULTORIAS PERSONAS JURIDICAS Y NATURALES - PRESUPUESTO 2018 Y 2019"]
[null,"PROYECTO DE PRESUPUESTO - 2020"]
[null,"SECTOR: 99 GOBIERNOS REGIONALES"]
[null,"PLIEGO: 451 GOBIERNO REGIONAL LA LIBERTAD"]
[null,"CONSULTORIAS","PERSONA JURIDICA (RUC)","PERSONA NATURAL","PPTO 2018 (AL 31/12) EJECUCIÓN S/. ","PPTO 2019 (AL 31/06) EJECUCIÓN S/. ","TIPO DE ESTUDIO Y/O INFORME (*)","ESPECIALIDAD (**)"]
[null,"2188762: MEJORAMIENTO DEL SISTEMA DE RIEGO DE LOS CANALES COSQUE - ÑAMPOL - TENIENTE - LOQUETE - LOS PIALES - FRIJOL II, MARGEN IZQUIERDA DEL RIO JEQUETEPEQUE, PROVINCIA DE PACASMAYO - REGION LA LIBERTAD","20100262291 (BOZA CONSULTORES Y CONTRATISTAS EMPRESA IDIVIDUAL DE RESPONSABILIDAD LIMITADA",null,105516,null,"CONSULTORIA DE OBRA PARA ELABORACIÓN DE EXPEDIENTE TÉCNICO","AGRICULTURA"]
[null," 2400297: RECUPERACION ADECUADAS CONDICIONES DE TRANSITABILIDAD VEHICULAR Y PEATONAL EN LA AV. FEDERICO VILLARREAL TRAMO AV. MIRAFLORES-PROLONGACION SANTA CENTRO POBLADO DE TRUJILLO - DISTRITO DE TRUJILLO - PROVINCIA DE TRUJILLO - REGION LA LIBERTAD","20601747309 (CONSORCIO VILLAREAL)",null,null,null,"CONSULTORIA DE OBRA PARA ELABORACIÓN DE EXPEDIENTE TÉCNICO","RECONSTRUCCIÓN VÍAS"]
[null," 2148165: CREACION DE DEFENSA RIBEREÑA EN LOS PUNTOS CRITICOS PARA EL RIO CHICAMA, TRAMO PUENTE MORENO- BAÑOS CHIMU, MARGEN IZQUIERDA, CASCAS, PROVINCIA DE GRAN CHIMU - LA LIBERTAD",null,"10181885934 (CONSORCIO LIBERTAD - TOMAS ORLANDO LUNA GUERRERO)",null,124160,"CONSULTORIA DE OBRA PARA ELABORACIÓN DE EXPEDIENTE TÉCNICO","AGRICULTURA"]
[null," 2403584: RECUPERACION DE LA AV. MIRAFLORES TRAMO AV. 26 DE MARZO Y AV. ESPAÑA - DISTRITO DE TRUJILLO - PROVINCIA DE TRUJILLO - REGION LA LIBERTAD","20445575411 (CONSORCIO CORAL - OB INGENIEROS CONTRATISTAS SRL)",null,null,null,"CONSULTORIA DE OBRA PARA ELABORACIÓN DE EXPEDIENTE TÉCNICO","RECONSTRUCCIÓN VÍAS"]
[null,"2400100: MEJORAMIENTO DEL SERVICIO DE TRANSITABILIDAD DE LA AV. PROLONGACION CESAR VALLEJO TRAMO AV. FATIMA-AV. HUAMAN, DISTRITO DE VICTOR LARCO HERRERA - PROVINCIA DE TRUJILLO - REGION LA LIBERTAD","20477458883 (CONSORCIO AMERICA - CONSTRUCTORA PARAMAX S.A.C.)",null,null,null,"CONSULTORIA DE OBRA PARA ELABORACIÓN DE EXPEDIENTE TÉCNICO","RECONSTRUCCIÓN VÍAS"]
[null,"2402818: MEJORAMIENTO DE LA AV. CESAR VALLEJO TRAMO AV. JOSE MARIA EGUREN - AV. FEDERICO VILLARREAL, CENTRO POBLADO DE TRUJILLO - DISTRITO DE TRUJILLO - PROVINCIA DE TRUJILLO - REGION LA LIBERTAD","20529688017 (CONSORCIO LUAL - LUAL CONSTRUCCIONES S.A.C.)",null,null,null,"CONSULTORIA DE OBRA PARA ELABORACIÓN DE EXPEDIENTE TÉCNICO","RECONSTRUCCIÓN VÍAS"]
[null,"2133309: FORTALECIMIENTO INSTITUCIONAL DEL GOBIERNO REGIONAL LA LIBERTAD",null,"101803322154 (MARCO ANTONIO ARROYO FLORES)",248211,null,"CONSULTORIA DE OBRA PARA ELABORACIÓN DE EXPEDIENTE TÉCNICO","INFRAESTRUCTURA"]
[null,"2283129: MEJORAMIENTO Y AMPLIACION DE LOS SERVICIOS DE SALUD DEL HOSPITAL PROVINCIAL DE VIRU - DISTRITO DE VIRU, PROVINCIA DE VIRU - REGION LA LIBERTAD","20554360450 (LKS INGENIERIA S. COOP - SUCURSAL PERU)","10267064780 (RAUL MILTHON AMAYO LOBATO)",508554,null,"CONSULTORIA DE OBRA PARA ELABORACIÓN DE EXPEDIENTE TÉCNICO","SALUD"]
[null,"2133624: DEFENSA RIBEREÑA PARA EL RIO CHICAMA, TRAMO PUENTE MORENO-PAMPAS DE JAGUEY, MARGEN IZQUIERDA",null,"10181492177 (PRADO BARRIGA YBE ROBERTO)",47814,null,"CONSULTORIA DE OBRA PARA ELABORACIÓN DE EXPEDIENTE TÉCNICO","AGRICULTURA"]
[null," 2149763: MEJORAMIENTO Y AMPLIACION DE LA I.E. N 80185 DEL CASERIO DE AHIJADERO, DISTRITO DE CHUGAY - SANCHEZ CARRION - LA LIBERTAD","20511763160 (INGENIERIA DE TRANSPORTES DEL PERU S.A.C. INTRA PERU S.A.C.)","10038946213 (CASTRO SIRLUPU JUAN LUIS)",23954,30000,"CONSULTORIA DE OBRA PARA ELABORACIÓN DE EXPEDIENTE TÉCNICO","EDUCACIÓN"]
[null,"2146549: MEJORAMIENTO DE LA ATENCION INTEGRAL DE SALUD EN EL PUESTO DE SALUD NARANJOPAMPA, MICRO RED MARCABALITO, DISTRITO DE MARCABAL - SANCHEZ CARRION - LA LIBERTAD","20481430837 (SATISAC E.I.R.L)",null,20004,null,"CONSULTORIA DE OBRA PARA ELABORACIÓN DE EXPEDIENTE TÉCNICO","SALUD"]
[null,"2185412: MEJORAMIENTO DE LOS SERVICIOS DE EDUCACION PRIMARIA Y SECUNDARIA EN LA I.E. VIRU DISTRITO Y PROVINCIA DE VIRU, REGION LA LIBERTAD","20511763160 (INGENIERIA DE TRANSPORTES DEL PERU S.A.C. INTRA PERU S.A.C.) 20603169612 (KINSA GEOLABS S.A.C.)",null,7800,20608,"CONSULTORIA DE OBRA PARA ELABORACIÓN DE EXPEDIENTE TÉCNICO","EDUCACIÓN"]
[null,"2188181: MEJORAMIENTO DEL SERVICIO EDUCATIVO DE LAS I.E. DIVINO MAESTRO - TAMBO - CASCAS Y LA I.E. 82337 - EL PORVENIR DISTRITO DE SAYAPULLO, PROVINCIA DE GRAN CHIMU - LA LIBERTAD",null,null,17814,null,"CONSULTORIA DE OBRA PARA ELABORACIÓN DE EXPEDIENTE TÉCNICO","EDUCACIÓN"]
[null,"2192992: MEJORAMIENTO DEL SERVICIO DE AGUA DEL SISTEMA DE RIEGO RIEGO DE LOS SECTORES EL TAMBO Y EL MOLINO, DE LA LOCALIDAD DE GUADALUPE, DISTRITO DE GUADALUPE, PROVINCIA DE PACASMAYO - LA LIBERTAD",null,"10420982611 (ACOSTA VILLANUEVA LUIS) 10181492177 (PRADO BARRIGA YBE ROBERTO)",97102,null,"CONSULTORIA DE OBRA PARA ELABORACIÓN DE EXPEDIENTE TÉCNICO","AGRICULTURA"]
[null,"2197304: INSTALACION DEL SISTEMA DE ELECTRIFICACION RURAL EN RED PRIMARIA Y RED SECUNDARIA EN EL BALNEARIO DE SANTA ELENA, DISTRITO DE SAN PEDRO DE LLOC, PROVINCIA DE PACASMAYO, REGION LA L IBERTAD",null,"10401242410 (VELASQUEZ VILOCHE OLIVER MARTIN)",2100,null,"CONSULTORIA DE OBRA PARA ELABORACIÓN DE EXPEDIENTE TÉCNICO","ELECTRIFICACIÓN"]
[null,"2198233: INSTALACION DEL SISTEMA DE ELECTRIFICACION RURAL CON RED PRIMARIA Y RED SECUNDARIA EN EL BALNEARIO DE PUEMAPE, DISTRITO DE SAN PEDRO DE LLOC, PROVINCIA DE PACASMAYO - LA LIBERTAD",null,"10401242410 (VELASQUEZ VILOCHE OLIVER MARTIN)",2100,null,"CONSULTORIA DE OBRA PARA ELABORACIÓN DE EXPEDIENTE TÉCNICO","ELECTRIFICACIÓN"]
[null,"2198314: MEJORAMIENTO DE LA CARRETERA CHAO - BUENA VISTA - EL PIE - SAN PEDRO - CHAGAGANDA - UNIMGAMBAL - HUAYNAS - LOS TORITOS EN LOS DISTRITOS DE CHAO, HUASO, CALAMARCA Y QUIRUVILCA, REGION LA LIBERTAD",null,"10081579887 (MARTINEZ VARGAS ALBERTO JOSE)",239814,null,"CONSULTORIA DE OBRA PARA ELABORACIÓN DE EXPEDIENTE TÉCNICO","TRANSPORTES"]
[null," 2276751: MEJORAMIENTO DEL SERVICIO DE AGUA PARA RIEGO DEL CANAL DE RIEGO SANTA ROSA, DISTRITO DE PUEBLO NUEVO, PROVINCIA DE CHEPEN - DEPARTAMENTO DE LA LIBERTAD.",null,null,71222,null,"CONSULTORIA DE OBRA PARA ELABORACIÓN DE EXPEDIENTE TÉCNICO","AGRICULTURA"]
[null," 2301983: MEJORAMIENTO Y CONSTRUCCION DE LA CARRETERA PAMPA EL CONDOR - MOLLEBAMBA - PROVINCIA DE SANTIAGO DE CHUCO - REGION LA LIBERTAD",null,"10164586222 (MARTINEZ GONZALEZ RODOLFO VALENTINO)",65299,null,"CONSULTORIA DE OBRA PARA ELABORACIÓN DE EXPEDIENTE TÉCNICO","TRANSPORTES"]
[null,"2304228: CREACION DE LOS SERVICIOS DE EDUCACION INICIAL ESCOLARIZADA EN LOS CENTROS POBLADOS NUEVO CHAO, SAN JUAN, TOMABAL, SANTA ELENA Y SAN IDELFONSO DE LOS DISTRITOS DE CHAO Y VIRU- PROVINCIA DE VIRU- REGION LA LIBERTAD",null,"10267064780 (RAUL MILTHON AMAYO LOBATO)",126662,null,"CONSULTORIA DE OBRA PARA ELABORACIÓN DE EXPEDIENTE TÉCNICO","EDUCACIÓN"]
[null,"2304370: MEJORAMIENTO DEL SERVICIO DE EDUCACION BASICA DEL NIVEL SECUNDARIO DE LA I.E. CESAR VALLEJO DE BULDIBUYO, DISTRITO DE BULDIBUYO - PATAZ - LA LIBERTAD","20539807081 (GREEN HOME CONSULTING S.A.C.)",null,22904,null,"CONSULTORIA DE OBRA PARA ELABORACIÓN DE EXPEDIENTE TÉCNICO","EDUCACIÓN"]
[null,"2314479: MEJORAMIENTO DEL SERVICIO EDUCATIVO EN LA I.E. N 80315, NIVEL PRIMARIA Y SECUNDARIA DEL CASERIO SAN ANTONIO, DISTRITO DE JULCAN, PROVINCIA DE JULCAN - LA LIBERTAD","20482601953 (ECOLOGY YASJOMI E.I.R.L)",null,25302,null,"CONSULTORIA DE OBRA PARA ELABORACIÓN DE EXPEDIENTE TÉCNICO","EDUCACIÓN"]
[null," 2320463: INSTALACION DE REDES ELECTRICAS ELECTRIFICACION RURAL EN MT 10KV Y RS 440220V DEL SECTOR JAGUEY AA.HH LOS PARQUES, DISTRITO DE SAN JOSE - PACASMAYO - LA LIBERTAD",null,"10064248800 (LEON FLORIAN MARINA LILIANA)",2400,null,"CONSULTORIA DE OBRA PARA ELABORACIÓN DE EXPEDIENTE TÉCNICO","ELECTRIFICACIÓN"]
[null,"2320779: MEJORAMIENTO DEL SERVICIO EDUCATIVO DE LA I.E. N 80454 ANDRES AVELINO CACERES, NIVEL PRIMARIO, EN LA LOCALIDAD DE PARCOY, DISTRITO DE PARCOY - PATAZ - LA LIBERTAD","20539807081 (GREEN HOME CONSULTING S.A.C.)","10414631229 (SALAZAR ALCALDE ROBERTO CARLOS) 10181618006 (LARRIVIERE CASTRO ALEXIS GIOVANNI)",33200,null,"CONSULTORIA DE OBRA PARA ELABORACIÓN DE EXPEDIENTE TÉCNICO","EDUCACIÓN"]
[null," 2323483: AMPLIACION DE REDES PARA EL SISTEMA DE ELECTRIFICACION RURAL EN MEDIA TENSION 10KV, BAJA TENSION 440220 Y CONEXIONES DOMICILIARIAS EN EL SECTOR LAGUNA GRANDE, DISTRITO DE SAN JOSE - PACASMAYO - LA LIBERTAD",null,"10064248800 (LEON FLORIAN MARINA LILIANA)",2400,null,"CONSULTORIA DE OBRA PARA ELABORACIÓN DE EXPEDIENTE TÉCNICO","ELECTRIFICACIÓN"]
[null,"2329198: CREACION DE LA DEFENSA RIBEREÑA Y ENCAUZAMIENTO DEL RIO VIJUS EN EL ANEXO DE VIJUS, DISTRITO DE PATAZ - PATAZ - LA LIBERTAD","20539807081 (GREEN HOME CONSULTING S.A.C.)",null,20400,null,"CONSULTORIA DE OBRA PARA ELABORACIÓN DE EXPEDIENTE TÉCNICO","AGRICULTURA"]
[null,"2332513: CREACION DEL SERVICIO DE EDUCACION INICIAL ESCOLARIZADA EN LA I.E N 80247 EN EL CENTRO POBLADO CUNGUNDAY, DISTRITO CHARAT, PROVINCIA DE OTUZCO, REGION LA LIBERTAD",null,"10413840151 (VARGAS DEL CASTILLO MIRKO ANTONIO)",97238,null,"CONSULTORIA DE OBRA PARA ELABORACIÓN DE EXPEDIENTE TÉCNICO","EDUCACIÓN"]
[null,"2332699: CREACION DEL SERVICIO DE EDUCACION INICIAL ESCOLARIZADA EN LA I.E. N80273 EN EL CENTRO POBLADO CHAPIHUAL, DISTRITO DE HUARANCHAL, PROVINCIA DE OTUZCO, REGION LA LIBERTAD",null,"10181406157 (MIRANDA FIGUEROA ANGEL MARTIN)",99361,null,"CONSULTORIA DE OBRA PARA ELABORACIÓN DE EXPEDIENTE TÉCNICO","EDUCACIÓN"]
[null," 2334604: CREACION DEL SERVICIO DE EDUCACION INICIAL ESCOLARIZADA EN LA I.E. N 2213 DEL SECTOR LA VIÑA, EN EL CENTRO POBLADO PACANGUILLA, DISTRITO DE PACANGA, PROVINCIA DE CHEPEN - LA LIBERTAD",null,"10270410621 (SANCHEZ PINEDO LUIS MANUEL)",108512,null,"CONSULTORIA DE OBRA PARA ELABORACIÓN DE EXPEDIENTE TÉCNICO","EDUCACIÓN"]
[null,"2269964: MEJORAMIENTO DEL SERVICIO DE EDUCACION PRIMARIA EN LA INSTITUCION EDUCATIVA N 81011 ANTONIO RAIMONDI, DISTRITO Y PROVINCIA DE TRUJILLO, REGION LA LIBERTAD","20491552981 (CONSULTORA & CONSTRUCTORA URB E.I.R.L.)",null,null,247184,"CONSULTORIA DE OBRA PARA ELABORACIÓN DE EXPEDIENTE TÉCNICO","EDUCACIÓN"]
[null," 2319604: INSTALACION DEL SERVICIO DE ENERGIA ELECTRICA DEL CENTRO POBLADO LOS ANGELES, DISTRITO DE MAGDALENA DE CAO - ASCOPE - LA LIBERTAD","20483945401 (J.V.P. INGENIEROS CONSTRUCTORES SOCIEDAD COMERCIAL…)",null,null,16874,"CONSULTORIA DE OBRA PARA ELABORACIÓN DE EXPEDIENTE TÉCNICO","ELECTRIFICACIÓN"]
[null," 2363717: MEJORAMIENTO DE LOS SERVICIOS PUBLICOS PARA LA INNOVACION EN LA REGION LA LIBERTAD, DISTRITO DE TRUJILLO - PROVINCIA DE TRUJILLO - DEPARTAMENTO DE LA LIBERTAD",null,"10105428966 (BERNAOLA CABRERA ALEJANDRO MARTIN)",null,12000,"CONSULTORIA DE OBRA PARA ELABORACIÓN DE EXPEDIENTE TÉCNICO","CAPACITACIÓN"]
[null,"2318388: MEJORAMIENTO DEL SISTEMA DE AGUA POTABLE E INSTALACION DEL SISTEMA DE ALCANTARILLADO DEL AA.HH. SANTA VICTORIA DISTRITO Y, PROVINCIA DE CHEPEN - LA LIBERTAD",null,"10108341357 (RAMIREZ CHUMAN ARACELLE BETZABE)",24000,null,"CONSULTORIA DE OBRA PARA ELABORACIÓN DE EXPEDIENTE TÉCNICO","SANEAMIENTO"]
[null," 2251338: MEJORAMIENTO DEL SERVICIO EDUCATIVO EN EL CENTRO DE EDUCACION TECNICO PRODUCTIVA - CETPRO DEL DISTRITO DE SAN PEDRO DE LLOC, PROVINCIA DE PACASMAYO - LA LIBERTAD",null,"10267064780 (RAUL MILTHON AMAYO LOBATO)",39243,null,"CONSULTORIA DE OBRA PARA ELABORACIÓN DE EXPEDIENTE TÉCNICO","EDUCACIÓN"]
[null,"2198315: MEJORAMIENTO DE LOS SERVICIOS DE SALUD EN EL PUESTO DE SALUD CUYUCHUGO DISTRITO DE USQUIL, PROVINCIA DE OTUZCO - LA LIBERTAD","20559830624 (HUELLA ECOLOGICA DE VIDA E.I.R.L)",null,21245,null,"CONSULTORIA DE OBRA PARA ELABORACIÓN DE EXPEDIENTE TÉCNICO","SALUD"]
[null,"TOTAL ELABORACION DE EXPEDIENTE",null,null,{"$f":"SUM(E8:E42)","v":2080171},{"$f":"SUM(F8:F42)","v":450826}]
[null,"CONSULTORIA DE LA OBRA: MEJORAMIENTO DEL SERVICIO DE EDUCACION INICIAL DE LA I.E. N°. 1774 DEL CENTRO POBLADO SANTA ROSA, DISTRITO DE  LAREDO, PROVINCIA DE TRUJILLO - REGIÓN LA LIBERTAD",null,"Juan Carlos Rosas Mendoza (19081780)",19380,null,"INFORME DE SUPERVISION ","EDUCACION "]
[null,"CONSULTORIA DE LA OBRA: MEJORAMIENTO DEL SERVICIO EDUCATIVO DE NIVEL SECUNDARIO DE LA INSTITUCION EDUCATIVA ANTENOR ORREGO DE LAREDO, DISTRITO DE LAREDO - TRUJILLO - LA LIBERTAD  ","CORPORACION DARIKSON INGENIERIA SAC. (20525418911)"," ","_","SGOBRAS","_","EDUCACION "]
[null," CONSULTORIA DE LA OBRA: MEJORAMIENTO DEL SERVICIO EDUCATIVO DEL CENTRO DE EDUCACION TECNICO PRODUCTIVO VICTOR RAUL HAYA DE LA TORRE, DISTRITO DE TRUJILLO,PROVINCIA DE TRUJILLO, DEPARTAMENTO DE LA LIBERTAD","No hubo supervision - se designo inspector\nIng. Victor Cabanillas Arrivasplata","_","_","_","INFORME DE SUPERVISION ","EDUCACION "]
[null," CONSULTORIA DE LA OBRA: REHABILITACION DE LA AV. BOLIVIA INTERSECCION AV. MANUEL SEOANE - AV. VICTOR LARCO, DISTRITO DE VICTOR LARCO HERRERA - PROVINCIA TRUJILLO - REGIÓN LA LIBERTAD",null,"Ines Beatriz Avila Lopez (09930592)",6067,null,"INFORME DE SUPERVISION ","VIVIENDA Y DESARROLLO URBANO"]
[null," CONSULTORIA DE LA OBRA: REHABILITACION DE LA AV. VICTOR LARCO INTERSECCION AV. HUAMAN - JR. CALLAO, DISTRITO DE VICTOR LARCO HERRERA- PROVINCIA TRUJILLO - REGIÓN LA LIBERTAD ",null,"Juan Simon Ruidias Ojeda (03380668)",9834,null,"INFORME DE SUPERVISION ","VIVIENDA Y DESARROLLO URBANO"]
[null,"CONSULTORIA DE LA OBRA: REHABILITACION DE LA AV. HUAMAN TRAMO AV. PROLONGACION CESAR VALLEJO - AV. PROLONGACION JUAN PABLO II, DISTRITO DE VICTOR LARCO HERRERA - PROVINCIA TRUJILLO - REGIÓN LA LIBERTAD",null,"Juan Calos Montoya Mathey (18903856)",10046,null,"INFORME DE SUPERVISION ","VIVIENDA Y DESARROLLO URBANO"]
[null,"CONSULTORIA DE LA OBRA: REHABILITACION DE AV. JUAN PABLO INTERSECCION AV. LOS PAUJILES - AV. HUAMAN, DISTRITO DE VICTOR LARCO HERRERA- PROVINCIA TRUJILLO - REGIÓN LA LBERTAD ","No hubo supervision - se designo inspector\nIng. Dario Estrada Saldarriaga","_","_","_","_","VIVIENDA Y DESARROLLO URBANO"]
[null,"CONSULTORIA DE LA OBRA: MEJORAMIENTO DEL SERVICIO DE TRANSITABILIDAD VEHICULAR Y PEATONAL DEL SECTOR BUENOS AIRES SUR, DISTRITO DE VICTOR LARCO HERRERA - TRUJILLO - LA LIBERTAD","BIARKING PROYECTOS Y CONSTRUCCIONES S.A.C. (20560035251)",null,36590,33663,"INFORME DE SUPERVISION ","TRANSPORTE"]
[null,"CONSULTORIA DE LA OBRA: MEJORAMIENTO DEL SERVICIO DE TRANSITABILIDAD VEHICULAR Y PEATONAL EN LA URBANIZACION SANTA EDELMIRA, DISTRITO DE VICTOR LARCO HERRERA - TRUJILLO - LA LIBERTAD","luis Orlando Boyd Saucedo (10266120856)",null,33422,88233,"INFORME DE SUPERVISION ","TRANSPORTE"]
[null,"CONSULTORIA DE LA OBRA: MEJORAMIENTO DEL COMPLEJO DEPORTIVO Y RECREATIVO DEL AA.HH. NUEVO CAMPEMENTO, DISTRITO DE MAGDALENA DE CAO - ASCOPE - LA LIBERTAD",null,"Luis Alejandro Santander Rebaza (17890487)",12389,null,"INFORME DE SUPERVISION ","CULTURA Y DEPORTE "]
[null,"CONSULTORIA DE LA OBRA: MEJORAMIENTO DEL SERVICIO DEPORTIVO Y RECREATIVO EN EL COMPLEJO AUGUSTO GILDEMEISTER EN  LA LOCALIDAD DE SAUSAL - DISTRITO DE SAUSAL - CHICAMA - LA LIBERTAD",null,"Ramon Alfredo Rojas Cerna (26618722)",23886,2986,"INFORME DE SUPERVISION ","CULTURA Y DEPORTE "]
[null,"CONSULTORIA DE LA OBRA:  MEJORAMIENTO DE LOS SERVICIOS DE TRANSITABILIDAD VEHICULAR Y PEATONAL EN LA AV. LIBERTAD DESDE LA CALLE JOSE CARLOS MARIATEGUI HASTA LA PANAMERICANA NORTE LOCALIDAD DE GUADALUPITO, DISTRITO DE GUADALUPITO - VIRU - LA LIBERTAD II ETAPA","GEOSERVIA (20477319921)",null,26509,null,"INFORME DE SUPERVISION ","TRANSPORTE"]
[null,"CONSULTORIA DE LA OBRA:  MEJORAMIENTO DEL SERVICIO EDUCATIVO EN EL CENTRO DE EDUCACION TECNICO PRODUCTIVA - CETPRO SAN PEDRO DE LLOC, PROVINCIA DE PASCAMAYO , LA LIBERTAD",null,"Paul Yerko Vargas Vigo (18110794)",88588,null,"INFORME DE SUPERVISION ","EDUCACION "]
[null,"CONSULTORIA DE LA OBRA: MEJORAMIENTO DEL SISTEMA DE AGUA POTABLE Y ALCANTARILLADO DEL AA.HH. TECAPA, DISTRITO DE SAN JOSE, PACASMAYO, LA LIBERTAD ",null,"Rosario Del Pilar Alva Diaz (17831648)",32121,null,"INFORME DE SUPERVISION ","SANEAMIENTO"]
[null,"CONSULTORIA DE LA OBRA:  MEJORAMIENTO DEL SISTEMA DE AGUA POTABLE E INSTALACION DEL SISTEMA DE ALCANTARILLADO DEL AA.HH. SANTA VICTORIA DISTRITO Y, PROVINCIA DE CHEPEN - LA LIBERTAD","CONSORCIO SANTA CRUZ (20603403011)",null,59172,9633,"INFORME DE SUPERVISION ","SANEAMIENTO"]
[null,"CONSULTORIA DE LA OBRA: MEJORAMIENTO DE LA CALIDAD EDUCATIVA DEL SERVICIO EDUCATIVO EN LA INSTITUCION EDUCATIVA PUBLICA INTEGRADA N° 80488 DEL NIVEL PRIMARIO DEL CASERIO DE HUAGANTO, DISTRITO DE SANTIAGO DE CHALLAS, PROVINCIA PATAZ , REGION LA LIBERTAD","CONSORCIO DE HONG (20602622569)",null,102568,12559,"INFORME DE SUPERVISION ","EDUCACION "]
[null,"CONSULTORIA DE LA OBRA: MEJORAMIENTO DE LOS SERVICIOS DE EDUCACION NIVEL INICIAL, PRIMARIA Y SECUNDARIA EN LA I.E. N 80452 USCA, DISTRITO DE HUAYO, PROVINCIA DE PATAZ, REGION LA LIBERTAD","CONSORCIO LIBERTAD (10181885934)",null,163991,null,"INFORME DE SUPERVISION ","EDUCACION "]
[null,"CONSULTORIA DE LA OBRA: MEJORAMIENTO DEL SERVICIO EDUCATIVO EN LA I.E. SECUNDARIA DE MENORES JUAN ACEVEDO ARCE, DISTRITO DE CHILLIA, PROVINCIA PATAZ, REGION LA LIBERTAD","TOMAS ORLANDO LUNA GUERRERO (10181885934)",null,63415,54870,"INFORME DE SUPERVISION ","EDUCACION "]
[null,"CONSULTORIA DE LA OBRA: CREACION DE LA DEFENSA RIBEREÑA Y ENCAUSAMIENTO DEL RIO VIJUS, DISTRITO DE PATAZ, PATAZ, LA LIBERTAD","INGECONSULT CONSULTORIAS S.A.C. (20482396331 )",null,26944,55684,"INFORME DE SUPERVISION ","ORDEN PUBLICO Y SEGURIDAD"]
[null,"CONSULTORIA DE LA OBRA: MEJORAMIENTO DEL SERVICIO DE EDUCACION INICIAL Y PRIMARIA EN LA I.E. N 80905/A1-UEPM DEL CASERIO CHINAC, DISTRITO DE CHUGAY - SANCHEZ CARRION - LA LIBERTAD",null,"Juan Calos Montoya Mathey (18903856)",20284,null,"INFORME DE SUPERVISION ","EDUCACION"]
[null,"CONSULTORIA DE LA OBRA: MEJORAMIENTO DE LOS SERVICIOS DE LA GESTION EDUCATIVA EN LA UGEL SANTIAGO DE CHUCO DISTRITO Y PROVINCIA DE SANTIAGO DE CHUCO, REGIÓN LA LIBERTAD",null,"Alejandro Alberto Benites Moreno (40915910)",26156,null,"INFORME DE SUPERVISION ","EDUCACION"]
[null," CONSULTORIA DE LA OBRA: MEJORAMIENTO DEL SERVICIO EDUCATIVO EN LA I.E. INICIAL 295, DISTRITO DE CACHICADAN, SANTIAGO DE CHUCO, LA LIBERTAD","BIARKING PROYECTOS Y CONSTRUCCIONES S.A.C. (20560035251)",null,68942,48573,"INFORME DE SUPERVISION ","EDUCACION"]
[null," CONSULTORIA DE LA OBRA: MEJORAMIENTO DEL SERVICIO EDUCATIVO EN LA I.E. N° 80591 NIVEL INICIAL EN EL CASERIO PIJOBAMBA, DISTRITO DE SITABAMBA - SANTIAGO DE CHUCO - LA LIBERTAD","KATHYANNA DEL ROCIO HERNANI MORALES (10181359248)",null,98358,44475,"INFORME DE SUPERVISION ","EDUCACION"]
[null," CONSULTORIA DE LA OBRA: MEJORAMIENTO DE LOS SERVICIOS EDUCATIVOS EN LA IE N 80102 DEL CENTRO POBLADO CONDORMARCA DISTRITO DE CONDORMARCA BOLIVAR LA LIBERTAD","No hubo supervision - se designo inspector\nIng. Diana Escobedo Julca\n","_","_","_","_","EDUCACION"]
[null," CONSULTORIA DE LA OBRA: CONSTRUCCIÓN DE LA CARRETERA CALEMAR - ABRA EL NARANJILLO",null,"Paul Yerko Vargas Vigo (18110794)",43884,null,"INFORME DE SUPERVISION ","TRANSPORTE"]
[null," CONSULTORIA DE LA OBRA: MEJORAMIENTO Y AMPLIACION DEL SERVICIO DE SALUD DE PRIMER NIVEL DE COMPLEJIDAD 1- 2 EN EL CENTRO POBLADO DE LLUIN , DISTRITO DE MACHE, PROVINCIA DE OTUZCO, LA LIBERTAD.","KATHYANNA DEL ROCIO HERNANI MORALES (10181359248)",null,60977,null,"INFORME DE SUPERVISION ","EDUCACION"]
[null," CONSULTORIA DE LA OBRA: MEJORAMIENTO DE LOS SERVICIOS DE SALUD EN EL PUESTO DE SALUD CUYUCHUGO DISTRITO DE USQUIL, PROVINCIA DE OTUZCO, LA LIBERTAD","KATHYANNA DEL ROCIO HERNANI MORALES (10181359248)",null,89996,null,"INFORME DE SUPERVISION ","SALUD"]
[null," CONSULTORIA DE LA OBRA: MEJORAMIENTO DE LOS SERVICIOS DE SALUD PARA LA ATENCION INTEGRAL EN EL PUESTO DE SALUD SAN ANTONIO, DISTRITO DE JULCAN, PROVINCIA DE JULCAN - LA LIBERTAD",null,"Julio Cesar Ruiz Jara (16657613)",61000,null,"INFORME DE SUPERVISION ","SALUD"]
[null," CONSULTORIA DE LA OBRA: MEJORAMIENTO DEL SERVICIO DE EDUCACION PRIMARIA DE LA INSTITUCION EDUCATIVA N°81011 ANTONIO RAIMONDI, DISTRITO Y PROVINCIA DE TRUJILLO - REGION LA LIBERTAD","CONSORCIO VAESCO III (10412188379)",null,null,116111,"INFORME DE SUPERVISION ","EDUCACION"]
[null," CONSULTORIA DE LA OBRA: CREACION DEL SERVICIO DE EDUCACION INICIAL ESCOLARIZADA EN LA I.E.I. N 2255 EN EL BARRIO 6 B DEL SECTOR ALTO PORVENIR - DISTRITO EL PORVENIR, PROVINCIA DE TRUJILLO - REGION LA LIBERTAD","TOMAS ORLANDO LUNA GUERRERO (10181885934)",null,null,null,"INFORME DE SUPERVISION ","EDUCACION"]
[null,"CONSULTORIA DE LA OBRA: CREACION DEL SERVICIO DE EDUCACION INICIAL ESCOLARIZADA EN LA I.E. N 2213 DEL SECTOR LA VIÑA, EN EL CENTRO POBLADO PACANGUILLA, DISTRITO DE PACANGA, PROVINCIA DE CHEPEN - LA LIBERTAD","CONSORCIO JC (10180722284)",null,null,0,"INFORME DE SUPERVISION ","EDUCACION"]
[null,"CONSULTORIA DE LA OBRA: CREACION DE DEFENSA RIBEREÑA EN LOS PUNTOS CRITICOS PARA EL RIO CHICAMA, TRAMO PUENTE MORENO- BAÑOS CHIMU, MARGEN IZQUIERDA, CASCAS, PROVINCIA DE GRAN CHIMU - LA LIBERTAD","CONSORCIO CHICAMA (20560035251)","_","_","_","_","ORDEN PUBLICO Y SEGURIDAD"]
[null,"CONSULTORIA DE LA OBRA: MEJORAMIENTO DEL SERVICIO EDUCATIVO EN LA I.E. N 80072 DEL CENTRO POBLADO TOMABAL DEL DISTRITO Y PROVINCIA DE VIRU - REGION LA LIBERTAD"," CONSORCIO TRUJILLO (10180722284)",null,null,0,"INFORME DE SUPERVISION ","EDUCACION "]
[null,"CONSULTORIA DE LA OBRA: MEJORAMIENTO DEL SERVICIO DE TRANSITABILIDAD DE LA AV. PROLONGACION CESAR VALLEJO TRAMO AV. FATIMA-AV. HUAMAN, DISTRITO DE VICTOR LARCO HERRERA - PROVINCIA DE TRUJILLO - REGION LA LIBERTAD",null,"Raul Wilfredo Valdivieso Grados (18876060)",null,0,"INFORME DE SUPERVISION ","TRANSPORTE"]
[null,"CONSULTORIA DE LA OBRA: RECUPERACION ADECUADAS CONDICIONES DE TRANSITABILIDAD VEHICULAR Y PEATONAL EN LA AV. FEDERICO VILLARREAL TRAMO AV. MIRAFLORES-PROLONGACION SANTA CENTRO POBLADO DE TRUJILLO - DISTRITO DE TRUJILLO - PROVINCIA DE TRUJILLO - REGION LA LIBERTAD","CONSORCIO GCA (10420275205)",null,null,0,"INFORME DE SUPERVISION ","TRANSPORTE"]
[null,"TOTAL SUPERVISION DE OBRAS",null,null,{"$f":"SUM(E44:E78)","v":1184519},{"$f":"SUM(F44:F78)","v":466787}]
[null,"TOTAL GENERAL",null,null,{"$f":"+E43+E79","v":3264690},{"$f":"+F43+F79","v":917613}]
[null,"(*) EL PRODUCTO QUE SE ADQUIERE"]
[null,"(**) ESPECIALIDAD TOMADO ENCUENTA HACIENDO REFRENCIA UNA O MAS DE LAS FUNCIONES DEL CLASIFICADOR FUNCIONAL PROGRAMATICO"]

{"sheet":"F.16","index":18,"n_rows":960,"n_cols":9,"rows_kept":960,"cut":false,"hidden":false,"merged":[[391,1,392,1],[1,1,1,8],[2,1,2,8],[3,1,3,8],[7,1,8,1],[7,2,8,2],[7,3,7,8],[39,1,40,1],[39,2,40,2],[39,3,39,8],[73,1,74,1],[73,2,74,2],[73,3,73,8],[99,1,100,1],[99,2,100,2],[99,3,99,8],[177,1,178,1],[177,2,178,2],[177,3,177,8],[202,1,203,1],[202,2,203,2],[202,3,202,8],[125,1,126,1],[125,2,126,2],[125,3,125,8],[150,1,151,1],[150,2,151,2],[150,3,150,8],[284,1,285,1],[284,2,285,2],[284,3,284,8],[312,1,313,1],[312,2,313,2],[312,3,312,8],[228,1,229,1],[228,2,229,2],[228,3,228,8],[259,1,260,1],[259,2,260,2],[259,3,259,8],[356,1,357,1],[356,2,357,2],[356,3,356,8],[386,1,387,1],[386,2,387,2],[386,3,386,8],[331,1,332,1],[331,2,332,2],[331,3,331,8],[469,1,470,1],[469,2,470,2],[469,3,469,8],[500,1,501,1],[500,2,501,2],[500,3,500,8],[411,1,412,1],[411,2,412,2],[411,3,411,8],[439,1,440,1],[439,2,440,2],[439,3,439,8],[584,1,585,1],[584,2,585,2],[584,3,584,8],[615,1,616,1],[615,2,616,2],[615,3,615,8],[531,1,532,1],[531,2,532,2],[531,3,531,8],[554,1,555,1],[554,2,555,2],[554,3,554,8],[692,1,693,1],[692,2,693,2],[692,3,692,8],[718,1,719,1],[718,2,719,2],[718,3,718,8],[639,1,640,1],[639,2,640,2],[639,3,639,8],[666,1,667,1],[666,2,667,2],[666,3,666,8],[804,1,805,1],[804,2,805,2],[804,3,804,8],[828,1,829,1],[828,2,829,2],[828,3,828,8],[744,1,745,1],[744,2,745,2],[744,3,744,8],[772,1,773,1],[772,2,773,2],[772,3,772,8],[908,1,909,1],[908,2,909,2],[908,3,908,8],[936,1,937,1],[936,2,937,2],[936,3,936,8],[858,1,859,1],[858,2,859,2],[858,3,858,8],[883,1,884,1],[883,2,884,2],[883,3,883,8]]}
[]
[null,"FORMATO 16"]
[null,"TESORERIA RESUMEN POR GRUPO GENERICO Y FUENTES DE FINANCIAMIENTO 2018 y 2019"]
[null,"PROYECTO DE PRESUPUESTO - 2020"]
[null,"SECTOR : 99 GOBIERNOS REGIONALES"]
[null,"PLIEGO  : 451 GOBIERNO REGIONAL LA LIBERTAD"]
[null,"UNIDAD EJECUTORA: 001 SEDE LA LIBERTAD"]
[null,"ESPECIFICACIONES RECURSOS PUBLICOS","UNIDAD EJECUTORA","CUENTAS BANCARIAS"]
[null,null,null,"BANCO / INSTITUCIÓN FINANCIERA","CUENTA","FECHA DE APERTURA","MONEDA","SALDO 2018 (*)","SALDO 2019 (**)"]
[]
[null,"1. RECURSOS ORDINARIO"]
[]
[null,"2. RECURSOS DIRECTAMENTE RECAUDADOS","0831","BANCO DE LA NACION ","0741-040883",2001,"SOLES",6874.24,8758.0400000000009]
[null,null,"0831","BANCO DE LA NACION ","0741-189763",2010,"SOLES",81.86,81.86]
[null,null,"0831","BANCO DE LA NACION ","0741-041138",2001,"SOLES",0.57999999999999996,0.57999999999999996]
[null,null,"0831","MEF","0741-082233 (7)",2006,"SOLES",{"$f":"'[2]RESUMEN A DIC.2018'!D15","v":13454980.85},{"$f":"'[2]RESUMEN A JUN.2019'!D15","v":12156574.01}]
[]
[null,"3. RECURSOS OPERACIONES OFICIALES DE","0831","MEF","0741-082233",2006,"SOLES",{"$f":"'[2]RESUMEN A DIC.2018'!D30","v":22397367.719999999},{"$f":"'[2]RESUMEN A JUN.2019'!D30","v":14216770.09}]
[null," CREDITO EXTERNO","0831","BANCO DE LA NACION ","0741-081075",2007,"SOLES",2390.14,0.14000000000000001]
[]
[null,"4. DONACIONES Y TRANSFERENCIAS","0831","BANCO DE LA NACION ","0741-054582",2006,"SOLES",12003.99,12003.99]
[null,null,"0831","BANCO DE LA NACION ","0741-130564",2007,"SOLES",399.54,399.54]
[null,null,"0831","BANCO DE LA NACION ","0741-115115",2006,"SOLES",63.67,63.67]
[null,null,"0831","BANCO DE LA NACION ","0741-072149",2005,"SOLES",3494.28,3494.28]
[null,null,"0831","BANCO DE LA NACION ","0741-080486",2005,"SOLES",1527.31,12.31]
[null,null,"0831","BANCO DE LA NACION ","0741-116243",2006,"SOLES",4325.25,114.44]
[null,null,"0831","MEF","0741-082233",2006,"SOLES",{"$f":"'[2]RESUMEN A DIC.2018'!D22","v":689365.84},{"$f":"'[2]RESUMEN A JUN.2019'!D22","v":17891600.530000001}]
[]
[null,"5. RECURSOS DETERMINADOS ","0831","MEF","0741-082233",2006,"SOLES",{"$f":"'[2]RESUMEN A DIC.2018'!D45","v":0},{"$f":"'[2]RESUMEN A JUN.2019'!D45","v":0}]
[null,null,"0831","BANCO DE LA NACION ","0741-129000",2007,"SOLES"]
[null,"    - CANON  Y  SOBRECANON, REGALIAS"]
[null,"       Y PARTICIPACIONES"]
[null,"    - CONTRIBUCIONES A FONDOS"]
[null,"    - FONDO DE COMPENCIÓN MUNICIPAL"]
[null,"    - IMPUESTOS MUNICIPALES"]
[null,"    - OTROS (ESPECIFIQUE)"]
[]
[null,"TOTAL",null,null,null,null,null,{"$f":"SUM(H13:H37)","v":36572875.270000011},{"$f":"SUM(I11:I29)","v":44289873.480000004}]
[null,"UNIDAD EJECUTORA: 100 agriculturaLA LIBERTAD"]
[null,"ESPECIFICACIONES RECURSOS PUBLICOS","UNIDAD EJECUTORA","CUENTAS BANCARIAS"]
[null,null,null,"BANCO / INSTITUCIÓN FINANCIERA","CUENTA","FECHA DE APERTURA","MONEDA","SALDO 2018 (*)","SALDO 2019 (**)"]
[]
[null,"1. RECURSOS ORDINARIOS"]
[null,"    - RECURSOS ORDINARIOS","0832","Tesoro Público -Banco de la Nación","00-741-082403","06.12.2005","Soles",0,0]
[null,"2. RECURSOS DIRECTAM. RECAUD."]
[null,"    - CUENTA UNICA DEL TESORO PUBLICO- CUENTA CUT",832,"Tesoro Público -Banco de la Nación","00-741-082403","02.01.2013","Soles",636.66,1202.49]
[null,"    - CUENTA INGRESOS PROPIOS",832,"Banco de La Nación","00-741-040891","23.09.2001","Soles",327531.11,337893.82]
[null,"    - CUENTA DETRACCIONES D.Leg. 940",832,"Banco de La Nación","00-741-070847","12.01-2003","Soles",16.03,16.03]
[null,"    - CUENTA INGRESOS FORESTALES TASAS y TRAM. TUPA",832,"Banco de La Nación","00-741-238470","13.10.2011","Soles",2304.73,9382.81]
[null,"    - CUENTA INGRESOS FORESTALES DERECHO APROVECH. FORESTAL",832,"Banco de La Nación","00-741-238489","13.10.2011","Soles",4010.51,5233.2]
[null,"    - CUENTA INGRESOS FORESTALES, MULTAS E INFRAC. LEY FORESTAL",832,"Banco de La Nación","00-741-238497","13.10.2011","Soles",0.56999999999999995,0]
[null,"    - CUENTA RECAUDADORA INGRESOS DIVERSOS",832,"Banco de La Nación","00-741-238519","13.10.2011","Soles",22000.04,0]
[]
[null,"3.- RECURSOS OPERACIONES"]
[null,"       OFICIALES DE CRED. EXTERNO"]
[]
[null,"4. DONACIONES Y TRANSFERENCIAS"]
[]
[null,"5. RECURSOS DETERMINADOS"]
[]
[null,"    - CANON  Y  SOBRECANON, REGALIAS"]
[null,"       Y PARTICIPACIONES, CTA. ORDINARIA","0832","Banco de La Nación","00-741-135132","10.09.2007","Soles",null,0]
[null,"    - CANON  Y  SOBRECANON, REGALIAS",null,null,null,null,null,null,0]
[null,"       Y PARTICIPACIONES, CTA, CUT. T.R. \"H\"","0832","Tesoro Público -Banco de la Nación","00-741-082403","29.12.2013","Soles",262731.45,264781.63]
[null,"    - CANON  Y  SOBRECANON, REGALIAS"]
[null,"       Y PARTICIPACIONES, CTA. CUT. T.R. \"Y\" SALDOS ANTIGUOS","0832","Tesoro Público -Banco de la Nación","00-741-082403","29.12.2013","Soles",71612.27,33760.949999999997]
[null,"    - CONTRIBUCIONES A FONDOS"]
[null,"    - FONDO DE COMPENCIÓN MUNICIPAL"]
[null,"    - IMPUESTOS MUNICIPALES",null,null,null,null,null,null,0]
[null,"    - OTROS (ESPECIFIQUE)"]
[]
[null,"TOTAL",null,null,null,null,null,{"$f":"SUM(H43:H71)","v":690843.37},{"$f":"SUM(I43:I71)","v":652270.92999999993}]
[null,"UNIDAD EJECUTORA: 200 TRANSPORTES LA LIBERTAD"]
[null,"ESPECIFICACIONES RECURSOS PUBLICOS","UNIDAD EJECUTORA","CUENTAS BANCARIAS"]
[null,null,null,"BANCO / INSTITUCIÓN FINANCIERA","CUENTA","FECHA DE APERTURA","MONEDA","SALDO 2018 (*)","SALDO 2019 (**)"]
[]
[null,"1. RECURSOS ORDINARIOS",833,"BANCO DE LA NACION","0741-082411",2006,"SOLES",0,0]
[]
[null,"2. RECURSOS DIRECTAM. RECAUD.","833","BANCO DE LA NACION","0741-040107","2001","SOLES",76752.34,22716.27]
[]
[]
[]
[null,"3.- RECURSOS OPERACIONES"]
[null,"       OFICIALES DE CRED. EXTERNO"]
[]
[null,"4. DONACIONES Y TRANSFERENCIAS"]
[]
[null,"5. RECURSOS DETERMINADOS"]
[]
[null,"    - CANON  Y  SOBRECANON, REGALIAS"]
[null,"       Y PARTICIPACIONES"]
[null,"    - CONTRIBUCIONES A FONDOS"]
[null,"    - FONDO DE COMPENCIÓN MUNICIPAL"]
[null,"    - IMPUESTOS MUNICIPALES"]
[null,"    - OTROS (ESPECIFIQUE)"]
[]
[null,"TOTAL",null,null,null,null,null,{"$f":"SUM(H77:H96)","v":76752.34},{"$f":"SUM(I77:I96)","v":22716.27}]
[]
[null,"UNIDAD EJECUTORA: 300 EDUCACION LA LIBERTAD"]
[null,"ESPECIFICACIONES RECURSOS PUBLICOS","UNIDAD EJECUTORA","CUENTAS BANCARIAS"]
[null,null,null,"BANCO / INSTITUCIÓN FINANCIERA","CUENTA","FECHA DE APERTURA","MONEDA","SALDO 2018 (*)","SALDO 2019 (**)"]
[]
[null,"1. RECURSOS ORDINARIOS",834,"BANCO DE LA NACIÓN","0741-082268",2005,"SOLES",0,0]
[]
[null,"2. RECURSOS DIRECTAM. RECAUD. CUT",834,"BANCO DE LA NACIÓN","0741-082268","2013","SOLES",93631.61,35188.339999999997]
[]
[null,"3. RECURSOS OPERACIONES OFICIALES DE CRED. EXTERNO","0"]
[]
[null,"4. DONACIONES Y TRANSFERENCIAS"]
[null,"TRANSFERENCIAS *",834,"BANCO DE LA NACIÓN","0741-046636","2003","SOLES",350.41,350.41]
[null,"DONACIONES *",834,"BANCO DE LA NACIÓN","0741-209780","2010","SOLES",14.76,14.76]
[null,"DONACIONES PARA APOYO PRESUPUESTARIO CUT *",834,"BANCO DE LA NACIÓN","0741-082268","2013","SOLES",9763.5,9763.5]
[]
[null,"5. RECURSOS DETERMINADOS"]
[null,"    - CANON  Y  SOBRECANON, REGALIAS",834,"BANCO DE LA NACIÓN","0741-082268","2012","SOLES",1833160.01,1920978.76]
[null,"       Y PARTICIPACIONES"]
[null,"    - CONTRIBUCIONES A FONDOS"]
[null,"    - FONDO DE COMPENSACIÓN MUNICIPAL"]
[null,"    - IMPUESTOS MUNICIPALES"]
[null,"    - OTROS (ESPECIFIQUE)"]
[]
[null,"TOTAL",null,null,null,null,null,{"$f":"SUM(H103:H121)","v":1936920.29},{"$f":"SUM(I103:I121)","v":1966295.77}]
[]
[]
[null,"UNIDAD EJECUTORA: 301 EDUCACION CHEPEN"]
[null,"ESPECIFICACIONES RECURSOS PUBLICOS","UNIDAD EJECUTORA","CUENTAS BANCARIAS"]
[null,null,null,"BANCO / INSTITUCIÓN FINANCIERA","CUENTA","FECHA DE APERTURA","MONEDA","SALDO 2018 (*)","SALDO 2019 (**)"]
[]
[null,"1. RECURSOS ORDINARIOS","00835","BANCO DE LA NACION","00-812-017853","2001","SOLES",0,0]
[]
[null,"2. RECURSOS DIRECTAM. RECAUD.","00835","BANCO DE LA NACION","00-812-017624","2013","SOLES",80.22,80.22]
[]
[null,"3.- RECURSOS OPERACIONES"]
[null,"       OFICIALES DE CRED. EXTERNO"]
[]
[null,"4. DONACIONES Y TRANSFERENCIAS","00835","BANCO DE LA NACION","00-812-017675","2003","SOLES",0,0]
[]
[null,"5. RECURSOS DETERMINADOS","00835","BANCO DE LA NACION","00812-017853","2015","SOLES",37527.93,10075.129999999999]
[]
[null,"    - CANON  Y  SOBRECANON, REGALIAS"]
[null,"       Y PARTICIPACIONES"]
[null,"    - CONTRIBUCIONES A FONDOS"]
[null,"    - FONDO DE COMPENCIÓN MUNICIPAL"]
[null,"    - IMPUESTOS MUNICIPALES"]
[null,"    - OTROS (ESPECIFIQUE)"]
[]
[null,"TOTAL",null,null,null,null,null,{"$f":"SUM(H129:H146)","v":37608.15},{"$f":"SUM(I129:I146)","v":10155.349999999999}]
[null,"(*) Saldo al 31 de Diciembre de 2018"]
[null,"(**) Saldo al 30 de Junio de 2019"]
[null,"UNIDAD EJECUTORA: 302 EDUCACION PACASMAYO"]
[null,"ESPECIFICACIONES RECURSOS PUBLICOS","UNIDAD EJECUTORA","CUENTAS BANCARIAS"]
[null,null,null,"BANCO / INSTITUCIÓN FINANCIERA","CUENTA","FECHA DE APERTURA","MONEDA","SALDO 2018 (*)","SALDO 2019 (**)"]
[]
[null,"1. RECURSOS ORDINARIOS","0836","BANCO DE LA NACION","0-811-017736",2006,"SOLES","0.00","0.00"]
[]
[null,"2. RECURSOS DIRECTAM. RECAUD.","0836","BANCO DE LA NACION","0-811-005363","2004","SOLES","4,439.84","4,441.96"]
[]
[null,"3.- RECURSOS OPERACIONES"]
[null,"       OFICIALES DE CRED. EXTERNO"]
[]
[null,"4. DONACIONES Y TRANSFERENCIAS","0836","BANCO DE LA NACION","0-811.007943","2003","SOLES","848.95","848.95"]
[]
[null,"5. CARTAS FIANZAS","0836","BANCO DE LA NACION","0-811-029084","2018","SOLES","0.00","0.00"]
[]
[null,"5. RECURSOS DETERMINADOS"]
[]
[null,"    - CANON  Y  SOBRECANON, REGALIAS"]
[null,"       Y PARTICIPACIONES"]
[null,"    - CONTRIBUCIONES A FONDOS"]
[null,"    - FONDO DE COMPENCIÓN MUNICIPAL"]
[null,"    - IMPUESTOS MUNICIPALES"]
[null,"    - OTROS (ESPECIFIQUE)"]
[]
[null,"TOTAL",null,null,null,null,null,"5,288.79","5,290.91"]
[null,"(*) Saldo al 31 de Diciembre de 2018"]
[null,"(**) Saldo al 26 de Agosto de 2019"]
[null,"UNIDAD EJECUTORA: 303 EDUCACION ASCOPE"]
[null,"ESPECIFICACIONES RECURSOS PUBLICOS","UNIDAD EJECUTORA","CUENTAS BANCARIAS"]
[null,null,null,"BANCO / INSTITUCIÓN FINANCIERA","CUENTA","FECHA DE APERTURA","MONEDA","SALDO 2018 (*)","SALDO 2019 (**)"]
[]
[null,"1. RECURSOS ORDINARIOS","303 Educación Ascope","B/N","0741082276",2006,"SOLES"]
[]
[null,"2. RECURSOS DIRECTAM. RECAUD.","303 Educación Ascope","B/N","0741082276",2013,"SOLES",32651.24,32234.26]
[]
[null,"3.- RECURSOS OPERACIONES"]
[null,"       OFICIALES DE CRED. EXTERNO"]
[]
[null,"4. DONACIONES Y TRANSFERENCIAS","303 Educación Ascope","B/N","0741082276",2007,"SOLES",10273.43,10273.43]
[]
[null,"5. RECURSOS DETERMINADOS"]
[]
[null,"    - CANON  Y  SOBRECANON, REGALIAS","303 Educación Ascope","B/N","0741082276",2015,"SOLES",50325.599999999999,10536.35]
[null,"       Y PARTICIPACIONES"]
[null,"    - CONTRIBUCIONES A FONDOS"]
[null,"    - FONDO DE COMPENCIÓN MUNICIPAL"]
[null,"    - IMPUESTOS MUNICIPALES"]
[null,"    - OTROS (ESPECIFIQUE)"]
[]
[null,"TOTAL",null,null,null,null,null,{"$f":"SUM(H181:H198)","v":93250.26999999999},{"$f":"SUM(I181:I198)","v":53044.04}]
[null,"(*) Saldo al 31 de Diciembre de 2018"]
[null,"(**) Saldo al 30 de Junio de 2019"]
[null,"UNIDAD EJECUTORA: 304 EDUCACION GRAN CHIMU"]
[null,"ESPECIFICACIONES RECURSOS PUBLICOS","UNIDAD EJECUTORA","CUENTAS BANCARIAS"]
[null,null,null,"BANCO / INSTITUCIÓN FINANCIERA","CUENTA","FECHA DE APERTURA","MONEDA","SALDO 2018 (*)","SALDO 2019 (**)"]
[]
[null,"1. RECURSOS ORDINARIOS","304 EDUCACION GRAN CHIMU","BANCO DE LA NACION ","0741-082284",null,"SOLES",0,0]
[null,null,"304 EDUCACION GRAN CHIMU","BANCO DE LA NACION ","0741-557878","01/02/2018","SOLES",0,0]
[]
[null,"2. RECURSOS DIRECTAM. RECAUD.","304 EDUCACION GRAN CHIMU","BANCO DE LA NACION ","0741-040859 ","22/09/2001","SOLES",5672.82,5674.63]
[]
[null,"3.- RECURSOS OPERACIONES"]
[null,"       OFICIALES DE CRED. EXTERNO"]
[]
[null,"4. DONACIONES Y TRANSFERENCIAS","304 EDUCACION GRAN CHIMU","BANCO DE LA NACION ","0741-046652","09/06/2003","SOLES",157,157]
[]
[null,"5. RECURSOS DETERMINADOS"]
[]
[null,"    - CANON  Y  SOBRECANON, REGALIAS","304 EDUCACION GRAN CHIMU","BANCO DE LA NACION ","0741-082284","09/06/2003","SOLES",67712.509999999995,67712.509999999995]
[null,"       Y PARTICIPACIONES"]
[null,"    - CONTRIBUCIONES A FONDOS"]
[null,"    - FONDO DE COMPENCIÓN MUNICIPAL"]
[null,"    - IMPUESTOS MUNICIPALES"]
[null,"    - OTROS (ESPECIFIQUE)"]
[]
[null,"TOTAL",null,null,null,null,null,{"$f":"SUM(H206:H224)","v":73542.329999999987},{"$f":"SUM(I206:I224)","v":73544.14}]
[null,"(*) Saldo al 31 de Diciembre de 2018"]
[null,"(**) Saldo al 30 de Junio de 2019"]
[null,"UNIDAD EJECUTORA: 305 EDUCACION OTUZCO"]
[null,"ESPECIFICACIONES RECURSOS PUBLICOS","UNIDAD EJECUTORA","CUENTAS BANCARIAS"]
[null,null,null,"BANCO / INSTITUCIÓN FINANCIERA","CUENTA","FECHA DE APERTURA","MONEDA","SALDO 2018 (*)","SALDO 2019 (**)"]
[]
[null,"1. RECURSOS ORDINARIOS","305","BANCO DE LA NACION","0741-082292","2005","SOLES","-","-"]
[]
[null,"2. RECURSOS DIRECTAM. RECAUD.","305","BANCO DE LA NACION ","0741-041073","2001","SOLES",4.3899999999999997,4.3899999999999997]
[null,null,"305","MEF","0741-082292 (7)","2005","SOLES",127894.33,119618.59]
[]
[]
[null,"3.- RECURSOS OPERACIONES","305","-","-","-","-","-","-"]
[null,"       OFICIALES DE CRED. EXTERNO"]
[]
[null,"4. DONACIONES Y TRANSFERENCIAS","305","BANCO DE LA NACION ","0741-046660","2003","SOLES",2411.09,2411.09]
[null,null,"305","MEF","0741-082292 (N)","2005","SOLES",8449.7199999999993,8449.7199999999993]
[]
[]
[]
[]
[null,"5. RECURSOS DETERMINADOS","305","MEF","0741-082292 (19)","2006","SOLES",39048.720000000001,40078.870000000003]
[]
[null,"    - CANON  Y  SOBRECANON, REGALIAS"]
[null,"       Y PARTICIPACIONES"]
[null,"    - CONTRIBUCIONES A FONDOS"]
[null,"    - FONDO DE COMPENCIÓN MUNICIPAL"]
[null,"    - IMPUESTOS MUNICIPALES"]
[null,"    - OTROS (ESPECIFIQUE)"]
[]
[null,"TOTAL",null,null,null,null,null,{"$f":"SUM(H232:H255)","v":177808.25},{"$f":"SUM(I232:I255)","v":170562.66}]
[null,"(*) Saldo al 31 de Diciembre de 2018"]
[null,"(**) Saldo al 30 de Junio de 2019"]
[null,"UNIDAD EJECUTORA: 306 EDUCACION SANTIAGO DE CHUCO"]
[null,"ESPECIFICACIONES RECURSOS PUBLICOS","UNIDAD EJECUTORA","CUENTAS BANCARIAS"]
[null,null,null,"BANCO / INSTITUCIÓN FINANCIERA","CUENTA","FECHA DE APERTURA","MONEDA","SALDO 2018 (*)","SALDO 2019 (**)"]
[]
[null,"1. RECURSOS ORDINARIOS","306 EDUCACION SANTIAGO DE CHUCO",0]
[]
[null,"2. RECURSOS DIRECTAM. RECAUD. (CUT)","306 EDUCACION SANTIAGO DE CHUCO","BANCO NACION","0-801-004121","2002","SOLES",22558.47,37002.04]
[]
[null,"3.- RECURSOS OPERACIONES","306 EDUCACION SANTIAGO DE CHUCO",0]
[null,"       OFICIALES DE CRED. EXTERNO"]
[]
[null,"4. DONACIONES Y TRANSFERENCIAS","306 EDUCACION SANTIAGO DE CHUCO","BANCO NACION","0-801-019234","2003","SOLES",11243.99,11243.99]
[null,null,null,"BANCO NACION","0-801-022340","2010","SOLES",4000,4000]
[]
[null,"5. RECURSOS DETERMINADOS","306 EDUCACION SANTIAGO DE CHUCO",0]
[]
[null,"    - CANON  Y  SOBRECANON, REGALIAS (CUT)",null,"BANCO NACION","0-801-019706","2015","SOLES",55440.29,235.55]
[null,"       Y PARTICIPACIONES"]
[null,"    - CONTRIBUCIONES A FONDOS"]
[null,"    - FONDO DE COMPENCIÓN MUNICIPAL"]
[null,"    - IMPUESTOS MUNICIPALES"]
[null,"    - OTROS (ESPECIFIQUE)"]
[]
[null,"TOTAL",null,null,null,null,null,{"$f":"SUM(H263:H281)","v":93242.75},{"$f":"SUM(I263:I281)","v":52481.58}]
[]
[null,"UNIDAD EJECUTORA: 307 EDUCACION SANCHEZ CARRION"]
[null,"ESPECIFICACIONES RECURSOS PUBLICOS","UNIDAD EJECUTORA","CUENTAS BANCARIAS"]
[null,null,null,"BANCO / INSTITUCIÓN FINANCIERA","CUENTA","FECHA DE APERTURA","MONEDA","SALDO 2018 (*)","SALDO 2019 (**)"]
[null,"1. RECURSOS ORDINARIOS",307,"BANCO DE LA NACION","0-801-019714","2005-12-06","SOLES",0,0]
[]
[null,"2. RECURSOS DIRECTAM. RECAUD.",307,"BANCO DE LA NACION","0-801-018858","2001-09-22","SOLES",1.1499999999999999,1.1499999999999999]
[null,null,307,"MEF","0-801-019714(7)","01/04/2013","SOLES",43813.78,29312.39]
[]
[]
[null,"3.- RECURSOS OPERACIONES"]
[null,"       OFICIALES DE CRED. EXTERNO"]
[]
[null,"4. DONACIONES Y TRANSFERENCIAS",307,"BANCO DE LA NACION","0-801-019242","06/06/2003","SOLES",97111.71,97111.71]
[null,"DONACIONES",307,"BANCO DE LA NACION","0-801-052711","08/05/2018","SOLES",185137.32,277137.32]
[null,null,307,"MEF","0-801-019714(N)","31/08/2016","SOLES",14346.26,14346.26]
[]
[]
[]
[null,"5. RECURSOS DETERMINADOS",307,"MEF","0-801-019714(19)","01/01/2015","SOLES",83960.82,58841.11]
[]
[null,"    - CANON  Y  SOBRECANON, REGALIAS"]
[null,"       Y PARTICIPACIONES"]
[null,"    - CONTRIBUCIONES A FONDOS"]
[null,"    - FONDO DE COMPENCIÓN MUNICIPAL"]
[null,"    - IMPUESTOS MUNICIPALES"]
[null,"    - OTROS (ESPECIFIQUE)"]
[]
[null,"TOTAL",null,null,null,null,null,{"$f":"SUM(H287:H310)","v":424371.04000000004},{"$f":"SUM(I287:I310)","v":476749.94}]
[null,"UNIDAD EJECUTORA: 308 EDUCACION PATAZ"]
[null,"ESPECIFICACIONES RECURSOS PUBLICOS","UNIDAD EJECUTORA","CUENTAS BANCARIAS"]
[null,null,null,"BANCO / INSTITUCIÓN FINANCIERA","CUENTA","FECHA DE APERTURA","MONEDA","SALDO 2018 (*)","SALDO 2019 (**)"]
[]
[]
[null,"1. RECURSOS ORDINARIOS","308 EDUCACION PATAZ","BANCO DE LA NACION","00801019722","2005-12-06","SOLES",0,0]
[]
[null,"2. RECURSOS DIRECTAM. RECAUD.","308 EDUCACION PATAZ","BANCO DE LA NACION","00801004148","2001-10-04","SOLES",0,0]
[]
[null,"3. DONACIONES Y TRANSFERENCIAS","308 EDUCACION PATAZ","BANCO DE LA NACION",null,null,"SOLES"]
[null,"      - DONACIONES","308 EDUCACION PATAZ","BANCO DE LA NACION","00801019951","2006-05-16","SOLES",49638.04,69691.149999999994]
[null,"      - TRANSFERENCIAS","308 EDUCACION PATAZ","BANCO DE LA NACION","00801019250","2003-06-06","SOLES",0.67,0.67]
[]
[null,"4. RECURSOS DETERMINADOS","308 EDUCACION PATAZ","BANCO DE LA NACION",null,2015,"SOLES"]
[null,"      - CANON  Y  SOBRECANON, REGALIAS","308 EDUCACION PATAZ","BANCO DE LA NACION","00801019722",2015,"SOLES",128354.65,158354.65]
[]
[]
[null,"TOTAL",null,null,null,null,null,{"$f":"SUM(H316:H328)","v":177993.36},{"$f":"SUM(I316:I328)","v":228046.46999999997}]
[]
[null,"UNIDAD EJECUTORA: 309 EDUCACION BOLIVAR"]
[null,"ESPECIFICACIONES RECURSOS PUBLICOS","UNIDAD EJECUTORA","CUENTAS BANCARIAS"]
[null,null,null,"BANCO / INSTITUCIÓN FINANCIERA","CUENTA","FECHA DE APERTURA","MONEDA","SALDO 2018 (*)","SALDO 2019 (**)"]
[]
[null,"1. RECURSOS ORDINARIOS","309 EDUCACION BOLIVAR","BANCO DE LA NACION",761035223,2006,"SOLES",0,0]
[]
[null,"2. RECURSOS DIRECTAM. RECAUD.","309 EDUCACION BOLIVAR","BANCO DE LA NACION",761035223,"2013","SOLES",9998.58,9896.5300000000007]
[]
[null,"3.- RECURSOS OPERACIONES"]
[null,"       OFICIALES DE CRED. EXTERNO"]
[]
[null,"4. DONACIONES Y TRANSFERENCIAS"]
[]
[null,"5. RECURSOS DETERMINADOS"]
[]
[null,"    - CANON  Y  SOBRECANON, REGALIAS","309 EDUCACION BOLIVAR","BANCO DE LA NACION",761035223,2015,"SOLES",26163.1,26163.1]
[null,"       Y PARTICIPACIONES"]
[null,"    - CONTRIBUCIONES A FONDOS"]
[null,"    - FONDO DE COMPENCIÓN MUNICIPAL"]
[null,"    - IMPUESTOS MUNICIPALES"]
[null,"    - OTROS (ESPECIFIQUE)"]
[]
[null,"TOTAL",null,null,null,null,null,{"$f":"SUM(H335:H352)","v":36161.68},{"$f":"SUM(I335:I352)","v":36059.629999999997}]
[null,"(*) Saldo al 31 de Diciembre de 2018"]
[null,"(**) Saldo al 30 de Junio de 2019"]
[null,"UNIDAD EJECUTORA: 310 COLEGIO RAMON CASTILLA"]
[null,"ESPECIFICACIONES RECURSOS PUBLICOS","UNIDAD EJECUTORA","CUENTAS BANCARIAS"]
[null,null,null,"BANCO / INSTITUCIÓN FINANCIERA","CUENTA","FECHA DE APERTURA","MONEDA","SALDO 2018 (*)","SALDO 2019 (**)"]
[]
[null,"1. RECURSOS ORDINARIOS",844,"BANCO DE LA NACION","0741-082446","2005-12-07","SOL",0,0]
[]
[null,"2. RECURSOS DIRECTAM. RECAUD.","0844","BANCO DE LA NACION","0741-040123","2001-09-23","SOL",23456,10028.59]
[]
[]
[]
[null,"3.- RECURSOS OPERACIONES"]
[null,"       OFICIALES DE CRED. EXTERNO"]
[]
[null,"4. DONACIONES Y TRANSFERENCIAS","0844","BANCO DE LA NACION","0741-046679","2003-06-09","SOL",15441.74,441.74]
[]
[]
[]
[]
[]
[null,"5. RECURSOS DETERMINADOS"]
[]
[null,"    - CANON  Y  SOBRECANON, REGALIAS"]
[null,"       Y PARTICIPACIONES"]
[null,"    - CONTRIBUCIONES A FONDOS"]
[null,"    - FONDO DE COMPENCIÓN MUNICIPAL"]
[null,"    - IMPUESTOS MUNICIPALES"]
[null,"    - OTROS (ESPECIFIQUE)"]
[]
[null,"TOTAL",null,null,null,null,null,{"$f":"SUM(H360:H383)","v":38897.74},{"$f":"SUM(I360:I383)","v":10470.33}]
[]
[null,"UNIDAD EJECUTORA: 311 EDUCACION JULCAN"]
[null,"ESPECIFICACIONES RECURSOS PUBLICOS","UNIDAD EJECUTORA","CUENTAS BANCARIAS"]
[null,null,null,"BANCO / INSTITUCIÓN FINANCIERA","CUENTA","FECHA DE APERTURA","MONEDA","SALDO 2018 (*)","SALDO 2019 (**)"]
[]
[null,"1. RECURSOS ORDINARIOS",311,"BANCO DE LA NACION",741082306,"02/01/2006","soles","cero","cero"]
[]
[null,"2. RECURSOS DIRECTAM. RECAUD.","311","BANCO DE LA NACION",741040972,"02/01/2013","soles",16.57,21.57]
[null,null,"311","BANCO DE LA NACION-CUT",741040972,"02/01/2013","soles",25752.560000000001,11625.01]
[]
[null,"3.- RECURSOS OPERACIONES"]
[null,"       OFICIALES DE CRED. EXTERNO"]
[]
[null,"4. DONACIONES Y TRANSFERENCIAS","311","BANCO DE LA NACION",741046687,"02/01/2013","soles",4.47,4.47]
[]
[null,"5. RECURSOS DETERMINADOS"]
[]
[null,"    - CANON  Y  SOBRECANON, REGALIAS","311","BANCO DE LA NACION FED",741082306,"01/04/2015","soles",45161.75,7790.2]
[null,"       Y PARTICIPACIONES","311","BANCO DE LA NACION CANON",741082306,"01/01/2011","soles",5692.27,5744.71]
[null,"    - CONTRIBUCIONES A FONDOS"]
[null,"    - FONDO DE COMPENCIÓN MUNICIPAL"]
[null,"    - IMPUESTOS MUNICIPALES"]
[null,"    - OTROS (ESPECIFIQUE)"]
[]
[null,"TOTAL",null,null,null,null,null,{"$f":"SUM(H390:H408)","v":76627.62000000001},{"$f":"SUM(I390:I408)","v":25185.96}]
[]
[null,"UNIDAD EJECUTORA: 312 EDUCACION VIRU"]
[null,"ESPECIFICACIONES RECURSOS PUBLICOS","UNIDAD EJECUTORA","CUENTAS BANCARIAS"]
[null,null,null,"BANCO / INSTITUCIÓN FINANCIERA","CUENTA","FECHA DE APERTURA","MONEDA","SALDO 2018 (*)","SALDO 2019 (**)"]
[]
[null,"1. RECURSOS ORDINARIOS","312 Educacion Viru ","BANCO DE LA NACION ","00-741-166593",2009,"SOLES ",0,0]
[]
[null,"2. RECURSOS DIRECTAM. RECAUD.","312 Educacion Viru ","BANCO DE LA NACION ","00-741-166593","2013","SOLES ",9269.8799999999992,7793.58]
[null,null,null,"BANCO DE LA NACION ","00-741-167824","2009","SOLES ",81.150000000000006,81.150000000000006]
[null,null,null,"BANCO DE LA NACION "]
[]
[null,"3.- RECURSOS OPERACIONES"]
[null,"       OFICIALES DE CRED. EXTERNO"]
[]
[null,"4. DONACIONES Y TRANSFERENCIAS","312 Educacion Viru ","BANCO DE LA NACION ","00-741-172828","2009","SOLES ",401.12,401.12]
[null,null,"312 Educacion Viru ","BANCO DE LA NACION ","00-741-166593","2016","SOLES ",7095,7095]
[]
[null,"5. RECURSOS DETERMINADOS"]
[]
[null,"    - CANON  Y  SOBRECANON, REGALIAS","312 Educacion Viru ","BANCO DE LA NACION ","00-741-166593","2016","SOLES ",58189.94,0.01]
[null,"       Y PARTICIPACIONES"]
[null,"    - CONTRIBUCIONES A FONDOS"]
[null,"    - FONDO DE COMPENCIÓN MUNICIPAL"]
[null,"    - IMPUESTOS MUNICIPALES"]
[null,"    - OTROS (ESPECIFIQUE)"]
[]
[null,"TOTAL",null,null,null,null,null,{"$f":"SUM(H415:H435)","v":75037.09},{"$f":"SUM(I415:I435)","v":15370.86}]
[null,"(*) Saldo al 31 de Diciembre de 2018"]
[null,"(**) Saldo al 30 de Junio de 2019"]
[null,"UNIDAD EJECUTORA: 313 EDUCACION EL PORVENIR"]
[null,"ESPECIFICACIONES RECURSOS PUBLICOS","UNIDAD EJECUTORA","CUENTAS BANCARIAS"]
[null,null,null,"BANCO / INSTITUCIÓN FINANCIERA","CUENTA","FECHA DE APERTURA","MONEDA","SALDO 2018 (*)","SALDO 2019 (**)"]
[]
[null,"1. RECURSOS ORDINARIOS"]
[]
[null,"2. RECURSOS DIRECTAM. RECAUD.","313 EDUCACION EL PORVENIR","BANCO DE LA NACION","07410741298775","2012","SOLES",8266.32,5469.03]
[]
[]
[]
[null,"3.- RECURSOS OPERACIONES"]
[null,"       OFICIALES DE CRED. EXTERNO"]
[]
[null,"4. DONACIONES Y TRANSFERENCIAS","313 EDUCACION EL PORVENIR","BANCO DE LA NACION","07410741298775","2012","SOLES",18667.439999999999,18667.439999999999]
[]
[]
[]
[]
[]
[null,"5. RECURSOS DETERMINADOS","313 EDUCACION EL PORVENIR","BANCO DE LA NACION","07410741298775","2012","SOLES",44871.11,574]
[]
[null,"    - CANON  Y  SOBRECANON, REGALIAS"]
[null,"       Y PARTICIPACIONES"]
[null,"    - CONTRIBUCIONES A FONDOS"]
[null,"    - FONDO DE COMPENCIÓN MUNICIPAL"]
[null,"    - IMPUESTOS MUNICIPALES"]
[null,"    - OTROS (ESPECIFIQUE)"]
[]
[null,"TOTAL",null,null,null,null,null,{"$f":"SUM(H443:H466)","v":71804.87},{"$f":"SUM(I443:I466)","v":24710.469999999998}]
[]
[null,"UNIDAD EJECUTORA: 314 EDUCACION LA ESPERANZA"]
[null,"ESPECIFICACIONES RECURSOS PUBLICOS","UNIDAD EJECUTORA","CUENTAS BANCARIAS"]
[null,null,null,"BANCO / INSTITUCIÓN FINANCIERA","CUENTA","FECHA DE APERTURA","MONEDA","SALDO 2018 (*)","SALDO 2019 (**)"]
[]
[null,"1. RECURSOS ORDINARIOS","314 EDUCACION LA ESPERANZA","BANCO DE LA NACION","0741299259",2012,"SOLES"]
[]
[null,"2. RECURSOS DIRECTAM. RECAUD.","314 EDUCACION LA ESPERANZA","BANCO DE LA NACION","0741299259","2013","SOLES",78157.17,43719.73]
[]
[]
[]
[null,"3.- RECURSOS OPERACIONES"]
[null,"       OFICIALES DE CRED. EXTERNO"]
[]
[null,"4. DONACIONES Y TRANSFERENCIAS","314 EDUCACION LA ESPERANZA","BANCO DE LA NACION","0741299259","2016","SOLES",29501.38,29501.38]
[]
[]
[]
[]
[]
[null,"5. RECURSOS DETERMINADOS","314 EDUCACION LA ESPERANZA","BANCO DE LA NACION",null,null,"SOLES"]
[]
[null,"    - CANON  Y  SOBRECANON, REGALIAS","314 EDUCACION LA ESPERANZA","BANCO DE LA NACION","0741299529","2015","SOLES",36300,0]
[null,"       Y PARTICIPACIONES"]
[null,"    - CONTRIBUCIONES A FONDOS"]
[null,"    - FONDO DE COMPENCIÓN MUNICIPAL"]
[null,"    - IMPUESTOS MUNICIPALES"]
[null,"    - OTROS (ESPECIFIQUE)"]
[]
[null,"TOTAL",null,null,null,null,null,{"$f":"SUM(H473:H496)","v":143958.54999999999},{"$f":"SUM(I473:I496)","v":73221.11}]
[null,"(*) Saldo al 31 de Diciembre de 2018"]
[null,"(**) Saldo al 30 de Junio de 2019"]
[null,"UNIDAD EJECUTORA: 315 EDUCACION TRUJILLO NOR OESTE "]
[null,"ESPECIFICACIONES RECURSOS PUBLICOS","UNIDAD EJECUTORA","CUENTAS BANCARIAS"]
[null,null,null,"BANCO / INSTITUCIÓN FINANCIERA","CUENTA","FECHA DE APERTURA","MONEDA","SALDO 2018 (*)","SALDO 2019 (**)"]
[]
[null,"1. RECURSOS ORDINARIOS","315 EDUCACION TRUJILLO NOR OESTE","BANCO DE LA NACION ","00741-298740  ","2012","SOLES"]
[]
[null,"2. RECURSOS DIRECTAM. RECAUD."]
[null,null,"315 EDUCACION TRUJILLO NOR OESTE","BANCO DE LA NACION ","00741-298740  ","2013","SOLES",65606.69,62142.879999999997]
[]
[]
[null,"3.- RECURSOS OPERACIONES"]
[null,"       OFICIALES DE CRED. EXTERNO"]
[]
[null,"4. DONACIONES Y TRANSFERENCIAS","315 EDUCACION TRUJILLO NOR OESTE","BANCO DE LA NACION ","00741-298740  ","2016","SOLES",30879.75,30879.75]
[]
[]
[]
[]
[]
[null,"5. RECURSOS DETERMINADOS"]
[]
[null,"    - CANON  Y  SOBRECANON, REGALIAS","315 EDUCACION TRUJILLO NOR OESTE","BANCO DE LA NACION ","00741-298740  ","2015","SOLES",48575.97,1056.97]
[null,"       Y PARTICIPACIONES"]
[null,"    - CONTRIBUCIONES A FONDOS"]
[null,"    - FONDO DE COMPENCIÓN MUNICIPAL"]
[null,"    - IMPUESTOS MUNICIPALES"]
[null,"    - OTROS (ESPECIFIQUE)"]
[]
[null,"TOTAL",null,null,null,null,null,{"$f":"SUM(H504:H527)","v":145062.41},{"$f":"SUM(I504:I527)","v":94079.6}]
[null,"(*) Saldo al 31 de Diciembre de 2018"]
[null,"(**) Saldo al 30 de Junio de 2019"]
[null,"UNIDAD EJECUTORA: 315 EDUCACION TRUJILLO NOR OESTE "]
[null,"ESPECIFICACIONES RECURSOS PUBLICOS","UNIDAD EJECUTORA","CUENTAS BANCARIAS"]
[null,null,null,"BANCO / INSTITUCIÓN FINANCIERA","CUENTA","FECHA DE APERTURA","MONEDA","SALDO 2018 (*)","SALDO 2019 (**)"]
[]
[null,"1. RECURSOS ORDINARIOS","316 EDUCACION TRUJILLO SUR ESTE","BANCO DE LA NACION","741-298716",2012,"SOLES"]
[]
[null,"2. RECURSOS DIRECTAM. RECAUD.","316 EDUCACION TRUJILLO SUR ESTE","BANCO DE LA NACION","741-298716",2012,"SOLES",34004.839999999997,9568.0499999999993]
[]
[null,"3.- RECURSOS OPERACIONES"]
[null,"       OFICIALES DE CRED. EXTERNO"]
[]
[null,"4. DONACIONES Y TRANSFERENCIAS","316 EDUCACION TRUJILLO SUR ESTE","BANCO DE LA NACION","741-298716",2015,"SOLES",20151.939999999999,20151.939999999999]
[]
[null,"5. RECURSOS DETERMINADOS","316 EDUCACION TRUJILLO SUR ESTE"]
[]
[null,"    - CANON  Y  SOBRECANON, REGALIAS","316 EDUCACION TRUJILLO SUR ESTE","BANCO DE LA NACION","741-298716",2016,"SOLES"]
[null,"       Y PARTICIPACIONES"]
[null,"    - CONTRIBUCIONES A FONDOS"]
[null,"    - FONDO DE COMPENCIÓN MUNICIPAL"]
[null,"    - IMPUESTOS MUNICIPALES"]
[null,"    - OTROS (ESPECIFIQUE)"]
[]
[null,"TOTAL",null,null,null,null,null,{"$f":"SUM(H535:H552)","v":54156.78},{"$f":"SUM(I535:I552)","v":29719.989999999998}]
[null,"UNIDAD EJECUTORA: 400 SALUD LA LIBERTAD"]
[null,"ESPECIFICACIONES RECURSOS PUBLICOS","UNIDAD EJECUTORA","CUENTAS BANCARIAS"]
[null,null,null,"BANCO / INSTITUCIÓN FINANCIERA","CUENTA","FECHA DE APERTURA","MONEDA","SALDO 2018 (*)","SALDO 2019 (**)"]
[]
[null,"1. RECURSOS ORDINARIOS","400 SALUD LA LIBERTAD","BANCO DE LA NACION ","0741-082314","2006","SOLES",0,0]
[]
[null,"2. RECURSOS DIRECTAM. RECAUD.","400 SALUD LA LIBERTAD","BANCO DE LA NACION ","0741-040905","2001","SOLES",40429.379999999997,86765.33]
[null,null,"400 SALUD LA LIBERTAD","BANCO DE LA NACION ","0741-040980","2001","SOLES",2482935.7799999998,3212192.8]
[null,null,"400 SALUD LA LIBERTAD","BANCO DE LA NACION ","0741-082314","2013","SOLES"]
[]
[null,"3.- RECURSOS OPERACIONES","400 SALUD LA LIBERTAD"]
[null,"       OFICIALES DE CRED. EXTERNO"]
[]
[null,"4. DONACIONES Y TRANSFERENCIAS","400 SALUD LA LIBERTAD","BANCO DE LA NACION ","0741-045818","2003","SOLES",4525.6099999999997,3745.61]
[null,null,"400 SALUD LA LIBERTAD","BANCO DE LA NACION ","0741-165945","2009","SOLES",50140.05,33372.480000000003]
[null,null,"400 SALUD LA LIBERTAD","BANCO DE LA NACION ","0741-080486","2017","SOLES",0,0]
[null,null,"400 SALUD LA LIBERTAD","BANCO DE LA NACION ","0741-209039","2010","SOLES",1206,1206]
[null,null,"400 SALUD LA LIBERTAD","BANCO DE LA NACION ","0741-075628","2005","SOLES",645.6,1.6]
[]
[null,"5. RECURSOS DETERMINADOS","400 SALUD LA LIBERTAD","BANCO DE LA NACION","0741-082314","2015","SOLES",0,0]
[]
[null,"    - CANON  Y  SOBRECANON, REGALIAS"]
[null,"       Y PARTICIPACIONES"]
[null,"    - CONTRIBUCIONES A FONDOS"]
[null,"    - FONDO DE COMPENCIÓN MUNICIPAL"]
[null,"    - IMPUESTOS MUNICIPALES"]
[null,"    - OTROS (ESPECIFIQUE)"]
[]
[null,"TOTAL",null,null,null,null,null,{"$f":"SUM(H558:H581)","v":2579882.4199999995},{"$f":"SUM(I558:I581)","v":3337283.82}]
[]
[null,"UNIDAD EJECUTORA: 401 INSTITUTO REGIONAL DE OFTALMOLOGIA"]
[null,"ESPECIFICACIONES RECURSOS PUBLICOS","UNIDAD EJECUTORA","CUENTAS BANCARIAS"]
[null,null,null,"BANCO / INSTITUCIÓN FINANCIERA","CUENTA","FECHA DE APERTURA","MONEDA","SALDO 2018 (*)","SALDO 2019 (**)"]
[]
[null,"1. RECURSOS ORDINARIOS","401 INST. REG. DE OFTALMOLOGIA","BANCO DE LA NACION","741-082322",2006,"S/.",0]
[null,null,"401 INST. REG. DE OFTALMOLOGIA","BANCO DE LA NACION","741-082322",2013,"S/.",0]
[null,null,"401 INST. REG. DE OFTALMOLOGIA","BANCO DE LA NACION","741-082322",2017,"S/."]
[null,null,"401 INST. REG. DE OFTALMOLOGIA","MEF","741-557525",2018,"S/.","0","0"]
[]
[null,"2. RECURSOS DIRECTAM. RECAUD.","401 INST. REG. DE OFTALMOLOGIA","BANCO DE LA NACION","741-040913",2001,"S/.",140571.78,170917.31]
[null,null,"401 INST. REG. DE OFTALMOLOGIA","BANCO DE LA NACION","741-041049",2001,"S/.",2780624.56,3070972.96]
[null,null,"401 INST. REG. DE OFTALMOLOGIA","MEF","741-082322(18)",2016,"S/.","0","0"]
[null,"3.- RECURSOS OPERACIONES"]
[null,"       OFICIALES DE CRED. EXTERNO"]
[]
[null,"4. DONACIONES Y TRANSFERENCIAS","401 INST. REG. DE OFTALMOLOGIA","BANCO DE LA NACION","741-042770",2003,"S/.",681.82,621.82000000000005]
[null,null,"401 INST. REG. DE OFTALMOLOGIA","BANCO DE LA NACION","741-045826",2003,"S/.","0","0"]
[null,null,"401 INST. REG. DE OFTALMOLOGIA","BANCO DE LA NACION","741-076608",2005,"S/.",12.78,12.78]
[null,null,"401 INST. REG. DE OFTALMOLOGIA","BANCO DE LA NACION","741-016692",2009,"S/."]
[null,null,"401 INST. REG. DE OFTALMOLOGIA","MEF","741-082322(18)",2017,"S/.","0","0"]
[null,"5. RECURSOS DETERMINADOS"]
[]
[null,"    - CANON  Y  SOBRECANON, REGALIAS"]
[null,"       Y PARTICIPACIONES"]
[null,"    - CONTRIBUCIONES A FONDOS"]
[null,"    - FONDO DE COMPENCIÓN MUNICIPAL"]
[null,"    - IMPUESTOS MUNICIPALES"]
[null,"    - OTROS (ESPECIFIQUE)"]
[null,"                     RETENCION  10% LEY 28015","401 INST. REG. DE OFTALMOLOGIA","BANCO DE LA NACION","741-389509",2014,"S/.",171200.59,204004.08]
[null,"TOTAL",null,null,null,null,null,{"$f":"SUM(H587:H612)","v":3093091.5299999993},{"$f":"SUM(I587:I612)","v":3446528.9499999997}]
[]
[null,"UNIDAD EJECUTORA: 402 SALUD NORTE ASCOPE"]
[null,"ESPECIFICACIONES RECURSOS PUBLICOS","UNIDAD EJECUTORA","CUENTAS BANCARIAS"]
[null,null,null,"BANCO / INSTITUCIÓN FINANCIERA","CUENTA","FECHA DE APERTURA","MONEDA","SALDO 2018 (*)","SALDO 2019 (**)"]
[]
[null,"1. RECURSOS ORDINARIOS",847,null,"0741-082330","2006","SOLES"]
[]
[null,"2. RECURSOS DIRECTAM. RECAUD.","847","BANCO DE LA NACION ","0741-040921","2001","SOLES",352043.5,88196.27]
[null,null,"847","BANCO DE LA NACION ","0741-041014","2001","SOLES",5729567.7999999998,5534925.25]
[null,"3.- RECURSOS OPERACIONES"]
[null,"       OFICIALES DE CRED. EXTERNO"]
[]
[null,"4. DONACIONES Y TRANSFERENCIAS","847","BANCO DE LA NACION ","0741-045834","2003","SOLES",3056.75,3056.75]
[null,null,"847","BANCO DE LA NACION ","0741-076586","2005","SOLES",2144.06,2144.06]
[null,"5. RECURSOS DETERMINADOS"]
[]
[null,"    - CANON  Y  SOBRECANON, REGALIAS","847","BANCO DE LA NACION ","0741-082330","2018","SOLES",10000,9964.4]
[null,"       Y PARTICIPACIONES"]
[null,"    - CONTRIBUCIONES A FONDOS"]
[null,"    - FONDO DE COMPENCIÓN MUNICIPAL"]
[null,"    - IMPUESTOS MUNICIPALES"]
[null,"    - OTROS (ESPECIFIQUE)"]
[]
[null,"TOTAL",null,null,null,null,null,{"$f":"SUM(H619:H636)","v":6096812.1099999994},{"$f":"SUM(I619:I636)","v":5638286.7299999995}]
[]
[null,"UNIDAD EJECUTORA: 403 SALUD TRUJILLO SUR OESTE"]
[null,"ESPECIFICACIONES RECURSOS PUBLICOS","UNIDAD EJECUTORA","CUENTAS BANCARIAS"]
[null,null,null,"BANCO / INSTITUCIÓN FINANCIERA","CUENTA","FECHA DE APERTURA","MONEDA","SALDO 2018 (*)","SALDO 2019 (**)"]
[]
[null,"1. RECURSOS ORDINARIOS",848,"BANCO DE LA NACION","0741-082349","2013-01-06","SOLES",0,0]
[]
[null,"2. RECURSOS DIRECTAM. RECAUD.",848,"BANCO DE LA NACION","0741-040948","2001-09-23","SOLES",38913.730000000003,161468.18]
[null,null,848,"BANCO DE LA NACION","0741-046970","2003-06-11","SOLES",832132.64,995035.17]
[]
[null,"3.- RECURSOS OPERACIONES"]
[null,"       OFICIALES DE CRED. EXTERNO","NO APLICA","NO APLICA","NO APLICA","NO APLICA","NO APLICA","NO APLICA","NO APLICA"]
[]
[null,"4. DONACIONES Y TRANSFERENCIAS",848,"BANCO DE LA NACION","0741-045842","2002-05-02","SOLES",24139.14,24363.14]
[]
[null,"5. RECURSOS DETERMINADOS"]
[]
[null,"    - CANON  Y  SOBRECANON, REGALIAS",848,"BANCO DE LA NACION","0741-082349","2015-08-11","SOLES",46371.199999999997,36676.99]
[null,"       Y PARTICIPACIONES"]
[null,"    - CUENTA UNICA DE TESORO",848,"BANCO DE LA NACION","0741-082349","2015-08-11","SOLES",1062148.3500000001,1410207.64]
[null,"    - CONTRIBUCIONES A FONDOS"]
[null,"    - FONDO DE COMPENCIÓN MUNICIPAL"]
[null,"    - IMPUESTOS MUNICIPALES"]
[null,"    - TRANSFERENCIAS",848,"BANCO DE LA NACION","0741-082349","2017-03-01","SOLES",4454693.33,5835883.7199999997]
[null,"    - OTROS (ESPECIFIQUE)"]
[]
[null,"TOTAL"]
[]
[null,"UNIDAD EJECUTORA: 404 SALUD  CHEPEN"]
[null,"ESPECIFICACIONES RECURSOS PUBLICOS","UNIDAD EJECUTORA","CUENTAS BANCARIAS"]
[null,null,null,"BANCO / INSTITUCIÓN FINANCIERA","CUENTA","FECHA DE APERTURA","MONEDA","SALDO 2018 (*)","SALDO 2019 (**)"]
[]
[null,"1. RECURSOS ORDINARIOS",null,null,null,null,null,0,0]
[]
[null,"2. RECURSOS DIRECTAM. RECAUD.","404 SALUD CHEPEN","Banco de la Nación","0812-017632","Año 2001","Soles",9.59,9.59]
[null,null,null,"Cuenta CUT - Banco de la Nación","0812-017861","Año 2013","Soles",534565.22,737254.47]
[null,"3.- RECURSOS OPERACIONES"]
[null,"       OFICIALES DE CRED. EXTERNO"]
[]
[null,null,"404 SALUD CHEPEN","Banco de la Nación","0812-008951","Año 2003","Soles",135.61000000000001,135.61000000000001]
[null,"4. DONACIONES Y TRANSFERENCIAS",null,"Cuenta CUT - Banco de la Nación","0812-017861","Año 2013","Soles",669924,958164.74]
[]
[null,"5. RECURSOS DETERMINADOS"]
[null,null,null,"Banco de la Nación",null,null,null,0,0]
[null,"    - CANON  Y  SOBRECANON, REGALIAS","404 SALUD CHEPEN","Cuenta CUT - Banco de la Nación","0812-017861","Año 2017","Soles",150676.45000000001,28166.75]
[null,"       Y PARTICIPACIONES"]
[null,"    - CONTRIBUCIONES A FONDOS"]
[null,"    - FONDO DE COMPENCIÓN MUNICIPAL"]
[null,"    - IMPUESTOS MUNICIPALES"]
[null,"    - OTROS (ESPECIFIQUE)","404 SALUD CHEPEN","Banco de la Nación","0812-017527","Año 2001","Soles",107965.83,107965.83]
[null,null,null,"Cuenta de Medicinas- SISMED"]
[null,"TOTAL",null,"Saldos en Cuentas Corrientes trasladados a la  CUT en el mes de Julio 2019",null,null,null,{"$f":"SUM(H672+H677+H687)","v":108111.03},{"$f":"SUM(I672+I677+I687)","v":108111.03}]
[null,"(*) Saldo al 31 de Diciembre de 2018"]
[null,"(**) Saldo al 30 de Junio de 2019"]
[null,"UNIDAD EJECUTORA: 405 SALUD  PACASMAYO"]
[null,"ESPECIFICACIONES RECURSOS PUBLICOS","UNIDAD EJECUTORA","CUENTAS BANCARIAS"]
[null,null,null,"BANCO / INSTITUCIÓN FINANCIERA","CUENTA","FECHA DE APERTURA","MONEDA","SALDO 2018 (*)","SALDO 2019 (**)"]
[]
[null,"1. RECURSOS ORDINARIOS","405 SALUD PACASMAYO","BANCO DE LA NACION ","0811-017744",2013,"SOLES"]
[]
[null,"2. RECURSOS DIRECTAM. RECAUD."]
[null,null,"405 SALUD PACASMAYO","BANCO DE LA NACION ","0811-017744","2013","soles",148190.68,306264.33]
[]
[null,"3.- RECURSOS OPERACIONES"]
[null,"       OFICIALES DE CRED. EXTERNO"]
[null,null,"405 SALUD PACASMAYO",{"$f":"+D699","v":"BANCO DE LA NACION "},"0811-017744","2017","soles",275766.45,522393]
[null,"4. DONACIONES Y TRANSFERENCIAS"]
[]
[null,null,"405 SALUD PACASMAYO",{"$f":"+D703","v":"BANCO DE LA NACION "},"0811-017744","2015","soles",79353.789999999994,7118.64]
[null,"5. RECURSOS DETERMINADOS"]
[]
[null,"    - CANON  Y  SOBRECANON, REGALIAS"]
[null,"       Y PARTICIPACIONES"]
[null,"    - CONTRIBUCIONES A FONDOS"]
[null,"    - FONDO DE COMPENCIÓN MUNICIPAL"]
[null,"    - IMPUESTOS MUNICIPALES"]
[null,"    - OTROS (ESPECIFIQUE)"]
[]
[null,"TOTAL",null,null,null,null,null,{"$f":"SUM(H696:H715)","v":503310.92},{"$f":"SUM(I696:I715)","v":835775.97000000009}]
[]
[null,"UNIDAD EJECUTORA: 406 SALUD  SANCHEZ CARRION"]
[null,"ESPECIFICACIONES RECURSOS PUBLICOS","UNIDAD EJECUTORA","CUENTAS BANCARIAS"]
[null,null,null,"BANCO / INSTITUCIÓN FINANCIERA","CUENTA","FECHA DE APERTURA","MONEDA","SALDO 2018 (*)","SALDO 2019 (**)"]
[]
[null,"1. RECURSOS ORDINARIOS","406 SALUD SANCHEZ CARRION","BANCO DE LA NACION","801 019730","2006-01-02","SOLES",0,0]
[]
[null,"2. RECURSOS DIRECTAM. RECAUD. CAJA","406 SALUD SANCHEZ CARRION","BANCO DE LA NACION","801 018866","2001-09-22","SOLES",38269.980000000003,13743.48]
[null,"    RECURSOS DIRECTAM  RECAUD (MEDIC.)","406 SALUD SANCHEZ CARRION","BANCO DE LA NACION","801 018874","2001-10-13","SOLES",27366.78,8711.8700000000008]
[null,"    RECURSOS DIRECTAM  RECAUD CUT","406 SALUD SANCHEZ CARRION","BANCO DE LA NACION","801 019730","2013-07-01","SOLES",26735.23,120671.41]
[]
[null,"3.- RECURSOS OPERACIONES"]
[null,"       OFICIALES DE CRED. EXTERNO"]
[]
[null,"4. DONACIONES Y TRANSFERENCIAS","406 SALUD SANCHEZ CARRION","BANCO DE LA NACION","801 019730","2017-04-30","SOLES",669788.98,2752634.06]
[null,null,null,null,"T.R. 13"]
[null,"5. RECURSOS DETERMINADOS"]
[]
[null,"    - CANON  Y  SOBRECANON, REGALIAS"]
[null,"       Y PARTICIPACIONES","406 SALUD SANCHEZ CARRION","BANCO DE LA NACION","801 019730","2015-08-17","SOLES",281356.37,67333.83]
[null,"    - CONTRIBUCIONES A FONDOS",null,null,"T.R. 18"]
[null,"    - FONDO DE COMPENCIÓN MUNICIPAL"]
[null,"    - IMPUESTOS MUNICIPALES"]
[null,"    - OTROS (ESPECIFIQUE)"]
[]
[null,"TOTAL",null,null,null,null,null,{"$f":"SUM(H722:H741)","v":1043517.34},{"$f":"SUM(I722:I741)","v":2963094.6500000004}]
[]
[null,"UNIDAD EJECUTORA: 407 SALUD  SANTIAGO DE CHUCO"]
[null,"ESPECIFICACIONES RECURSOS PUBLICOS","UNIDAD EJECUTORA","CUENTAS BANCARIAS"]
[null,null,null,"BANCO / INSTITUCIÓN FINANCIERA","CUENTA","FECHA DE APERTURA","MONEDA","SALDO 2018 (*)","SALDO 2019 (**)"]
[]
[null,"1. RECURSOS ORDINARIOS (CUT)","407 SALUD SANTIAGO DE CHUCO","BANCO DE LA NACION",801019749,null,"SOLES",0,0]
[]
[null,"2.1 RECURSOS DIRECTAM. RECAUD. (CUT)","407 SALUD SANTIAGO DE CHUCO","BANCO DE LA NACION",801019749,"01-03-2013","SOLES",47041.32,105431.61]
[null,"2.2 RECURSOS DIRECTAMENTE RECAUDADOS (SERVICIOS)","407 SALUD SANTIAGO DE CHUCO","BANCO DE LA NACION",801004156,"04-10-2001","SOLES",996.32,996.32]
[null,"2.3 RECURSOS DIRECTAMENTE RECAUDADOS (MEDICINA)","407 SALUD SANTIAGO DE CHUCO","BANCO DE LA NACION",801018769,"26-10-2001","SOLES",1.1000000000000001,1.1000000000000001]
[]
[null,"3.- RECURSOS OPERACIONES"]
[null,"       OFICIALES DE CRED. EXTERNO"]
[]
[null,"4. DONACIONES Y TRANSFERENCIAS","407 SALUD SANTIAGO DE CHUCO","BANCO DE LA NACION",801019749,"15-02-2017","SOLES",77935.05,371913.03]
[]
[]
[]
[null,"5. RECURSOS DETERMINADOS"]
[]
[null,"    - CANON  Y  SOBRECANON, REGALIAS"]
[null,"       Y PARTICIPACIONES (CUT)","407 SALUD SANTIAGO DE CHUCO","BANCO DE LA NACION",801019749,"30-04-2015","SOLES",192007.54,167358.66]
[null,"    - CONTRIBUCIONES A FONDOS"]
[null,"    - FONDO DE COMPENCIÓN MUNICIPAL"]
[null,"    - IMPUESTOS MUNICIPALES"]
[null,"    - OTROS (ESPECIFIQUE)"]
[]
[null,"TOTAL",null,null,null,null,null,{"$f":"SUM(H748:H769)","v":317981.33},{"$f":"SUM(I748:I769)","v":645700.72000000009}]
[]
[null,"UNIDAD EJECUTORA: 408 SALUD  OTUZCO"]
[null,"ESPECIFICACIONES RECURSOS PUBLICOS","UNIDAD EJECUTORA","CUENTAS BANCARIAS"]
[null,null,null,"BANCO / INSTITUCIÓN FINANCIERA","CUENTA","FECHA DE APERTURA","MONEDA","SALDO 2018 (*)","SALDO 2019 (**)"]
[]
[null,"1. RECURSOS ORDINARIOS","408 SALUD OTUZCO","BANCO DE LA NACION","0741-082373",2006,"soles",0,0]
[null,"RDR CUT","408 SALUD OTUZCO","BANCO DE LA NACION","0741-082373",2013,"soles",210129.6,159813.57999999999]
[null,"SIS CUT","408 SALUD OTUZCO","BANCO DE LA NACION","0741-082373",2017,"soles",457241.38,1953725.05]
[null,"2. RECURSOS DIRECTAM. RECAUD.","408 SALUD OTUZCO","BANCO DE LA NACION","0741-041057",2001,"soles",22585.34,6786.64]
[null,"Fondo Rotatorio","408 SALUD OTUZCO","BANCO DE LA NACION","0741-041065",2001,"soles",39934.239999999998,45846.06]
[]
[]
[null,"3.- RECURSOS OPERACIONES"]
[null,"       OFICIALES DE CRED. EXTERNO"]
[]
[null,"4. DONACIONES Y TRANSFERENCIAS","408 SALUD OTUZCO","BANCO DE LA NACION","0741-045850",2003,"soles",119009.12,76010.850000000006]
[]
[]
[]
[]
[]
[null,"5. RECURSOS DETERMINADOS"]
[]
[null,"    - CANON  Y  SOBRECANON, REGALIAS","408 SALUD OTUZCO","BANCO DE LA NACION","0741-082373",2015,"soles",343789.2,112862.19]
[null,"       Y PARTICIPACIONES"]
[null,"    - CONTRIBUCIONES A FONDOS"]
[null,"    - FONDO DE COMPENCIÓN MUNICIPAL"]
[null,"    - IMPUESTOS MUNICIPALES"]
[null,"    - OTROS (ESPECIFIQUE)"]
[]
[null,"TOTAL",null,null,null,null,null,{"$f":"SUM(H776:H800)","v":1192688.8799999999},{"$f":"SUM(I776:I800)","v":2355044.37}]
[null,"(*) Saldo al 31 de Diciembre de 2018"]
[null,"(**) Saldo al 30 de Junio de 2019"]
[null,"UNIDAD EJECUTORA: 409 SALUD  TRUJILLO ESTE"]
[null,"ESPECIFICACIONES RECURSOS PUBLICOS","UNIDAD EJECUTORA","CUENTAS BANCARIAS"]
[null,null,null,"BANCO / INSTITUCIÓN FINANCIERA","CUENTA","FECHA DE APERTURA","MONEDA","SALDO 2018 (*)","SALDO 2019 (**)"]
[]
[null,"1. RECURSOS ORDINARIOS","409 SALUD TRUJILLO ESTE","BANCO NACION","0741-082381",2006,"SOLES"]
[]
[null,"2. RECURSOS DIRECTAM. RECAUD.","409 SALUD TRUJILLO ESTE","BANCO NACION","0741-040956","2001","SOLES",228697.43,251124.84]
[]
[null,"3.- RECURSOS OPERACIONES"]
[null,"       OFICIALES DE CRED. EXTERNO"]
[]
[null,"4. DONACIONES Y TRANSFERENCIAS","409 SALUD TRUJILLO ESTE","BANCO NACION","0741-045869","2003","SOLES",142052.60999999999,142318.81]
[]
[null,"5. RECURSOS DETERMINADOS"]
[]
[null,"    - CANON  Y  SOBRECANON, REGALIAS","409 SALUD TRUJILLO ESTE","BANCO NACION","0741-082381","2015","SOLES",305218.33,217604.54]
[null,"       Y PARTICIPACIONES"]
[null,"    - CONTRIBUCIONES A FONDOS"]
[null,"    - FONDO DE COMPENCIÓN MUNICIPAL"]
[null,"    - IMPUESTOS MUNICIPALES"]
[null,"    - OTROS (ESPECIFIQUE)"]
[]
[null,"TOTAL",null,null,null,null,null,{"$f":"SUM(H808:H825)","v":675968.37},{"$f":"SUM(I808:I825)","v":611048.19000000006}]
[]
[null,"UNIDAD EJECUTORA: 410 INSTITUTO REGIONAL DE ENFERMEDADES NEOPLASICAS"]
[null,"ESPECIFICACIONES RECURSOS PUBLICOS","UNIDAD EJECUTORA","CUENTAS BANCARIAS"]
[null,null,null,"BANCO / INSTITUCIÓN FINANCIERA","CUENTA","FECHA DE APERTURA","MONEDA","SALDO 2018 (*)","SALDO 2019 (**)"]
[]
[null,"1. RECURSOS ORDINARIOS","410 INSTITUTO REGIONAL DE ENFERMEDADES NEOPLASICAS","BANCO DE LA NACION","741-143909","AÑO 2008","SOLES",0]
[]
[null,"2. RECURSOS DIRECTAM. RECAUD.","410 INSTITUTO REGIONAL DE ENFERMEDADES NEOPLASICAS","BANCO DE LA NACION","741-144328","AÑO 2008","SOLES",199851.04,195900.59]
[null,null,"410 INSTITUTO REGIONAL DE ENFERMEDADES NEOPLASICAS","BANCO DE LA NACION","741-148641","AÑO 2008","SOLES",127000.19,114402.26]
[null,null,"410 INSTITUTO REGIONAL DE ENFERMEDADES NEOPLASICAS","BANCO DE LA NACION","741-394014","AÑO 2015","SOLES",18497.43,26746.92]
[null,null,"410 INSTITUTO REGIONAL DE ENFERMEDADES NEOPLASICAS","BANCO DE LA NACION","741-417944","AÑO 2015","SOLES",8987.4,40714.959999999999]
[null,null,"410 INSTITUTO REGIONAL DE ENFERMEDADES NEOPLASICAS","BANCO DE LA NACION","741-417944","AÑO 2018","SOLES",28788.34,48320.49]
[]
[]
[null,"3.- RECURSOS OPERACIONES"]
[null,"       OFICIALES DE CRED. EXTERNO"]
[]
[null,"4. DONACIONES Y TRANSFERENCIAS","410 INSTITUTO REGIONAL DE ENFERMEDADES NEOPLASICAS","BANCO DE LA NACION","741-219298","AÑO 2011","SOLES",7300.78,7300.78]
[null,null,"410 INSTITUTO REGIONAL DE ENFERMEDADES NEOPLASICAS","BANCO DE LA NACION","741-219875","AÑO 2011","SOLES",683.83,683.83]
[]
[null,"5. RECURSOS DETERMINADOS"]
[]
[null,"    - CANON  Y  SOBRECANON, REGALIAS"]
[null,"       Y PARTICIPACIONES"]
[null,"    - CONTRIBUCIONES A FONDOS"]
[null,"    - FONDO DE COMPENCIÓN MUNICIPAL"]
[null,"    - IMPUESTOS MUNICIPALES"]
[null,"    - OTROS (ESPECIFIQUE)"]
[]
[null,"TOTAL",null,null,null,null,null,{"$f":"SUM(H832:H855)","v":391109.01000000007},{"$f":"SUM(I832:I855)","v":434069.83}]
[]
[null,"UNIDAD EJECUTORA: 411 SALUD JULCAN"]
[null,"ESPECIFICACIONES RECURSOS PUBLICOS","UNIDAD EJECUTORA","CUENTAS BANCARIAS"]
[null,null,null,"BANCO / INSTITUCIÓN FINANCIERA","CUENTA","FECHA DE APERTURA","MONEDA","SALDO 2018 (*)","SALDO 2019 (**)"]
[]
[null,"1. RECURSOS ORDINARIOS","411 SALUD JULCAN","BANCO DE LA NACION","758-000826","30.06.2015","SOLES"]
[]
[null,"2. RECURSOS DIRECTAM. RECAUD.","411 SALUD JULCAN","BANCO DE LA NACION","758-000834","02.03.2016","SOLES",11793.7,12898.7]
[]
[null,"3.- RECURSOS OPERACIONES"]
[null,"       OFICIALES DE CRED. EXTERNO"]
[]
[null,"4. DONACIONES Y TRANSFERENCIAS","411 SALUD JULCAN","BANCO DE LA NACION","758-000826-CUT","30.06.2015","SOLES"]
[null,null,"411 SALUD JULCAN","BANCO DE LA NACION","758-000869","30.06.2015","SOLES",5073.5200000000004,5073.5200000000004]
[]
[null,"5. RECURSOS DETERMINADOS"]
[]
[null,"    - CANON  Y  SOBRECANON, REGALIAS","411 SALUD JULCAN","BANCO DE LA NACION","758-000826-CUT","30.06.2015","SOLES"]
[null,"       Y PARTICIPACIONES"]
[null,"    - CONTRIBUCIONES A FONDOS"]
[null,"    - FONDO DE COMPENCIÓN MUNICIPAL"]
[null,"    - IMPUESTOS MUNICIPALES"]
[null,"    - OTROS (ESPECIFIQUE)"]
[]
[null,"TOTAL",null,null,null,null,null,{"$f":"SUM(H862:H880)","v":16867.22},{"$f":"SUM(I862:I880)","v":17972.22}]
[]
[null,"UNIDAD EJECUTORA: 412 SALUD VIRU"]
[null,"ESPECIFICACIONES RECURSOS PUBLICOS","UNIDAD EJECUTORA","CUENTAS BANCARIAS"]
[null,null,null,"BANCO / INSTITUCIÓN FINANCIERA","CUENTA","FECHA DE APERTURA","MONEDA","SALDO 2018 (*)","SALDO 2019 (**)"]
[]
[null,"1. RECURSOS ORDINARIOS","412 SALUD VIRU","BANCO DE LA NACION ","00756-007327",42143,"SOLES"]
[]
[null,"2. RECURSOS DIRECTAM. RECAUD.","412 SALUD VIRU","BANCO DE LA NACION ","00756-007319","19/05/2015","SOLES",48408.06,64207.3]
[]
[null,"3.- RECURSOS OPERACIONES"]
[null,"       OFICIALES DE CRED. EXTERNO"]
[]
[null,"4. DONACIONES Y TRANSFERENCIAS","412 SALUD VIRU","BANCO DE LA NACION ","00756-007440","10/09/2015","SOLES",{"$f":"476.6+448034.74","v":448511.33999999997},{"$f":"476.6+499831.5","v":500308.1}]
[]
[null,"5. RECURSOS DETERMINADOS","412 SALUD VIRU","BANCO DE LA NACION ",null,"09/12/2015","SOLES",158519.51,11641.27]
[]
[null,"    - CANON  Y  SOBRECANON, REGALIAS"]
[null,"       Y PARTICIPACIONES"]
[null,"    - CONTRIBUCIONES A FONDOS"]
[null,"    - FONDO DE COMPENCIÓN MUNICIPAL"]
[null,"    - IMPUESTOS MUNICIPALES"]
[null,"    - OTROS (ESPECIFIQUE)"]
[]
[null,"TOTAL",null,null,null,null,null,{"$f":"SUM(H886:H904)","v":655438.90999999992},{"$f":"SUM(I886:I904)","v":576156.67000000004}]
[null,"(*) Saldo al 31 de Diciembre de 2018"]
[null,"(**) Saldo al 30 de Junio de 2019"]
[null,"UNIDAD EJECUTORA: 413 SALUD ASCOPE"]
[null,"ESPECIFICACIONES RECURSOS PUBLICOS","UNIDAD EJECUTORA","CUENTAS BANCARIAS"]
[null,null,null,"BANCO / INSTITUCIÓN FINANCIERA","CUENTA","FECHA DE APERTURA","MONEDA","SALDO 2018 (*)","SALDO 2019 (**)"]
[]
[null,"1. RECURSOS ORDINARIOS","413 SALUD ASCOPE","BANCO DE LA NACION","0742-000516",2015,"SOLES",0,0]
[null,"RDR CUT","413 SALUD ASCOPE","BANCO DE LA NACION","0742-000516",2015,"SOLES",39136.35,30013.49]
[null,"SIS CUT","413 SALUD ASCOPE","BANCO DE LA NACION","0742-000516",2015,"SOLES",13936.38,13936.38]
[]
[null,"2. RECURSOS DIRECTAM. RECAUD.","413 SALUD ASCOPE","BANCO DE LA NACION","0742-000524",2015,"SOLES",25075.48,25761.78]
[null,"Fondo Rotatorio","413 SALUD ASCOPE","BANCO DE LA NACION","0741-040980",2001,"SOLES",362280.98,205622.31]
[]
[null,"3.- RECURSOS OPERACIONES"]
[null,"       OFICIALES DE CRED. EXTERNO"]
[]
[null,"4. DONACIONES Y TRANSFERENCIAS","413 SALUD ASCOPE","BANCO DE LA NACION","0742-000567",2015,"SOLES",474322.41,1237862.24]
[]
[null,"5. RECURSOS DETERMINADOS"]
[]
[null,"    - CANON  Y  SOBRECANON, REGALIAS","413 SALUD ASCOPE","BANCO DE LA NACION","0742-000516",2015,"SOLES","          76,714..82",50375.47]
[null,"       Y PARTICIPACIONES"]
[null,"    - CONTRIBUCIONES A FONDOS"]
[null,"    - FONDO DE COMPENCIÓN MUNICIPAL"]
[null,"    - IMPUESTOS MUNICIPALES"]
[null,"    - OTROS (ESPECIFIQUE)"]
[]
[null,"TOTAL"]
[null,"(*) Saldo al 31 de Diciembre de 2018"]
[null,"(**) Saldo al 30 de Junio de 2019"]
[null,"UNIDAD EJECUTORA: 414 SALUD GRAN CHIMU"]
[null,"ESPECIFICACIONES RECURSOS PUBLICOS","UNIDAD EJECUTORA","CUENTAS BANCARIAS"]
[null,null,null,"BANCO / INSTITUCIÓN FINANCIERA","CUENTA","FECHA DE APERTURA","MONEDA","SALDO 2018 (*)","SALDO 2019 (**)"]
[]
[null,"1. RECURSOS ORDINARIOS","414 SALUD GRAN CHIMU","BANCO DE LA NACIÓN","00741425939- RO     ",2015,"SOLES"]
[]
[null,"2. RECURSOS DIRECTAM. RECAUD.","414 SALUD GRAN CHIMU","BANCO DE LA NACIÓN","00741425939-RDR-CUT      ",2015,"SOLES",6648.95,3839.4]
[]
[null,"3.- RECURSOS OPERACIONES"]
[null,"       OFICIALES DE CRED. EXTERNO"]
[]
[null,"4. DONACIONES Y TRANSFERENCIAS","414 SALUD GRAN CHIMU","BANCO DE LA NACIÓN","00741425939-DT-CUT- SIS       ",2017,"SOLES",8.36,182578.42]
[]
[null,"5. RECURSOS DETERMINADOS"]
[]
[null,"    - CANON  Y  SOBRECANON, REGALIAS","414 SALUD GRAN CHIMU","BANCO DE LA NACIÓN","00741425939-RD-CANON-FED-CUT  ",2015,"SOLES",13879.86,13879.86]
[null,"       Y PARTICIPACIONES"]
[null,"    - CONTRIBUCIONES A FONDOS"]
[null,"    - FONDO DE COMPENCIÓN MUNICIPAL"]
[null,"    - IMPUESTOS MUNICIPALES"]
[null,"    - OTROS (ESPECIFIQUE)"]
[]
[null,"TOTAL",null,null,null,null,null,{"$f":"SUM(H940:H952)","v":20537.169999999998},{"$f":"SUM(I940:I952)","v":200297.68}]
[null,"(*) Saldo al 31 de Diciembre de 2018"]
[null,"(**) Saldo al 30 de Junio de 2019"]

{"sheet":"F.17","index":19,"n_rows":5182,"n_cols":17,"rows_kept":5182,"cut":false,"hidden":false,"merged":[[1,1,1,16],[2,1,2,16],[3,1,3,16],[2278,1,2278,4],[7,1,7,5],[7,6,7,10],[7,11,7,13],[7,14,7,16],[739,1,739,4],[739,6,739,10]]}
[]
[null,"FORMATO 17"]
[null,"INGRESOS MENSUALES DEL PERSONAL CONTRATADO FUERA DEL PRESUPUESTO ANALITICO DE PERSONAL (PAP) EN LOS AÑOS FISCALES 2018 Y 2019"]
[null,"PROYECTO DE PRESUPUESTO - 2020"]
[null,"SECTOR : 99 GOBIERNOS REGIONALES"]
[null,"PLIEGO  : 451 GOBIERNO REGIONAL LA LIBERTAD"]
[]
[null,"CONTRATANTE",null,null,null,null,"CONTRATADO",null,null,null,null,"AÑO FISCAL 2018",null,null,"AÑO FISCAL 2019 (*)"]
[null,"Unidad Ejecutora","Fuente de Financiaamiento ","Tipo de Contrato","Función Desempeñada","Contraprestación Mensual ","DNI","Apellidos y Nombres","Profesión","Grado Academico","Titulo Profesióonal, Técncio o Capacitación Ocupacional","Numero de contratos o renovaciones","Meses Ejecutados","Monto Ejecutado","Numero de contratos o renovaciones","Meses Ejecutados","Monto Ejecutado"]
[null,"001 SEDE CENTRAL","RO","CAS","Funcionarios y Directivos",14000,"18093421","GALLARDO ULLOA JOSE CARLOS MARTIN","ARQUITECTO","SUPERIOR","PROFESIONAL",0,0,0,6,6,83066.67]
[null,"001 SEDE CENTRAL","RO","CAS","Funcionarios y Directivos",13000,"18156142","AGUILAR CRUZ GENARO ALFREDO","DOCTOR EN ADMINISTRACION","SUPERIOR","PROFESIONAL",0,0,0,6,6,77133.34]
[null,"001 SEDE CENTRAL","RO","CAS","Funcionarios y Directivos",13000,"42166079","AZABACHE ALVARADO EDUARDO JOSE","INGENIERO INDUSTRIAL Y DE SISTEMAS","SUPERIOR","PROFESIONAL",0,0,0,4,4,54000]
[null,"001 SEDE CENTRAL","RO","CAS","Funcionarios y Directivos",12500,"18115815","LEON HUERTAS WILLIAM RAPHAEL","ABOGADO","SUPERIOR","PROFESIONAL",0,0,0,6,6,75000]
[null,"001 SEDE CENTRAL","RO","CAS","Funcionarios y Directivos",12000,"18168581","HURTADO CASTRO MARITZA ELSA","ARQUITECTO","SUPERIOR","PROFESIONAL",1,1,3600,1,1,7000]
[null,"001 SEDE CENTRAL","RO","CAS","Funcionarios y Directivos",12000,"40287078","TORRES SARAVIA JESUS ALBERTO","ABOGADO ","SUPERIOR","PROFESIONAL",11,11,140600,0,0,0]
[null,"001 SEDE CENTRAL","RO","CAS","Funcionarios y Directivos",10000,"27929954","MENDOZA ARROYO NESTOR MANFREDO","INGENIERO AGRONOMO","SUPERIOR","PROFESIONAL",0,0,0,3,3,21333.33]
[null,"001 SEDE CENTRAL","RO","CAS","Funcionarios y Directivos",10000,"17837486","RAMOS BARÒN WALTER ARTURO","MAGISTER EN GESTION PUBLICA","SUPERIOR","PROFESIONAL",1,1,3000,0,0,0]
[null,"001 SEDE CENTRAL","RO","CAS","Funcionarios y Directivos",9000,"18173140","AGREDA VEREAU CECILIA LORENA","LICENCIADA EN ADMINISTRACION ","SUPERIOR","PROFESIONAL",0,0,0,1,1,9000]
[null,"001 SEDE CENTRAL","RO","CAS","Funcionarios y Directivos",9000,"19031650","SOTO DEZA JULIA MARLENY","ECONOMISTA","SUPERIOR","PROFESIONAL",0,0,0,1,1,9000]
[null,"001 SEDE CENTRAL","RO","CAS","Funcionarios y Directivos",8000,"18024896","CAMPAÑA SILVA FELIX ANTENOR","CONTADOR PUBLICO","SUPERIOR","PROFESIONAL",0,0,0,6,6,48800]
[null,"001 SEDE CENTRAL","RO","CAS","Funcionarios y Directivos",8000,"18898012","SANDOVAL POZO RICARDO ROGER","INGENIERO DE SISTEMAS ","SUPERIOR","PROFESIONAL",12,12,96600,1,1,533.33000000000004]
[null,"001 SEDE CENTRAL","RO","CAS","Funcionarios y Directivos",8000,"18073912","TORRES MOSQUEIRA CARLOS RAFAEL","SUPERIOR","SUPERIOR","PROFESIONAL",0,0,0,1,1,8000]
[null,"001 SEDE CENTRAL","RO","CAS","Funcionarios y Directivos",8000,"26717566","ARROYO MESTANZA RAUL ERNESTO","ABOGADO","SUPERIOR","PROFESIONAL",0,0,0,5,5,38133.33]
[null,"001 SEDE CENTRAL","RO","CAS","Funcionarios y Directivos",8000,"42653368","CAMPAÑA ALEMAN CESAR RICARDO","LICENCIADO EN ADMINISTRACION Y CIENCIAS POLICIALES ","SUPERIOR","PROFESIONAL",12,12,96600,6,6,48000]
[null,"001 SEDE CENTRAL","RO","CAS","Funcionarios y Directivos",8000,"81723869","MARQUEZ CALDERERO DAVID","SOCIOLOGO","SUPERIOR","PROFESIONAL",0,0,0,6,6,48000]
[null,"001 SEDE CENTRAL","RO","CAS","Funcionarios y Directivos",8000,"17875429","POLO CAMPOS ANGEL FRANCISCO","ECONOMISTA","SUPERIOR","PROFESIONAL",12,12,96600,6,6,48000]
[null,"001 SEDE CENTRAL","RO","CAS","Funcionarios y Directivos",7000,"44073109","DEXTRE PIMENTEL JORGE ENRIQUE","INGENIERO INDUSTRIAL","SUPERIOR","PROFESIONAL",12,12,84600,6,6,42000]
[null,"001 SEDE CENTRAL","RO","CAS","Funcionarios y Directivos",7000,"26614513","NARRO TISNADO FRANCISCO ADALBERTO","INGENIERO CIVIL","SUPERIOR","PROFESIONAL",9,9,64533.33,6,6,42000]
[null,"001 SEDE CENTRAL","RO","CAS","Funcionarios y Directivos",7000,"02897493","CHUNGA MONTERO CARLOS ENRIQUE","INGENIERO DE SISTEMAS","SUPERIOR","PROFESIONAL",12,12,84600,6,6,42000]
[null,"001 SEDE CENTRAL","RO","CAS","Funcionarios y Directivos",7000,"40210399","FIGUEROA VALDEZ HAIDY JANETTE","PSICOLOGA","SUPERIOR","PROFESIONAL",12,12,76000,6,6,42000]
[null,"001 SEDE CENTRAL","RO","CAS","Funcionarios y Directivos",7000,"42810440","RUIZ DIAZ LUIS ROGGER","INGENIERO INDUSTRIAL","SUPERIOR","PROFESIONAL",0,0,0,5,5,35000]
[null,"001 SEDE CENTRAL","RO","CAS","Funcionarios y Directivos",6400,"18176226","REYES CRESPO FRANCK HUMBERTO","INGENIERO CIVIL","SUPERIOR","PROFESIONAL",0,0,0,1,1,6400]
[null,"001 SEDE CENTRAL","RO","CAS","Funcionarios y Directivos",6400,"18111281","FLORIAN RODRIGUEZ MIGUEL ENRIQUE","INGENIERO CIVIL","SUPERIOR","PROFESIONAL",0,0,0,1,1,6400]
[null,"001 SEDE CENTRAL","RO","CAS","Funcionarios y Directivos",6000,"17934729","DE LA GRANJA CASTILLO JUAN ORLANDO","INGENIERO INDUSTRIAL","SUPERIOR","PROFESIONAL",12,12,73000,1,1,1200]
[null,"001 SEDE CENTRAL","RO","CAS","Funcionarios y Directivos",6000,"18168084","DIOSES DIAZ ELSYE VERONICA","ABOGADO","SUPERIOR","PROFESIONAL",0,0,0,4,4,19800]
[null,"001 SEDE CENTRAL","RO","CAS","Funcionarios y Directivos",6000,"00795028","SUAREZ GUEVARA LOURDES MELINA","LICENCIADO EN CIENCIAS DE LA COMUNICACION","SUPERIOR","PROFESIONAL",0,0,0,5,5,30400]
[null,"001 SEDE CENTRAL","RO","CAS","Funcionarios y Directivos",6000,"41556900","RAMIREZ MONTALVO WALTER DANIEL","CONTADOR PUBLICO","SUPERIOR","PROFESIONAL",12,12,72600,6,6,36000]
[null,"001 SEDE CENTRAL","RO","CAS","Funcionarios y Directivos",4800,"17935824","RAMIREZ PAZ MIGUEL ANGEL","ABOGADO","SUPERIOR","PROFESIONAL",12,12,53200,6,6,29120]
[null,"001 SEDE CENTRAL","RO","CAS","Funcionarios y Directivos",4500,"40206075","CASTILLO MORALES JOHANNA PATRICK","ABOGADO","SUPERIOR","PROFESIONAL",0,0,0,2,2,6900]
[null,"001 SEDE CENTRAL","RO","CAS","Funcionarios y Directivos",4500,"00214574","DIOSES MENDOZA FLAVIO FRANCISCO","ABOGADO","SUPERIOR","PROFESIONAL",0,0,0,3,3,7350]
[null,"001 SEDE CENTRAL","RO","CAS","Funcionarios y Directivos",4500,"18188435","GONZALEZ LUNA VICTORIA JESSICA GIOVANNA","ABOGADO","SUPERIOR","PROFESIONAL",12,12,54600,1,1,900]
[null,"001 SEDE CENTRAL","RO","CAS","Funcionarios y Directivos",4500,"70788557","HERNANDEZ LOPEZ CLAUDIA MARIA","ECONOMISTA","SUPERIOR","PROFESIONAL",0,0,0,4,4,16200]
[null,"001 SEDE CENTRAL","RO","CAS","Funcionarios y Directivos",4500,"43534027","SANCHEZ ROSAS EDWIN JOHNATAN","BACHILLER EN CIENCIAS SOCIALES","SUPERIOR","PROFESIONAL",0,0,0,6,6,25800]
[null,"001 SEDE CENTRAL","RO","CAS","Funcionarios y Directivos",4000,"18166031","CASTILLO MORALES LUCERO ESMERALDA","LICENCIADO EN ADMINISTRACION","SUPERIOR","PROFESIONAL",0,0,0,2,2,5866.67]
[null,"001 SEDE CENTRAL","RO","CAS","Funcionarios y Directivos",4000,"45110878","LINAREZ SALDAÑA VICTOR ERNESTO","LICENCIADO EN TURISMO Y HOTELERIA","SUPERIOR","PROFESIONAL",0,0,0,6,6,23333.33]
[null,"001 SEDE CENTRAL","RO","CAS","Funcionarios y Directivos",3600,"18181485","ARAYA NEYRA RAUL FAUSTO","INGENIERO QUIMICO","SUPERIOR","PROFESIONAL",12,12,43800,1,1,240]
[null,"001 SEDE CENTRAL","RO","CAS","Funcionarios y Directivos",3600,"40316857","HUERTA EGOAVIL MARIA CRISTINA","ARQUITECTO","SUPERIOR","PROFESIONAL",12,12,43920,6,6,21600]
[null,"001 SEDE CENTRAL","RO","CAS","Funcionarios y Directivos",3600,"17818414","AGUILAR PLASENCIA JUANA MARIA DEL CARMEN","BACHILLER EN EDUCACION ","SUPERIOR","PROFESIONAL",12,12,43800,1,1,720]
[null,"001 SEDE CENTRAL","RO","CAS","Funcionarios y Directivos",3600,"17883147","CAMPOS QUISPE JULIO ALEJANDRO","CONTADOR MERCANTIL","SUPERIOR","PROFESIONAL",0,0,0,4,4,12360]
[null,"001 SEDE CENTRAL","RO","CAS","Funcionarios y Directivos",3600,"19098390","HERRERA VASQUEZ EDGAR NOEL","BACHILLER EN EDUCACION","SUPERIOR","PROFESIONAL",12,12,43800,6,6,21600]
[null,"001 SEDE CENTRAL","RO","CAS","Funcionarios y Directivos",3600,"40994650","FLORES CARUAJULCA EVER DANTE","LICENCIADO EN ADMINISTRACION","SUPERIOR","PROFESIONAL",0,0,0,4,4,12960]
[null,"001 SEDE CENTRAL","RO","CAS","Funcionarios y Directivos",3600,"32962077","OCOLA GADEA JULISSA ARACELLY","INGENIERO CIVIL","SUPERIOR","PROFESIONAL",12,12,43800,6,6,21600]
[null,"001 SEDE CENTRAL","RO","CAS","Funcionarios y Directivos",3600,"18136852","RAMIREZ AGUILAR SILVIA PAOLA","BIOLOGO","SUPERIOR","PROFESIONAL",12,12,43800,6,6,21600]
[null,"001 SEDE CENTRAL","RO","CAS","Funcionarios y Directivos",3600,"40400687","REYES ARAUJO MELISSA NOELIA","ABOGADO","SUPERIOR","PROFESIONAL",12,12,43800,6,6,21960]
[null,"001 SEDE CENTRAL","RO","CAS","Funcionarios y Directivos",3600,"17873842","VILLANUEVA LLERENA HANS JAMES","INGENIERO QUIMICO","SUPERIOR","PROFESIONAL",12,12,43800,6,6,21842]
[null,"001 SEDE CENTRAL","RDR","CAS","Funcionarios y Directivos",3600,"17804200","LEON MORA CONSTANTE YSMAEL","INGENIERO INDUSTRIAL","SUPERIOR","PROFESIONAL",12,12,28200,6,6,21340]
[null,"001 SEDE CENTRAL","RO","CAS","Profesional",7000,"17890487","SANTANDER REBAZA LUIS ALEJANDRO","INGENIERO CIVIL","SUPERIOR","PROFESIONAL",9,9,64533.33,6,6,42000]
[null,"001 SEDE CENTRAL","RO","CAS","Profesional",5300,"17884503","ROJAS DEZA PEDRO ALBERTO","ECONOMISTA","SUPERIOR","PROFESIONAL",5,5,26500,0,0,0]
[null,"001 SEDE CENTRAL","RO","CAS","Profesional",5300,"18080159","CHAVEZ MOSTACERO RICARDO FREDERICK","INGENIERO CIVIL","SUPERIOR","PROFESIONAL",12,12,64200,6,6,31800]
[null,"001 SEDE CENTRAL","RO","CAS","Profesional",5300,"44059561","LOPEZ VALVERDE AIMEE REGINA","INGENIERO CIVIL","SUPERIOR","PROFESIONAL",12,12,60506.5,6,6,31800]
[null,"001 SEDE CENTRAL","RO","CAS","Profesional",5300,"18100776","MENDOZA VALDIVIEZO NILA AURORA","ECONOMISTA","SUPERIOR","PROFESIONAL",12,12,64200,6,6,31800]
[null,"001 SEDE CENTRAL","RO","CAS","Profesional",5300,"19327075","VERTIZ ESTEVES LILIANA AMANDA","ARQUITECTO","SUPERIOR","PROFESIONAL",12,12,64248.58,6,6,31809.200000000001]
[null,"001 SEDE CENTRAL","RO","CAS","Profesional",5300,"41394457","ZEVALLOS LOPEZ JORGE LUIS","INGENIERO MECANICO ELECTRICISTA","SUPERIOR","PROFESIONAL",12,12,64200,6,6,30916.67]
[null,"001 SEDE CENTRAL","RO","CAS","Profesional",5000,"18123401","AGUILAR VELASQUEZ RHETH ANTONIO","INGENIERO CIVIL","SUPERIOR","PROFESIONAL",12,12,60600,6,6,30000]
[null,"001 SEDE CENTRAL","RO","CAS","Profesional",5000,"17840247","ESTRADA SALDARRIAGA DARIO","INGENIERO CIVIL ","SUPERIOR","PROFESIONAL",9,9,46100,3,3,12333.33]
[null,"001 SEDE CENTRAL","RO","CAS","Profesional",5000,"18126861","GUERRERO RIVERA LUIS ALBERTO","ABOGADO","SUPERIOR","PROFESIONAL",12,12,60766.67,6,6,30000]
[null,"001 SEDE CENTRAL","RO","CAS","Profesional",5000,"18172617","POLO SAENZ CARLOS ENRIQUE","INGENIERO CIVIL","SUPERIOR","PROFESIONAL",9,9,46266.67,3,3,12166.67]
[null,"001 SEDE CENTRAL","RO","CAS","Profesional",5000,"42230166","VASQUEZ PACHECO VICTOR EDUARDO","INGENIERO CIVIL","SUPERIOR","PROFESIONAL",7,7,35133.33,0,0,0]
[null,"001 SEDE CENTRAL","RO","CAS","Profesional",5000,"08425396","ASMAT TERÀN MANUEL ALFONSO","INGENIERO ELECTRICISTA","SUPERIOR","PROFESIONAL",9,9,46100,6,6,30000]
[null,"001 SEDE CENTRAL","RO","CAS","Profesional",5000,"28062483","CABANILLAS ARRIBASPLATA VICTOR MANUEL","INGENIERO CIVIL","SUPERIOR","PROFESIONAL",9,9,46100,6,6,30000]
[null,"001 SEDE CENTRAL","RO","CAS","Profesional",5000,"18011233","CORREA FERNANDEZ DANIEL ROLANDO","INGENIERO CIVIL","SUPERIOR","PROFESIONAL",9,9,46266.67,6,6,30000]
[null,"001 SEDE CENTRAL","RO","CAS","Profesional",5000,"40014074","DELGADO FLORIAN EDWIN WILLIAM","INGENIERO CIVIL","SUPERIOR","PROFESIONAL",9,9,46433.33,6,6,30000]
[null,"001 SEDE CENTRAL","RO","CAS","Profesional",5000,"40690148","ESCOBEDO JULCA DIANA LISSET","INGENIERO CIVIL","SUPERIOR","PROFESIONAL",12,12,60600,6,6,30000]
[null,"001 SEDE CENTRAL","RO","CAS","Profesional",5000,"18139666","GOMEZ ALZA JUAN BALTAZAR","ARQUITECTO ","SUPERIOR","PROFESIONAL",9,9,46100,6,6,30000]
[null,"001 SEDE CENTRAL","RO","CAS","Profesional",5000,"43160042","LLUCHO CARRION EDUARDO DAVID","INGENIERO CIVIL","SUPERIOR","PROFESIONAL",9,9,46100,6,6,30000]
[null,"001 SEDE CENTRAL","RO","CAS","Profesional",5000,"17858424","MALCA SALVATIERRA ALBERTO","INGENIERO INDUSTRIAL","SUPERIOR","PROFESIONAL",12,12,45926.66,6,6,30000]
[null,"001 SEDE CENTRAL","RO","CAS","Profesional",5000,"18037644","MENDIETA YNGA JESUS AMADO","INGENIERO DE SISTEMAS","SUPERIOR","PROFESIONAL",6,6,30633.33,6,6,30166.67]
[null,"001 SEDE CENTRAL","RO","CAS","Profesional",5000,"17569530","MORALES CASTILLO ARNALDO LUTGARDO","INGENIERO CIVIL ","SUPERIOR","PROFESIONAL",9,9,45433.33,6,6,30166.67]
[null,"001 SEDE CENTRAL","RO","CAS","Profesional",5000,"80229198","NEYRA CISNEROS WILFREDO BENIGNO","INGENIERO CIVIL ","SUPERIOR","PROFESIONAL",6,6,30800,6,6,30000]
[null,"001 SEDE CENTRAL","RO","CAS","Profesional",5000,"18140663","RODRIGUEZ LOPEZ JESSICA INES","ARQUITECTO","SUPERIOR","PROFESIONAL",9,9,46266.67,6,6,30000]
[null,"001 SEDE CENTRAL","RO","CAS","Profesional",5000,"41030120","ROJAS SANCHEZ ROSA MANUELA","ECONOMISTA","SUPERIOR","PROFESIONAL",9,9,45433.33,6,6,30000]
[null,"001 SEDE CENTRAL","RO","CAS","Profesional",5000,"18204663","ZEGARRA CERNA SABINO GUMERCINDO","INGENIERO CIVIL","SUPERIOR","PROFESIONAL",6,6,30800,6,6,30000]
[null,"001 SEDE CENTRAL","RO","CAS","Profesional",4500,"42790956","CARRASCO NUÑEZ KARLA CECILIA","ABOGADO","SUPERIOR","PROFESIONAL",12,12,54600,6,6,27000]
[null,"001 SEDE CENTRAL","RO","CAS","Profesional",4500,"18132996","CASTILLO ALVA HANS AUGUSTO","INGENIERO CIVIL","SUPERIOR","PROFESIONAL",12,12,54600,6,6,27000]
[null,"001 SEDE CENTRAL","RO","CAS","Profesional",4500,"17938923","GARCIA ESPINO PEDRO RICARDO","INGENIERO INDUSTRIAL","SUPERIOR","PROFESIONAL",12,12,54654.69,6,6,27000]
[null,"001 SEDE CENTRAL","RO","CAS","Profesional",4500,"41113663","TORRES SAENZ GUADALUPE MAGALY","ABOGADO","SUPERIOR","PROFESIONAL",12,12,54600,0,0,0]
[null,"001 SEDE CENTRAL","RO","CAS","Profesional",4400,"18160770","TORRES ESTRADA ROCIO DEL PILAR","ABOGADO","SUPERIOR","PROFESIONAL",12,12,53400,6,6,26400]
[null,"001 SEDE CENTRAL","RO","CAS","Profesional",4400,"41850480","OLAYA REYES MARIO ROBERTO","INGENIERO CIVIL","SUPERIOR","PROFESIONAL",12,12,53400,6,6,26400]
[null,"001 SEDE CENTRAL","RO","CAS","Profesional",4400,"17918771","PAREDES CALDERON LUIS ALBERTO","INGENIERO MECANICO","SUPERIOR","PROFESIONAL",12,12,53400,6,6,26400]
[null,"001 SEDE CENTRAL","RO","CAS","Profesional",4000,"40371202","COLLAS SAGASTEGUI SHIRLEY NATALY","CONTADOR PUBLICO","SUPERIOR","PROFESIONAL",12,12,48600,6,6,24000]
[null,"001 SEDE CENTRAL","RO","CAS","Profesional",4000,"43770627","CARRASCO ROJAS JAMES DAVID","CONTADOR PUBLICO","SUPERIOR","PROFESIONAL",12,12,43900,6,6,24000]
[null,"001 SEDE CENTRAL","RO","CAS","Profesional",4000,"10623804","ESQUIVES CAJAN HENRY WILBER","CONTABILIDAD","SUPERIOR","PROFESIONAL",12,12,48600,6,6,24000]
[null,"001 SEDE CENTRAL","RO","CAS","Profesional",4000,"40144029","MORI MIRANDA MELISSA","INGENIERO CIVIL","SUPERIOR","PROFESIONAL",12,12,48733.33,6,6,24133.33]
[null,"001 SEDE CENTRAL","RO","CAS","Profesional",4000,"18141746","SAL Y ROSAS OTERO LOURDES VIOLETA","ARQUITECTO","SUPERIOR","PROFESIONAL",12,12,48600,6,6,24000]
[null,"001 SEDE CENTRAL","RO","CAS","Profesional",4000,"41432748","TORRES SARAVIA JORGE LUIS","ABOGADO","SUPERIOR","PROFESIONAL",12,12,48600,6,6,24000]
[null,"001 SEDE CENTRAL","RO","CAS","Profesional",4000,"41477147","VALLEJOS FLORIAN LUIS ANGEL","INGENIERO CIVIL","SUPERIOR","PROFESIONAL",12,12,48600,6,6,24000]
[null,"001 SEDE CENTRAL","RO","CAS","Profesional",3600,"18108369","SICCHA RUBIO CARMEN ROSA","ABOGADO","SUPERIOR","PROFESIONAL",12,12,43717,4,4,14400]
[null,"001 SEDE CENTRAL","RO","CAS","Profesional",3600,"46215733","MAYA MENDEZ MARIA ALEJANDRA","ARQUITECTA ","SUPERIOR","PROFESIONAL",12,12,43833.5,6,6,21000]
[null,"001 SEDE CENTRAL","RO","CAS","Profesional",3500,"41583924","LEON NUREÑA JOSE LUIS","INGENIERO CIVIL","SUPERIOR","PROFESIONAL",9,9,31650,1,1,7100]
[null,"001 SEDE CENTRAL","RO","CAS","Profesional",3500,"18097517","RAFAEL CALDERON IVONNE GIOVANNA","ABOGADO","SUPERIOR","PROFESIONAL",12,12,42600,6,6,21000]
[null,"001 SEDE CENTRAL","RO","CAS","Profesional",3500,"46733022","ACCINELLI CRUZADO MARIA ISABEL","INGENIERO CIVIL","SUPERIOR","PROFESIONAL",9,9,22883.33,6,6,19366.669999999998]
[null,"001 SEDE CENTRAL","RO","CAS","Profesional",3500,"40711762","MENDOZA AGRAMONTE YOLANDA DE LOS MILAGROS","ABOGADO","SUPERIOR","PROFESIONAL",12,12,42600,6,6,21000]
[null,"001 SEDE CENTRAL","RO","CAS","Profesional",3000,"40992391","ORTIZ ARRESE LUZ RAQUEL","INGENIERO CIVIL","SUPERIOR","PROFESIONAL",6,6,18200,0,0,0]
[null,"001 SEDE CENTRAL","RO","CAS","Profesional",3000,"42363507","REVILLA ROMERO JOHATHAN LUIS ALFREDO","ABOGADO","SUPERIOR","PROFESIONAL",9,9,27500,1,1,600]
[null,"001 SEDE CENTRAL","RO","CAS","Profesional",3000,"16778798","VELIZ FACHO PEDRO SEBASTIAN","TEC. ADMINISTRACION","SUPERIOR","PROFESIONAL",12,12,36600,6,6,18000]
[null,"001 SEDE CENTRAL","RO","CAS","Profesional",3000,"18207104","VILCHEZ TELLO DAVID ESTUARDO","TECNICO EN TOPOGRAFIA","SUPERIOR","PROFESIONAL TECNICO",12,12,36600,5,5,15000]
[null,"001 SEDE CENTRAL","RO","CAS","Profesional",3000,"28065769","ALFARO VASQUEZ PEDRO ARMANDO","CONTADOR PUBLICO","SUPERIOR","PROFESIONAL",12,12,36600,6,6,18000]
[null,"001 SEDE CENTRAL","RO","CAS","Profesional",3000,"17891427","FOURNIER BOLOVICH ENRRIQUE LUCIO","ABOGADO","SUPERIOR","PROFESIONAL",12,12,36600,6,6,18000]
[null,"001 SEDE CENTRAL","RO","CAS","Profesional",3000,"18211621","GUTIERREZ MUÑOZ JORGE RAFAEL","BACHILLER EN INGENIERIA INFORMATICA Y DE SISTEMAS","SUPERIOR","PROFESIONAL",12,12,36600,6,6,18000]
[null,"001 SEDE CENTRAL","RO","CAS","Profesional",3000,"44436242","LECCA AGUIRRE CARMEN ROSA","LICENCIADO EN ADMINISTRACION","SUPERIOR","PROFESIONAL",12,12,33155.5,6,6,18000]
[null,"001 SEDE CENTRAL","RO","CAS","Profesional",3000,"41114651","MEDINA ALVA ALEX","ABOGADO","SUPERIOR","PROFESIONAL",9,9,27600,6,6,18000]
[null,"001 SEDE CENTRAL","RO","CAS","Profesional",3000,"42854112","OREZZOLI BRAVO TERESA DEL CARMEN","CONTADOR PUBLICO","SUPERIOR","PROFESIONAL",12,12,36600,6,6,18000]
[null,"001 SEDE CENTRAL","RO","CAS","Profesional",3000,"42961780","PALOMINO FERNANDEZ NADIA DOMENICA","ABOGADO","SUPERIOR","PROFESIONAL",12,12,36600,6,6,18000]
[null,"001 SEDE CENTRAL","RO","CAS","Profesional",3000,"43678522","ROJAS CHAVARRY CYNTHIA MAGNOLIA","ABOGADO","SUPERIOR","PROFESIONAL",12,12,36600,6,6,18000]
[null,"001 SEDE CENTRAL","RO","CAS","Profesional",3000,"18163209","TAMAY FLORES AURIA CECILIA","ABOGADO","SUPERIOR","PROFESIONAL",9,9,27500,6,6,18000]
[null,"001 SEDE CENTRAL","RO","CAS","Profesional",2880,"18829129","CHAVA GONZALES NORMA GRACIELA","TECNICO EN COMPUTACION","SUPERIOR","PROFESIONAL TECNICO",12,12,35160,6,6,17280]
[null,"001 SEDE CENTRAL","RO","CAS","Profesional",2880,"17903534","RODRIGUEZ COELLO JULIO CESAR","-","SECUNDARIA COMPLETA","SECUNDARIA COMPLETA",12,12,35160,6,6,17280]
[null,"001 SEDE CENTRAL","RO","CAS","Profesional",2800,"43382994","SANTOS ALVAREZ GABY EDELMIRA","ABOGADO","SUPERIOR","PROFESIONAL",12,12,34200,6,6,16590]
[null,"001 SEDE CENTRAL","RO","CAS","Profesional",2600,"40259645","COBA TERAN RUDYARD MIGUEL","INGENIERO INFORMATICO Y DE SISTEMAS","SUPERIOR","PROFESIONAL",12,12,31800,6,6,15600]
[null,"001 SEDE CENTRAL","RO","CAS","Profesional",2600,"17830591","REYES CAMPOS ELEODORO ANDRES","LICENCIADO EN ESTADISTICA","SUPERIOR","PROFESIONAL",12,12,31800,6,6,15600]
[null,"001 SEDE CENTRAL","RO","CAS","Profesional",2500,"18010771","MORALES ESPINOZA NORA LUCIA","ABOGADO","SUPERIOR","PROFESIONAL",12,12,30600,6,6,15000]
[null,"001 SEDE CENTRAL","RO","CAS","Profesional",2500,"45845027","PEREZ MANTILLA ANA LUCIA","INGENIERO INDUSTRIAL ","SUPERIOR","PROFESIONAL",9,9,23016.67,3,3,6250]
[null,"001 SEDE CENTRAL","RO","CAS","Profesional",2500,"26627759","SANGAY AQUINO MATEO WENCESLAO","INGENIERO AGRONOMO","SUPERIOR","PROFESIONAL",8,8,20300,0,0,0]
[null,"001 SEDE CENTRAL","RO","CAS","Profesional",2500,"18131110","ALCANTARA SUYON JORGE LUIS","ECONOMISTA","SUPERIOR","PROFESIONAL",12,12,30600,6,6,15000]
[null,"001 SEDE CENTRAL","RO","CAS","Profesional",2500,"18859733","CASTILLO LOZADA OSWALDO ALEXANDER","ABOGADO","SUPERIOR","PROFESIONAL",12,12,30600,6,6,14580]
[null,"001 SEDE CENTRAL","RO","CAS","Profesional",2500,"18137188","CHAVEZ ROJAS RICARDO ALBERTO","ABOGADO","SUPERIOR","PROFESIONAL",12,12,30600,6,6,15000]
[null,"001 SEDE CENTRAL","RO","CAS","Profesional",2500,"17941975","ESPEJO MELENDEZ OSWALDO DANIEL","ABOGADO","SUPERIOR","PROFESIONAL",12,12,30600,6,6,15000]
[null,"001 SEDE CENTRAL","RO","CAS","Profesional",2500,"18141539","NEIRA DIAZ MONICA GIOVANNA","ABOGADO","SUPERIOR","PROFESIONAL",12,12,30600,6,6,15000]
[null,"001 SEDE CENTRAL","RO","CAS","Profesional",2500,"42098676","RODRIGUEZ VILLALOBOS JORGE ANDRES","ABOGADO","SUPERIOR","PROFESIONAL",12,12,30600,6,6,15000]
[null,"001 SEDE CENTRAL","RO","CAS","Profesional",2500,"18168885","ULLOA MELENDEZ SONIA MARISOL","INGENIERO CIVIL","SUPERIOR","PROFESIONAL",12,12,30600,6,6,15000]
[null,"001 SEDE CENTRAL","RO","CAS","Profesional",2400,"41447709","JARA AROCA CONSUELO MARIBEL","CONTADOR PUBLICO","SUPERIOR","PROFESIONAL",12,12,29446.5,6,6,14400]
[null,"001 SEDE CENTRAL","RO","CAS","Profesional",2376.67,"43608907","DIAZ ZÁRATE SILVIA ISABEL","ABOGADO","SUPERIOR","PROFESIONAL",12,12,24833.339999999997,2,2,4600]
[null,"001 SEDE CENTRAL","RO","CAS","Profesional",2376.67,"44158386","PINILLOS JACOBO DEYSI CAROLINA","ABOGADO","SUPERIOR","PROFESIONAL",6,6,14406.67,6,6,13380]
[null,"001 SEDE CENTRAL","RO","CAS","Profesional",2376.67,"41428498","RODRIGUEZ VARGAS YESSENIA LILIAM","ABOGADO","SUPERIOR","PROFESIONAL",12,12,24833.339999999997,6,6,13800]
[null,"001 SEDE CENTRAL","RO","CAS","Profesional",2300,"43868809","GUEVARA VARELA ENRIQUE MICHAEL","ABOGADO","SUPERIOR","PROFESIONAL",4,4,9200,0,0,0]
[null,"001 SEDE CENTRAL","RDR","CAS","Profesional",2300,"45100226","LAMBERT CHAVEZ RENZO JHONATAN","ABOGADO","SUPERIOR","PROFESIONAL",2,2,4983.33,0,0,0]
[null,"001 SEDE CENTRAL","RDR","CAS","Profesional",2300,"26689247","MEMBRILLO LLANOS SONIA DEL ROSARIO","ABOGADO","SUPERIOR","PROFESIONAL",12,12,27363.33,1,1,460]
[null,"001 SEDE CENTRAL","RDR","CAS","Profesional",2300,"41130438","PONCE ZAVALETA SHANNA BELINDA","ABOGADO","SUPERIOR","PROFESIONAL",12,12,28200,1,1,460]
[null,"001 SEDE CENTRAL","RO","CAS","Profesional",2300,"17805194","ANGULO UGARTE VICTOR HUGO","CONTADOR PUBLICO","SUPERIOR","PROFESIONAL",12,12,28200,6,6,13800]
[null,"001 SEDE CENTRAL","RO","CAS","Profesional",2300,"18010722","ARANDA QUIROZ TALITA ROSABET","CONTADOR PUBLICO","SUPERIOR","PROFESIONAL",12,12,28200,5,5,10196.67]
[null,"001 SEDE CENTRAL","RO","CAS","Profesional",2300,"41872594","BOY VASQUEZ LUIS MIGUEL","ABOGADO","SUPERIOR","PROFESIONAL",12,12,28200,1,1,2300]
[null,"001 SEDE CENTRAL","RO","CAS","Profesional",2300,"18897564","BUENO HUACCHA ORLANDO CARLOS","ABOGADO","SUPERIOR","PROFESIONAL",12,12,28200,1,1,2300]
[null,"001 SEDE CENTRAL","RO","CAS","Profesional",2300,"41691519","CABANILLAS KOO RONAL NICK","ABOGADO","SUPERIOR","PROFESIONAL",12,12,28200,2,2,4600]
[null,"001 SEDE CENTRAL","RO","CAS","Profesional",2300,"45684587","CAMPOS VALERIANO LARRY RODOLFO","BACHILLER EN CIENCIAS DE LA COMUNICACION","SUPERIOR","PROFESIONAL",12,12,28000,1,1,776.67]
[null,"001 SEDE CENTRAL","RO","CAS","Profesional",2300,"40973886","CASMA ROMERO DORA LEIDITH","ABOGADO","SUPERIOR","PROFESIONAL",7,7,14100,0,0,0]
[null,"001 SEDE CENTRAL","RO","CAS","Profesional",2300,"42854143","CHACON MORETTI TANNY LEVSKY","LICENCIADO EN ADMINISTRACION","SUPERIOR","PROFESIONAL",4,4,2760,0,0,0]
[null,"001 SEDE CENTRAL","RO","CAS","Profesional",2300,"40827377","CISNEROS ESCOBEDO CESAR AGUSTIN","CONTADOR PUBLICO","SUPERIOR","PROFESIONAL",12,12,28200,1,1,2300]
[null,"001 SEDE CENTRAL","RO","CAS","Profesional",2300,"17821575","DE LA CRUZ LOPEZ ROSA ELENA","CONTADOR PUBLICO","SUPERIOR","PROFESIONAL",12,12,28200,6,6,13800]
[null,"001 SEDE CENTRAL","RO","CAS","Profesional",2300,"46520247","DELGADO FLORIAN TANIA CAROLINA","LICENCIADO EN ADMINISTRACION","SUPERIOR","PROFESIONAL",12,12,28200,6,6,6900]
[null,"001 SEDE CENTRAL","RO","CAS","Profesional",2300,"18081435","GIL ARROYO VALLADARES MARÍA DEL PILAR","CONTADOR PUBLICO","SUPERIOR","PROFESIONAL",12,12,27793.33,5,5,10196.67]
[null,"001 SEDE CENTRAL","RO","CAS","Profesional",2300,"18037038","GUEVARA HERBIAS LUIS FERNANDO","INGENIERO CIVIL ","SUPERIOR","PROFESIONAL",4,4,8233.33,0,0,0]
[null,"001 SEDE CENTRAL","RDR","CAS","Profesional",2300,"41093504","HUANCA SANCHEZ JHORDY ALEXANDER","COMPUTACION E INFORMATICA","SUPERIOR","PROFESIONAL",7,7,16400,0,0,0]
[null,"001 SEDE CENTRAL","RO","CAS","Profesional",2300,"80287417","JUAREZ PITA GILBER FABIAN","BIOLOGO","SUPERIOR","PROFESIONAL",1,1,2300,0,0,0]
[null,"001 SEDE CENTRAL","RO","CAS","Profesional",2300,"18137666","LOZANO POLO JANET TERESA","ABOGADO","SUPERIOR","PROFESIONAL",12,12,28200,1,1,2300]
[null,"001 SEDE CENTRAL","RO","CAS","Profesional",2300,"19523099","MELENDEZ CORNELIO VICTOR RAUL","PROFESIONAL TECNICO EN CONSTRUCCION CIVIL","SUPERIOR","PROFESIONAL TECNICO",5,5,11500,0,0,0]
[null,"001 SEDE CENTRAL","RDR","CAS","Profesional",2300,"18897064","MENDEZ HORNA ALBERTO JUNIOR","CONTADOR PUBLICO","SUPERIOR","PROFESIONAL",12,12,28200,1,1,230]
[null,"001 SEDE CENTRAL","RDR","CAS","Profesional",2300,"18897845","MORENO RODRIGUEZ ROSMARY NOELIA","INGENIERO DE SISTEMAS","SUPERIOR","PROFESIONAL",10,10,21690,0,0,0]
[null,"001 SEDE CENTRAL","RO","CAS","Profesional",2300,"47300163","NECIOSUPP RODRIGUEZ YRVING ANDRE","BACHILLER EN INGENIERIA CIVIL","SUPERIOR","PROFESIONAL",12,12,26764.89,0,0,0]
[null,"001 SEDE CENTRAL","RDR","CAS","Profesional",2300,"43052952","NEGREIROS GARCIA WILLIAM ANDRES","INGENIERO DE MINAS ","SUPERIOR","PROFESIONAL",12,12,28200,1,1,2300]
[null,"001 SEDE CENTRAL","RDR","CAS","Profesional",2300,"42956710","PASCUAL GARCIA KATHERINE SONIA","LICENCIADO EN PSICOLOGIA","SUPERIOR","PROFESIONAL",2,2,4600,0,0,0]
[null,"001 SEDE CENTRAL","RO","CAS","Profesional",2300,"17846918","PEREZ PADILLA JORGE GUILLERMO","INGENIERO QUIMICO","SUPERIOR","PROFESIONAL",12,12,28200,0,0,0]
[null,"001 SEDE CENTRAL","RO","CAS","Profesional",2300,"41008373","POMA VARGAS ALEXIS ENRIQUE","CONTADOR PUBLICO","SUPERIOR","PROFESIONAL",12,12,28200,6,6,13800]
[null,"001 SEDE CENTRAL","RO","CAS","Profesional",2300,"18215874","RAMIREZ MARIÑOS CARLOS FELIPE","INGENIERO AGRICOLA","SUPERIOR","PROFESIONAL",8,8,16300,0,0,0]
[null,"001 SEDE CENTRAL","RO","CAS","Profesional",2300,"41871992","REBAZA PONCE DE LEON MARIA DEL CARMEN","BACHILLER EN PSICOLOGIA","SUPERIOR","PROFESIONAL",12,12,28200,1,1,2300]
[null,"001 SEDE CENTRAL","RO","CAS","Profesional",2300,"17854657","REYNA LINARES WILSON BENEL","BACHILLER EN CIENCIAS ECONOMICAS","SUPERIOR","PROFESIONAL",7,7,14100,0,0,0]
[null,"001 SEDE CENTRAL","RDR","CAS","Profesional",2300,"18138988","RISCO RODRIGUEZ JHONNY PAUL","LICENCIADO EN ADMINISTRACION","SUPERIOR","PROFESIONAL",5,5,11500,0,0,0]
[null,"001 SEDE CENTRAL","RO","CAS","Profesional",2300,"43565809","ROBLES RIOS VANESSA MADELEINE","ABOGADO","SUPERIOR","PROFESIONAL",12,12,25976.67,0,0,0]
[null,"001 SEDE CENTRAL","RDR","CAS","Profesional",2300,"41741174","RODRIGUEZ DIESTRA FRANCO NERDY","ABOGADO","SUPERIOR","PROFESIONAL",12,12,28200,1,1,613.33000000000004]
[null,"001 SEDE CENTRAL","RO","CAS","Profesional",2300,"18887755","SANTILLAN CALDERON SUSAN ELIZABETH","CONTADOR PUBLICO","SUPERIOR","PROFESIONAL",12,12,28200,5,5,10196.67]
[null,"001 SEDE CENTRAL","RO","CAS","Profesional",2300,"42825820","SEGURA REQUENA JULIO CESAR","ABOGADO","SUPERIOR","PROFESIONAL",9,9,21000,0,0,0]
[null,"001 SEDE CENTRAL","RDR","CAS","Profesional",2300,"18149631","SMITH LEGENDRE CARLOS FERNANDO","INGENIERO DE SISTEMAS","SUPERIOR","PROFESIONAL",7,7,16400,0,0,0]
[null,"001 SEDE CENTRAL","RDR","CAS","Profesional",2300,"18199368","TORRES RODRIGUEZ VIVIAN YADHIRA","LICENCIADO EN PSICOLOGIA","SUPERIOR","PROFESIONAL",4,4,9200,0,0,0]
[null,"001 SEDE CENTRAL","RDR","CAS","Profesional",2300,"18105963","URIOL NARRO LUIS AURELIO","ABOGADO","SUPERIOR","PROFESIONAL",4,4,9423.33,0,0,0]
[null,"001 SEDE CENTRAL","RDR","CAS","Profesional",2300,"17818824","VALLES VELA VICTOR HUGO","INGENIERO INDUSTRIAL","SUPERIOR","PROFESIONAL",12,12,28200,3,3,6900]
[null,"001 SEDE CENTRAL","RDR","CAS","Profesional",2300,"18137322","VALVERDE CASTRO MANUEL ELEODORO","INGENIERO METALURGICO","SUPERIOR","PROFESIONAL",12,12,28200,2,2,4600]
[null,"001 SEDE CENTRAL","RO","CAS","Profesional",2300,"43566564","VERGARA GARCIA FERNANDO ERNESTO","BACHILLER EN ADMINISTRACION Y CIENCIAS POLICIALES","SUPERIOR","PROFESIONAL",1,1,2300,0,0,0]
[null,"001 SEDE CENTRAL","RO","CAS","Profesional",2300,"45130677","YUPANQUI POLO JAHAIRA ELIZABETH","CONTADOR PUBLICO","SUPERIOR","PROFESIONAL",12,12,28200,5,5,10196.67]
[null,"001 SEDE CENTRAL","RO","CAS","Profesional",2300,"80397902","GONZALES MENDIETA DANLI FELIX","BIOLOGO Y MICROBIOLOGO","SUPERIOR","PROFESIONAL",12,12,28200,4,4,9200]
[null,"001 SEDE CENTRAL","RO","CAS","Profesional",2300,"17820079","MENDOZA CARDENAS MANUELA ROXANA","CONTADOR PUBLICO","SUPERIOR","PROFESIONAL",12,12,28200,6,6,13800]
[null,"001 SEDE CENTRAL","RO","CAS","Profesional",2300,"40699113","AHON BURGOS MICHAEL CARLOS","ABOGADO","SUPERIOR","PROFESIONAL",6,6,14023.33,6,6,13800]
[null,"001 SEDE CENTRAL","RO","CAS","Profesional",2300,"18859845","ALCANTARA COSAVALENTE EDDY ROMAN","ECONOMISTA","SUPERIOR","PROFESIONAL",12,12,28200,6,6,13800]
[null,"001 SEDE CENTRAL","RO","CAS","Profesional",2300,"44489397","ALCANTARA HIDALGO ALLEN HENS","ABOGADO","SUPERIOR","PROFESIONAL",12,12,28200,1,1,2300]
[null,"001 SEDE CENTRAL","RO","CAS","Profesional",2300,"43976211","ALCANTARA ORTIZ WALTER JHOSSYMAR","INGENIERO ELECTRÓNICO","SUPERIOR","PROFESIONAL",12,12,28200,6,6,13800]
[null,"001 SEDE CENTRAL","RO","CAS","Profesional",2300,"40695699","ALCANTARA YBAÑEZ DENNYS IVAN","ABOGADO","SUPERIOR","PROFESIONAL",12,12,28200,6,6,13800]
[null,"001 SEDE CENTRAL","RO","CAS","Profesional",2300,"41130432","ALFARO ABANTO KARLA YSABEL","INGENIERO QUIMICO","SUPERIOR","PROFESIONAL",12,12,28200,6,6,13800]
[null,"001 SEDE CENTRAL","RO","CAS","Profesional",2300,"42963605","ALVAREZ SOLAR VANESSA LISSET","ABOGADO","SUPERIOR","PROFESIONAL",12,12,28241.5,6,6,13800]
[null,"001 SEDE CENTRAL","RO","CAS","Profesional",2300,"18876137","ARANDA CALDERON VICTOR RAUL","INGENIERO QUIMICO","SUPERIOR","PROFESIONAL",12,12,28200,6,6,13800]
[null,"001 SEDE CENTRAL","RO","CAS","Profesional",2300,"40044999","ARAUJO ARAUJO LENIN FERNANDO","ABOGADO","SUPERIOR","PROFESIONAL",12,12,28200,6,6,13800]
[null,"001 SEDE CENTRAL","RO","CAS","Profesional",2300,"40186448","ARROYO ULLOA OSCAR JOSE","INGENIERO DE SISTEMAS","SUPERIOR","PROFESIONAL",12,12,28200,6,6,13800]
[null,"001 SEDE CENTRAL","RO","CAS","Profesional",2300,"41927037","AZABACHE LAZARO KELLY BERNA","CONTADOR PUBLICO","SUPERIOR","PROFESIONAL",12,12,28200,6,6,13800]
[null,"001 SEDE CENTRAL","RO","CAS","Profesional",2300,"45119585","BACILIO PAREDES YANIRA BETZABETH","ABOGADO","SUPERIOR","PROFESIONAL",9,9,21530,6,6,13800]
[null,"001 SEDE CENTRAL","RO","CAS","Profesional",2300,"47704366","BALLENA DAZA YULY MERCEDES","LICENCIADO EN PSICOLOGIA","SUPERIOR","PROFESIONAL",1,1,3143.33,6,6,13800]
[null,"001 SEDE CENTRAL","RO","CAS","Profesional",2300,"07476399","BALTODANO RODRIGUEZ DE CANO PATRICIA ELIZABETH","LICENCIADO EN ADMINISTRACION","SUPERIOR","PROFESIONAL",12,12,28200,6,6,13800]
[null,"001 SEDE CENTRAL","RO","CAS","Profesional",2300,"18143196","BAZAN ALVA FRIDA RINETTE","ABOGADO","SUPERIOR","PROFESIONAL",12,12,28200,6,6,13800]
[null,"001 SEDE CENTRAL","RO","CAS","Profesional",2300,"18069678","BENGOA JARA WILFREDO ALEJANDRO","LICENCIADO EN CIENCIAS DE LA COMUNICACION","SUPERIOR","PROFESIONAL",12,12,28200,6,6,13380]
[null,"001 SEDE CENTRAL","RO","CAS","Profesional",2300,"18142892","BENITES GUILLEN NILTON EDUARDO","ABOGADO","SUPERIOR","PROFESIONAL",12,12,28200,6,6,13800]
[null,"001 SEDE CENTRAL","RO","CAS","Profesional",2300,"18008822","BERMUDEZ CORCUERA MARCELA DORIS","CONTADOR PUBLICO","SUPERIOR","PROFESIONAL",1,1,3066.67,6,6,13800]
[null,"001 SEDE CENTRAL","RO","CAS","Profesional",2300,"43773473","BOCANEGRA MORAN YHADIRA CHRISTY","LICENCIADO EN PSICOLOGIA","SUPERIOR","PROFESIONAL",12,12,28200,6,6,13800]
[null,"001 SEDE CENTRAL","RO","CAS","Profesional",2300,"18901108","BRICEÑO CORONEL CESAR YBAN","ABOGADO","SUPERIOR","PROFESIONAL",12,12,28200,6,6,13800]
[null,"001 SEDE CENTRAL","RO","CAS","Profesional",2300,"18216781","CABANILLAS LAVADO GUILLERMO ALEXANDER","INGENIERO INFORMATICO Y DE SISTEMAS","SUPERIOR","PROFESIONAL",12,12,24296.67,6,6,13800]
[null,"001 SEDE CENTRAL","RO","CAS","Profesional",2300,"43974132","CABANILLAS TEJADA ADAN","BACHILLER EN CONTABILIDAD","SUPERIOR","PROFESIONAL",12,12,28200,6,6,13800]
[null,"001 SEDE CENTRAL","RO","CAS","Profesional",2300,"41508130","CABRERA VERGARA CYNTIA KARINA","CONTADOR PUBLICO","SUPERIOR","PROFESIONAL",1,1,3143.33,6,6,13800]
[null,"001 SEDE CENTRAL","RO","CAS","Profesional",2300,"43616751","CAJACURI PALACIOS GLORIA MARIA","LICENCIADO EN CIENCIAS DE LA COMUNICACION ","SUPERIOR","PROFESIONAL",12,12,29334,6,6,13800]
[null,"001 SEDE CENTRAL","RO","CAS","Profesional",2300,"17868188","CANCHACHI VILLAJULCA FELIX ADOLFO","INGENIERO INDUSTRIAL","SUPERIOR","PROFESIONAL",12,12,28200,6,6,13800]
[null,"001 SEDE CENTRAL","RO","CAS","Profesional",2300,"19578141","CARBAJAL BRICEÑO ALCIRA BELERMINA","ABOGADO","SUPERIOR","PROFESIONAL",1,1,2990,6,6,13800]
[null,"001 SEDE CENTRAL","RO","CAS","Profesional",2300,"44967724","CARDENAS PANDURO SHANA INGRID","CONTADOR PUBLICO","SUPERIOR","PROFESIONAL",12,12,28200,6,6,13800]
[null,"001 SEDE CENTRAL","RO","CAS","Profesional",2300,"41383547","CARRANZA MEDINA DAVID EDYNSON","LICENCIADO EN CIENCIAS DE LA COMUNICACION","SUPERIOR","PROFESIONAL",12,12,28200,6,6,13800]
[null,"001 SEDE CENTRAL","RO","CAS","Profesional",2300,"32854832","CASTILLO RAMOS AMPARO SOLEDAD","ECONOMISTA","SUPERIOR","PROFESIONAL",12,12,28200,6,6,13800]
[null,"001 SEDE CENTRAL","RO","CAS","Profesional",2300,"17833078","CASTRO VELASQUEZ MARTIN FELIPE","ABOGADO","SUPERIOR","PROFESIONAL",12,12,28200,6,6,13800]
[null,"001 SEDE CENTRAL","RO","CAS","Profesional",2300,"18118091","CIPRIANO PIRGO JOSE LUIS","INGENIERO MECANICO","SUPERIOR","PROFESIONAL",12,12,28200,6,6,13800]
[null,"001 SEDE CENTRAL","RO","CAS","Profesional",2300,"45433468","CORAL SANTILLAN JORGE DAVID","ABOGADO","SUPERIOR","PROFESIONAL",12,12,28200,6,6,13876.35]
[null,"001 SEDE CENTRAL","RO","CAS","Profesional",2300,"43388901","CUEVA ARTEAGA JUBITZA ROSSLADY","LICENCIADA EN ADMINISTRACION ","SUPERIOR","PROFESIONAL",12,12,28200,6,6,13800]
[null,"001 SEDE CENTRAL","RO","CAS","Profesional",2300,"44921956","DAVILA BENITES LEIDI GABI","ABOGADO","SUPERIOR","PROFESIONAL",12,12,28200,6,6,8116]
[null,"001 SEDE CENTRAL","RO","CAS","Profesional",2300,"40398731","DAVILA GALLARDO YELICE LIZZET","INGENIERO AGROINDUSTRIAL ","SUPERIOR","PROFESIONAL",12,12,28200,6,6,13800]
[null,"001 SEDE CENTRAL","RO","CAS","Profesional",2300,"18157625","DE BRACAMONTE MORALES PEDRO JESUS","INGENIERO INDUSTRIAL","SUPERIOR","PROFESIONAL",12,12,28200,6,6,13800]
[null,"001 SEDE CENTRAL","RO","CAS","Profesional",2300,"02863857","DE CHORIE PRIETO JAVIER FERNANDO","ABOGADO","SUPERIOR","PROFESIONAL",12,12,28228.43,6,6,13800]
[null,"001 SEDE CENTRAL","RO","CAS","Profesional",2300,"46754725","DIAZ SAUCEDA KEYLA MILEY","BACHILLER EN CIENCIAS ECONOMICAS","SUPERIOR","PROFESIONAL",12,12,28200,6,6,13800]
[null,"001 SEDE CENTRAL","RO","CAS","Profesional",2300,"41654638","ESCALANTE SALDAÑA EMMA ELIZABETH","ABOGADO","SUPERIOR","PROFESIONAL",12,12,28200,6,6,13800]
[null,"001 SEDE CENTRAL","RO","CAS","Profesional",2300,"18173233","ESQUIVEL SARMIENTO MANUEL ASUNCIÓN","LICENCIADO EN CIENCIAS DE LA COMUNICACION","SUPERIOR","PROFESIONAL",12,12,28200,6,6,13800]
[null,"001 SEDE CENTRAL","RO","CAS","Profesional",2300,"17628649","ESTELA LA ROSA SERGIO ANDRES","ABOGADO","SUPERIOR","PROFESIONAL",12,12,28200,6,6,13800]
[null,"001 SEDE CENTRAL","RO","CAS","Profesional",2300,"42127816","EUSEBIO ESTEBAN ELIZABETH ELISA","LICENCIADO EN PSICOLOGIA","SUPERIOR","PROFESIONAL",12,12,28200,6,6,13800]
[null,"001 SEDE CENTRAL","RO","CAS","Profesional",2300,"18213900","FARIAS RUIZ ANABELLE","ABOGADO","SUPERIOR","PROFESIONAL",12,12,25800,6,6,13296]
[null,"001 SEDE CENTRAL","RO","CAS","Profesional",2300,"42379475","FLORES BERNABE CLAUDIO ENRIQUE","INGENIERO INDUSTRIAL","SUPERIOR","PROFESIONAL",1,1,3066.67,6,6,13800]
[null,"001 SEDE CENTRAL","RO","CAS","Profesional",2300,"46325017","FRIAS GONZALEZ DEISE","LICENCIADO EN ANTROPOLOGIA SOCIAL","SUPERIOR","PROFESIONAL",12,12,28200,6,6,13800]
[null,"001 SEDE CENTRAL","RO","CAS","Profesional",2300,"18221503","GARCIA CASTILLO MARIA LUZ","ABOGADO","SUPERIOR","PROFESIONAL",12,12,26864.85,6,6,11070]
[null,"001 SEDE CENTRAL","RO","CAS","Profesional",2300,"18088674","GARCIA DELGADO ROCIO DEL PILAR","PROFESOR DE EDUCACION SECUNDARIA COMUN","SUPERIOR","PROFESIONAL",12,12,28200,6,6,13800]
[null,"001 SEDE CENTRAL","RO","CAS","Profesional",2300,"43836307","GASTAÑADUI ZAVALA PATRICIA VIOLETA","LICENCIADO EN ADMINISTRACION","SUPERIOR","PROFESIONAL",12,12,28200,6,6,9726]
[null,"001 SEDE CENTRAL","RO","CAS","Profesional",2300,"31676916","GIRALDO ALVARON JANINA MILADY","PROFESOR EDUCACION INICIAL","SUPERIOR","PROFESIONAL",12,12,28200,6,6,13800]
[null,"001 SEDE CENTRAL","RO","CAS","Profesional",2300,"42382687","GRAUS VERA HEINER WALDY","INGENIERO INDUSTRIA","SUPERIOR","PROFESIONAL",12,12,28200,6,6,13800]
[null,"001 SEDE CENTRAL","RO","CAS","Profesional",2300,"18009948","GUERRA PRADO ELVIRA ROXANA","ABOGADO","SUPERIOR","PROFESIONAL",12,12,28200,6,6,13800]
[null,"001 SEDE CENTRAL","RDR","CAS","Profesional",2300,"46468584","GUIBERT COLLANTES SANDRA CAROLINA","LICENCIADA EN ADMINISTRACION ","SUPERIOR","PROFESIONAL",12,12,28200,6,6,13800]
[null,"001 SEDE CENTRAL","RO","CAS","Profesional",2300,"18028806","GUTIERREZ ESCARCENA DEISY JAZZELL","ABOGADO","SUPERIOR","PROFESIONAL",12,12,28200,6,6,13800]
[null,"001 SEDE CENTRAL","RO","CAS","Profesional",2300,"46298344","GUZMAN RENGIFO FIORELLA PAOLA","ABOGADO","SUPERIOR","PROFESIONAL",1,1,3143.33,6,6,13800]
[null,"001 SEDE CENTRAL","RO","CAS","Profesional",2300,"44778731","HORNA LEON CESAR ANDRES","BACHILLER EN INGENIERIA INDUSTRIAL","SUPERIOR","PROFESIONAL",12,12,28200,6,6,13800]
[null,"001 SEDE CENTRAL","RO","CAS","Profesional",2300,"17884247","IBAÑEZ CARRANZA MAX FREDDY","LICENCIADO EN ADMINISTRACION","SUPERIOR","PROFESIONAL",12,12,28200,6,6,13800]
[null,"001 SEDE CENTRAL","RDR","CAS","Profesional",2300,"45401078","INQUILLA REYES MIGUEL FERNANDO","INGENIERO QUIMICO","SUPERIOR","PROFESIONAL",12,12,28200,6,6,13800]
[null,"001 SEDE CENTRAL","RO","CAS","Profesional",2300,"40873841","JAICO MONTALVO KARINA LENNY","ABOGADO","SUPERIOR","PROFESIONAL",12,12,28200,6,6,10020]
[null,"001 SEDE CENTRAL","RDR","CAS","Profesional",2300,"17984268","JARA MORILLO ROSA TERESA","INGENIERO QUIMICO","SUPERIOR","PROFESIONAL",12,12,28200,6,6,13800]
[null,"001 SEDE CENTRAL","RDR","CAS","Profesional",2300,"44429884","JAVIER LARREA VICTOR ANDRES","INGENIERO DE SISTEMAS","SUPERIOR","PROFESIONAL",12,12,28200,6,6,13800]
[null,"001 SEDE CENTRAL","RO","CAS","Profesional",2300,"18128638","JIMENEZ VILLARREAL ESTELA PATRICIA","ABOGADO","SUPERIOR","PROFESIONAL",12,12,28200,6,6,13800]
[null,"001 SEDE CENTRAL","RO","CAS","Profesional",2300,"80336322","LANGLE LEYVA VICTOR RAUL GONZALO","ABOGADO","SUPERIOR","PROFESIONAL",12,12,28200,6,6,13800]
[null,"001 SEDE CENTRAL","RO","CAS","Profesional",2300,"41204956","LECCA CHAVEZ JOSE ALBERTO","LICENCIADO EN PSICOLOGIA","SUPERIOR","PROFESIONAL",12,12,28200,6,6,13800]
[null,"001 SEDE CENTRAL","RDR","CAS","Profesional",2300,"45299452","LEIVA YUPANQUI GUIULIANA DEL PILAR","ABOGADO","SUPERIOR","PROFESIONAL",12,12,28200,6,6,13800]
[null,"001 SEDE CENTRAL","RO","CAS","Profesional",2300,"72791228","LEON BENITES XIMENA ALICIA BEATRIZ","LICENCIADA EN PSICOLOGIA ","SUPERIOR","PROFESIONAL",6,6,14253.33,6,6,13800]
[null,"001 SEDE CENTRAL","RO","CAS","Profesional",2300,"19082677","LEYVA CORDOVA WILDER ALEX","ECONOMISTA","SUPERIOR","PROFESIONAL",12,12,27600,6,6,13800]
[null,"001 SEDE CENTRAL","RO","CAS","Profesional",2300,"43114924","LINARES JARA TERESA DE JESUS","ABOGADO","SUPERIOR","PROFESIONAL",9,9,21300,6,6,12540]
[null,"001 SEDE CENTRAL","RO","CAS","Profesional",2300,"42676593","LOZANO HORNA ARTURO JORGE","INGENIERO DE SISTEMAS","SUPERIOR","PROFESIONAL",12,12,26366.67,6,6,13800]
[null,"001 SEDE CENTRAL","RDR","CAS","Profesional",2300,"41093564","LUJAN LINARES IRMA VERONICA","INGENIERO INFORMATICO","SUPERIOR","PROFESIONAL",12,12,28200,6,6,13800]
[null,"001 SEDE CENTRAL","RDR","CAS","Profesional",2300,"45465893","MANTILLA CASTAÑEDA JORGE EDUARDO","INGENIERO METALURGISTA ","SUPERIOR","PROFESIONAL",12,12,28200,6,6,13800]
[null,"001 SEDE CENTRAL","RO","CAS","Profesional",2300,"46824216","MANTILLA PITTA LUIS RODOLFO ENRIQUE","BACHILLER EN INGENIERIA INDUSTRIAL","SUPERIOR","PROFESIONAL",12,12,28200,6,6,13800]
[null,"001 SEDE CENTRAL","RO","CAS","Profesional",2300,"40403097","MARCELO CORDOVA ALFREDO JAIME","ABOGADO","SUPERIOR","PROFESIONAL",12,12,28200,6,6,13800]
[null,"001 SEDE CENTRAL","RO","CAS","Profesional",2300,"18109163","MARTINEZ MALARIN HUMBERTO CARLO","LICENCIADO EN EDUCACION SECUNDARIA","SUPERIOR","PROFESIONAL",12,12,28200,6,6,13800]
[null,"001 SEDE CENTRAL","RO","CAS","Profesional",2300,"18101462","MAYORCA SANCHEZ CYNTHIA PATRICIA","CONTADOR PUBLICO","SUPERIOR","PROFESIONAL",12,12,28200,6,6,13800]
[null,"001 SEDE CENTRAL","RO","CAS","Profesional",2300,"45963381","MONTOYA SANCHEZ MANUEL ANDRES","ABOGADO","SUPERIOR","PROFESIONAL",9,9,21606.67,6,6,13800]
[null,"001 SEDE CENTRAL","RO","CAS","Profesional",2300,"32948962","MORALES MANRIQUE GILMER ALBERTO","LICENCIADO EN ADMINISTRACION","SUPERIOR","PROFESIONAL",12,12,28200,6,6,13800]
[null,"001 SEDE CENTRAL","RO","CAS","Profesional",2300,"44160963","MORALES ROJAS ESTHER NATALI","LICENCIADO EN TURISMO","SUPERIOR","PROFESIONAL",12,12,28200,6,6,13800]
[null,"001 SEDE CENTRAL","RO","CAS","Profesional",2300,"18110226","MORALES RUIZ GASTON","CONTADOR PUBLICO","SUPERIOR","PROFESIONAL",12,12,28200,6,6,13800]
[null,"001 SEDE CENTRAL","RDR","CAS","Profesional",2300,"70616455","NECIOSUP ZAVALETA WENDY ROXANA","BIOLOGO","SUPERIOR","PROFESIONAL",12,12,28200,6,6,13800]
[null,"001 SEDE CENTRAL","RDR","CAS","Profesional",2300,"46447519","NEGREROS JUAREZ ANA LISETH","LICENCIADA EN CIENCIAS DE LA COMUNICACION ","SUPERIOR","PROFESIONAL",12,12,28200,6,6,13800]
[null,"001 SEDE CENTRAL","RO","CAS","Profesional",2300,"18172007","NUÑUVERO ALZA HERLESS OMAR DIMITRI","CONTADOR PUBLICO","SUPERIOR","PROFESIONAL",12,12,28200,6,6,13800]
[null,"001 SEDE CENTRAL","RO","CAS","Profesional",2300,"18155762","PABLO OTINIANO RICHARD MITCHEL","BACHILLER EN CIENCIAS ECONOMICAS","SUPERIOR","PROFESIONAL",12,12,28200,6,6,13800]
[null,"001 SEDE CENTRAL","RO","CAS","Profesional",2300,"46264925","PACHECO LAZARO CARLA MAGALY","ABOGADO","SUPERIOR","PROFESIONAL",12,12,28200,6,6,13800]
[null,"001 SEDE CENTRAL","RDR","CAS","Profesional",2300,"43382059","PARDO NAVARRO MIGUEL ANGEL","ABOGADO","SUPERIOR","PROFESIONAL",12,12,28200,6,6,13800]
[null,"001 SEDE CENTRAL","RO","CAS","Profesional",2300,"19099673","PAREDES LEYVA MARIA ANGELICA","ABOGADO","SUPERIOR","PROFESIONAL",12,12,28200,6,6,13800]
[null,"001 SEDE CENTRAL","RDR","CAS","Profesional",2300,"45250758","PAREDES RIOS SHIRLEY VANESSA","INGENIERO INDUSTRIAL","SUPERIOR","PROFESIONAL",12,12,28200,6,6,13800]
[null,"001 SEDE CENTRAL","RO","CAS","Profesional",2300,"40196485","PEREDA VASQUEZ IRENE RAKELL","ABOGADO","SUPERIOR","PROFESIONAL",12,12,28200,6,6,13800]
[null,"001 SEDE CENTRAL","RO","CAS","Profesional",2300,"43614242","PLASENCIA CORONADO DORA LIZETH","INGENIERO AGRO INDUSTRIAL","SUPERIOR","PROFESIONAL",1,1,2990,6,6,13674]
[null,"001 SEDE CENTRAL","RO","CAS","Profesional",2300,"42026949","PONCE ROSILLO DE GONZALES DEL VALLE ROSALYN ELIANA","ABOGADO","SUPERIOR","PROFESIONAL",12,12,28200,6,6,13800]
[null,"001 SEDE CENTRAL","RO","CAS","Profesional",2300,"42680852","QUIÑONES CARRANZA CARLOS RENATO","PROFESOR DE EDUCACION SECUNDARIA COMUN","SUPERIOR","PROFESIONAL",12,12,28200,6,6,13824.4]
[null,"001 SEDE CENTRAL","RO","CAS","Profesional",2300,"18149383","QUIROS DIAZ LUISA ANGELICA","ABOGADO","SUPERIOR","PROFESIONAL",12,12,23606.67,5,5,0]
[null,"001 SEDE CENTRAL","RDR","CAS","Profesional",2300,"18847763","RAICO ABANTO NICOLAS CATALINO","INGENIERO INDUSTRIAL","SUPERIOR","PROFESIONAL",12,12,28200,6,6,13800]
[null,"001 SEDE CENTRAL","RO","CAS","Profesional",2300,"18202718","RAMIREZ CASTILLO SEGUNDO GERMAN","INGENIERO AGRONOMO","SUPERIOR","PROFESIONAL",9,9,21683.33,6,6,13800]
[null,"001 SEDE CENTRAL","RDR","CAS","Profesional",2300,"40820474","REBAZA IPARRAGUIRRE ALFONSO EULER","ABOGADO","SUPERIOR","PROFESIONAL",12,12,28200,6,6,13800]
[null,"001 SEDE CENTRAL","RO","CAS","Profesional",2300,"17837419","REGIS MACHUCA CARLOS ROBERTO","LICENCIADO EN ADMINISTRACION","SUPERIOR","PROFESIONAL",12,12,28200,6,6,13800]
[null,"001 SEDE CENTRAL","RO","CAS","Profesional",2300,"41502338","REYES VARGAS RITA DIANA","LICENCIADO EN EDUCACION SECUNDARIA","SUPERIOR","PROFESIONAL",12,12,25063.33,6,6,13876.67]
[null,"001 SEDE CENTRAL","RO","CAS","Profesional",2300,"45463167","RIVAS QUIROZ KATIA MARIANA","LICENCIADA EN ADMINISTRACIÓN EN TURISMO Y HOTELERÍA","SUPERIOR","PROFESIONAL",12,12,28200,6,6,13800]
[null,"001 SEDE CENTRAL","RDR","CAS","Profesional",2300,"42509082","RODRIGUEZ CRUZADO BENYTA IVONNE","ABOGADO","SUPERIOR","PROFESIONAL",12,12,28117,6,6,13800]
[null,"001 SEDE CENTRAL","RDR","CAS","Profesional",2300,"40009013","RODRIGUEZ RODRIGUEZ MANUEL ENRIQUE","LICENCIADO EN ADMINISTRACION","SUPERIOR","PROFESIONAL",12,12,28200,6,6,13800]
[null,"001 SEDE CENTRAL","RDR","CAS","Profesional",2300,"40754292","ROJAS CAMACHO JENY JUDITH","ABOGADO","SUPERIOR","PROFESIONAL",12,12,28200,6,6,13800]
[null,"001 SEDE CENTRAL","RDR","CAS","Profesional",2300,"41053589","RUNCIMAN BENITES MARCO ANTONIO","ABOGADO ","SUPERIOR","PROFESIONAL",12,12,28265.96,6,6,13800]
[null,"001 SEDE CENTRAL","RO","CAS","Profesional",2300,"46745299","SAAVEDRA CORONEL MARIE ZENETH","INGENIERO INDUSTRIAL","SUPERIOR","PROFESIONAL",12,12,28200,6,6,13800]
[null,"001 SEDE CENTRAL","RO","CAS","Profesional",2300,"26704839","SALAS RABANAL CESAR AUGUSTO","ABOGADO","SUPERIOR","PROFESIONAL",12,12,28200,6,6,13800]
[null,"001 SEDE CENTRAL","RO","CAS","Profesional",2300,"43104296","SALIRROSAS QUISPE VICTOR ENRIQUE","INGENIERO EN COMPUTACION E INFORMATICA","SUPERIOR","PROFESIONAL",12,12,28200,6,6,13800]
[null,"001 SEDE CENTRAL","RO","CAS","Profesional",2300,"41154847","SANCHEZ ROMERO ALDO ABRAHAM","ABOGADO","SUPERIOR","PROFESIONAL",6,6,13946.67,6,6,13800]
[null,"001 SEDE CENTRAL","RO","CAS","Profesional",2300,"18132343","SEVILLANO SALVADOR VICTOR MANUEL","INGENIERO DE SISTEMAS","SUPERIOR","PROFESIONAL",12,12,28200,6,6,13708]
[null,"001 SEDE CENTRAL","RDR","CAS","Profesional",2300,"40662241","SILVA VILCHEZ MARCO ANTONIO","INGENIERO EN COMPUTACION E INFORMATICA","SUPERIOR","PROFESIONAL",12,12,28200,6,6,13800]
[null,"001 SEDE CENTRAL","RO","CAS","Profesional",2300,"40283036","SUPO CORNEJO KAREN LILIBET","ABOGADO","SUPERIOR","PROFESIONAL",12,12,28200,6,6,13800]
[null,"001 SEDE CENTRAL","RO","CAS","Profesional",2300,"18898928","TAFUR JARA DE SANCHEZ PATRICIA","LICENCIADO EN ADMINISTRACION","SUPERIOR","PROFESIONAL",0,0,0,6,6,13800]
[null,"001 SEDE CENTRAL","RO","CAS","Profesional",2300,"43594623","TERAN PIANTO HENDER MIGUEL","ABOGADO","SUPERIOR","PROFESIONAL",12,12,28200,6,6,13800]
[null,"001 SEDE CENTRAL","RO","CAS","Profesional",2300,"17808052","URBANO ASCENCIO JAVIER ALFREDO","ABOGADO","SUPERIOR","PROFESIONAL",12,12,28200,6,6,13800]
[null,"001 SEDE CENTRAL","RO","CAS","Profesional",2300,"41223929","URBINA BENITES CELICA CECILIA","ABOGADO","SUPERIOR","PROFESIONAL",12,12,28200,6,6,13800]
[null,"001 SEDE CENTRAL","RO","CAS","Profesional",2300,"18168277","VALDEZ TABOADA ROSMERIE","ABOGADO","SUPERIOR","PROFESIONAL",12,12,27328.5,6,6,13800]
[null,"001 SEDE CENTRAL","RO","CAS","Profesional",2300,"47775613","VALLEJOS ROJAS YAQUELINE JANET","CONTADOR PUBLICO","SUPERIOR","PROFESIONAL",1,1,2683.33,6,6,13800]
[null,"001 SEDE CENTRAL","RO","CAS","Profesional",2300,"09454310","VASQUEZ BEJAR CARLOS","PROFESOR EDUCACION FISICA","SUPERIOR","PROFESIONAL",12,12,28200,6,6,13800]
[null,"001 SEDE CENTRAL","RO","CAS","Profesional",2300,"17891601","VASQUEZ NICHO ELMER DANIEL","ABOGADO","SUPERIOR","PROFESIONAL",12,12,25700,6,6,13800]
[null,"001 SEDE CENTRAL","RO","CAS","Profesional",2300,"44198197","VASQUEZ SILVA SANDRA MARIANA","LICENCIADO EN ADMINISTRACION","SUPERIOR","PROFESIONAL",12,12,28200,6,6,13800]
[null,"001 SEDE CENTRAL","RO","CAS","Profesional",2300,"42155751","VASQUEZ VEGA LUCY JACQUELINE","ABOGADO","SUPERIOR","PROFESIONAL",12,12,28200,6,6,13800]
[null,"001 SEDE CENTRAL","RDR","CAS","Profesional",2300,"32963645","VELASQUEZ SAN MIGUEL ROSA ELIANA","ABOGADO","SUPERIOR","PROFESIONAL",12,12,27951,6,6,13800]
[null,"001 SEDE CENTRAL","RO","CAS","Profesional",2300,"40758782","VERA LLALLE YANNINA MELISSA","INGENIERO DE SISTEMAS","SUPERIOR","PROFESIONAL",12,12,28200,6,6,13800]
[null,"001 SEDE CENTRAL","RO","CAS","Profesional",2300,"41440333","VEREAU MORENO GONZALO","BACHILLER EN CIENCIAS SOCIALES","SUPERIOR","PROFESIONAL",12,12,28200,6,6,13800]
[null,"001 SEDE CENTRAL","RDR","CAS","Profesional",2300,"18081849","VILCHEZ TELLO YASMIN DEL ROCIO","CONTADOR PUBLICO","SUPERIOR","PROFESIONAL",12,12,28276.67,6,6,13800]
[null,"001 SEDE CENTRAL","RDR","CAS","Profesional",2300,"44623511","VILCHEZ VALDEZ EDGARD WILLIAM","BACHILLER EN INGENIERIA INFORMATICA Y DE SISTEMAS","SUPERIOR","PROFESIONAL",12,12,28200,6,6,13800]
[null,"001 SEDE CENTRAL","RO","CAS","Profesional",2300,"41601750","VILLEGAS REYES LORENA AZUCENA","LICENCIADA EN CIENCIAS DE LA COMUNICACION ","SUPERIOR","PROFESIONAL",12,12,28200,6,6,13800]
[null,"001 SEDE CENTRAL","RO","CAS","Profesional",2200,"43409114","NAVAS RUIZ ROCIO DEL CARMEN","ESTUDIANTE DE CONTABILIDAD","SUPERIOR","PROFESIONAL",12,12,27000,6,6,13200]
[null,"001 SEDE CENTRAL","RO","CAS","Profesional",2200,"41398302","ALVA FIGUEROA KATIA KARINA","INGENIERO CIVIL","SUPERIOR","PROFESIONAL",12,12,27000,6,6,13200]
[null,"001 SEDE CENTRAL","RO","CAS","Profesional",2200,"42413743","MONZON SANDOVAL NICANOR JOEL","MECANICO DE AUTOMOTORES DIESEL","SUPERIOR","PROFESIONAL",12,12,27000,6,6,13200]
[null,"001 SEDE CENTRAL","RO","CAS","Profesional",2200,"18091573","RODRIGUEZ ULLOA SUSANA PATRICIA","ABOGADO","SUPERIOR","PROFESIONAL",12,12,27000,6,6,13200]
[null,"001 SEDE CENTRAL","RDR","CAS","Profesional",2200,"41237892","VALVERDE MONTOYA NELIDA LORENA","ARQUITECTA ","SUPERIOR","PROFESIONAL",9,9,20693.330000000002,6,6,13200]
[null,"001 SEDE CENTRAL","RDR","CAS","Profesional",2000,"45230801","BOLAÑOS NARCISO IRWING LUIS","BACHILLER EN INGENIERIA CIVIL ","SUPERIOR","PROFESIONAL",2,2,4400,0,0,0]
[null,"001 SEDE CENTRAL","RDR","CAS","Profesional",2000,"48366635","ESQUIVEL BOY JOEL FERNANDO","ARQUITECTO ","SUPERIOR","PROFESIONAL",9,9,18933.330000000002,6,6,12000]
[null,"001 SEDE CENTRAL","RO","CAS","Profesional",2000,"43840361","FERNANDEZ RUIZ PAULO CESAR","BACHILLER EN DERECHO Y CIENCIAS POLITICAS","SUPERIOR","PROFESIONAL",4,4,8000,0,0,0]
[null,"001 SEDE CENTRAL","RO","CAS","Profesional",2000,"02802565","FLORES ZAMORA LUIS ALBERTO","INGENIERO AGRONOMO ","SUPERIOR","PROFESIONAL",7,7,14300,0,0,0]
[null,"001 SEDE CENTRAL","RO","CAS","Profesional",2000,"19096093","IDIAQUEZ MENDEZ MARCO ANTONIO","ARQUITECTO","SUPERIOR","PROFESIONAL",12,12,24600,1,1,2000]
[null,"001 SEDE CENTRAL","RO","CAS","Profesional",2000,"18114398","PALACIOS POLO ALFREDO ELEAZAR","TECNICO AGROPECUARIO","SUPERIOR","PROFESIONAL TECNICO",4,4,8000,0,0,0]
[null,"001 SEDE CENTRAL","RO","CAS","Profesional",2000,"18083352","AGUILAR ROJAS MELESIO ELUSTIANO","INGENIERO AGRONOMO","SUPERIOR","PROFESIONAL",12,12,24600,6,6,12000]
[null,"001 SEDE CENTRAL","RO","CAS","Profesional",2000,"19098076","ALVARADO AYLLON BLANCO JHUSTY","INGENIERO AGRO INDUSTRIAL","SUPERIOR","PROFESIONAL",12,12,24600,6,6,12000]
[null,"001 SEDE CENTRAL","RO","CAS","Profesional",2000,"17878368","CHACON CAMPOS JAIME WILFREDO","INGENIERO AGRONOMO","SUPERIOR","PROFESIONAL",12,12,24600,6,6,12000]
[null,"001 SEDE CENTRAL","RDR","CAS","Profesional",2000,"17870870","CHAVEZ CHAVARRIA ELENA CLARA","CONTADOR PUBLICO","SUPERIOR","PROFESIONAL",12,12,24600,6,6,12000]
[null,"001 SEDE CENTRAL","RDR","CAS","Profesional",2000,"71932445","DIAZ LLANOS YULIANNA MARYSELL","ARQUITECTO","SUPERIOR","PROFESIONAL",9,9,18933.330000000002,6,6,12000]
[null,"001 SEDE CENTRAL","RO","CAS","Profesional",2000,"18858095","DIAZ PESANTES ADA MIREYA","ABOGADO","SUPERIOR","PROFESIONAL",12,12,24600,6,6,12000]
[null,"001 SEDE CENTRAL","RO","CAS","Profesional",2000,"42511727","DIAZ REYNA PATRICIA ELIZABETH","BACHILLER EN ADMINISTRACION ","SUPERIOR","PROFESIONAL",9,9,18933.330000000002,6,6,12000]
[null,"001 SEDE CENTRAL","RO","CAS","Profesional",2000,"18832849","HUANCA DE LA CRUZ BERNABE SERAPIO","INGENIERO AGRONOMO","SUPERIOR","PROFESIONAL",9,9,18866.669999999998,6,6,12000]
[null,"001 SEDE CENTRAL","RO","CAS","Profesional",2000,"17522039","PALACIOS MENDOZA WILBER","INGENIERO AGRICOLA","SUPERIOR","PROFESIONAL",12,12,24600,6,6,12000]
[null,"001 SEDE CENTRAL","RO","CAS","Profesional",2000,"26695480","RABANAL ALIAGA SEGUNDO","INGENIERO AGRONOMO","SUPERIOR","PROFESIONAL",12,12,24600,6,6,12000]
[null,"001 SEDE CENTRAL","RDR","CAS","Profesional",2000,"73513866","ROJAS VERA ANYI TATIANA","BACH. INGENIERIA EN ING.CIVIL","SUPERIOR","PROFESIONAL",9,9,18300,6,6,12000]
[null,"001 SEDE CENTRAL","RDR","CAS","Profesional",2000,"42023560","SANCHEZ CASTRO ANDRES","ABOGADO","SUPERIOR","PROFESIONAL",12,12,24600,6,6,12000]
[null,"001 SEDE CENTRAL","RO","CAS","Profesional",2000,"41639793","TORRES VARAS JEANETTE FANNY","LICENCIADA EN OBSTETRICIA","SUPERIOR","PROFESIONAL",12,12,20610.89,6,6,12000]
[null,"001 SEDE CENTRAL","RO","CAS","Profesional",2000,"80203280","VILLANUEVA NAMOC MIGUEL ANTONIO","BACHILLER EN DERECHO","SUPERIOR","PROFESIONAL",12,12,24600,6,6,12000]
[null,"001 SEDE CENTRAL","RO","CAS","Profesional",1900,"70854628","VARAS GUZMAN ERICK ELVIS","-","SECUNDARIA COMPLETA","SECUNDARIA COMPLETA",6,6,9650,6,6,9050]
[null,"001 SEDE CENTRAL","RDR","CAS","Profesional",1800,"09878207","FERNANDEZ OSORIO DAVID","TECNICO ADMINISTRATIVO","SUPERIOR","PROFESIONAL TECNICO",5,5,9300,0,0,0]
[null,"001 SEDE CENTRAL","RO","CAS","Profesional",1800,"17852858","URQUIZO RODRIGUEZ LUIS ALFREDO","-","SECUNDARIA COMPLETA","SECUNDARIA COMPLETA",12,12,21743.5,1,1,1800]
[null,"001 SEDE CENTRAL","RO","CAS","Profesional",1800,"03700512","BENITES REBAZA ANA KATHARINA","INGENIERO DE SISTEMAS","SUPERIOR","PROFESIONAL",12,12,22200,6,6,10800]
[null,"001 SEDE CENTRAL","RO","CAS","Profesional",1800,"45614882","GUTIERREZ VELASQUEZ BRIGITTE ALEJANDRA","PROFESIONAL TECNICO EN COMPUTACION E INFORMATICA","SUPERIOR","PROFESIONAL TECNICO",12,12,19980,6,6,10800]
[null,"001 SEDE CENTRAL","RDR","CAS","Técnico",1700,"18197682","NUÑEZ CUEVA LUIS CARLOS","INGENIERO INFORMATICO","SUPERIOR","PROFESIONAL",12,12,21000,6,6,10200]
[null,"001 SEDE CENTRAL","RO","CAS","Técnico",1700,"41611917","ZURITA MILLONES MARIELA DEL CARMEN","-","SECUNDARIA COMPLETA","SECUNDARIA COMPLETA",9,9,16183.33,6,6,6084]
[null,"001 SEDE CENTRAL","RO","CAS","Técnico",1647.2,"40927034","DIAZ REBAZA ANA EDELMIRA","LICENCIADO EN OBSTETRICIA","SUPERIOR","PROFESIONAL",12,12,20366.400000000005,6,6,9883.2000000000007]
[null,"001 SEDE CENTRAL","RO","CAS","Técnico",1600,"19180465","COSTILLA CRUZADO CARLOS WALDO","INGENIERO PESQUERO","SUPERIOR","PROFESIONAL",3,3,4800,0,0,0]
[null,"001 SEDE CENTRAL","RO","CAS","Técnico",1600,"18112614","MEDINA LESCANO JULIO CESAR","INGENIERO PESQUERO","SUPERIOR","PROFESIONAL",12,12,19800,6,6,9600]
[null,"001 SEDE CENTRAL","RO","CAS","Técnico",1600,"32760979","SAÈNZ VASQUEZ SANTOS RUPERTO","BIOLOGO","SUPERIOR","PROFESIONAL",12,12,19800,6,6,9600]
[null,"001 SEDE CENTRAL","RO","CAS","Técnico",1597.2,"17809845","NOEL GUEVARA JACQUELINE DEL SOCORRO","SECRETARIADO EJECUTIVO","SUPERIOR","PROFESIONAL TECNICO",1,1,1597.2,0,0,0]
[null,"001 SEDE CENTRAL","RO","CAS","Técnico",1597.2,"18100733","RODRIGUEZ ABANTO ROSA ANGELICA","PROMOTORA SOCIAL","SUPERIOR","PROFESIONAL",9,9,14674.800000000003,0,0,0]
[null,"001 SEDE CENTRAL","RO","CAS","Técnico",1597.2,"17857991","GOICOCHEA CANEPA HAYDEE MARIA","SECRETARIADO EJECUTIVO","SUPERIOR","PROFESIONAL TECNICO",12,12,19766.400000000005,6,6,9583.2000000000007]
[null,"001 SEDE CENTRAL","RO","CAS","Técnico",1597.2,"18212487","SANCHEZ RIVERO ROCIO DEL PILAR","TECNICO","SUPERIOR","PROFESIONAL TECNICO",12,12,19766.400000000005,6,6,9583.2000000000007]
[null,"001 SEDE CENTRAL","RO","CAS","Técnico",1500,"70295208","AHUMADA COLLAO JAMES JESUS","-","SECUNDARIA COMPLETA","SECUNDARIA COMPLETA",7,7,9300,0,0,0]
[null,"001 SEDE CENTRAL","RDR","CAS","Técnico",1500,"07747491","AVILA ORTIZ VICTOR ANTONIO","-","SECUNDARIA COMPLETA","SECUNDARIA COMPLETA",12,12,18600,6,6,9000]
[null,"001 SEDE CENTRAL","RO","CAS","Técnico",1500,"70306471","AYAY SANTOS JHEYSON JHON","-","SECUNDARIA COMPLETA","SECUNDARIA COMPLETA",1,1,1700,6,6,9000]
[null,"001 SEDE CENTRAL","RO","CAS","Técnico",1500,"48270807","BERECHE SEMINARIO JUAN CARLOS","-","SECUNDARIA COMPLETA","SECUNDARIA COMPLETA",1,1,1700,6,6,9000]
[null,"001 SEDE CENTRAL","RDR","CAS","Técnico",1500,"19186724","CUEVA VERTIZ JOSE NICOLAS","BACHILLER EN EDUCACION","SUPERIOR","PROFESIONAL",12,12,18600,6,6,9000]
[null,"001 SEDE CENTRAL","RO","CAS","Técnico",1500,"45776027","DEL RIO RODRIGUEZ LINDA ESTRELLA","BACHILLER EN DERECHO Y CIENCIAS POLITICAS","SUPERIOR","PROFESIONAL",5,5,7500,0,0,0]
[null,"001 SEDE CENTRAL","RO","CAS","Técnico",1500,"43537721","DIAZ MARCHENA TEOFILO BULMARO","-","SECUNDARIA COMPLETA","SECUNDARIA COMPLETA",12,12,18600,6,6,9000]
[null,"001 SEDE CENTRAL","RO","CAS","Técnico",1500,"17895586","DIESTRA CALDERON VIRGINIA AMANDA","COMPUTACION E INFORMATICA","SUPERIOR","PROFESIONAL",2,2,966.5,0,0,0]
[null,"001 SEDE CENTRAL","RDR","CAS","Técnico",1500,"41276480","DONETT ARMAS CAROLA FRANCISCA","-","SECUNDARIA COMPLETA","SECUNDARIA COMPLETA",12,12,18600,6,6,9000]
[null,"001 SEDE CENTRAL","RDR","CAS","Técnico",1500,"47137174","EGUSQUIZA VERDE SILVIA KATHLEEN","LICENCIADA EN ADMINISTRACIÓN","SUPERIOR","PROFESIONAL",12,12,17950,0,0,0]
[null,"001 SEDE CENTRAL","RO","CAS","Técnico",1500,"03680633","ESCOBAR ESPINOZA MIGUEL ANGEL","-","SECUNDARIA COMPLETA","SECUNDARIA COMPLETA",12,12,18600,6,6,9000]
[null,"001 SEDE CENTRAL","RDR","CAS","Técnico",1500,"02899271","GONZALES HIDALGO TANIA DEL PILAR","PROFESOR EDUCACION INICIAL","SUPERIOR","PROFESIONAL",12,12,18600,3,3,4500]
[null,"001 SEDE CENTRAL","RO","CAS","Técnico",1500,"19520409","GUEVARA GALDOS JUAN JULIO","TECNICO ADMINISTRATIVO","SUPERIOR","PROFESIONAL TECNICO",12,12,18600,6,6,9000]
[null,"001 SEDE CENTRAL","RO","CAS","Técnico",1500,"45636653","GUZMAN PISCO EDUARDO YSAAC","LABORATORIO CLINICO","SUPERIOR","PROFESIONAL",1,1,1500,0,0,0]
[null,"001 SEDE CENTRAL","RO","CAS","Técnico",1500,"73743432","JIMENEZ CUYAN ROLANDO","-","SECUNDARIA COMPLETA","SECUNDARIA COMPLETA",1,1,1600,6,6,9000]
[null,"001 SEDE CENTRAL","RO","CAS","Técnico",1500,"02878767","JIMENEZ SABA CESAR AUGUSTO","-","SECUNDARIA COMPLETA","SECUNDARIA COMPLETA",12,12,18600,6,6,9000]
[null,"001 SEDE CENTRAL","RDR","CAS","Técnico",1500,"41841557","KUSAKA LOZANO CIRO YNOKI","-","SECUNDARIA COMPLETA","SECUNDARIA COMPLETA",12,12,18600,1,1,1500]
[null,"001 SEDE CENTRAL","RDR","CAS","Técnico",1500,"41575116","LEON REYNOSO JUAN CARLOS","-","SECUNDARIA COMPLETA","SECUNDARIA COMPLETA",4,4,5200,0,0,0]
[null,"001 SEDE CENTRAL","RO","CAS","Técnico",1500,"44526417","MANTILLA PAREDES GIANCARLO","ABOGADO","SUPERIOR","PROFESIONAL",7,7,9300,0,0,0]
[null,"001 SEDE CENTRAL","RDR","CAS","Técnico",1500,"18204261","MARCHENA CALLIRGOS CARLOS EDUARDO","-","SECUNDARIA COMPLETA","SECUNDARIA COMPLETA",12,12,18600,6,6,9000]
[null,"001 SEDE CENTRAL","RO","CAS","Técnico",1500,"17919237","MARTINEZ POLO CARLOS ALBERTO","PERIODISTA","SUPERIOR","PROFESIONAL",12,12,18600,6,6,9000]
[null,"001 SEDE CENTRAL","RDR","CAS","Técnico",1500,"41932888","MENA GARRIDO ADRIAN RENE","-","SECUNDARIA COMPLETA","SECUNDARIA COMPLETA",9,9,14500,6,6,9000]
[null,"001 SEDE CENTRAL","RO","CAS","Técnico",1500,"16619122","MENESES PAJARES SEGUNDO MOISES","TECNICO","SUPERIOR","PROFESIONAL TECNICO",5,5,7500,0,0,0]
[null,"001 SEDE CENTRAL","RO","CAS","Técnico",1500,"17814189","MIRANDA PULIDO GUILLERMO VICTOR","PERIODISTA","SUPERIOR","PROFESIONAL",12,12,18600,6,6,9000]
[null,"001 SEDE CENTRAL","RO","CAS","Técnico",1500,"42429169","NEIRA CASTRO REGIS ALEXI","COMPUTACION E INFORMATICA","SUPERIOR","PROFESIONAL",7,7,9400,0,0,0]
[null,"001 SEDE CENTRAL","RO","CAS","Técnico",1500,"40431292","NUREÑA NUREÑA CESAR ORLANDO","-","SECUNDARIA COMPLETA","SECUNDARIA COMPLETA",1,1,1700,6,6,9000]
[null,"001 SEDE CENTRAL","RO","CAS","Técnico",1500,"17894819","ORTEGA RAMIREZ ELIZABETH","-","SECUNDARIA COMPLETA","SECUNDARIA COMPLETA",1,1,1550,6,6,9000]
[null,"001 SEDE CENTRAL","RO","CAS","Técnico",1500,"18126753","PALMA CACHO CARLOS EDUARDO","-","SECUNDARIA COMPLETA","SECUNDARIA COMPLETA",12,12,18600,6,6,9000]
[null,"001 SEDE CENTRAL","RO","CAS","Técnico",1500,"18149104","RAMIREZ FLORES JUAN MIGUEL","TECNICO","SUPERIOR","PROFESIONAL TECNICO",12,12,18600,6,6,9000]
[null,"001 SEDE CENTRAL","RDR","CAS","Técnico",1500,"48015724","REYES LOZANO MARLON MICHAEL","INGENIERO INDUSTRIAL ","SUPERIOR","PROFESIONAL",3,3,4500,0,0,0]
[null,"001 SEDE CENTRAL","RO","CAS","Técnico",1500,"17803753","REYNA SILVA TEOFILO ANDRES","-","SECUNDARIA COMPLETA","SECUNDARIA COMPLETA",12,12,18600,6,6,9000]
[null,"001 SEDE CENTRAL","RO","CAS","Técnico",1500,"40004076","RIOS LIZARZABURU CRISTHIAN ALEXANDER","-","SECUNDARIA COMPLETA","SECUNDARIA COMPLETA",1,1,1750,6,6,9000]
[null,"001 SEDE CENTRAL","RDR","CAS","Técnico",1500,"18856044","RISCO DAVILA CESAR VALDEMAR","TECNICO","SUPERIOR","PROFESIONAL TECNICO",12,12,18600,3,3,4500]
[null,"001 SEDE CENTRAL","RDR","CAS","Técnico",1500,"42908139","RODRIGUEZ SAGARDIA VICTOR RAFAEL","TECNICO","SUPERIOR","PROFESIONAL TECNICO",12,12,18600,1,1,1500]
[null,"001 SEDE CENTRAL","RO","CAS","Técnico",1500,"41127480","ROMERO ALFARO WILDER RAUL","-","SECUNDARIA COMPLETA","SECUNDARIA COMPLETA",1,1,1950,6,6,9000]
[null,"001 SEDE CENTRAL","RDR","CAS","Técnico",1500,"18855553","RONCAL MENDOZA ALFREDO LUIS","COMPUTACION E INFORMATICA","SUPERIOR","PROFESIONAL",12,12,18600,3,3,4600]
[null,"001 SEDE CENTRAL","RO","CAS","Técnico",1500,"45763266","RUMAY DILAS JOSE ANTONIO","-","SECUNDARIA COMPLETA","SECUNDARIA COMPLETA",9,9,14300,6,6,9050]
[null,"001 SEDE CENTRAL","RO","CAS","Técnico",1500,"18157084","SACHUN ASMAT RALFFI TEODORO","TECNICO CIVIL","SUPERIOR","PROFESIONAL TECNICO",7,7,9300,0,0,0]
[null,"001 SEDE CENTRAL","RDR","CAS","Técnico",1500,"46566879","SANTA CRUZ HERNANDEZ PAOLA ALEXANDRA","TECNICO EN ADMINISTRACION DE EMPRESAS","SUPERIOR","PROFESIONAL TECNICO",12,12,18600,2,2,3000]
[null,"001 SEDE CENTRAL","RO","CAS","Técnico",1500,"17940151","TACANGA PONCE FLOR MARITZA","PROFESIONAL TECNICO EN COMPUTACION E INFORMATICA","SUPERIOR","PROFESIONAL TECNICO",12,12,15321.5,1,1,1500]
[null,"001 SEDE CENTRAL","RO","CAS","Técnico",1500,"44235415","TAFUR CHAVEZ CYNTHIA MARISOL","ESTUDIANTE BIOLOGIA","SUPERIOR","PROFESIONAL",8,8,12366.67,0,0,0]
[null,"001 SEDE CENTRAL","RO","CAS","Técnico",1500,"41925128","TARAZONA YPARRAGUIRRE FREDY EDUARDO","-","SECUNDARIA COMPLETA","SECUNDARIA COMPLETA",12,12,18600,6,6,9000]
[null,"001 SEDE CENTRAL","RO","CAS","Técnico",1500,"44101142","TARRILLO TELLO JEYSSON LUIS CARLOS","-","SECUNDARIA COMPLETA","SECUNDARIA COMPLETA",7,7,11000,0,0,0]
[null,"001 SEDE CENTRAL","RO","CAS","Técnico",1500,"17868107","VALVERDE ACUÑA ALEJANDRO","PERIODISTA","SUPERIOR","PROFESIONAL",12,12,18600,6,6,9000]
[null,"001 SEDE CENTRAL","RO","CAS","Técnico",1500,"19083048","VARGAS URQUIAGA MARIA DEL CARMEN","ESTUDIANTE DE DERECHO","SUPERIOR","PROFESIONAL",12,12,18600,6,6,9000]
[null,"001 SEDE CENTRAL","RO","CAS","Técnico",1500,"18891795","VASQUEZ CUBAS DIOLINDA ISABEL","PROFESORA DE EDUCACION PRIMARIA","SUPERIOR","PROFESIONAL",12,12,18600,1,1,1500]
[null,"001 SEDE CENTRAL","RO","CAS","Técnico",1500,"18000792","VILLALOBOS ROLDAN SANTOS","-","SECUNDARIA COMPLETA","SECUNDARIA COMPLETA",12,12,18600,6,6,9000]
[null,"001 SEDE CENTRAL","RO","CAS","Técnico",1500,"17892469","VILLANUEVA ESQUEN LUIS ROMAN","BACHILLER EN PERIODISMO - RELACIONES PUBLICAS","SUPERIOR","PROFESIONAL",3,3,3900,0,0,0]
[null,"001 SEDE CENTRAL","RO","CAS","Técnico",1500,"41779529","AGUILAR NAMOC CESAR EDUARDO","BACHILLER EN DERECHO ","SUPERIOR","PROFESIONAL",6,6,9200,6,6,9000]
[null,"001 SEDE CENTRAL","RO","CAS","Técnico",1500,"45096003","AGUSTIN DIAZ WILFREDO","-","SECUNDARIA COMPLETA","SECUNDARIA COMPLETA",6,6,9400,6,6,9000]
[null,"001 SEDE CENTRAL","RDR","CAS","Técnico",1500,"18124212","ALCANTARA CASTILLO ROSA ELIZABETH","INGENIERO INFORMATICO Y DE SISTEMAS","SUPERIOR","PROFESIONAL",12,12,18600,6,6,9000]
[null,"001 SEDE CENTRAL","RO","CAS","Técnico",1500,"44235453","ALFARO FLORES EDUARDO GUSTAVO","BACHILLER EN CIENCIAS DE LA COMPUTACION ","SUPERIOR","PROFESIONAL",12,12,18600,6,6,9000]
[null,"001 SEDE CENTRAL","RO","CAS","Técnico",1500,"17985575","ARCE SALAZAR DE SANTOYO MARTHA TERESA","COMPUTACION E INFORMATICA","SUPERIOR","PROFESIONAL",12,12,18558.5,6,6,9000]
[null,"001 SEDE CENTRAL","RO","CAS","Técnico",1500,"18101480","BANDA MEDINA OSCAR","ABOGADO","SUPERIOR","PROFESIONAL",12,12,18600,6,6,9000]
[null,"001 SEDE CENTRAL","RO","CAS","Técnico",1500,"43657225","BAY JULCA AMADA RUKMINI","ABOGADO","SUPERIOR","PROFESIONAL",12,12,18600,6,6,9000]
[null,"001 SEDE CENTRAL","RDR","CAS","Técnico",1500,"45594613","BENDEZU MERINO RAY EDUARDO","LICENCIADO EN CIENCIAS DE LA COMUNICACION ","SUPERIOR","PROFESIONAL",12,12,18600,6,6,9000]
[null,"001 SEDE CENTRAL","RDR","CAS","Técnico",1500,"40810078","BENITES DE LA CRUZ PAOLA FRANCISCA","BACHILLER EN DERECHO","SUPERIOR","PROFESIONAL",12,12,18600,6,6,9000]
[null,"001 SEDE CENTRAL","RDR","CAS","Técnico",1500,"43626428","BENITES PAZ GUSTAVO ADOLFO","BACHILLER EN DERECHO","SUPERIOR","PROFESIONAL",12,12,18600,6,6,9000]
[null,"001 SEDE CENTRAL","RDR","CAS","Técnico",1500,"42705787","CARRANZA FLORES FERNANDO JHONATAN","PEON ","SECUNDARIA COMPLETA","SECUNDARIA COMPLETA",9,9,14050,6,6,9050]
[null,"001 SEDE CENTRAL","RO","CAS","Técnico",1500,"42598858","CASTILLO CORDOVA VICTOR JULIO","COMPUTACION E INFORMATICA","SUPERIOR","PROFESIONAL",12,12,18600,6,6,9000]
[null,"001 SEDE CENTRAL","RO","CAS","Técnico",1500,"72287170","CENAS REYNA DANNY ROGER","LICENCIADO EN ADMINISTRACION","SUPERIOR","PROFESIONAL",12,12,18600,6,6,9000]
[null,"001 SEDE CENTRAL","RO","CAS","Técnico",1500,"17811972","CENTURION SAAVEDRA RODOLFO ABELARDO","INGENIERO INDUSTRIAL","SUPERIOR","PROFESIONAL",12,12,18600,6,6,9000]
[null,"001 SEDE CENTRAL","RDR","CAS","Técnico",1500,"18141987","CHARCAPE QUIROZ RAFEL EDUARDO","INGENIERO METALURGISTA","SUPERIOR","PROFESIONAL",12,12,18600,6,6,9000]
[null,"001 SEDE CENTRAL","RO","CAS","Técnico",1500,"40861121","CORCUERA BURGOS AYULISA AMPARO","PROFESIONAL TECNICO EN MERCADOTECNIA","SUPERIOR","PROFESIONAL",1,1,1700,6,6,9000]
[null,"001 SEDE CENTRAL","RO","CAS","Técnico",1500,"46812807","CORDOVA ESCALANTE ALINA DEL CARMEN","-","SECUNDARIA COMPLETA","SECUNDARIA COMPLETA",12,12,18600,6,6,9000]
[null,"001 SEDE CENTRAL","RO","CAS","Técnico",1500,"44193753","DE LA VEGA PANDO LUIS ALBERTO","-","SECUNDARIA COMPLETA","SECUNDARIA COMPLETA",9,9,14050,6,6,9000]
[null,"001 SEDE CENTRAL","RO","CAS","Técnico",1500,"70249292","ESCOBAR OLGUIN HOLLAN LUIS","ENFERMERIA TECNICA","SUPERIOR","PROFESIONAL TECNICO",12,12,18600,6,6,9000]
[null,"001 SEDE CENTRAL","RO","CAS","Técnico",1500,"17824389","ESCOBEDO PULÌDO ARLET EUGENIA","ESP. PROFESIONAL EN CONTABILIDAD EN EMPRESARIAL","SUPERIOR","PROFESIONAL",12,12,18600,6,6,9000]
[null,"001 SEDE CENTRAL","RO","CAS","Técnico",1500,"45909646","ESPINOZA PASTOR SANDRA MARIELA","LICENCIADA EN CIENCIAS DE LA COMUNICACION ","SUPERIOR","PROFESIONAL",12,12,18600,6,6,9000]
[null,"001 SEDE CENTRAL","RDR","CAS","Técnico",1500,"19061550","FLORES REYES GENARO NELSON","-","SECUNDARIA COMPLETA","SECUNDARIA COMPLETA",12,12,18600,6,6,9000]
[null,"001 SEDE CENTRAL","RO","CAS","Técnico",1500,"44508006","FLORES SALINAS JOHANNY BEATRIZ","LICENCIADO EN ADMINISTRACION","SUPERIOR","PROFESIONAL",12,12,18600,6,6,9000]
[null,"001 SEDE CENTRAL","RO","CAS","Técnico",1500,"18007717","GALARZA MORENO DE TOMAS CONCEPCION CONSUELO","COMPUTACION E INFORMATICA","SUPERIOR","PROFESIONAL",12,12,18600,6,6,9000]
[null,"001 SEDE CENTRAL","RDR","CAS","Técnico",1500,"44479463","GAMBOA MEZA KATTY EVELING","-","SECUNDARIA COMPLETA","SECUNDARIA COMPLETA",9,9,14550,6,6,9000]
[null,"001 SEDE CENTRAL","RDR","CAS","Técnico",1500,"17809615","GARCIA LOZANO ENA MARINA","INGENIERO QUIMICO","SUPERIOR","PROFESIONAL",12,12,15600,6,6,9000]
[null,"001 SEDE CENTRAL","RO","CAS","Técnico",1500,"40178032","GONZALEZ ARGOMEDO CAROL JANE","ADMINISTRACIÓN DE NEGOCIOS","SUPERIOR","PROFESIONAL",12,12,18600,6,6,9000]
[null,"001 SEDE CENTRAL","RO","CAS","Técnico",1500,"17525183","GUTIERREZ VASQUEZ JUAN PEDRO","PROFESOR EDUCACION SECUNDARIA","SUPERIOR","PROFESIONAL",12,12,18600,6,6,9000]
[null,"001 SEDE CENTRAL","RO","CAS","Técnico",1500,"18162807","HENRIQUEZ SANTISTEBAN FELER","INGENIERO INDUSTRIAL","SUPERIOR","PROFESIONAL",12,12,18600,6,6,9000]
[null,"001 SEDE CENTRAL","RDR","CAS","Técnico",1500,"18227176","INCA PARIONA LUCY ADELA","SECRETARIA/O","SUPERIOR","PROFESIONAL TECNICO",9,9,14250,6,6,9000]
[null,"001 SEDE CENTRAL","RO","CAS","Técnico",1500,"18987967","IPARRAGUIRRE VEGA AHIDA LORENZA","PROFESOR EDUCACION SECUNDARIA","SUPERIOR","PROFESIONAL",12,12,18600,6,6,9000]
[null,"001 SEDE CENTRAL","RO","CAS","Técnico",1500,"45734444","JARAMILLO REYNA JONATHAN RANDY","PROFESIONAL TECNICO EN CONTABILIDAD","SUPERIOR","PROFESIONAL",1,1,1750,6,6,9000]
[null,"001 SEDE CENTRAL","RO","CAS","Técnico",1500,"47514152","LEON ARANA ESTHEFANY JHOSSELY","TECNICO","SUPERIOR","PROFESIONAL TECNICO",8,8,11350,6,6,9000]
[null,"001 SEDE CENTRAL","RO","CAS","Técnico",1500,"18190795","LIZA GOMERO GARY JESUS","LICENCIADO EN ADMINISTRACION ","SUPERIOR","PROFESIONAL",12,12,16000,6,6,8076]
[null,"001 SEDE CENTRAL","RO","CAS","Técnico",1500,"40785513","LLANOS RODRIGUEZ CESAR ANTONIO","LICENCIADO EN CIENCIAS DE LA COMUNICACION ","SUPERIOR","PROFESIONAL",12,12,18600,6,6,9000]
[null,"001 SEDE CENTRAL","RO","CAS","Técnico",1500,"18137398","MANTILLA IPARRAGUIRRE IVAN ANDRES","ARQUITECTO","SUPERIOR","PROFESIONAL",12,12,18600,6,6,9000]
[null,"001 SEDE CENTRAL","RO","CAS","Técnico",1500,"45280486","MANTILLA PAREDES DIEGO ALEJANDRO","-","SECUNDARIA COMPLETA","SECUNDARIA COMPLETA",9,9,14500,6,6,9000]
[null,"001 SEDE CENTRAL","RO","CAS","Técnico",1500,"18093252","MARIÑOS PAREDES MARCO ANTONIO","TECNICO EN CONTABILIDAD","SUPERIOR","PROFESIONAL TECNICO",12,12,18600,6,6,9000]
[null,"001 SEDE CENTRAL","RO","CAS","Técnico",1500,"70468308","MARQUINA DIAZ STEFANY KIMBERLY","SECRETARIADO","SUPERIOR","PROFESIONAL TECNICO",12,12,18600,6,6,9050]
[null,"001 SEDE CENTRAL","RO","CAS","Técnico",1500,"18160104","MAS TEJADA ANA CECILIA","ECONOMISTA","SUPERIOR","PROFESIONAL",12,12,18600,6,6,9000]
[null,"001 SEDE CENTRAL","RO","CAS","Técnico",1500,"17973703","MENDEZ GALVEZ LUIS","LICENCIADO EN EDUCACION ","SUPERIOR","PROFESIONAL",12,12,18600,6,6,9000]
[null,"001 SEDE CENTRAL","RO","CAS","Técnico",1500,"17906932","MOYA IBAÑEZ FERNANDO NATIVIDAD","CONTADOR PUBLICO","SUPERIOR","PROFESIONAL",12,12,18600,6,6,9000]
[null,"001 SEDE CENTRAL","RDR","CAS","Técnico",1500,"40057431","NAVARRETE MENDO SILVIA JACQUELYN","COMPUTACION E INFORMATICA","SUPERIOR","PROFESIONAL",12,12,18600,6,6,9000]
[null,"001 SEDE CENTRAL","RO","CAS","Técnico",1500,"17805243","OTINIANO RUIZ GILMER WALTER","CONTADOR MERCANTIL","SUPERIOR","PROFESIONAL",12,12,18648.650000000001,6,6,9000]
[null,"001 SEDE CENTRAL","RO","CAS","Técnico",1500,"80300681","PALACIOS RUIZ DORA ISABEL","SECRETARIADO","SUPERIOR","PROFESIONAL TECNICO",12,12,18600,6,6,9000]
[null,"001 SEDE CENTRAL","RO","CAS","Técnico",1500,"44766458","PLASENCIA ULCO JEAN JHONNATAN","BACHILLER EN DERECHO","SUPERIOR","PROFESIONAL",1,1,2000,6,6,9000]
[null,"001 SEDE CENTRAL","RO","CAS","Técnico",1500,"18206924","RAFAEL SANTIAGO ANTERO GIL","RELACIONES PUBLICAS","SUPERIOR","PROFESIONAL",12,12,18600,6,6,9000]
[null,"001 SEDE CENTRAL","RO","CAS","Técnico",1500,"18123072","ROBLES LINARES RAUL ENRIQUE","ABOGADO","SUPERIOR","PROFESIONAL",12,12,18600,6,6,9000]
[null,"001 SEDE CENTRAL","RO","CAS","Técnico",1500,"17809266","RODRIGUEZ ABANTO FLOR NOEMI","LICENCIADA EN EDUCACION SECUNDARIA MENCION: FILOSOFIA, PSICOLOGIA Y CIENCIAS SOCIALES ","SUPERIOR","PROFESIONAL",12,12,18600,6,6,9000]
[null,"001 SEDE CENTRAL","RO","CAS","Técnico",1500,"18217655","RODRIGUEZ ALVA ELGA","COMPUTACION E INFORMATICA","SUPERIOR","PROFESIONAL",12,12,18600,6,6,9000]
[null,"001 SEDE CENTRAL","RO","CAS","Técnico",1500,"18228275","RODRIGUEZ REYNA JUAN JULIO","INGENIERO DE MINAS","SUPERIOR","PROFESIONAL",12,12,18143.5,6,6,9000]
[null,"001 SEDE CENTRAL","RO","CAS","Técnico",1500,"19101906","RODRIGUEZ RODRIGUEZ ESMILTER ELISBAN","PROFESIONAL TECNICO EN AGROPECUARIA","SUPERIOR","PROFESIONAL TECNICO",12,12,18600,6,6,9000]
[null,"001 SEDE CENTRAL","RO","CAS","Técnico",1500,"18068802","RODRIGUEZ SALGADO ANGEL MARIANO","INGENIERO CIVIL","SUPERIOR","PROFESIONAL",12,12,18600,6,6,9000]
[null,"001 SEDE CENTRAL","RO","CAS","Técnico",1500,"18141802","SACHUN IBAÑEZ FABRIZIO ANTONIO","INGENIERO INDUSTRIAL","SUPERIOR","PROFESIONAL",12,12,17313.5,6,6,9000]
[null,"001 SEDE CENTRAL","RO","CAS","Técnico",1500,"41461550","SALINAS TOMAPASCA HUGO DAVID","PROFESIONAL TECNICO EN COMPUTACION E INFORMATICA","SUPERIOR","PROFESIONAL TECNICO",12,12,18600,6,6,9000]
[null,"001 SEDE CENTRAL","RO","CAS","Técnico",1500,"42163154","SANCHEZ ARAUJO ROSALYN MILAGROS","INGENIERIA INFORMATICA Y DE SISTEMAS","SUPERIOR","PROFESIONAL",12,12,18600,6,6,9000]
[null,"001 SEDE CENTRAL","RO","CAS","Técnico",1500,"18055301","SANCHEZ DEZA PEDRO PABLO","TECNICO","SUPERIOR","PROFESIONAL TECNICO",12,12,18600,6,6,9000]
[null,"001 SEDE CENTRAL","RO","CAS","Técnico",1500,"46145995","TERRONES CASTAÑEDA EVELIN LIZET","CONTADOR PUBLICO","SUPERIOR","PROFESIONAL",12,12,18600,6,6,5052]
[null,"001 SEDE CENTRAL","RO","CAS","Técnico",1500,"42187137","TORIBIO CALDERON JULIO CESAR","ADMINISTRACION DE EMPRESAS","SECUNDARIA COMPLETA","SECUNDARIA COMPLETA",12,12,18600,6,6,9000]
[null,"001 SEDE CENTRAL","RO","CAS","Técnico",1500,"43186547","TULUMBA GUZMAN SILVIA","ABOGADO","SUPERIOR","PROFESIONAL",1,1,2050,6,6,9000]
[null,"001 SEDE CENTRAL","RO","CAS","Técnico",1500,"43630655","VASQUEZ PLASENCIA MICHEL ADRIAN","-","SECUNDARIA COMPLETA","SECUNDARIA COMPLETA",9,9,14350,6,6,9000]
[null,"001 SEDE CENTRAL","RO","CAS","Técnico",1500,"40454009","VASQUEZ SANCHEZ LILIANA JACKELINE","PROFESIONAL TECNICO EN MERCADOTECNIA","SUPERIOR","PROFESIONAL TECNICO",12,12,18600,6,6,9000]
[null,"001 SEDE CENTRAL","RO","CAS","Técnico",1500,"41567578","VASQUEZ VELASQUEZ CARMEN ROSA DE JESUS","BACHILLER ARQUITECTURA","SUPERIOR","PROFESIONAL",12,12,18600,6,6,9000]
[null,"001 SEDE CENTRAL","RDR","CAS","Técnico",1500,"18167642","VENTURA GONZALES LUZ DEL ROCIO","ABOGADO","SUPERIOR","PROFESIONAL",12,12,18600,6,6,9000]
[null,"001 SEDE CENTRAL","RO","CAS","Técnico",1500,"42043190","VILLACORTA ESTEVES ELMO ALBERTO","TECNICO","SUPERIOR","PROFESIONAL TECNICO",12,12,18600,6,6,9000]
[null,"001 SEDE CENTRAL","RO","CAS","Técnico",1500,"18199660","ZUMARAN CHICLAYO HUGO CESAR","TECNICO","SUPERIOR","PROFESIONAL TECNICO",12,12,18600,6,6,9000]
[null,"001 SEDE CENTRAL","RDR","CAS","Auxiliar",1300,"46460418","BADA ARIAS DIEGO JOSE EDUARDO","-","SECUNDARIA COMPLETA","SECUNDARIA COMPLETA",12,12,16200,6,6,7800]
[null,"001 SEDE CENTRAL","RO","CAS","Auxiliar",1300,"00249075","BENITES NAVARRO LENKA CAROLA","SECRETARIADO EJECUTIVO","SUPERIOR","PROFESIONAL TECNICO",7,7,8100,0,0,0]
[null,"001 SEDE CENTRAL","RDR","CAS","Auxiliar",1300,"40630340","CABOS AURORA JAIME LEODAN","TECNICO EN COMPUTACION","SUPERIOR","PROFESIONAL TECNICO",12,12,16200,6,6,7800]
[null,"001 SEDE CENTRAL","RDR","CAS","Auxiliar",1300,"44167954","CAMACHO SINTI DONALSON","-","SECUNDARIA COMPLETA","SECUNDARIA COMPLETA",12,12,16200,6,6,7800]
[null,"001 SEDE CENTRAL","RDR","CAS","Auxiliar",1300,"44639560","CHACHAPOYAS AYAY JUAN ENRIQUE","-","SECUNDARIA COMPLETA","SECUNDARIA COMPLETA",12,12,16200,6,6,7800]
[null,"001 SEDE CENTRAL","RDR","CAS","Auxiliar",1300,"46416748","GALOQUIN SANCHEZ RICARDO LUTY","-","SECUNDARIA COMPLETA","SECUNDARIA COMPLETA",12,12,16200,6,6,7800]
[null,"001 SEDE CENTRAL","RO","CAS","Auxiliar",1300,"26723435","LOAYZA TOLEDO MARCO ANTONIO","-","SECUNDARIA COMPLETA","SECUNDARIA COMPLETA",12,12,16200,6,6,7886.67]
[null,"001 SEDE CENTRAL","RDR","CAS","Auxiliar",1300,"42517814","MENDEZ GUERRERO ZAIDA MARILU","-","SECUNDARIA COMPLETA","SECUNDARIA COMPLETA",12,12,16200,2,2,2600]
[null,"001 SEDE CENTRAL","RDR","CAS","Auxiliar",1300,"18073348","REYES DEL RIO LORGIO JAVIER","-","SECUNDARIA COMPLETA","SECUNDARIA COMPLETA",12,12,16200,6,6,7800]
[null,"001 SEDE CENTRAL","RDR","CAS","Auxiliar",1300,"40540694","REYES TAMARIZ LUIS JOSE","-","SECUNDARIA COMPLETA","SECUNDARIA COMPLETA",12,12,15328.5,6,6,7800]
[null,"001 SEDE CENTRAL","RDR","CAS","Auxiliar",1300,"41576372","RODRIGUEZ VALVERDE FELIX CESAR","-","SECUNDARIA COMPLETA","SECUNDARIA COMPLETA",12,12,16200,6,6,7800]
[null,"001 SEDE CENTRAL","RO","CAS","Auxiliar",1300,"18132678","SALAS TELLO ROSMERY ESTHER","TECNICO ADMINISTRATIVO","SUPERIOR","PROFESIONAL TECNICO",12,12,16200,6,6,7800]
[null,"001 SEDE CENTRAL","RO","CAS","Auxiliar",1300,"44782527","SANTIAGO ESQUERRE JHON MICHEL","-","SECUNDARIA COMPLETA","SECUNDARIA COMPLETA",12,12,16200,6,6,7800]
[null,"001 SEDE CENTRAL","RO","CAS","Auxiliar",1300,"73254785","SIFUENTES GUTIERREZ VICTOR MIGUEL","-","SECUNDARIA COMPLETA","SECUNDARIA COMPLETA",12,12,16200,4,4,4203.33]
[null,"001 SEDE CENTRAL","RO","CAS","Auxiliar",1300,"46866162","VEREAU LUDEÑA YVAN ROBERTO","-","SECUNDARIA COMPLETA","SECUNDARIA COMPLETA",12,12,16200,6,6,7800]
[null,"001 SEDE CENTRAL","RO","CAS","Auxiliar",1300,"41304085","VEREAU REAÑO MIGUEL ALEXANDER","-","SECUNDARIA COMPLETA","SECUNDARIA COMPLETA",12,12,16200,6,6,7800]
[null,"001 SEDE CENTRAL","RDR","CAS","Auxiliar",1300,"45004129","GUEVARA PRETEL ANDER JAVIER","-","SECUNDARIA COMPLETA","SECUNDARIA COMPLETA",12,12,16200,6,6,7800]
[null,"001 SEDE CENTRAL","RDR","CAS","Auxiliar",1300,"45969597","JESUS RAMIREZ ELIZABETH KAREN","SECRETARIADO","SUPERIOR","PROFESIONAL TECNICO",12,12,16200,6,6,7800]
[null,"001 SEDE CENTRAL","RDR","CAS","Auxiliar",1300,"17999667","ÑAMOC ROMERO MARCO ANTONIO","PROFESIONAL TECNICO EN COMPUTACION E INFORMATICA","SUPERIOR","PROFESIONAL TECNICO",12,12,16200,6,6,7800]
[null,"001 SEDE CENTRAL","RDR","CAS","Auxiliar",1300,"43684223","RAMOS ONTANEDA MARTIN ALI","PROFESOR EDUCACION PRIMARIA","SUPERIOR","PROFESIONAL",12,12,16200,6,6,7800]
[null,"001 SEDE CENTRAL","RDR","CAS","Auxiliar",1300,"18201168","TORRES DOMINGUEZ LUISA BETTY","PROFESOR EDUCACION FISICA","SUPERIOR","PROFESIONAL",12,12,15287,6,6,7800]
[null,"001 SEDE CENTRAL","RO","CAS","Auxiliar",1250,"18079360","PACHAMANGO RUBIO SALOMÉ","BACHILLER EN CIENCIAS FISICAS Y MATEMATICAS","SUPERIOR","PROFESIONAL",5,5,6250,0,0,0]
[null,"001 SEDE CENTRAL","RO","CAS","Auxiliar",1200,"18092183","ABANTO MARIÑAS JUAN FRANCISCO","TEC. EN ADMINISTRACION-INS. SUP. TECN. ","SUPERIOR","PROFESIONAL",12,12,15000,6,6,7200]
[null,"001 SEDE CENTRAL","RO","CAS","Auxiliar",1200,"17899659","ALCANTARA ZAMBRANO GLORIA LILLY","TECNICO ADMINISTRATIVO","SUPERIOR","PROFESIONAL TECNICO",12,12,15000,6,6,7200]
[null,"001 SEDE CENTRAL","RO","CAS","Auxiliar",1200,"17932539","ALVAREZ ROMERO SEGUNDO OSCAR","CAPACITADOR-EDUC. SUP.TECNICA","SUPERIOR","PROFESIONAL TECNICO",12,12,15000,6,6,7200]
[null,"001 SEDE CENTRAL","RO","CAS","Auxiliar",1200,"18010415","CABALLERO SANCHEZ TITO MICHAEL","-","SECUNDARIA COMPLETA","SECUNDARIA COMPLETA",7,7,8700,0,0,0]
[null,"001 SEDE CENTRAL","RO","CAS","Auxiliar",1200,"17919784","CASTRO LOAYZA MATILDE ELIZABETH","SECRETARIA","SUPERIOR","PROFESIONAL TECNICO",12,12,15010,6,6,7200]
[null,"001 SEDE CENTRAL","RO","CAS","Auxiliar",1200,"18023096","FERRADAS ZUÑIGA JESSICA DEL CARMEN","-","SECUNDARIA COMPLETA","SECUNDARIA COMPLETA",12,12,15000,6,6,7200]
[null,"001 SEDE CENTRAL","RO","CAS","Auxiliar",1200,"32827662","FLORES IBAÑEZ ROCIO DEL CARMEN","AUXILIAR EN EDUCACION","SUPERIOR","PROFESIONAL TECNICO",9,9,10460,0,0,0]
[null,"001 SEDE CENTRAL","RO","CAS","Auxiliar",1200,"17816156","GONZALES SANCHEZ GREGORIO","-","SECUNDARIA COMPLETA","SECUNDARIA COMPLETA",12,12,15000,6,6,7200]
[null,"001 SEDE CENTRAL","RO","CAS","Auxiliar",1200,"07220438","GUERRA VILLAJULCA GAVY GRACIELA","TECNICO EN ADMINISTRACION DE EMPRESAS","SUPERIOR","PROFESIONAL TECNICO",12,12,12900,0,0,0]
[null,"001 SEDE CENTRAL","RDR","CAS","Auxiliar",1200,"42768259","LUIS JULIAN EBHER","-","SECUNDARIA COMPLETA","SECUNDARIA COMPLETA",12,12,15000,6,6,7200]
[null,"001 SEDE CENTRAL","RDR","CAS","Auxiliar",1200,"19565191","MARCELO SABOGAL SEGUNDO ISABEL","TECNICO/PRIMARIA COMPLETA","SUPERIOR","PROFESIONAL TECNICO",12,12,15000,6,6,7200]
[null,"001 SEDE CENTRAL","RO","CAS","Auxiliar",1200,"17806907","MARQUINA SANCHEZ JORGE ARTURO","SEGURIDAD","SUPERIOR","PROFESIONAL",12,12,15080,6,6,7320]
[null,"001 SEDE CENTRAL","RO","CAS","Auxiliar",1200,"17836865","MENDEZ MARIN GILMER DANILO","-","SECUNDARIA COMPLETA","SECUNDARIA COMPLETA",12,12,14360,6,6,7200]
[null,"001 SEDE CENTRAL","RO","CAS","Auxiliar",1200,"06149968","MUÑOZ EGUSQUIZA D. BETANCOURT ISOLINA ROSARIO","SECRETARIA","SUPERIOR","PROFESIONAL TECNICO",12,12,15000,6,6,7200]
[null,"001 SEDE CENTRAL","RDR","CAS","Auxiliar",1200,"17857810","MURGA CORNEJO WILLIAN ALBERTO","-","SECUNDARIA COMPLETA","SECUNDARIA COMPLETA",12,12,15000,6,6,7200]
[null,"001 SEDE CENTRAL","RO","CAS","Auxiliar",1200,"19189823","OLIVARI LINARES VICTOR ALEJANDRO","-","SECUNDARIA COMPLETA","SECUNDARIA COMPLETA",12,12,15000,6,6,7200]
[null,"001 SEDE CENTRAL","RO","CAS","Auxiliar",1200,"18061894","ORDOÑEZ LINDO PABLO WILFREDO","-","SECUNDARIA COMPLETA","SECUNDARIA COMPLETA",12,12,15000,6,6,7200]
[null,"001 SEDE CENTRAL","RO","CAS","Auxiliar",1200,"18185227","PANGALIMA ZAVALA MARIA MERCEDES","COMPUTACION E INFORMATICA","SUPERIOR","PROFESIONAL",12,12,15000,1,1,1200]
[null,"001 SEDE CENTRAL","RO","CAS","Auxiliar",1200,"19704422","PEREZ BELTRAN SANTOS WILLIAN","-","SECUNDARIA COMPLETA","SECUNDARIA COMPLETA",12,12,15000,6,6,7200]
[null,"001 SEDE CENTRAL","RO","CAS","Auxiliar",1200,"17875748","PINILLOS CHUNGA JORGE FELIPE","-","SECUNDARIA COMPLETA","SECUNDARIA COMPLETA",12,12,15000,6,6,7200]
[null,"001 SEDE CENTRAL","RO","CAS","Auxiliar",1200,"44526347","RIVADENEIRA VASQUEZ DUSTIN JOE","-","SECUNDARIA COMPLETA","SECUNDARIA COMPLETA",12,12,15000,6,6,7200]
[null,"001 SEDE CENTRAL","RO","CAS","Auxiliar",1200,"19188664","RODRIGUEZ VASQUEZ DELIA ROXANA","-","SECUNDARIA COMPLETA","SECUNDARIA COMPLETA",12,12,15000,6,6,7200]
[null,"001 SEDE CENTRAL","RO","CAS","Auxiliar",1200,"18124685","RONCAL CASANOVA RAUL GUEDER","TECNICO EN COMPUTACION","SUPERIOR","PROFESIONAL TECNICO",12,12,15000,6,6,7200]
[null,"001 SEDE CENTRAL","RO","CAS","Auxiliar",1200,"19233277","SALDAÑA BAZAN JULIO LUCAS","-","SECUNDARIA COMPLETA","SECUNDARIA COMPLETA",12,12,15000,6,6,7200]
[null,"001 SEDE CENTRAL","RO","CAS","Auxiliar",1200,"18009447","TORIBIO VINCES ENRIQUE MANUEL","-","SECUNDARIA COMPLETA","SECUNDARIA COMPLETA",12,12,12640,6,6,7200]
[null,"001 SEDE CENTRAL","RO","CAS","Auxiliar",1200,"18105218","VILLANUEVA VILLALOBOS PEDRO MIGUEL","-","SECUNDARIA COMPLETA","SECUNDARIA COMPLETA",12,12,15000,6,6,7200]
[null,"001 SEDE CENTRAL","RO","CAS","Auxiliar",1200,"47668226","ZAVALETA RUIZ YAJAIRA RAQUEL","TECNICO EN COMPUTACION","SUPERIOR","PROFESIONAL TECNICO",12,12,15000,2,2,2400]
[null,"001 SEDE CENTRAL","RO","CAS","Auxiliar",1200,"17898059","HERNANDEZ MENDEZ MARIO GREGORIO","CONTABILIDAD EMPRESARIAL","SUPERIOR","PROFESIONAL",4,4,4800,0,0,0]
[null,"001 SEDE CENTRAL","RO","CAS","Auxiliar",1200,"18109847","MEJIA VELASQUEZ MARCELA PATRICIA","COMPUTACION E INFORMATICA","SUPERIOR","PROFESIONAL",7,7,8700,0,0,0]
[null,"001 SEDE CENTRAL","RO","CAS","Auxiliar",1200,"70893421","AGUILAR DOMINGUEZ DOYLI SELENE","SECRETARIADO EJECUTIVO","SUPERIOR","PROFESIONAL TECNICO",12,12,15000,6,6,7200]
[null,"001 SEDE CENTRAL","RDR","CAS","Auxiliar",1200,"17907101","ALCANTARA MORENO JENNY MARGOT","PROFESIONAL TECNICO EN SECRETARIADO EJECUTIVO","SUPERIOR","PROFESIONAL TECNICO",12,12,15000,6,6,7200]
[null,"001 SEDE CENTRAL","RDR","CAS","Auxiliar",1200,"18890484","ALCANTARA ORTIZ CARLOS ANTONIO","ABOGADO","SUPERIOR","PROFESIONAL",12,12,15000,6,6,7200]
[null,"001 SEDE CENTRAL","RO","CAS","Auxiliar",1200,"18878893","AMAYA VASQUEZ JOSE AUGUSTO","TECNICO EN COMPUTACION IBM","SUPERIOR","PROFESIONAL TECNICO",12,12,15000,6,6,7200]
[null,"001 SEDE CENTRAL","RO","CAS","Auxiliar",1200,"17994328","ANGULO NARRO HILDA TERESA","CONTADOR MERCANTIL","SUPERIOR","PROFESIONAL",12,12,15000,6,6,7200]
[null,"001 SEDE CENTRAL","RDR","CAS","Auxiliar",1200,"18149936","ARRIVASPLATA GARCIA RAUL","TECNICO EN COMPUTACION","SUPERIOR","PROFESIONAL TECNICO",12,12,15000,6,6,7200]
[null,"001 SEDE CENTRAL","RO","CAS","Auxiliar",1200,"40579414","ARROYO QUISPE JOSEPH WILLIAN","TECNICO EN COMPUTACION","SUPERIOR","PROFESIONAL TECNICO",12,12,15000,6,6,7200]
[null,"001 SEDE CENTRAL","RO","CAS","Auxiliar",1200,"17621781","BERMEO VÉLEZ TOMASA MERCEDEZ","SECRETARIADO EJECUTIVO","SUPERIOR","PROFESIONAL TECNICO",12,12,15000,6,6,7200]
[null,"001 SEDE CENTRAL","RDR","CAS","Auxiliar",1200,"18126170","CABRERA DE LA CRUZ BRAULIO SANTIAGO","TECNICO EN COMPUTACION","SUPERIOR","PROFESIONAL TECNICO",12,12,15000,6,6,7200]
[null,"001 SEDE CENTRAL","RO","CAS","Auxiliar",1200,"06431444","CHICO UREÑA FLOR YSABEL","SECRETARIADO EJECUTIVO","SUPERIOR","PROFESIONAL TECNICO",12,12,15000,6,6,7200]
[null,"001 SEDE CENTRAL","RO","CAS","Auxiliar",1200,"17915540","ENCOMENDEROS DE HURTADO GLADYS LILIANA","SECRETARIADO EJECUTIVO","SUPERIOR","PROFESIONAL TECNICO",12,12,15000,6,6,7200]
[null,"001 SEDE CENTRAL","RDR","CAS","Auxiliar",1200,"17808562","FIGUEROA DIESTRA LUIS JHONY","BACHILLER EN ADMINISTRACION","SUPERIOR","PROFESIONAL",12,12,15000,6,6,7200]
[null,"001 SEDE CENTRAL","RO","CAS","Auxiliar",1200,"40744417","FLORES VARAS LUIS ALFREDO","MECANICA AUTOMOTRIZ","SUPERIOR","PROFESIONAL",12,12,15000,6,6,7200]
[null,"001 SEDE CENTRAL","RO","CAS","Auxiliar",1200,"17827220","GARCIA TELLO VICTOR MANUEL","BACHILLER EN CIENCIAS ECONOMICAS","SUPERIOR","PROFESIONAL",12,12,15000,6,6,7200]
[null,"001 SEDE CENTRAL","RO","CAS","Auxiliar",1200,"18152131","GONZALES MENDOZA EDUARDO PORTALATINO","COMPUTACION E INFORMATICA","SUPERIOR","PROFESIONAL",12,12,15000,6,6,7200]
[null,"001 SEDE CENTRAL","RDR","CAS","Auxiliar",1200,"40594363","HERNANDEZ PEÑA CANDY ESPERANZA","SECRETARIA","SUPERIOR","PROFESIONAL TECNICO",12,12,15000,6,6,7200]
[null,"001 SEDE CENTRAL","RO","CAS","Auxiliar",1200,"41993378","HERRERA ESPEJO WILSON FERNANDO","COMPUTACION E INFORMATICA","SUPERIOR","PROFESIONAL",12,12,13500,6,6,7200]
[null,"001 SEDE CENTRAL","RO","CAS","Auxiliar",1200,"18160640","LARREA CARBAJULCA VICTOR HUGO","MECANICA AUTOMOTRIZ","SUPERIOR","PROFESIONAL",12,12,15000,6,6,7200]
[null,"001 SEDE CENTRAL","RO","CAS","Auxiliar",1200,"17977005","LAZARO NARVAEZ SILVIA","SECRETARIADO EJECUTIVO","SUPERIOR","PROFESIONAL TECNICO",12,12,15003.17,6,6,7200]
[null,"001 SEDE CENTRAL","RO","CAS","Auxiliar",1200,"40969208","LEIVA GUTIERREZ JULIA MAGDALENA","SECRETARIA","SUPERIOR","PROFESIONAL TECNICO",12,12,15005.5,6,6,7200]
[null,"001 SEDE CENTRAL","RDR","CAS","Auxiliar",1200,"17879179","MALABRIGO RAMIREZ CARMEN ROSA","SECRETARIADO EJECUTIVO","SUPERIOR","PROFESIONAL TECNICO",12,12,15000,5,5,6000]
[null,"001 SEDE CENTRAL","RO","CAS","Auxiliar",1200,"18118211","MARQUINA LAVADO OSCAR AURELIO","TECNICO EN CONTABILIDAD","SUPERIOR","PROFESIONAL TECNICO",12,12,13600,6,6,7200]
[null,"001 SEDE CENTRAL","RO","CAS","Auxiliar",1200,"40255143","MINES CABRERA JESSICA MARGOT","PROFESIONAL TECNICO EN COMPUTACION E INFORMATICA","SUPERIOR","PROFESIONAL TECNICO",12,12,15000,6,6,7200]
[null,"001 SEDE CENTRAL","RO","CAS","Auxiliar",1200,"32818521","MIRANDA MINAYA JULIO CESAR","CONTABILIDAD","SUPERIOR","PROFESIONAL",12,12,15000,6,6,7200]
[null,"001 SEDE CENTRAL","RO","CAS","Auxiliar",1200,"41538982","MONTALVAN SOTO CARMEN ROSA","PROFESIONAL TECNICO EN CONTABILIDAD","SUPERIOR","PROFESIONAL TECNICO",12,12,15000,6,6,7200]
[null,"001 SEDE CENTRAL","RO","CAS","Auxiliar",1200,"32909113","ORLANDO CALDERON ANA PATRICIA","SECRETARIA","SUPERIOR","PROFESIONAL TECNICO",12,12,15040,6,6,7200]
[null,"001 SEDE CENTRAL","RO","CAS","Auxiliar",1200,"41557286","PINILLOS AGUILAR YURINSAN ELIZABETH","COMPUTACION E INFORMATICA","SUPERIOR","PROFESIONAL",12,12,11120,6,6,7200]
[null,"001 SEDE CENTRAL","RDR","CAS","Auxiliar",1200,"18086532","QUIPUZCO ALFARO MARIA ESPERANZA","AUXILIAR DE CONTABILIDAD","SUPERIOR","PROFESIONAL TECNICO",12,12,7880,6,6,7200]
[null,"001 SEDE CENTRAL","RO","CAS","Auxiliar",1200,"42731783","REYES ASCATE JEFFREY LEIRSON","TECNICO COMP. E INFORMATICA","SUPERIOR","PROFESIONAL TECNICO",12,12,15000,6,6,7156.25]
[null,"001 SEDE CENTRAL","RO","CAS","Auxiliar",1200,"18147866","ROJAS PAREDES PAOLA JESUS","COMPUTACION E INFORMATICA","SUPERIOR","PROFESIONAL",12,12,15000,6,6,7200]
[null,"001 SEDE CENTRAL","RO","CAS","Auxiliar",1200,"18084647","ROJAS SIPIRAN LUIS JOSE","BACHILLER EN CIENCIAS ADMININISTRATIVAS","SUPERIOR","PROFESIONAL",12,12,15018.17,6,6,7200]
[null,"001 SEDE CENTRAL","RO","CAS","Auxiliar",1200,"44098201","SANCHEZ SIGUEÑAS YUDIT","PROFESIONAL TECNICO EN COMPUTACION E INFORMATICA","SUPERIOR","PROFESIONAL TECNICO",12,12,15000,6,6,7200]
[null,"001 SEDE CENTRAL","RO","CAS","Auxiliar",1200,"18900690","SOTERO ALVA VALENTIN ALFREDO","TECNICO EN COMPUTACION IBM","SUPERIOR","PROFESIONAL TECNICO",12,12,15000,6,6,7200]
[null,"001 SEDE CENTRAL","RO","CAS","Auxiliar",1200,"19671531","TAMAYO MIÑANO ALICIA MARGOT","-","SECUNDARIA COMPLETA","SECUNDARIA COMPLETA",12,12,15000,6,6,7200]
[null,"001 SEDE CENTRAL","RO","CAS","Auxiliar",1200,"17967377","TOLENTINO GARCIA CRISTIAN RODRIGO","MECANICA AUTOMOTRIZ","SUPERIOR","PROFESIONAL",12,12,15000,6,6,7200]
[null,"001 SEDE CENTRAL","RDR","CAS","Auxiliar",1200,"18199590","URIOL CARRANZA ANA CECILIA","INGENIERO DE SISTEMAS","SUPERIOR","PROFESIONAL",12,12,15000,6,6,7200]
[null,"001 SEDE CENTRAL","RDR","CAS","Auxiliar",1000,"17840298","ALAYO IPARRAGUIRRE ANA MARIA DEL CARMEN","CONTADOR PUBLICO","SUPERIOR","PROFESIONAL",1,1,1000,0,0,0]
[null,"001 SEDE CENTRAL","RO","CAS","Auxiliar",1000,"18086288","AVILA ROJAS LUIS FRANCISCO","SEGURIDAD/PRIMARIA COMPLETA","SUPERIOR","PROFESIONAL",12,12,12600,6,6,6000]
[null,"001 SEDE CENTRAL","RO","CAS","Auxiliar",1000,"18084882","BACA ROMERO TANIA SOLEDAD","-","SECUNDARIA COMPLETA","SECUNDARIA COMPLETA",0,0,0,1,1,10000]
[null,"001 SEDE CENTRAL","RO","CAS","Auxiliar",1000,"18990054","CACHAY DIAZ EDGAR RONALD","TECNICO ADMINISTRATIVO","SUPERIOR","PROFESIONAL TECNICO",12,12,12600,6,6,6000]
[null,"001 SEDE CENTRAL","RO","CAS","Auxiliar",1000,"41598164","CONTRERAS LINDO CHRISTIAN ANDRES","-","SECUNDARIA COMPLETA","SECUNDARIA COMPLETA",12,12,12600,6,6,6000]
[null,"001 SEDE CENTRAL","RDR","CAS","Auxiliar",1000,"42718091","GARRIDO RECALDE AMELIA SOLEDAD","ESTUDIANTE DE DERECHO","SUPERIOR","PROFESIONAL",2,2,2000,0,0,0]
[null,"001 SEDE CENTRAL","RO","CAS","Auxiliar",1000,"17936717","GUTIERREZ ANDRADE MARIO CESAR","-","SECUNDARIA COMPLETA","SECUNDARIA COMPLETA",12,12,12600,6,6,6000]
[null,"001 SEDE CENTRAL","RO","CAS","Auxiliar",1000,"40791189","LARA MARIN JUAN RICARDO","TECNICO EN COMPUTACION","SUPERIOR","PROFESIONAL TECNICO",12,12,12600,6,6,6000]
[null,"001 SEDE CENTRAL","RO","CAS","Auxiliar",1000,"18112657","LUJAN PEÑA RAPHAEL CESAR","SEGURIDAD/TEC. REPARACION COMPT.","SUPERIOR","PROFESIONAL",12,12,12600,6,6,6000]
[null,"001 SEDE CENTRAL","RO","CAS","Auxiliar",1000,"18849705","MEDINA TERRONES HUMBERTO","-","SECUNDARIA COMPLETA","SECUNDARIA COMPLETA",12,12,12600,6,6,6000]
[null,"001 SEDE CENTRAL","RO","CAS","Auxiliar",1000,"17990607","MIGUEL RODRIGUEZ FERNANDO","-","SECUNDARIA COMPLETA","SECUNDARIA COMPLETA",12,12,12600,6,6,6000]
[null,"001 SEDE CENTRAL","RO","CAS","Auxiliar",1000,"17903358","NARVAEZ LIÑAN VICTOR HUMBERTO","-","SECUNDARIA COMPLETA","SECUNDARIA COMPLETA",12,12,12600,6,6,6000]
[null,"001 SEDE CENTRAL","RDR","CAS","Auxiliar",1000,"17907479","NAVARRO PAREDES EDUARDO ENRIQUE","ARQUITECTO","SUPERIOR","PROFESIONAL",9,9,40900,1,1,166.67]
[null,"001 SEDE CENTRAL","RO","CAS","Auxiliar",1000,"17858493","PALACIOS JULIAN ALEJANDRO FRANCISCO","SEGURIDAD/SECUNDARIA TECNICA","SUPERIOR","PROFESIONAL TECNICO",12,12,12700,6,6,6000]
[null,"001 SEDE CENTRAL","RDR","CAS","Auxiliar",1000,"17863774","PUN YUENG BARRETO VICTOR","SEGURIDAD","SUPERIOR","PROFESIONAL",12,12,12600,6,6,6066.67]
[null,"001 SEDE CENTRAL","RDR","CAS","Auxiliar",1000,"17900099","RODRIGUEZ NUREÑA MAX TELESFORO","AUXILIAR DE EDUCACION","SUPERIOR","PROFESIONAL TECNICO",12,12,12466.67,6,6,5933.33]
[null,"001 SEDE CENTRAL","RDR","CAS","Auxiliar",1000,"44789438","RUIZ VELASQUEZ ANDRES EMILIO","-","SECUNDARIA COMPLETA","SECUNDARIA COMPLETA",12,12,12600,6,6,6000]
[null,"001 SEDE CENTRAL","RDR","CAS","Auxiliar",1000,"17939438","SANCHEZ BACA JOSE EUGENIO","SEGURIDAD/ESTUD. SUP. INCOMP","SUPERIOR","PROFESIONAL",12,12,12600,6,6,6000]
[null,"001 SEDE CENTRAL","RO","CAS","Auxiliar",1000,"19404404","SEVILLANO CASTILLO HERMES GREGORIO","-","SECUNDARIA COMPLETA","SECUNDARIA COMPLETA",12,12,12600,6,6,3866.67]
[null,"001 SEDE CENTRAL","RDR","CAS","Auxiliar",1000,"18093582","TAMAYO CHAVEZ CESAR AUGUSTO","-","SECUNDARIA COMPLETA","SECUNDARIA COMPLETA",12,12,12600,6,6,6000]
[null,"001 SEDE CENTRAL","RDR","CAS","Auxiliar",1000,"17859280","TAVARA JUAREZ BETTY ANGELICA","TECNICO AUXILIAR ENFERMERIA","SUPERIOR","PROFESIONAL TECNICO",12,12,12600,6,6,6000]
[null,"001 SEDE CENTRAL","RDR","CAS","Auxiliar",1000,"17839247","TORO FON JUAN","-","SECUNDARIA COMPLETA","SECUNDARIA COMPLETA",12,12,12600,6,6,6000]
[null,"001 SEDE CENTRAL","RO","CAS","Auxiliar",1000,"41430125","URBINA FARIAS WILMER ALBERTO","-","SECUNDARIA COMPLETA","SECUNDARIA COMPLETA",12,12,12600,6,6,6000]
[null,"001 SEDE CENTRAL","RO","CAS","Auxiliar",1000,"17868961","VARGAS SANCHEZ EXCEQUIEL ARTIDORO","-","SECUNDARIA COMPLETA","SECUNDARIA COMPLETA",12,12,12600,6,6,6000]
[null,"001 SEDE CENTRAL","RO","CAS","Auxiliar",1000,"17812613","VEGA AMAYA JULIO CESAR","-","SECUNDARIA COMPLETA","SECUNDARIA COMPLETA",12,12,12600,6,6,6000]
[null,"001 SEDE CENTRAL","RO","CAS","Auxiliar",1000,"18075878","VILCHEZ MARQUINA SEGUNDO NOE","-","SECUNDARIA COMPLETA","SECUNDARIA COMPLETA",12,12,12600,6,6,6000]
[null,"001 SEDE CENTRAL","RO","CAS","Auxiliar",1000,"17817391","ZAVALETA URIOL LUIS ALBERTO","-","SECUNDARIA COMPLETA","SECUNDARIA COMPLETA",12,12,12600,6,6,6000]
[null,"001 SEDE CENTRAL","RO","CAS","Auxiliar",1000,"17990061","VELASQUEZ GUTIERREZ JOAQUIN PEDRO","ENFERMERIA TECNICA","SUPERIOR","PROFESIONAL TECNICO",4,4,4000,0,0,0]
[null,"001 SEDE CENTRAL","RDR","CAS","Auxiliar",1000,"43399940","AGÜERO MERINO JEIMY LORENA","LICENCIADO EN EDUCACION SECUNDARIA","SUPERIOR","PROFESIONAL",12,12,12600,6,6,6000]
[null,"001 SEDE CENTRAL","RO","CAS","Auxiliar",1000,"18074352","ALVARADO RAMOS MAJIN LUIS","TECNICO EN CONTABILIDAD","SUPERIOR","PROFESIONAL TECNICO",12,12,12600,6,6,6000]
[null,"001 SEDE CENTRAL","RO","CAS","Auxiliar",1000,"17874996","CARBAJAL ROJAS AGAPITO FLORO","TECNICO","SUPERIOR","PROFESIONAL TECNICO",12,12,12600,6,6,6000]
[null,"001 SEDE CENTRAL","RO","CAS","Auxiliar",1000,"18153035","CASTILLO AMAYA SEGUNDO MARTIN","TECNICO EN COMPUTACION","SUPERIOR","PROFESIONAL TECNICO",12,12,12600,6,6,6000]
[null,"001 SEDE CENTRAL","RO","CAS","Auxiliar",1000,"18853099","FLORES AYLLON CHARLES MARIO","TECNICO","SUPERIOR","PROFESIONAL TECNICO",12,12,12600,6,6,6000]
[null,"001 SEDE CENTRAL","RO","CAS","Auxiliar",1000,"40465825","LLERENA LEYTON FRANZ AUGUSTO","TECNICO EN COMPUTACION","SUPERIOR","PROFESIONAL TECNICO",12,12,12600,6,6,6000]
[null,"001 SEDE CENTRAL","RO","CAS","Auxiliar",1000,"44206822","PLASENCIA ROCHA CRISTHIAN PAUL","TECNICO EN COMPUTACION","SUPERIOR","PROFESIONAL TECNICO",12,12,12600,6,6,6028.1900000000005]
[null,"001 SEDE CENTRAL","RO","CAS","Auxiliar",1000,"18064691","QUEVEDO QUEVEDO CARLOS FELIPE","LICENCIADO EN CIENCIAS DE LA COMUNICACION ","SUPERIOR","PROFESIONAL",12,12,12600,6,6,6000]
[null,"001 SEDE CENTRAL","RO","CAS","Auxiliar",1000,"27720897","REQUEJO CAMPOS MANUEL EDUA","MECANICA DE PRODUCCION","SUPERIOR","PROFESIONAL",12,12,12600,6,6,6000]
[null,"001 SEDE CENTRAL","RO","CAS","Auxiliar",1000,"46314587","SALDAÑA GOICOCHEA LUCI MARISA","SECRETARIADO EJECUTIVO COMPUTARIZADO","SUPERIOR","PROFESIONAL TECNICO",12,12,12600,6,6,5933.33]
[null,"001 SEDE CENTRAL","RO","CAS","Auxiliar",1000,"46180780","YUPANQUI NUÑEZ KEVIN","MARKETING Y DIRECCION DE EMPRESAS","SUPERIOR","PROFESIONAL",12,12,12600,6,6,6000]
[null,"TOTAL",null,null,null,{"$f":"SUM(F10:F583)","v":1400276.01},null,null,null,null,null,null,null,{"$f":"SUM(N10:N583)","v":12917551.790000001},null,null,{"$f":"SUM(Q10:Q583)","v":6540768.0200000005}]
[null,"100 AGRICULTURA LA LIBERTAD","R.O.","CAS","TEC. AGROPECUARIO ",1400,"18008282","ALAYO AURORA ODAR RUFINO",null,"ESTUDIOS SUPERIOR TECNICO INCOMPLETO","TECNICO",1,"9",{"$f":"+F585*M585","v":12600},2,"6",{"$f":"F585*P585","v":8400}]
[null,"100 AGRICULTURA LA LIBERTAD","R.O.","CAS","TEC. ADMINISTRATIVO",1400,47230127,"ALBARRAN VARGAS, KATHERINE STEFFANY",null,"BACH. EN ADMINISTRACIÓN","BACH. EN ADMINISTRACIÓN",1,"4",{"$f":"+F586*M586","v":5600},2,"6",{"$f":"+F586*P586","v":8400}]
[null,"100 AGRICULTURA LA LIBERTAD","R.O.","CAS","ASISTENTE ADMINISTRATIVO-UNIDAD DE LOGISTICA",1200,"18834771","ALCANTARA QUISPE, ROSALIA",null,"ESTUDIOS SUPERIOR TECNICO INCOMPLETO","TECNICO",5,"12",{"$f":"F587*M587","v":14400},2,"6",{"$f":"F587*P587","v":7200}]
[null,"100 AGRICULTURA LA LIBERTAD","R.O.","CAS","SECRETARIA",1200,"33573576","ALTAMIRANO PATIÑO, MARIA CONSUELO",null,"ESTUDIOS SUPERIORES INCOMPLETOS","TECNICO",5,"12",{"$f":"F588*M588","v":14400},2,"6",{"$f":"F588*P588","v":7200}]
[null,"100 AGRICULTURA LA LIBERTAD",null,"CAS","TEC. AGROPECUARIO EN LA SGDRNIA",1400,40059011,"AREDO REYES, ALFONSO MILLER","TECNICO EN AGROPECUARIA","SUPERIOR","PROFESIONAL TÉCNICO",0,null,null,2,"6",{"$f":"F589*P589","v":8400}]
[null,"100 AGRICULTURA LA LIBERTAD","R.O.","CAS","PROMOTOR AGROPECUARIO",1000,"17803129","BALTAZAR GARCIA, MERCEDES MILCIADES",null,"TECNICO","TECNICO AGROPECUARIO",5,"12",{"$f":"F590*M590","v":12000},2,"6",{"$f":"F590*P590","v":6000}]
[null,"100 AGRICULTURA LA LIBERTAD","R.D.R.","CAS","SUPERVISOR PUESTO DE CONTROL",1200,"71002021","BOHUYTRON NARRO, ANGHIE KAROLINA",null,"BACH. EN ADMINISTRACIÓN","BACH. EN ADMINISTRACIÓN",1,"3",{"$f":"+F591*M591","v":3600},2,"6",{"$f":"+F591*P591","v":7200}]
[null,"100 AGRICULTURA LA LIBERTAD","R.O.","CAS","TEC. EN SOPORTE INFORMATICO",1400,"41520681","CAMUS BRIONES JOSE OMAR",null,"SUPERIOR","PROF. E. FISICA",5,"11",{"$f":"F592*M592","v":15400},null,null,{"$f":"F592*P592","v":0}]
[null,"100 AGRICULTURA LA LIBERTAD","R.O.","CAS","TEC. ADMINISTRATIVO",1400,"41381440","CARRANZA MAURICIO GABY INES","LIC. ADMINISTRACION","LIC. ADMINISTRACION","LIC. ADMINISTRACION",5,"9",12600,null,null,{"$f":"F593*P593","v":0}]
[null,"101 AGRICULTURA LA LIBERTAD","R.O.","CAS","PROFESIONAL. ADMINISTRATIVO",1800,"41381440","CARRANZA MAURICIO GABY INES","LIC. ADMINISTRACION","LIC. ADMINISTRACION","LIC. ADMINISTRACION",1,"3",5400,2,"6",{"$f":"F594*P594","v":10800}]
[null,"102 AGRICULTURA LA LIBERTAD","R.O.","CAS","AUXILIAR AGROPECUARIO",1000,"18078920","CASTILLO SANTIAGO, MARIA ELENA","LIC. EN ARQUEOLOGIA","SUPERIOR","LIC. EN ARQUEOLOGIA",1,"2",2000]
[null,"100 AGRICULTURA LA LIBERTAD","R.O.","CAS","TRABAJADOR DE SERVICIO",1400,"07950687","CHUMACERO GARCIA ELSA",null,null,"SECRETARIA",5,"12",16800,2,6,{"$f":"F596*P596","v":8400}]
[null,"100 AGRICULTURA LA LIBERTAD","R.O.","CAS","CHOFER",1400,"18109812","CORDERO FERNANDEZ, WILLIAM JOSUE",null,"SECUNDARIA COMPLETA",null,1,"4",5600,2,"6",8400]
[null,"100 AGRICULTURA LA LIBERTAD","R.O.","CAS","PROMOTOR AGROPECUARIO",1800,"70559232","CRIBILLEROS RIOS RAUL JESUS","ING. ZOOTECNIA","SUPERIOR","ING. ZOOTECNISTA",5,"12",21600,2,6,10800]
[null,"100 AGRICULTURA LA LIBERTAD","R.D.R.","CAS","TEC. EN COMPUTACION E INFORMATICA",1200,"42592421","DIAZ APONTE GERSON MOISES",null,null,"TEC.INFORMATICA",2,"6",7200,null,null,0]
[null,"100 AGRICULTURA LA LIBERTAD","R.O.","CAS","PROMOTOR CADENAS PRODUCTIVAS ",1800,"47158533","GAYOSO MUNDACA EDUARDO LUIS","ING.AGRONOMO","SUPERIOR","ING.AGRONOMO",5,"12",21600,2,6,10800]
[null,"100 AGRICULTURA LA LIBERTAD","R.O.","CAS","TRABAJADOR DE SERVICIO",1000,"01108933","GONZALES SANCHEZ, OSWALDO",null,"BACH. CONST. CIVIL","BACH. CONST. CIVIL",5,"12",12000,2,"6",6000]
[null,"100 AGRICULTURA LA LIBERTAD","R.O.","CAS","PROMOTOR CADENAS PRODUCTIVAS ",1800,"18001880","GRAUS VASQUEZ, GREGORIO ROBERTO","ING.AGRONOMO","SUPERIOR","ING.AGRONOMO",5,"12",21600,2,"6",10800]
[null,"100 AGRICULTURA LA LIBERTAD","R.O.","CAS","AUXILIAR ADMINISTRATIVO-UNIDAD DE LOGISTICA",1200,"33590652","HERRERA CABANILLAS, CECILIA FROILANA",null,"TECNICO","SECRETARIA",1,"12",14400,1,"6",7200]
[null,"101 AGRICULTURA LA LIBERTAD","R.O.","CAS","PROMOTOR CADENAS PRODUCTIVAS ",1200,"47197289","INGA ANAYA, LUIS EDUARDO",null,"BACH.ING. AGROINDUSTRIAL","BACH.ING. AGROINDUSTRIAL",1,"3",3600,1,"2",2400]
[null,"102 AGRICULTURA LA LIBERTAD","R.O.","CAS","PROMOTOR AGRARIO ",1700,"43369223","MEDINA ROMERO, LUIS CARLOS","ING. AGROINDUSTRIAL","SUPERIOR","ING. AGROINDUSTRIAL",1,"3",5100]
[null,"100 AGRICULTURA LA LIBERTAD","R.O.","CAS","TEC. AGROPECUARIO ",1200,"47156972","MENDOZA CABRERA JULIO CESAR","ING.AGROINDUSTRIAL","SUPERIOR","ING.AGROINDUSTRIAL",1,"9",10800,2,"6",{"$f":"F606*P606","v":7200}]
[null,"100 AGRICULTURA LA LIBERTAD","R.O.","CAS","PROMOTOR AGROPECUARIO",1800,"18136590","MONTENEGRO SALDAÑA CECILIA FABIOLA","LIC. ANTROPOLOGIA SOCIAL","SUPERIOR","LIC. ANTROPOLOGIA SOCIAL",4,"8",14400,null,null,{"$f":"F607*P607","v":0}]
[null,"100 AGRICULTURA LA LIBERTAD","R.O.","CAS","SECRETARIA",1800,"46653137","MOSCOL LOPEZ REBECA BERENICE","LIC CC.CC","SUPERIOR","LIC CC.CC",1,"10",18000,2,6,{"$f":"F608*P608","v":10800}]
[null,"100 AGRICULTURA LA LIBERTAD","R.O.","CAS","APOYO LEGAL",1800,"17898025","MUGUERZA PLASENCIA ROGER NICOLAS","ABOGADO","SUPERIOR","ABOGADO",1,"12",21600,1,"6",{"$f":"F609*P609","v":10800}]
[null,"100 AGRICULTURA LA LIBERTAD","R.O.","CAS","ESPECIALISTA EN INFORMATICA",1800,"18149405","NEYRA ARELLANO LAURA CECILIA","ING EN SISTEMAS","SUPERIOR","ING EN SISTEMAS",5,"12",21600,2,"6",{"$f":"F610*P610","v":10800}]
[null,"103 AGRICULTURA LA LIBERTAD","R.D.R.","CAS","PROMOTOR DE GESTION ADMINISTRATIVA",1800,"17967300","NOLASCO PEREZ, AMERICO MARTIN",null,"BACH. EN CIENCIAS ECONOMICAS","BACH. EN CIENCIAS ECONOMICAS",5,"12",{"$f":"+F611*M611","v":21600},1,"6",{"$f":"+F611*P611","v":10800}]
[null,"100 AGRICULTURA LA LIBERTAD","R.O.","CAS","TEC. ADMINISTRATIVO",1400,"43814453","OBESO RIOS, DAVID STEEVE","ABOGADO","SUPERIOR","ABOGADO",5,"12",{"$f":"F612*M612","v":16800},2,6,{"$f":"F612*P612","v":8400}]
[null,"100 AGRICULTURA LA LIBERTAD","R.O.","CAS","TEC. AGROPECUARIO EN LA SGDRNIA",1400,"46520507","OLIVARES DIAZ WALTER MARCELLO",null,"BACH. AGRICOLA","BACH. AGRICOLA",5,"12",{"$f":"F613*M613","v":16800},2,"6",{"$f":"F613*P613","v":8400}]
[null,"100 AGRICULTURA LA LIBERTAD","R.O.","CAS","AUX. AGROPECUARIO EN LA SGDRNIA",1000,"18888247","OTINIANO CUEVA DE GAMBOA ELIZABETH",null,"SECUNDARIA COMPLETA","SECRETARIA",5,"12",{"$f":"F614*M614","v":12000},2,6,{"$f":"F614*P614","v":6000}]
[null,"100 AGRICULTURA LA LIBERTAD","R.D.R.","CAS","ESPECIALISTA FORESTAL",1800,"06169609","PALOMINO ARRASCUE, ROBERTO","ING. FORESTAL","SUPERIOR","ING. FORESTAL",6,"12",{"$f":"+F615*M615","v":21600},2,"6",{"$f":"+F615*P615","v":10800}]
[null,"100 AGRICULTURA LA LIBERTAD","R.O.","CAS","RESPONSABLE DIRECCION COMPETITIVIDAD AGRARIA",2100,"17875662","PAREDES RODRIGUEZ CESAR AUGUSTO","ING.AGRONOMO","SUPERIOR","ING.AGRONOMO",5,"11",{"$f":"F616*M616","v":23100},null,null,{"$f":"F616*P616","v":0}]
[null,"100 AGRICULTURA LA LIBERTAD","R.O.","CAS","TRABAJADOR DE SERVICIO",1000,"40662139","REYES MAURICIO, IDELSA ESTHER ",null,"SECUNDARIA COMPLETA",null,1,"4",{"$f":"F617*M617","v":4000},2,"6",{"$f":"F617*P617","v":6000}]
[null,"100 AGRICULTURA LA LIBERTAD","R.O.","CAS","PROMOTOR CADENAS PRODUCTIVAS ",1800,"18900769","REYNA ESPINOZA NELSON AMADO","ING.AGRONOMO","SUPERIOR","ING.AGRONOMO",5,"12",{"$f":"F618*M618","v":21600},2,"6",{"$f":"F618*P618","v":10800}]
[null,"100 AGRICULTURA LA LIBERTAD","R.O.","CAS","SECRETARIA  ",1200,"18199749","RODRIGUEZ PAREDES GLENDA GENOVEVA",null,"TECNICO","SECRETARIA",1,"12",{"$f":"F619*M619","v":14400},1,"6",{"$f":"F619*P619","v":7200}]
[null,"100 AGRICULTURA LA LIBERTAD","R.O.","CAS","TEC. AGROPECUARIO EN LA SGDRNIA",1400,"40694939","ROJAS LOPEZ DE CAMUS, NEYDA VANESSA","ING.AGRONOMA","SUPERIOR","ING.AGRONOMA",1,"4",{"$f":"F620*M620","v":5600},2,"6",{"$f":"F620*P620","v":8400}]
[null,"100 AGRICULTURA LA LIBERTAD","R.D.R.","CAS","GUARDIAN",800,"18827970","ROMERO HUATAY, SANTOS",null,"SECUNDARIA COMUN","AUXILIAR",5,"12",{"$f":"+F621*M621","v":9600},2,"6",{"$f":"+F621*P621","v":4800}]
[null,"100 AGRICULTURA LA LIBERTAD","R.D.R.","CAS","GUARDIAN ",800,18032034,"ROMERO VERA, MIGUEL ANGEL",null,"SECUNDARIA COMPLETA","AUXILIAR ",5,"12",{"$f":"+F622*M622","v":9600},2,"6",{"$f":"+F622*P622","v":4800}]
[null,"101 AGRICULTURA LA LIBERTAD","R.O.","CAS","RESPONSABLE DE PUESTO DE CONTROL",1000,"47982309","ROSAS ALFARO YURITS LISSET",null,"CONTABILIDAD",null,1,"1",{"$f":"F623*M623","v":1000}]
[null,"101 AGRICULTURA LA LIBERTAD","R.O.","CAS","TEC. ADMINISTRATIVO",1400,"18211948","SAGASTEGUI BARAIBAR BLANCA GISSELLA","SECRETARIA EJEJCUTIVA",null,null,1,"2",2800,2,6,{"$f":"F624*P624","v":8400}]
[null,"100 AGRICULTURA LA LIBERTAD","R.O.","CAS","TECNICO AGROPECUARIO",1400,"26675055","SANCHEZ ALIAGA ROSA CLARIBEL","ING.AGRONOMO","SUPERIOR","ING.AGRONOMO",5,"12",16800,2,6,8400]
[null,"100 AGRICULTURA LA LIBERTAD","R.O.","CAS","ING. CIENCIAS AGROPECUARIAS EN LA SGDRNIA",1800,"18190544","SANCHEZ MENDOZA RAMIRO ANASTACIO","ING.AGRONOMO","SUPERIOR","ING.AGRONOMO",5,"12",21600,null,null,0]
[null,"100 AGRICULTURA LA LIBERTAD","R.O.","CAS"," APOYO TECNICO INFORMATICO",1400,"19098521","SANCHEZ RODRIGUEZ PABLO BARTOLOME",null,"TEC.INFORMATICA","TEC.INFORMATICA",5,"12",16800,2,"6",8400]
[null,"100 AGRICULTURA LA LIBERTAD","R.O.","CAS","VIGILANTE SEDE CENTRAL",1000,"17872848","TORDOYA ARGOMEDO ROSA DOMITILA",null,"SECUNDARIA COMPLETA",null,5,"12",12000,2,6,6000]
[null,"100 AGRICULTURA LA LIBERTAD","R.O.","CAS","VIGILANTE SEDE CENTRAL",1000,"41562885","URQUIAGA ARAUJO GERALD AUGUSTO ",null,"SECUNDARIA COMPLETA","AUXILIAR ",5,"12",12000,2,"6",6000]
[null,"102 AGRICULTURA LA LIBERTAD","R.D.R.","CAS","SUB GERENTE DE RECURSOS NATURALES",2600,null,"VACANTE",null,null,null,null,null,{"$f":"+F630*M630","v":0},null,null,0]
[null,"101 AGRICULTURA LA LIBERTAD","R.D.R.","CAS","TEC. EN COMPUTACION E INFORMATICA",1200,null,"VACANTE",null,null,null,null,null,{"$f":"+F631*M631","v":0},null,null,{"$f":"+F631*P631","v":0}]
[null,"100 AGRICULTURA LA LIBERTAD","R.O.","CAS","PROMOTOR CADENAS PRODUCTIVAS ",1700,null,"VACANTE"]
[null,"100 AGRICULTURA LA LIBERTAD","R.O.","CAS","PROMOTOR AGRARIO ",1400,"19671780","VASQUEZ VELASQUEZ JESUS AMADO",null,"TEC. AGROPECUARIO","TEC. AGROPECUARIO",1,"12",{"$f":"F633*M633","v":16800},1,"6",{"$f":"F633*P633","v":8400}]
[null,"100 AGRICULTURA LA LIBERTAD","R.D.R.","CAS","SUB GERENTE DE RECURSOS NATURALES",2600,"42917944","VILCHEZ NEIRA SERGIO","ABOGADO","SUPERIOR","ABOGADO",1,"12",{"$f":"F634*M634","v":31200},null,null,{"$f":"F634*P634","v":0}]
[null,"TOTAL",null,null,null,{"$f":"SUM(F585:F634)","v":72300},null,null,null,null,null,null,null,{"$f":"SUM(N585:N634)","v":621600},null,null,{"$f":"SUM(Q585:Q634)","v":300000}]
[null,"200 Transportes La Libertad","00 - RO","CAS","ABOGADO ",2500,41259110,"Abanto Espinoza José Gilberto","ABOGADO ","ABOGADO","ABOGADO","3",12,{"$f":"+F636*M636","v":30000},1,6,{"$f":"+P636*F636","v":15000}]
[null,"200 Transportes La Libertad","00 - RO","CAS","ING. DE SISTEMAS",2300,18149545,"Alfaro Burgos Abigail","ING. DE SISTEMAS","ING. DE SISTEMAS","ING. DE SISTEMAS","1",5,{"$f":"+F637*M637","v":11500},2,6,{"$f":"+F637*P637","v":13800}]
[null,"200 Transportes La Libertad","09 - RDR","CAS","ING. INDUSTRIAL",2500,40995321,"Ángeles Quiñones Christian Wagner ","ING. INDUSTRIAL","ING. INDUSTRIAL","ING. INDUSTRIAL","3",12,{"$f":"+F638*M638","v":30000},2,6,{"$f":"+F638*P638","v":15000}]
[null,"200 Transportes La Libertad","09 - RDR","CAS","ING. DE SISTEMAS",2000,44230998,"Aredo Rojas Judy Marivel","ING. DE SISTEMAS","ING. DE SISTEMAS","ING. DE SISTEMAS","2",5,{"$f":"+F639*M639","v":10000},2,6,12000]
[null,"200 Transportes La Libertad","09 - RDR","CAS","TRABAJADORA SOCIAL",2000,43040750,"Arenas Benavides Nelly ","TRABAJADORA SOCIAL","BACH.EN CIENCIAS SOCIALES","LIC. EN TRABAJO SOCIAL","3",12,24000,2,6,12000]
[null,"200 Transportes La Libertad","09 - RDR","CAS","CHOFER PROFESIONAL",1500,18128476,"Azabache Morillas Pedro Javier","CHOFER","SECUNDARIA","CHOFER","3",12,18000,2,6,9000]
[null,"200 Transportes La Libertad","09 - RDR","CAS","ING. SISTEMAS",2000,43356623,"Azañero Suarez Mijaly Antonio","ING. SISTEMAS","ING. SISTEMAS","ING. SISTEMAS","3",12,24000,2,6,12000]
[null,"200 Transportes La Libertad","09 - RDR","CAS","TEC. ADM.",1500,41507621,"Bazán Carbonel Gary Grant","TECNICO","TÉCNICO","TECNICO ADMIISTRATIVO","3",8,12000,0,null,0]
[null,"200 Transportes La Libertad","09 - RDR","CAS","TEC. ADM.",1800,41171188,"Blas Sánchez Liseth Milagros  ","TECNICO","TÉCNICO","TECNICO ADMIISTRATIVO","1",5,9000,2,6,10800]
[null,"200 Transportes La Libertad","09 - RDR","CAS","TEC. ADM.",1500,41171188,"Blas Sánchez Liseth Milagros  ","TECNICO","TÉCNICO","TECNICO ADMIISTRATIVO","2",7,10500,0,null,0]
[null,"200 Transportes La Libertad","09 - RDR","CAS","INGENIERO  ",2500,40468300,"Calderón Rodríguez Luis Antonio ","ING. DE SISTEMAS","ING. DE SISTEMAS","ING. DE SISTEMAS","3",12,30000,2,6,15000]
[null,"200 Transportes La Libertad","09 - RDR","CAS","TEC. ADM.",2300,18210637,"Castillo Miñano Sheillah Giulliana","CONTADOR","BACH. EN CONTABILIDAD Y FINANZAS","BACH. EN CONTABILIDAD Y FINANZAS","3",12,27600,2,6,13800]
[null,"200 Transportes La Libertad","00 - RO","CAS","SECRETARIA",1000,18007735,"Castro Rodríguez Lucia Marina","SECRETARIA","TÉCNICO","TECNICO ADMIISTRATIVO","3",12,12000,2,6,6000]
[null,"200 Transportes La Libertad","09 - RDR","CAS","SECRETARIA",1800,18147270,"Chávez García Yessica Cecilia","SECRETARIA","TÉCNICO","TECNICO ADMIISTRATIVO","1",5,9000,2,6,10800]
[null,"200 Transportes La Libertad","09 - RDR","CAS","SECRETARIA",1000,18147270,"Chávez García Yessica Cecilia","SECRETARIA","TÉCNICO","TECNICO ADMIISTRATIVO","2",7,7000,0,null,0]
[null,"200 Transportes La Libertad","00 - RO","CAS","TECNICO ADMINISTRATIVO",1500,19187613,"Cruzado Rivera Máximo Franz","LIC. EN EDUCACION","LIC. EN EDUCACION","LIC. EN EDUCACION","3",12,18000,2,6,9000]
[null,"200 Transportes La Libertad","09 - RDR","CAS","ASISTENTE ADMINISTRATIVO",2000,44967138,"Díaz Chacón Hebert Esteban","ADMINISTRADOR","ADMINISTRADOR","LIC. EN ADMINISTRACIÓN","3",12,24000,1,5,10000]
[null,"200 Transportes La Libertad","09 - RDR","CAS","LICENCIADO EN ADMINISTRACIÓN",1500,73176511,"Diaz Cueva Diego Alonso","ADMINISTRADOR","ADMINISTRADOR","LIC. EN ADMINISTRACIÓN","3",12,18000,1,6,9000]
[null,"200 Transportes La Libertad","09 - RDR","CAS","ESPECIALISTA ADM.",1500,43577798,"Dominguez Horna Magno","ADMINISTRADOR","ADMINISTRADOR","LIC. EN ADMINISTRACIÓN","3",12,18000,2,6,9000]
[null,"200 Transportes La Libertad","09 - RDR","CAS","ING. INDUSTRIAL",2500,18143964,"Flores Vasquez Modesto Rene","ING. INDUSTRIAL","ING. INDUSTRIAL","ING. INDUSTRIAL","1",5,12500,2,6,15000]
[null,"200 Transportes La Libertad","09 - RDR","CAS","ING. INDUSTRIAL",1500,18143964,"Flores Vasquez Modesto Rene","ING. INDUSTRIAL","ING. INDUSTRIAL","ING. INDUSTRIAL","2",7,10500,null,null,0]
[null,"200 Transportes La Libertad","09 - RDR","CAS","ESP. ADMINISTRATIVO",1800,46648952,"García García Manuel Alexander","ECONOMISTA","ECONOMISTA","ECONOMISTA","3",12,21600,1,1,1800]
[null,"200 Transportes La Libertad","09 - RDR","CAS","ABOGADO",3500,17920386,"Graos Deza Manuel","ABOGADO","ABOGADO","ABOGADO","1",12,42000,2,6,21000]
[null,"200 Transportes La Libertad","09 - RDR","CAS","TECNICO ADM.",1500,46264692,"Gutierrez Alfaro Patricia Danila","ANTROPOLOGA","LIC. EN ANTROPOLOGIA SOCIAL","LIC. EN ANTROPOLOGIA SOCIAL","3",12,18000,2,6,9000]
[null,"200 Transportes La Libertad","09 - RDR","CAS","TEC. EN ADMINISTRACION",1500,48640188,"Guevara Coronel Isela","TECNICO","TÉCNICO","TECNICO ADMIISTRATIVO","3",12,18000,1,6,9000]
[null,"200 Transportes La Libertad","09 - RDR","CAS","MECANICO",2000,41563396,"Gurreonero Castillo Victor Said ","MECANICO","TÉCNICO","MECANICO","3",12,24000,2,6,12000]
[null,"200 Transportes La Libertad","09 - RDR","CAS","PSICOLOGO",2100,41400838,"Herrera Huanes Carlos Rubén","PSICOLOGO","LIC. EN PSICOLOGIA","LIC. EN PSICOLOGIA","3",12,25200,2,6,12600]
[null,"200 Transportes La Libertad","09 - RDR","CAS","TÉCNICO EN ADMINISTRACIÓN",1500,43389257,"Honores Avila Sindy Elizabeth","TECNICO","TÉCNICO","TECNICO ADMIISTRATIVO","3",12,18000,2,6,9000]
[null,"200 Transportes La Libertad","09 - RDR","CAS","ADMINISTRADOR",2000,45029277,"Huaman Vilca Lenny","ADMINISTRADOR","LIC. EN ADMINISTRACION","LIC. EN ADMINISTRACION","3",12,24000,2,6,12000]
[null,"200 Transportes La Libertad","00 - RO","CAS","ESPECIALISTA EN FINANZAS",2500,43630744,"Machuca Calderon Víctor Junior","ING. INDUSTRIAL","ING. INDUSTRIAL","ING. INDUSTRIAL","3",12,30000,2,6,15000]
[null,"200 Transportes La Libertad","00 - RO","CAS","TECNICO ADM.",1800,41138294,"Madrid Farias Yessica Jackeline","SECRETARIA","TÉCNICO","TECNICO ADMIISTRATIVO","3",12,21600,2,6,10800]
[null,"200 Transportes La Libertad","09 - RDR","CAS","TECNICO",1500,17847110,"Mendoza Yacarini Luis Alberto","ADMINISTRADOR","LIC. EN ADMINISTRACION","LIC. EN ADMINISTRACION","3",12,18000,2,6,9000]
[null,"200 Transportes La Libertad","09 - RDR","CAS","ING. INDUSTRIAL",2000,46471139,"Montenegro Vallejos Brenda Carolina","ING. INDUSTRIAL","ING. INDUSTRIAL","ING. INDUSTRIAL","3",12,24000,2,6,12000]
[null,"200 Transportes La Libertad","09 - RDR","CAS","TECNICO ADM.",1500,41516556,"Narro Escalante Ruth Elizabeth","-","TÉCNICO","TECNICO ADMIISTRATIVO","3",12,18000,2,6,9000]
[null,"200 Transportes La Libertad","09 - RDR","CAS","ING. SISTEMAS I",2000,40687366,"Narvaez Paredes Deybi Martin","ING. SISTEMAS","ING. SISTEMAS","ING. SISTEMAS","3",12,24000,2,6,12000]
[null,"200 Transportes La Libertad","09 - RDR","CAS","TECNICO ADM.",1000,18102745,"Olortiga Amasifuen Santos Casimira","ADMINISTRADOR","LIC. EN ADMINISTRACION","LIC. EN ADMINISTRACION","0",12,12000,0,6,6000]
[null,"200 Transportes La Libertad","09 - RDR","CAS","TECNICO",2000,45663619,"Ortiz Chuquiviguel Marlon Jhanfranco","LIC. EN EDUC. EN IDIOMAS","LIC. EN EDUC. EN IDIOMAS","LIC. EN EDUC. EN IDIOMAS","3",12,24000,2,6,12000]
[null,"200 Transportes La Libertad","09 - RDR","CAS","TECNICO",1800,41386783,"Palacios Yabar Lisset Dessery","TECNICO EN COMPUTACION","TÉCNICO","TECNICO ADMIISTRATIVO","1",5,9000,2,6,10800]
[null,"200 Transportes La Libertad","09 - RDR","CAS","TECNICO",1000,41386783,"Palacios Yabar Lisset Dessery","TECNICO EN COMPUTACION","TÉCNICO","TECNICO ADMIISTRATIVO","2",7,7000,null,null,0]
[null,"200 Transportes La Libertad","00 - RO","CAS","SECRETARIA EJECUTIVA",1800,"00884408","Panduro Infante Rosario Del Carmen","SECRETARIA","TÉCNICO","TECNICO ADMIISTRATIVO","1",5,9000,2,6,10800]
[null,"200 Transportes La Libertad","00 - RO","CAS","SECRETARIA EJECUTIVA",1000,"00884409","Panduro Infante Rosario Del Carmen","SECRETARIA","TÉCNICO","TECNICO ADMIISTRATIVO","2",7,7000,null,null,0]
[null,"200 Transportes La Libertad","09 - RDR","CAS","TEC. ADMINISTRATIVO",1800,40390025,"Patricio Castillo Rocio Del Pilar","TECNICO","TÉCNICO","TECNICO ADMIISTRATIVO","3",12,21600,2,6,10800]
[null,"200 Transportes La Libertad","09 - RDR","CAS","ASIST. CONTABLE",1500,71253850,"Purizaca Mendoza Margarita Cecilia","BACH. EN CIENCIAS ECONOMICAS","BACH. EN CIENCIAS ECONOMICAS","BACH. EN CIENCIAS ECONOMICAS","1",5,7500,2,6,9000]
[null,"200 Transportes La Libertad","00 - RO","CAS","ABOGADO",2300,42434210,"Ramírez Nuñez Paola Janet","ABOGADO","ABOGADO","ABOGADO","3",12,27600,1,3,6900]
[null,"200 Transportes La Libertad","09 - RDR","CAS","ADMINISTRADOR",2000,41382962,"Rebaza Rodríguez Gabriela De Los Milagros","ADMINISTRADOR","LIC. EN ADMINISTRACION","LIC. EN ADMINISTRACION","3",12,24000,2,6,12000]
[null,"200 Transportes La Libertad","09 - RDR","CAS","SECRETARIA",1500,45228363,"Revilla Fabian Lisbeth Mariseli","SECRETARIA","TÉCNICO","TECNICO ADMIISTRATIVO","3",12,18000,1,6,9000]
[null,"200 Transportes La Libertad","00 - RO","CAS","PLANIFICADOR   ",2500,40379595,"Rios Mantilla Guisella del Carmen","ING. INDUSTRIAL","ING. INDUSTRIAL","ING. INDUSTRIAL","3",12,30000,2,6,15000]
[null,"200 Transportes La Libertad","09 - RDR","CAS","PROFESIONAL",2000,41967542,"Rodriguez Pérez Jorge Luis","LIC. EN EDUC. SECUNDARIA","BACH. EN EDUCACION","LIC. EN EDUC. SECUNDARIA","3",12,24000,2,6,12000]
[null,"200 Transportes La Libertad","09 - RDR","CAS","TEC. ADMINISTRATIVO",1500,18032287,"Rodriguez Quiñones Elena Margarita","TECNICO","TÉCNICO","TECNICO ADMIISTRATIVO","3",12,18000,2,6,9000]
[null,"200 Transportes La Libertad","09 - RDR","CAS","TEC. ADMINISTRATIVO",1500,18188859,"Rubio Ferrer Cesar Enrique","TECNICO ","TÉCNICO","TECNICO ADMIISTRATIVO","3",12,18000,2,6,9000]
[null,"200 Transportes La Libertad","09 - RDR","CAS","PERS. TECNICO II",1500,18162290,"Saldaña Segura Patricia Maribel","TECNICO","TÉCNICO","TECNICO ADMIISTRATIVO","3",12,18000,2,6,9000]
[null,"200 Transportes La Libertad","09 - RDR","CAS","ESP. ADMINISTRATIVO",1800,43534027,"Sánchez Rosas Edwin Johnatan","TECNICO","TÉCNICO","TECNICO ADMIISTRATIVO","3",12,21600,1,1,1800]
[null,"200 Transportes La Libertad","09 - RDR","CAS","ABOGADO",2000,45648522,"Sánchez Valderrama Matilde Roxana","ABOGADO","ABOGADO","ABOGADO","3",12,24000,2,6,12000]
[null,"200 Transportes La Libertad","09 - RDR","CAS","CIENCIAS DE LA COMUNI.",2500,42727589,"Sichez Barrenechea Luis Miguel","LIC. EN CIENCIAS DE LA COMUNICACIÓN","LIC. EN CIENCIAS DE LA COMUNICACIÓN","LIC. EN CIENCIAS DE LA COMUNICACIÓN","3",12,30000,2,6,15000]
[null,"200 Transportes La Libertad","09 - RDR","CAS","TEC. ADMINISTRATIVO",1000,17878291,"Silva Pastor Marco Antonio","-","TÉCNICO","TECNICO ADMIISTRATIVO","3",12,12000,2,6,6000]
[null,"200 Transportes La Libertad","09 - RDR","CAS","ABOGADO",3500,41146831,"Urrelo Sejias Mirella Del Pilar","ABOGADO","ABOGADO","ABOGADO","3",12,42000,1,3,10500]
[null,"200 Transportes La Libertad","00 - RO","CAS","TECNICO",1800,40189286,"Vallejo León Betsy Patricia ","TECNICO EN COMPUTACION","TÉCNICO","TECNICO ADMIISTRATIVO","1",5,9000,2,6,10800]
[null,"200 Transportes La Libertad","00 - RO","CAS","TECNICO",1000,40189287,"Vallejo León Betsy Patricia ","TECNICO EN COMPUTACION","TÉCNICO","TECNICO ADMIISTRATIVO","2",7,7000,null,null,0]
[null,"200 Transportes La Libertad","09 - RDR","CAS","ING. DE SISTEMAS",2000,42027515,"Valverde Reyes Manahen Joel","ING. DE SISTEMAS","ING. DE SISTEMAS","ING. DE SISTEMAS","3",12,24000,2,6,12000]
[null,"200 Transportes La Libertad","09 - RDR","CAS","ING. ELECTRONICO",2500,46945545,"Vargas Chavez Julio Cesar Engel","ING. ELECTRONICO","ING. ELECTRONICO","ING. ELECTRONICO","3",12,30000,2,6,15000]
[null,"200 Transportes La Libertad","09 - RDR","CAS","PROFESOR",2000,27570813,"Vásquez Prado Gonzalo","PROFESOR","BACHILLER EN EDUCACION","BACHILLER EN EDUCACION","3",12,24000,2,6,12000]
[null,"200 Transportes La Libertad","00 - RO","CAS","RELACIONISTA PUBLICO",2500,16486239,"Vásquez Terán Arturo","LIC. EN PERIODISMO","LIC. EN PERIODISMO","LIC. EN PERIODISMO","3",12,30000,2,6,15000]
[null,"200 Transportes La Libertad","09 - RDR","CAS","CONTADOR",2500,18215370,"Vásquez  Valdez Alexander José","CONTADOR","CONTADOR","CONTADOR","3",12,30000,2,6,15000]
[null,"200 Transportes La Libertad","00 - RO","CAS","CHOFER  ",1500,"17811563","Villacorta Haro Jesus Pastor","CHOFER  ","TÉCNICO","CHOFER","1",5,7500,2,6,9000]
[null,"200 Transportes La Libertad","09 - RDR","CAS","ING. DE SISTEMAS",2000,41583945,"Villajulca Velásquez Helmer Orlando","ING. DE COMPUTACION Y SISTEMAS","ING. DE COMPUTACION Y SISTEMAS","ING. DE COMPUTACION Y SISTEMAS","3",12,24000,2,6,12000]
[null,"200 Transportes La Libertad","09 - RDR","CAS","TECNICO",1000,40396780,"Villalobos Villanueva Bertha Irene","TECNICO","TÉCNICO","TECNICO ADMIISTRATIVO","3",12,12000,2,6,6000]
[null,"200 Transportes La Libertad","09 - RDR","CAS","PERS. DE LIMPIEZA",1000,"02621234","Villalta Arevalo Sara Maria","-","TÉCNICO","ASISTENTE EN LIMPIEZA","3",12,12000,2,6,{"$f":"+F702*P702","v":6000}]
[null,"200 Transportes La Libertad","00 - RO","CAS","ABOGADO",2300,41532329,"Baltodano Nontol Alfredo Orlando","ABOGADO","ABOGADO","ABOGADO","3",12,{"$f":"+F703*M703","v":27600},2,6,13800]
[null,"200 Transportes La Libertad","00 - RO","CAS","INSPECTOR",1800,44721828,"Castro Conllao Cristian Pedro","-","TÉCNICO","TECNICO ADMIISTRATIVO","3",12,21600,5,6,10800]
[null,"200 Transportes La Libertad","00 - RO","CAS","ABOGADO",2300,42930433,"De La Cruz Linares Yvy ","ABOGADO","ABOGADO","ABOGADO","3",12,27600,5,6,13800]
[null,"200 Transportes La Libertad","00 - RO","CAS","INSPECTOR",1600,18070380,"Espinoza Coronado Ana María","-","TÉCNICO","TECNICO ADMIISTRATIVO","3",12,19200,5,6,9600]
[null,"200 Transportes La Libertad","00 - RO","CAS","ABOGADO",2000,42183630,"Guzman Zavaleta Virginia Marilyn","ABOGADO","ABOGADO","ABOGADO","3",12,24000,5,6,12000]
[null,"200 Transportes La Libertad","00 - RO","CAS","ABOGADO",2300,"09787382","Leon Venturo Jose Luis","ABOGADO","ABOGADO","ABOGADO","3",12,27600,2,6,13800]
[null,"200 Transportes La Libertad","00 - RO","CAS","ABOGADO",2300,45110454,"Lizana Tejada Ilina Yushara","ABOGADO","ABOGADO","ABOGADO","3",12,27600,5,6,13800]
[null,"200 Transportes La Libertad","00 - RO","CAS","INSPECTOR",1200,42238727,"Paredes Urbina Edwin Kennedy","-","TÉCNICO","TECNICO ADMIISTRATIVO","3",12,14400,5,6,7200]
[null,"200 Transportes La Libertad","00 - RO","CAS","INSPECTOR",1600,18194369,"Pereda Tenorio Rosa Consuelo","TECNICO","TÉCNICO","TECNICO ADMIISTRATIVO","3",12,19200,5,6,9600]
[null,"200 Transportes La Libertad","00 - RO","CAS","ABOGADO",2000,42379220,"Perez Carranza Cinthia Lissette","ABOGADO","ABOGADO","ABOGADO","3",12,24000,5,6,12000]
[null,"200 Transportes La Libertad","00 - RO","CAS","INSPECTOR",1800,41769391,"Quispe Ramos Wilver","ABOGADO","ABOGADO","ABOGADO","3",12,21600,1,2,3600]
[null,"200 Transportes La Libertad","00 - RO","CAS","ABOGADO",2300,45812995,"Risco Morales Luciana Milagros","ABOGADO","ABOGADO","ABOGADO","3",12,27600,2,6,13800]
[null,"200 Transportes La Libertad","00 - RO","CAS","ABOGADO",2300,43704088,"Serrano Llanos Fiorella Etelvina","ABOGADO","ABOGADO","ABOGADO","3",12,27600,2,6,13800]
[null,"200 Transportes La Libertad","00 - RO","CAS","ABOGADO",2300,18215897,"Urquizo Cespedes Gandhy Kristel","ABOGADO","ABOGADO","ABOGADO","3",12,27600,5,6,13800]
[null,"200 Transportes La Libertad","00 - RO","CAS","ABOGADO",2300,45325506,"Ventura Honorio Alex Ulises","ABOGADO","ABOGADO","ABOGADO","3",12,27600,5,6,13800]
[null,"200 Transportes La Libertad","00 - RO","CAS","INSPECTOR",1600,17866370,"Zavaleta Santa Maria Luis Antonio","ING. QUIMICO","ING. QUIMICO","ING. QUIMICO","3",12,19200,1,3,4800]
[null,"200 Transportes La Libertad","00 - RO","CAS","ABOGADO",2300,43423676,"Flores Flores Jessica Varinia","ABOGADO","ABOGADO","ABOGADO","3",8,18400,null,null,0]
[null,"200 Transportes La Libertad","09 - RDR","CAS","ING. DE SISTEMAS",2000,45816035,"Bustamante Alayo Carolina Lisset","ING. DE SISTEMAS","ING. DE SISTEMAS","ING. DE SISTEMAS","1",6,12000,null,null,0]
[null,"200 Transportes La Libertad","09 - RDR","CAS","ING. DE SISTEMAS",2300,47846842,"Sanchez Espezua Bryan Christian","ING. DE SISTEMAS","ING. DE SISTEMAS","ING. DE SISTEMAS","1",5,11500,null,null,0]
[null,"200 Transportes La Libertad","00 - RO","CAS","PERSONAL DE LIMPIEZA",1000,"03356813","Velez Castro Luis Alberto","-","SECUNDARIA","ASISTENTE EN LIMPIEZA","1",4,4000,null,null,0]
[null,"200 Transportes La Libertad","00 - RO","CAS","ABOGADO",2000,44709745,"Valverde Rebaza Cleydee Lisset","ABOGADO","ABOGADO","ABOGADO","1",2,4000,null,null,0]
[null,"200 Transportes La Libertad","00 - RO","CAS","SUPERVISOR",3000,"09390827","Bejarano Santiago Rafael Antonio","TÉCNICO","TÉCNICO","TECNICO ADMIISTRATIVO","3",12,36000,5,6,18000]
[null,"200 Transportes La Libertad","00 - RO","CAS","INSPECTOR",1800,46178975,"Collave Pérez Cesar Miguel","TÉCNICO","TÉCNICO","TECNICO ADMIISTRATIVO","6",12,21600,2,5,9000]
[null,"200 Transportes La Libertad","00 - RO","CAS","INSPECTOR",1800,47244237,"Delicio Mariños Cristhopher Andre","TÉCNICO","TÉCNICO","TECNICO ADMIISTRATIVO","3",12,21600,1,3,5400]
[null,"200 Transportes La Libertad","00 - RO","CAS","INSPECTOR",1800,17925134,"Lazaro Carranza Maria Elena","TÉCNICO","TÉCNICO","TECNICO ADMIISTRATIVO","1",5,9000,null,null,0]
[null,"200 Transportes La Libertad","00 - RO","CAS","INSPECTOR",1800,41479581,"Paredes Yupanqui Roxana Noemi","TÉCNICO","TÉCNICO","TECNICO ADMIISTRATIVO","3",12,21600,5,6,10800]
[null,"200 Transportes La Libertad","00 - RO","CAS","INSPECTOR",1800,17841101,"Salirrosas Yong Rosa Ysabel","TÉCNICO","TÉCNICO","TECNICO ADMIISTRATIVO","1",5,9000,5,6,10800]
[null,"200 Transportes La Libertad","00 - RO","CAS","INSPECTOR",1800,18057961,"Sanchez Gutierrez Olenka De Rocio","TÉCNICO","TÉCNICO","TECNICO ADMIISTRATIVO","1",5,9000,5,6,10800]
[null,"200 Transportes La Libertad","00 - RO","CAS","INSPECTOR",1800,75701141,"Vasquez Castillo Soledad María","TÉCNICO","TÉCNICO","TECNICO ADMIISTRATIVO","3",12,21600,5,6,10800]
[null,"200 Transportes La Libertad","00 - RO","CAS","INSPECTOR",1800,45107398,"Vilchez Infantes Karol Elizabeth ","TECNICO","TÉCNICO","TECNICO ADMIISTRATIVO","3",12,21600,5,6,10800]
[null,"200 Transportes La Libertad","00 - RO","CAS","INSPECTOR",1800,70859471,"Zegarra Flores Alcides Jelber ","BACH. ING. CIVIL","BACH. ING. CIVIL","BACH. ING. CIVIL","3",12,21600,1,3,5400]
[null,"200 Transportes La Libertad","00 - RO","CAS","INSPECTOR",1800,"18110457","Lujan Peña Marleny Elizabeth","TECNICO","TECNICO","TECNICO","0",null,0,1,2,3600]
[null,"200 Transportes La Libertad","00 - RO","CAS","INSPECTOR",1800,"18226091","Gamarra Villavicencio Luis Ricardo","TECNICO","TECNICO","TECNICO","0",null,0,1,2,3600]
[null,"200 Transportes La Libertad","00 - RO","CAS","INSPECTOR",1800,"45561349","Vera Benites Robert John","TECNICO","TECNICO","TECNICO","0",null,0,1,2,3600]
[null,"200 Transportes La Libertad","00 - RO","CAS","INSPECTOR",1800,"18081932","Yupanqui Cortez Eduardo Carlos","TECNICO","TECNICO","TECNICO","0",null,0,1,2,3600]
[null,"200 Transportes La Libertad","00 - RO","CAS","INSPECTOR",1800,"42985854","Olaya Nolasco Marco Eduardo","TECNICO","TECNICO","TECNICO","0",null,0,1,2,3600]
[null,"200 Transportes La Libertad","00 - RO","CAS","INSPECTOR",1800,"73999506","Pizan Peralta Pedro Bryant","TECNICO","TECNICO","TECNICO","0",null,0,1,2,3600]
[null,"TOTAL",null,null,null,{"$f":"SUM(F636:F739)","v":194800},null,null,null,null,null,{"$f":"SUBTOTAL(9,L636:L739)","v":0},null,{"$f":"SUBTOTAL(9,N636:N739)","v":1932300},null,null,{"$f":"SUBTOTAL(9,Q636:Q739)","v":944200}]
[null,"300 Educacion La Libertad","RO","CAS","Especialista la la Gesión del Incremento en el Acceso",3500,"18211299","Paredes Quezada Nilthon Dennis","Ingeniero de Sistemas","Ingeniero","Ingeniero de Sistemas",4,12,{"$f":"F741*M741","v":42000},2,6,{"$f":"3500*P741","v":21000}]
[null,"300 Educacion La Libertad","RO","CAS","Gestor Regional para el Incremento en el Acceso",3500,"43453499","Milagros de Pilar Leyva Ávila","Lic. En Contabilidad","contador","Lic. En Contabilidad",4,12,{"$f":"F742*M742","v":42000},null,null,"-"]
[null,"300 Educacion La Libertad","RO","CAS","Especialista en Generación de Condiciones.",4000,"42571436","Juan Manuel Vizconde Albitres","Arquitecto","Arquitecto","Arquitecto",4,12,48000,null,null,"-"]
[null,"300 Educacion La Libertad","RO","CAS","PROFESIONAL ADMINISTRATIVO",3000,"44902990","HORNA CERIN KATIA CAROLINA","CONTADOR","SUPERIOR",null,4,12,36000,null,null,"-"]
[null,"300 Educacion La Libertad","RO","CAS","COORDINADOR PREVAED- BOLIVAR",3500,"23803400","RAMOS ACUÑA JOSE","PROFESOR","SUPERIOR",null,3,6,21000]
[null,"300 Educacion La Libertad","RO","CAS","COORDINADOR PREVAED- UGEL 03",3500,"18068908","OTINIANO GARCIA CESAR","PROFESOR","SUPERIOR",null,4,10,35000]
[null,"300 Educacion La Libertad","RO","CAS","Coordinador de la UGEL ASCOPE y GRAN CHIMU",3500,18901606,"OSORIO POLO MARIA ELIZABETH","Docente","Superior Universitario","Licenciada en Educación",4,10,35000,1,1,{"$f":"+F747*P747","v":3500}]
[null,"300 Educacion La Libertad","RO","CAS","Coordinador Local de la UGEL BOLIVAR",3500,18188805,"QUISPE POSADAS JOSÉ CARLOS",null,null,null,4,10,35000,1,1,{"$f":"+P748*F748","v":3500}]
[null,"300 Educacion La Libertad","RO","CAS","Coordinador de la UGEL GRAN CHIMU",3500,18145498,"CASTILLO VALVERDE PEDRO LUCIANO",null,null,null,4,10,35000]
[null,"300 Educacion La Libertad","RO","CAS","Coordinador de la UGEL JULCAN",3500,18890606,"CERDÁN AMAYA NATALIE IVONNE",null,null,null,4,10,35000,1,1,{"$f":"+F750*P750","v":3500}]
[null,"300 Educacion La Libertad","RO","CAS","Coordinador de la UGEL PATAZ",3500,43089341,"DAGA GÁLVEZ DIANA KATHERINE",null,null,null,3,6,21000,null,null,"-"]
[null,"300 Educacion La Libertad","RO","CAS","Coordinador de la UGEL SANCHEZ CARRIÓN",3500,18147298,"CHAVEZ RAMOS FERNANDO",null,null,null,3,6,21000,null,null,"-"]
[null,"300 Educacion La Libertad","RO","CAS","Coordinador de la UGEL N° 04 TRUJILLO SUR ESTE Y UGEL VIRÚ",3500,18097128,"LLERENA ALFARO MARCO JAVIER",null,null,null,4,10,35000,null,null,"-"]
[null,"300 Educacion La Libertad","RO","CAS","Coordinador de la UGEL SANTIAGO DE CHUCO",3500,40315161,"ABANTO PASCUAL DEISI ROSMERI",null,null,null,4,10,35000,1,2,{"$f":"+F754*P754","v":7000}]
[null,null,"RO","CAS","COORDINADOR PREVAED",3500,27296723,"OCHOA CASTRO ELIZABETH CLEOFÉ",null,null,null,1,4,14000]
[null,null,"RO","CAS","PROFESIONAL ADMINISTRATIVO",3000,40355911,"ESTELA PATRICIA VERA SANCHEZ",null,null,null,null,null,"-",1,3,{"$f":"+F756*P756","v":9000}]
[null,"300 Educacion La Libertad","RO","CAS","Coordinador de la UGEL PACASMAYO - CHEPEN",3500,40280642,"BECERRA BECERRA JOE","Docente","Superior Universitario","Docente de Educación Secundaria Especialidad: Matemática",4,10,{"$f":"F757*M757","v":35000},1,2,7000]
[null,null,"RO","CAS","COORDINADOR PREVAED",3500,18890606,"CERDAN AMAYA NATALIE IVONNE",null,null,null,null,null,"-",1,2,7000]
[null,null,"RO","CAS","COORDINADOR PREVAED",3500,18068908,"OTINIANO GARCIA CESAR EDUARDO",null,null,null,null,null,"-",1,2,7000]
[null,null,"RO","CAS","COORDINADOR PREVAED",3500,19560454,"PAREDES AGUILAR NELLY FIDELINA",null,null,null,1,4,{"$f":"+F760*M760","v":14000},1,3,10500]
[null,null,"RO","CAS","COORDINADOR PREVAED",3500,18904665,"RUMAY LOPEZ EVA ROSA",null,null,null,null,null,"-",1,3,10500]
[null,"300 Educacion La Libertad","RO","CAS","CHOFER",1500,45515886,"ALARCON ABASALO FERNANDO ANSELMO ","ABOGADO","Superior Universitario","Bch. En Derecho y Ciencias Políticas",4,12,{"$f":"F762*M762","v":18000},null,null,"-"]
[null,"300 Educacion La Libertad","RO","CAS","GUARDIANIA Y CONSEJERIA",1200,43534043,"AMAYA ESQUIVEL GERSON",null,"Secundaria Completa","Ninguno",4,12,14400,2,6,{"$f":"+F763*P763","v":7200}]
[null,"300 Educacion La Libertad","RO","CAS","LIMPIEZA",1000,18054252,"CAMPOS JACINTO ERASMO LEONCIO",null,"Secundaria Completa","Ninguno",4,8,8000,2,3,{"$f":"+F764*P764","v":3000}]
[null,"300 Educacion La Libertad","RO","CAS","LIMPIEZA",1000,18149817,"CASTAÑEDA ALFARO WILLIAM ENRIQUE ",null,"Secundaria Completa","Ninguno",4,12,12000,null,null,"-"]
[null,"300 Educacion La Libertad","RO","CAS","RESPONSABLE DE LA OFICINA DE ABASTECIMIENTO",3000,44060747,"GAMARRA CANCHACHI MAYRA LIZBET ","ECONOMISTA","Superior Universitario","BCH. En Ciencias Económicas",4,12,36000,2,6,{"$f":"+P766*3000","v":18000}]
[null,"300 Educacion La Libertad","RO","CAS","RESPONSABLE DE ALMACÉN",1800,40976060,"FLORES CRUZ GEORGE ADOLPH","CONTADOR","Superior Universitario","Contador Público Colegiado",4,12,21600,2,6,{"$f":"1800*P767","v":10800}]
[null,"300 Educacion La Libertad","RO","CAS","AUXILIAR DE LIMPIEZA",1000,18222267,"LINARES RODRIGUEZ DE RODRIGUEZ ANA MELVA ",null,"Secundaria Completa","Ninguno",4,12,12000,2,6,{"$f":"+F768*P768","v":6000}]
[null,"300 Educacion La Libertad","RO","CAS","GUARDIANIA Y CONSEJERIA",1200,43515348,"MARIÑOS NEYRA FERNANDO ",null,"Secundaria Completa","Ninguno",4,12,14400,null,null,"-"]
[null,"300 Educacion La Libertad","RO","CAS","VIGILANCIA",1200,45763502,"MIÑANO CORREA ELDER WILDER ",null,"Secundaria Completa","Ninguno",4,12,14400,2,6,{"$f":"+F770*P770","v":7200}]
[null,"300 Educacion La Libertad","RO","CAS","APOYO LEGAL",2000,43418201,"OLAYA CEDILLO EDSON STEVE ","ABOGADO","Superior Universitario","Abogado",4,12,24000,2,5,{"$f":"+F771*P771","v":10000}]
[null,"300 Educacion La Libertad","RO","CAS","PATRIMONIO",2000,43850242,"SANTIAGO LUJAN CARLOS BERINO ",null,"Superior Universitario","Bachiller",4,12,24000,null,null,"-"]
[null,"300 Educacion La Libertad","RO","CAS","APOYO ADMINISTRATIVO – ÁREA DE PERSONAL ",1600,44071932,"SICCHA RUBIO OSCAR","ADMINISTRADOR","Superior Universitario","Licenciado en Administración",4,12,19200,2,6,{"$f":"1600*P773","v":9600}]
[null,"300 Educacion La Libertad","RO","CAS","VIGILANCIA",1200,18003147,"VALVERDE MAJO VICTOR ALBERTO ",null,"Secundaria Completa","Ninguno",4,12,14400,2,6,{"$f":"+F774*P774","v":7200}]
[null,"300 Educacion La Libertad","RO","CAS","RESPONSABLE DE ADQUISICIONES",1800,40102387,"VASQUEZ FABIAN JHADYRE OFELIA","CONTADOR","Superior Universitario","Contador Público Colegiado",4,12,21600,2,6,{"$f":"1800*P775","v":10800}]
[null,"300 Educacion La Libertad","RO","CAS","VIGILANCIA",1200,43133582,"SANTIAGO OROPEZA  CESAR AGUSTO",null,null,null,3,6,7200,null,null,"-"]
[null,"300 Educacion La Libertad","RO","CAS","VIGILANCIA",1200,46070595,"VALERA CHANDUCO CARLOS ALBERTO",null,null,null,1,3,3600,null,null,"-"]
[null,"300 Educacion La Libertad","RO","CAS","ASISTENTE ADMINISTRATIVO (TRAMITE DOCUMENTARIO)",1200,45257556,"CASTILLO LLERENA DIANA ELIZABETH","ECONOMISTA","Superior Universitario",null,3,12,14400,2,6,{"$f":"+F778*P778","v":7200}]
[null,"300 Educacion La Libertad","RO","CAS","AUXILIAR DE LIMPIEZA (JARDINERIA)",1200,18201369,"RUBIO GRADOS EDWING EDUARDO",null,null,null,3,12,14400,1,1,{"$f":"+F779*P779","v":1200}]
[null,"300 Educacion La Libertad","RO","CAS","VIGILANCIA",1200,41909229,"NARRO IPARRAGUIRRE ALEJANDRO MANUEL",null,null,null,1,12,14400,null,null,"-"]
[null,null,"RO","CAS","LIMPIEZA",1000,41170253,"SALINAS BURGOS LEYDE ",null,null,null,null,null,"-",1,1,{"$f":"+F781*P781","v":1000}]
[null,"300 Educacion La Libertad","RO","CAS","FACILITADOR DEL EQUIPO TECNICO REGIONAL",2500,18011075,"SUAREZ ZELADA ELMER ",null,"Superior Universitario",null,5,12,30000,null,null,"-"]
[null,"300 Educacion La Libertad","RO","CAS","FACILITADOR DEL EQUIPO TECNICO REGIONAL",2500,18170931,"QUIROZ LLANOS IVONE ALEXANDRA ",null,"Superior Universitario",null,5,11,27500,null,null,"-"]
[null,"300 Educacion La Libertad","RO","CAS","FACILITADOR DE PREVENCIÓN SELECTIVA",2500,"03501008","AGUIRRE CASTILLO MANUEL ANTONIO ",null,"Superior Universitario",null,3,12,30000,null,null,"-"]
[null,"300 Educacion La Libertad","RO","CAS","COORDINADOR TÉCNICO",3000,17897781,"BENOTT ROMERO NORA VIRGINIA",null,null,null,3,12,36000,null,null,"-"]
[null,"300 Educacion La Libertad","RO","CAS","FACILITADOR DEL EQUIPO TECNICO REGIONAL – UGEL N° 03 TRUJILLO NOR OESTE",2500,44872910,"JARA GALVEZ KATIA EDITH ",null,"Superior Universitario",null,5,11,27500,null,null,"-"]
[null,"300 Educacion La Libertad","RO","CAS","FACILITADOR",2500,40873832,"ZAPATA MENDOZA ROCIO DEL PILAR",null,null,null,2,4,10000,null,null,"-"]
[null,"300 Educacion La Libertad","RO","CAS","FACILITADOR",2500,"05386770","NAVARRO AREVALO MILTON",null,"Superior Universitario","Profesor",5,11,27500,null,null,"-"]
[null,"300 Educacion La Libertad","RO","CAS","FACILITADOR",2500,41741167,"AVILA DIAZ ALEX ANDRES",null,"Superior Universitario","Psicologo",3,7,17500,null,null,"-"]
[null,"300 Educacion La Libertad","RO","CAS","FACILITADOR",2500,44483058,"CAMPOS IZAGA FRANCIA",null,"Superior Universitario","Psicologa",2,4,10000,null,null,"-"]
[null,"300 Educacion La Libertad","RO","CAS","FACILITADOR",2500,46282023,"GUARNIZ MARTOS JEANETTE FIORELLY",null,null,null,5,11,27500,null,null,"-"]
[null,"300 Educacion La Libertad","RO","CAS","FACILITADOR",2500,41212534,"ALVA ALCALDE YGNACIO CONCEPCION",null,"Superior Universitario","Psicologo",4,7,17500,null,null,"-"]
[null,"300 Educacion La Libertad","RO","CAS","FACILITADOR",2500,18899136,"CRUZ VILLANUEVA NANCY LEONOR",null,null,null,1,3,7500,null,null,"-"]
[null,"300 Educacion La Libertad","RO","CAS","FACILITADOR",2500,40901946,"NECIOSUP RODRIGUEZ JENNYFER LILIANA",null,"Superior Universitario","Psicologa",5,11,27500,null,null,"-"]
[null,"300 Educacion La Libertad","RO","CAS","FACILITADOR",2500,18086842,"PINCHI RAMIREZ MAX",null,"Superior Universitario","Profesor",5,11,27500,null,null,"-"]
[null,"300 Educacion La Libertad","RO","CAS","FACILITADOR",2500,70042477,"JARA GALVEZ DIANA LUCERO",null,"Superior Universitario","Psicologa",5,11,27500,null,null,"-"]
[null,"300 Educacion La Libertad","RO","CAS","FACILITADOR",2500,41012470,"SAID LUNA MARINA DEL CARMEN",null,null,null,1,4,10000,null,null,"-"]
[null,"300 Educacion La Libertad","RO","CAS","FACILITADOR",2500,40762200,"ACHATA RODRIGUEZ KARLA ELIZABETH",null,null,null,5,11,27500,null,null,"-"]
[null,null,"RO","CAS","FACILITADOR",2500,40893296,"BRICEÑO ALVA NILO ENRIQUE SANTIAGO",null,"Superior Universitario",null,5,11,27500]
[null,"300 Educacion La Libertad","RO","CAS","FACILITADOR",2500,18145219,"RIVERA NUREÑA HANNY PAMELA",null,null,null,2,6,15000,null,null,"-"]
[null,"300 Educacion La Libertad","RO","CAS","FACILITADOR",2500,46156650,"HERNANDEZ CASTRO CESAR ANTONIO",null,null,null,5,11,27500,null,null,"-"]
[null,"300 Educacion La Libertad","RO","CAS","FACILITADOR",2500,18008390,"CRUZ BEJARANO JENNY MAGDALENA",null,null,null,5,11,27500,null,null,"-"]
[null,"300 Educacion La Libertad","RO","CAS","FACILITADOR",2500,44098219,"SARAVIA ANGULO BLANCA JULISSA",null,null,null,1,3,7500,null,null,"-"]
[null,"300 Educacion La Libertad","RO","CAS","FACILITADOR",2500,46246233,"VERA AGUIRRE SUSELY MARYCE",null,null,null,2,6,15000,null,null,"-"]
[null,"300 Educacion La Libertad","RO","CAS","FACILITADOR",2500,40999393,"SANTAMARIA ZUÑIGA JULIO CESAR",null,null,null,1,3,7500,null,null,"-"]
[null,"300 Educacion La Libertad","RO","CAS","FACILITADOR",2500,45854371,"HERRERA JIMENEZ MARIA ALEJANDRA",null,null,null,5,11,{"$f":"F806*M806","v":27500},null,null,"-"]
[null,"300 Educacion La Libertad","RO","CAS","FACILITADOR",2500,45553123,"ANTICONA GUARNIZ FIORELA LIZET",null,null,null,5,11,27500,null,null,"-"]
[null,"300 Educacion La Libertad","RO","CAS","FACILITADOR",2500,3825272,"CASTILLO FIGUEROA ANGELICA",null,null,null,5,11,27500,null,null,"-"]
[null,"300 Educacion La Libertad","RO","CAS","FACILITADOR",2500,70361403,"ALCALDE MEREGILDO KEVIN BRAYAN ",null,null,null,5,11,27500,null,null,"-"]
[null,"300 Educacion La Libertad","RO","CAS","ASISTENTE ADMINISTRATIVO LOGISTICO",2500,45505823,"VALDERA CASTILLO MIRIAM FLORIMER","Contadora","Superior Universitario","Contadora",5,11,27500,null,null,"-"]
[null,"300 Educacion La Libertad","RO","CAS","FACILITADOR DEL EQUIPO TECNICO REGIONAL – UGEL CHEPEN",2500,46481312,"EVA ELIZABETH ALDANA MONJA",null,null,null,5,11,27500,null,null,"-"]
[null,"300 Educacion La Libertad","RO","CAS","FACILITADOR DEL EQUIPO TECNICO REGIONAL – UGEL N° 01 EL PORVENIR",2500,71004282,"ACEVEDO PEREYRA TANIA VANESSA",null,null,null,2,3,7500,null,null,"-"]
[null,"300 Educacion La Libertad","RO","CAS","FACILITADOR DEL EQUIPO TECNICO REGIONAL – UGEL SANTIAGO DE CHUCO",2500,18076926,"BURGOS BACILIO MARIA ESTHER",null,null,null,4,11,27500,null,null,"-"]
[null,"300 Educacion La Libertad","RO","CAS","FACILITADOR DEL EQUIPO TECNICO REGIONAL – UGEL N° 02 LA ESPERANZA",2500,43613658,"BALDEON CUSI SANDRA VANESSA",null,null,null,2,8,20000,null,null,"-"]
[null,"300 Educacion La Libertad","RO","CAS","FACILITADOR DEL EQUIPO TECNICO REGIONAL – UGEL PACASMAYO",2500,18161103,"RODRIGUEZ VALVERDE ALEXANDER LIBORIO",null,null,null,4,6,15000,null,null,"-"]
[null,"300 Educacion La Libertad","RO","CAS","FACILITADOR DEL EQUIPO TECNICO REGIONAL – UGEL N° 01 EL PORVENIR",2500,42910786,"REGALADO PIMINCHUMO MARICELLI DEL PILAR",null,null,null,2,5,12500,null,null,"-"]
[null,"300 Educacion La Libertad","RO","CAS","FACILITADOR DEL EQUIPO TECNICO REGIONAL – UGEL CHEPEN",2500,45108363,"ATHINA NOEMI IRIARTE REBAZA",null,null,null,2,5,12500,null,null,"-"]
[null,"300 Educacion La Libertad","RO","CAS","GESTOR REGIONAL POLIDOCENTE",4000,18141823,"AGUILAR PEREDA JOSE LUIS","CONTADOR","LICENCIADO","Contador Público",1,1,{"$f":"F818*M818","v":4000},null,null,"-"]
[null,"300 Educacion La Libertad","RO","CAS","COORDINADOR REGIONAL DE CALIDAD DE LA INFORMACION",4000,42521088,"ANGEL DAVID CIEZA RAMOS","Ingeniero de Sistemas","Superior Universitario","Ingeniero de Sistemas",4,8,32000,1,2,{"$f":"3000*P819","v":6000}]
[null,"300 Educacion La Libertad","RO","CAS","GESTOR REGIONAL INTERVENCIONES PP090",4000,41716801,"ALEJOS CASTILLO SOFIA","Contadora","Superior Universitario","Contadora",4,8,{"$f":"F820*M820","v":32000},null,null,"-"]
[null,null,"RO","CAS","GESTOR REGIONAL PP090",3500,19664562,"FLORES CASTRO EDUARDO JAVIER","Administrador","Superior Universitario","Administrador",null,null,"-",1,2,{"$f":"3500*P821","v":7000}]
[null,"300 Educacion La Libertad","RO","CAS","ESPECIALISTA EN SEGUIMIENTO Y MONITOREO",2600,18115581,"GARCIA ALARCO CESAR ","Economista","Superior Universitario","Economista",2,6,{"$f":"F822*M822","v":15600},null,null,"-"]
[null,"300 Educacion La Libertad","RO","CAS","Especialista Regional en Educación Especial",3000,42343379,"CHAVEZ CABALLERO MARISA",0,"Superior Universitario",null,4,10,30000,null,null,"-"]
[null,"300 Educacion La Libertad","RO","CAS","VIGILANTE EN EL ISEPP \"INDOAMERICA\"",1150,41476219,"HOLIVER HUMBERTO CORTEZ FLORES",0,"Secundaria Completa","Ninguno",3,9,10350,2,6,{"$f":"+F824*P824","v":6900}]
[null,"300 Educacion La Libertad","RO","CAS","VIGILANTE EN EL ISEPP \"INDOAMERICA\"",1150,46279766,"WILLIAN JOSE JACINTO LEYVA",0,"Secundaria Completa","Ninguno",3,9,{"$f":"F825*M825","v":10350},2,6,{"$f":"+F825*P825","v":6900}]
[null,"300 Educacion La Libertad","RO","CAS","VIGILANTE EN EL ISEPP \"INDOAMERICA\"",1150,74400245,"PAULO CESAR LEYTON HUANILO",0,"Secundaria Completa","Ninguno",3,9,{"$f":"F826*M826","v":10350},2,6,6900]
[null,"300 Educacion La Libertad","RO","CAS","VIGILANTE EN EL ISEPP \"INDOAMERICA\"",1150,41806857,"HUMBERTO EFRAIN MAXDEO VASQUEZ",0,"Secundaria Completa","Ninguno",3,9,{"$f":"F827*M827","v":10350},2,6,6900]
[null,"300 Educacion La Libertad","RO","CAS","VIGILANTE EN EL IEPP “NUESTRA SEÑORA DE LA ASUNCIÓN”",1150,48462481,"DARWIN JONATHAN BACILIO JUAREZ",0,"Secundaria Completa","Ninguno",3,9,10350,2,6,6900]
[null,"300 Educacion La Libertad","RO","CAS","VIGILANTE EN EL IEPP “NUESTRA SEÑORA DE LA ASUNCIÓN”",1150,71994581,"RENZON BRANNER CASTILLO VIDAL",0,"Secundaria Completa","Ninguno",3,9,10350,2,6,6900]
[null,"300 Educacion La Libertad","RO","CAS","VIGILANTE EN EL IEPP “NUESTRA SEÑORA DE LA ASUNCIÓN”",1150,45400797,"LUIS MIGUEL HERRERA REYES",0,"Secundaria Completa","Ninguno",3,9,10350,2,6,6900]
[null,"300 Educacion La Libertad","RO","CAS","VIGILANTE EN EL IEPP “NUESTRA SEÑORA DE LA ASUNCIÓN”",1150,46503050,"WILSON ESTEBAN VALDIVIEZO RODRIGUEZ",0,"Secundaria Completa","Ninguno",3,9,10350,2,6,6900]
[null,"300 Educacion La Libertad","RO","CAS","VIGILANTE EN EL IESPP “DAVID SÁNCHEZ INFANTE”",1150,43062440,"ROOGER MAURO CORNEJO REQUEJO",0,"Secundaria Completa","Ninguno",3,9,10350,2,6,6900]
[null,"300 Educacion La Libertad","RO","CAS","VIGILANTE EN EL IESPP “DAVID SÁNCHEZ INFANTE”",1150,43178224,"FRAN MILLER CORREA REVILLA",0,"Secundaria Completa","Ninguno",3,9,10350,2,6,6900]
[null,"300 Educacion La Libertad","RO","CAS","VIGILANTE EN EL IESPP “DAVID SÁNCHEZ INFANTE”",1150,73696440,"ARIAS RIVERA VICTOR EDUARDO",0,"Secundaria Completa","Ninguno",2,4,4600,null,null,0]
[null,"300 Educacion La Libertad","RO","CAS","VIGILANTE EN EL IESPP “DAVID SÁNCHEZ INFANTE”",1150,41240941,"JUAN CARLOS YSLA LEYTON",0,"Secundaria Completa","Ninguno",3,9,10350,2,6,6900]
[null,"300 Educacion La Libertad","RO","CAS","VIGILANTE EN EL IESPP “VÍCTOR RAÚL HAYA DE LA TORRE”",1150,74412600,"JULIO ENRIQUE DELGADO ORELLANA",0,"Secundaria Completa","Ninguno",3,9,10350,2,6,6900]
[null,"300 Educacion La Libertad","RO","CAS","VIGILANTE EN EL IESPP “VÍCTOR RAÚL HAYA DE LA TORRE”",1150,71545174,"MIGUEL ANGEL ESQUIVEL CASTILLO",0,"Secundaria Completa","Ninguno",1,3,3450,null,null,0]
[null,"300 Educacion La Libertad","RO","CAS","VIGILANTE EN EL IESPP “VÍCTOR RAÚL HAYA DE LA TORRE”",1150,"42187125","DANIEL AURELIO NAMAY VASQUEZ",0,"Secundaria Completa","Ninguno",3,9,10350,2,6,6900]
[null,"300 Educacion La Libertad","RO","CAS","VIGILANTE EN EL IESPP “VÍCTOR RAÚL HAYA DE LA TORRE”",1150,"43667127","CASTILLO CARDENAS ERNESTO VLADIMIR",0,"Secundaria Completa","Ninguno",2,5,5750,2,6,6900]
[null,"300 Educacion La Libertad","RO","CAS","VIGILANTE EN EL IESPP “VÍCTOR RAÚL HAYA DE LA TORRE”",1150,"46913493","ESQUIVEL CALDERON JUAN ALBERTO",0,"Secundaria Completa","Ninguno",2,5,5750,2,6,6900]
[null,"300 Educacion La Libertad","RO","CAS","VIGILANTE EN EL IESP “CACHICADAN”",1150,42155614,"CHRISTOPHER ARTURO CORDOVA ESCALANTE",0,"Secundaria Completa","Ninguno",3,9,10350,2,6,6900]
[null,"300 Educacion La Libertad","RO","CAS","VIGILANTE EN EL IESP “CACHICADAN”",1150,80435516,"MARIO DOMINGO MENDEZ GUEVARA",0,"Secundaria Completa","Ninguno",3,9,10350,2,6,6900]
[null,"300 Educacion La Libertad","RO","CAS","VIGILANTE EN EL IESP “CACHICADAN”",1150,19675233,"SANTOS MANUEL RODRIGUEZ ZAVALA",0,"Secundaria Completa","Ninguno",3,9,10350,2,6,6900]
[null,"300 Educacion La Libertad","RO","CAS","VIGILANTE EN EL IESP “CACHICADAN”",1150,null,"PROSPERO  QUEZADA CARRANZA",0,"Secundaria Completa","Ninguno",2,4,4600,2,6,6900]
[null,"300 Educacion La Libertad","RO","CAS","VIGILANTE EN EL IESPP “JOSE FAUSTINO SÁNCHEZ CARRIÓN”",1150,44007188,"BAUTISTA ASUNCIÓN DEMETRIO ",0,"Secundaria Completa","Ninguno",3,9,{"$f":"F845*M845","v":10350},2,6,6900]
[null,"300 Educacion La Libertad","RO","CAS","VIGILANTE EN EL IESPP “JOSE FAUSTINO SÁNCHEZ CARRIÓN”",1150,44523420,"VILLALBA JULCA MERCEDES ",0,"Secundaria Completa","Ninguno",3,9,{"$f":"F846*M846","v":10350},2,6,6900]
[null,null,"RO","CAS","VIGILANTE EN EL IESPP \"TAYABAMBA\"",1150,41073256,"CARRERA ZEGARRA JAVIER ",0,"Secundaria Completa","Ninguno",null,null,"-",2,6,6900]
[null,null,"RO","CAS","VIGILANTE EN EL IESPP \"TAYABAMBA\"",1150,44865497,"FLORES CABALLERO EDWARD LUIS",0,"Secundaria Completa","Ninguno",null,null,"-",2,6,6900]
[null,null,"RO","CAS","VIGILANTE EN EL IESPP \"TAYABAMBA\"",1150,41540237,"VIGO PAREDES LUCIO",0,"Secundaria Completa","Ninguno",null,null,"-",2,6,6900]
[null,"300 Educacion La Libertad","RO","CAS","VIGILANTE EN EL IESPP “JOSE FAUSTINO SÁNCHEZ CARRIÓN”",1150,18104636,"CESAR LUIS PADILLA SOBRADOS",0,"Secundaria Completa","Ninguno",3,9,{"$f":"F850*M850","v":10350},null,null,0]
[null,"TOTAL",null,null,null,{"$f":"SUM(F741:F850)","v":244150},null,null,null,null,null,null,null,{"$f":"SUM(N741:N850)","v":1957400},null,null,{"$f":"SUM(Q741:Q850)","v":367300}]
[null,"U.E. 301 EDUCACION CHEPEN"," 00 R.O.","CAS","RESPONSABLE DE ALMACEN",1350,40432849,"ALVAREZ SANTA CRUZ, LOYDA REBECA","CPC CONTADOR","SUPERIOR UNIVERSITARIO","CPC CONTADOR",4,12,16200,4,6,8100]
[null,"U.E. 301 EDUCACION CHEPEN"," 00 R.O.","CAS","TECNICO EN PERSONAL",1350,19190251,"BACA INOSTROZA, CARLOS ALBERTO ","ADMINISTRADOR","SUPERIOR UNIVERSITARIO","BACH. ADMINISTRACION",4,12,16200,4,6,8100]
[null,"U.E. 301 EDUCACION CHEPEN"," 00 R.O.","CAS","AUX. ADMINSTRATIVO",1000,19198537,"HORNA MALTESSE, FREDDY JHONNY",0,"PROF. TECNICO COMPUT.","PROF. TECNICO COMPUT.",4,12,12000,4,6,6000]
[null,"U.E. 301 EDUCACION CHEPEN"," 00 R.O.","CAS","RESP. SOPORTE Y MANTEN.",1500,43640554,"VELARDE LEIVA, JORGE ADAN ","INGENIERO DE SISTEMAS","INGENIERO DE SISTEMAS","INGENIERO DE SISTEMAS",4,12,18000,4,6,9000]
[null,"U.E. 301 EDUCACION CHEPEN"," 00 R.O.","CAS","TRABAJADOR ADTVO",1000,19198652,"ZARE LULICHAC, LEONARDO WALTER   ",0,"SECUNDARIA COMPLETA","NINGUNO",4,12,12000,4,6,6000]
[null,"U.E. 301 EDUCACION CHEPEN"," 00 R.O.","CAS","TRABAJADOR DE SERVICIOS",1000,19206072,"PRETTEL ORELLANA, ELIZABETH JESUS",0,"SECUNDARIA COMPLETA","NINGUNO",4,12,12000,4,6,6000]
[null,"U.E. 301 EDUCACION CHEPEN"," 00 R.O.","CAS","ABOGADO - PERSONAL",1500,null,null,"ABOGADO","SUPERIOR UNIVERSITARIO","ABOGADO",null,12,18000,null,6,9000]
[null,"U.E. 301 EDUCACION CHEPEN"," 00 R.O.","CAS","TECNICO EN PERSONAL",1350,45528195,"REQUEJO CHUQUILIN, LEYDY NOELY",0,"PROF. TECNICO SECRETARIADO","NINGUNO",4,12,16200,4,6,8100]
[null,"U.E. 301 EDUCACION CHEPEN"," 00 R.O.","CAS","ABOGADO - PERSONAL",2500,41384403,"AMAYA MUÑOZ, MIGUEL ANGEL ","ABOGADO","SUPERIOR COMPLETA","ABOGADO",4,12,30000]
[null,"U.E. 301 EDUCACION CHEPEN"," 00 R.O.","CAS","ACOMPAÑANTE SOPORTE",3400,18201982,"GUTIERREZ ALVAREZ, DAYSI ESMERALDA","PROFESORA","SUPERIOR","PROFESORA",4,12,40800]
[null,"U.E. 301 EDUCACION CHEPEN"," 00 R.O.","CAS","ACOMPAÑANTE SOPORTE",3400,16586674,"VELASQUEZ SOSA, ANA YSABEL","PROFESOR","SUPERIOR","PROFESOR",4,12,40800]
[null,"U.E. 301 EDUCACION CHEPEN"," 00 R.O.","CAS","ACOMPAÑANTE SOPORTE",3400,19561634,"CUEVAS RUIZ, ARTURO LIZANDRO","PROFESOR","SUPERIOR","PROFESOR",4,12,40800]
[null,"U.E. 301 EDUCACION CHEPEN"," 00 R.O.","CAS","ACOMPAÑANTE SOPORTE",3400,19202252,"POEMAPE ZAPATA, MIRIAM DEBORA","PROFESOR","SUPERIOR","PROFESOR",4,12,40800]
[null,"U.E. 301 EDUCACION CHEPEN"," 00 R.O.","CAS","GESTOR LOCAL",3500,40999370,"RAMOS ABANTO FERNANDO AURELIO","ADMINISTRADOR","SUPERIOR","LIC. EN ADMINISTRACION",4,12,42000]
[null,"U.E. 301 EDUCACION CHEPEN"," 00 R.O.","CAS","GESTOR CALIDAD INFORM",3000,41172086,"VILLANUEVA ESTRADA, JUAN GABRIEL","PROFESORA","SUPERIOR","PROF. TECNICO COMPUT.",4,12,36000]
[null,"U.E. 301 EDUCACION CHEPEN"," 00 R.O.","CAS","RESP. RECURS. CRAE",1500,19330231,"HERNANDEZ SUAREZ, YADI MORAIMA","PROFESOR","SUPERIOR","PROFESOR",4,12,18000]
[null,"U.E. 301 EDUCACION CHEPEN"," 00 R.O.","CAS","ABOG. PROC. ADTVO",2600,19249292,"ALBITRES PURIZAGA, PAUL MARTIN","ABOGADO","SUPERIOR","ABOGADO",4,12,31200,4,6,15600]
[null,"U.E. 301 EDUCACION CHEPEN"," 00 R.O.","CAS","VIGILANCIA",1150,19322385,"CERVERA LEON, WALTER TEOBALDO",0,"SECUNDARIA COMPLETA","NINGUNO",4,12,13800,4,6,6900]
[null,"U.E. 301 EDUCACION CHEPEN"," 00 R.O.","CAS","VIGILANCIA",1150,19321743,"GARCIA TANTA, ISAAC MOISES",0,"SECUNDARIA COMPLETA","NINGUNO",4,12,13800,4,6,6900]
[null,"U.E. 301 EDUCACION CHEPEN"," 00 R.O.","CAS","SOPORTE",1500,45436597,"BARBOZA JULCA, DEYVIS ARNALDO","INGENIERO DE SISTEMAS","SUPERIOR","INGENIERO DE SISTEMAS",4,12,18000]
[null,"U.E. 301 EDUCACION CHEPEN"," 00 R.O.","CAS","COORDINADOR ADTVA",2000,17636837,"DAMIAN VELASQUEZ, KETY RAQUEL","ADMINISTRADOR","SUPERIOR","ADMINISTRADOR",4,12,24000]
[null,"U.E. 301 EDUCACION CHEPEN"," 00 R.O.","CAS","COORDINADOR ADTVA",2000,46093898,"LINARES DIAZ, JORGE ANTONIO","ADMINISTRADOR","SUPERIOR","ADMINISTRADOR",4,12,24000,4,2,4000]
[null,"U.E. 301 EDUCACION CHEPEN"," 00 R.O.","CAS","SECRETARIA",1400,43811480,"QUIÑONES ELIAS, IRMA MILAGROS",0,"SECUNDARIA COMPLETA","NINGUNO",4,12,16800]
[null,"U.E. 301 EDUCACION CHEPEN"," 00 R.O.","CAS","PSICOLOGO",2000,46281505,"RAMIREZ RODAS, HECTOR EDUARDO","PSICOLOGO","SUPERIOR","PSICOLOGO",4,12,24000]
[null,"U.E. 301 EDUCACION CHEPEN"," 00 R.O.","CAS","PSICOLOGO",2000,42384673,"CHAVARRY RODAS, MARIANELLA DEL SOCORRO","PSICOLOGO","SUPERIOR","PSICOLOGO",4,12,24000]
[null,"U.E. 301 EDUCACION CHEPEN"," 00 R.O.","CAS","SECRETARIA",1400,44816593,"VASQUEZ PAZ, MARUJA JUDITH",0,"SECUNDARIA COMPLETA","NINGUNO",4,12,16800,4,2,2800]
[null,"U.E. 301 EDUCACION CHEPEN"," 00 R.O.","CAS","SOPOTRE",1500,41415589,"CUSCO FLORIAN, NOE  ORLANDINI","PROFESOR","SUPERIOR","PROFESOR",4,12,18000]
[null,"U.E. 301 EDUCACION CHEPEN"," 00 R.O.","CAS","APOYO EDUC.",1150,43131257,"DE LA CRUZ PRETELL, DIANA KATERINE",0,"SECUNDARIA COMPLETA","NINGUNO",4,12,13800,4,2,2300]
[null,"U.E. 301 EDUCACION CHEPEN"," 00 R.O.","CAS","COORDINADOR ADTVA",2000,42893243,"CHAVARRIA LLALLE, JORGE IVAN","ADMINISTRADOR","SUPERIOR","ADMINISTRADOR",4,12,24000,4,2,4000]
[null,"U.E. 301 EDUCACION CHEPEN"," 00 R.O.","CAS","COORDINADOR ADTVA",2000,72085233,"FELIPE BARBA, LUIS OMAR","ADMINISTRADOR","SUPERIOR","ADMINISTRADOR",null,null,null,4,2,4000]
[null,"U.E. 301 EDUCACION CHEPEN"," 00 R.O.","CAS","VIGILANCIA",1150,19256598,"HERNANDEZ VASQUEZ, ALEX ROSSEL",0,"SECUNDARIA COMPLETA","NINGUNO",4,12,13800]
[null,"U.E. 301 EDUCACION CHEPEN"," 00 R.O.","CAS","VIGILANCIA",1150,19330431,"VASQUEZ FUENTES, SEGUNDO CARLOS",null,"SECUNDARIA COMPLETA","NINGUNO",4,12,13800,4,6,6900]
[null,"U.E. 301 EDUCACION CHEPEN"," 00 R.O.","CAS","VIGILANCIA",1150,19250402,"DEZA VALLADARES, MARCO ANTONIO",null,"SECUNDARIA COMPLETA","NINGUNO",4,12,13800,4,6,6900]
[null,"U.E. 301 EDUCACION CHEPEN"," 00 R.O.","CAS","VIGILANCIA",1150,44487810,"MANTILLA CALDERON, EDDY MANUEL",null,"SECUNDARIA COMPLETA","NINGUNO",4,12,13800,4,6,6900]
[null,"U.E. 301 EDUCACION CHEPEN"," 00 R.O.","CAS","VIGILANCIA",1150,41771506,"ELIAS VALERA, JOSE FRANCISCO",null,"SECUNDARIA COMPLETA","NINGUNO",4,12,13800,4,6,6900]
[null,"U.E. 301 EDUCACION CHEPEN"," 00 R.O.","CAS","VIGILANCIA",1150,43104797,"SUAREZ COTRINA, JOSE LUIS",null,"SECUNDARIA COMPLETA","NINGUNO",4,12,13800,4,6,6900]
[null,"U.E. 301 EDUCACION CHEPEN"," 00 R.O.","CAS","VIGILANCIA",1150,42686997,"VENTURA PACHECO, WILSON MARTIN",null,"SECUNDARIA COMPLETA","NINGUNO",4,12,13800,4,6,6900]
[null,"U.E. 301 EDUCACION CHEPEN"," 00 R.O.","CAS","VIGILANCIA",1150,19321514,"CORREA GAVIDIA, JOSE ANDRES",null,"SECUNDARIA COMPLETA","NINGUNO",4,12,13800,4,6,6900]
[null,"U.E. 301 EDUCACION CHEPEN"," 00 R.O.","CAS","VIGILANCIA",1150,45049156,"HERNANDEZ CASTAÑEDA, EUGENIO",null,"SECUNDARIA COMPLETA","NINGUNO",4,12,13800,4,6,6900]
[null,"U.E. 301 EDUCACION CHEPEN"," 00 R.O.","CAS","VIGILANCIA",1150,80239860,"FARRO BALLADARES, HENRY FERNANDO",null,"SECUNDARIA COMPLETA","NINGUNO",null,null,null,4,6,6900]
[null,"U.E. 301 EDUCACION CHEPEN"," 00 R.O.","CAS","PSICOLOGO",2000,46853332,"RODRIGUEZ COSTILLA, CLAUDIA STEFFANY","PSICOLOGO","SUPERIOR","PSICOLOGO",4,12,24000]
[null,"U.E. 301 EDUCACION CHEPEN"," 00 R.O.","CAS","PSICOLOGO",2000,42441756,"FUENTES PEREZ, SONIA MARIBEL","PSICOLOGO","SUPERIOR","PSICOLOGO",null,null,null,4,2,4000]
[null,"U.E. 301 EDUCACION CHEPEN"," 00 R.O.","CAS","SECRETARIO",1400,"´06432546","CARMELINO  CASTRO, HERBERT MINOR",null,"SUPERIOR","PROF. TECNICO SECRETARIA",null,null,null,4,2,2800]
[null,"U.E. 301 EDUCACION CHEPEN"," 00 R.O.","CAS","SOPORTE",1500,45512754,"PAREDES VARGAS, DENIS DANIEL","PROFESOR","SUPERIOR","PROFESOR",4,12,15000]
[null,"U.E. 301 EDUCACION CHEPEN"," 00 R.O.","CAS","COORD. SOPORTE",1800,41400202,"CARRASCALCERNA, VICTOR MARTIN","INGENIERO DE SISTEMAS","SUPERIOR","INGENIERO DE SISTEMAS",null,null,null,4,2,3600]
[null,"U.E. 301 EDUCACION CHEPEN"," 00 R.O.","CAS","COORD. SOPORTE",1800,42865709,"BRUNO VASQUEZ, JUAN CARLOS","INGENIERO DE SISTEMAS","SUPERIOR","INGENIERO DE SISTEMAS",null,null,null,4,2,3600]
[null,"U.E. 301 EDUCACION CHEPEN"," 00 R.O.","CAS","COORD. SOPORTE",1800,19334253,"INOSTROZA SERRANO, HERNAN ANTONIO","INGENIERO DE SISTEMAS","SUPERIOR","INGENIERO DE SISTEMAS",null,null,null,4,2,3600]
[null,"U.E. 301 EDUCACION CHEPEN"," 00 R.O.","CAS","APOYO EDUC.",1150,80240110,"CIEZA DIAZ, KATIA WENDY","PROFESOR","SUPERIOR","PROFESOR",4,12,11500,4,2,2300]
[null,"U.E. 301 EDUCACION CHEPEN"," 00 R.O.","CAS","APOYO EDUC.",1150,41622064,"PALACIOS GUEVARA, GARDENIA MARILIN","PROFESOR","SUPERIOR","PROFESOR",4,12,13800,null,2,0]
[null,"U.E. 301 EDUCACION CHEPEN"," 00 R.O.","CAS","ACOMPAÑANTE PEDAGOC.",3600,80523262,"JIMENEZ VASQUEZ, ALEX JAVIER","PROFESOR","SUPERIOR","PROFESOR",4,12,43200,3,2,7200]
[null,"U.E. 301 EDUCACION CHEPEN"," 00 R.O.","CAS","ACOMPAÑANTE PEDAGOC.",3600,19325274,"RAZURI SALCEDO, JORGE AUGUSTO","PROFESOR","SUPERIOR","PROFESOR",4,12,43200,3,2,7200]
[null,"U.E. 301 EDUCACION CHEPEN"," 00 R.O.","CAS","ESPECIALISTA ADTVO",2600,46109812,"BALAREZO DIAZ, CELIDEE DEYANIRA","TRABAJADORA SOCIAL","SUPERIOR","TRABAJADORA SOCIAL",4,12,31200,4,6,15600]
[null,"U.E. 301 EDUCACION CHEPEN"," 00 R.O.","CAS","TERAPISTA PRITE",2000,16673078,"SOBRINO RIVADENEYRA, JUDY MAGALY",null,"SUPERIOR","TECNICO FISIOTERAPIA",null,null,null,4,2,4000]
[null,"U.E. 301 EDUCACION CHEPEN"," 00 R.O.","CAS","GESTOR CURRICULAR",4000,18201982,"GUTIERREZ ALVAREZ, DAYSI ESMERALDA","PROFESOR","SUPERIOR","PROFESOR",null,null,null,4,2,8000]
[null,"U.E. 301 EDUCACION CHEPEN"," 00 R.O.","CAS","VIGILANCIA",1150,43822944,"PINEDA NINAQUISPE, JONATHAN LUIS",null,"SECUNDARIA COMPLETA","NINGUNO",4,12,13800,4,6,6900]
[null,"TOTAL",null,null,null,{"$f":"SUM(F852:F906)","v":101050},null,null,null,null,null,null,null,{"$f":"SUM(N852:N906)","v":991900},null,null,{"$f":"SUM(Q852:Q906)","v":237700}]
[null,"302 EDUCACION PACASMAYO","Recursos Ordinarios","CAS","PERSONAL DE VIGILANCIA",1150,40480028,"ALBITRES ABANTO CARLOS ALBERTO",null,"SECUNDARIA COMPLETA",0,"042-2017",12,{"$f":"F908*M908","v":13800},"042-2017",6,{"$f":"F908*P908","v":6900}]
[null,"302 EDUCACION PACASMAYO","Recursos Ordinarios","CAS","PERSONAL DE VIGILANCIA",1150,40185084,"BENITES RUIZ DARIO WILFREDO",null,"SECUNDARIA COMPLETA",0,"043-2017",12,{"$f":"F909*M909","v":13800},"043-2017",6,{"$f":"F909*P909","v":6900}]
[null,"302 EDUCACION PACASMAYO","RO","CAS","PERSONAL DE VIGILANCIA",1150,19333156,"QUESQUEN MILIAN HENRY",null,"SECUNDARIA COMPLETA",0,"040-2017",12,13800,null,0,0]
[null,"302 EDUCACION PACASMAYO","RO ","CAS","PERSONAL DE VIGILANCIA",1150,"06957589","SUAREZ MUÑOZ AGUSTIN SAMUEL",null,"SECUNDARIA COMPLETA",0,"041-2017",12,13800,"041-2017",6,6900]
[null,"302 EDUCACION PACASMAYO","RO ","CAS","PERSONAL DE VIGILANCIA",1150,19212869,"TAVERA SALAZAR ANTONIO",null,"SECUNDARIA COMPLETA",0,"046-2017",12,13800,"046-2017",6,6900]
[null,"302 EDUCACION PACASMAYO","RO ","CAS","PERSONAL DE VIGILANCIA",1150,42438718,"ALBITRES ABANTO MIGUEL ANGEL",null,"SECUNDARIA COMPLETA",0,"047-2017",12,13800,"047-2017",6,6900]
[null,"302 EDUCACION PACASMAYO","RO ","CAS","PERSONAL DE VIGILANCIA",1150,19254710,"CERNA LOZADA JOSE ADALBERTO",null,"SECUNDARIA COMPLETA",0,"048-2017",12,13800,"048-2017",6,6900]
[null,"302 EDUCACION PACASMAYO","RO ","CAS","PERSONAL DE VIGILANCIA",1150,19248987,"ALBITRES PALMA JORGE STEWART",null,"SECUNDARIA COMPLETA",0,"049-2017",12,13800,"049-2017",6,6900]
[null,"302 EDUCACION PACASMAYO","RO ","CAS","PERSONAL DE VIGILANCIA",1150,19180059,"AMAYA ESCALENTE FREDDY MARCOS",null,"SECUNDARIA COMPLETA",0,"021-2015",12,13800,"021-2015",6,6900]
[null,"302 EDUCACION PACASMAYO","RO ","CAS","PERSONAL DE VIGILANCIA",1150,42542602,"AMAYA FELIPE NELSON IGOR",null,"SECUNDARIA COMPLETA",0,"016-2015",12,13800,"016-2015",6,6900]
[null,"302 EDUCACION PACASMAYO","RO ","CAS","PERSONAL DE VIGILANCIA",1150,19260292,"ARROYO VALDEZ MARCO ANTONIO",null,"SECUNDARIA COMPLETA",0,"001-2015",12,13800,"001-2015",6,6900]
[null,"302 EDUCACION PACASMAYO","RO ","CAS","PERSONAL DE VIGILANCIA",1150,41785270,"CHAPOÑAN HERRERA JESUS ALBERTO",null,"SECUNDARIA COMPLETA",0,"008-2015",12,13800,"008-2015",6,6900]
[null,"302 EDUCACION PACASMAYO","RO ","CAS","PERSONAL DE VIGILANCIA",1150,44041017,"CHAPOÑAN ZAPATA JORGE LUIS",null,"SECUNDARIA COMPLETA",0,"009-2015",12,13800,"009-2015",6,6900]
[null,"302 EDUCACION PACASMAYO","RO ","CAS","PERSONAL DE VIGILANCIA",1150,19254296,"VENTURA PAREDES JORGE LUIS",null,"SECUNDARIA COMPLETA",0,"087-2017",12,13800,"087-2017",6,6900]
[null,"302 EDUCACION PACASMAYO","RO ","CAS","PERSONAL DE VIGILANCIA",1150,19248322,"GARCIA GUANILO JOSE MARTIN",null,"SECUNDARIA COMPLETA",0,"014-2016",12,13800,"014-2016",6,6900]
[null,"302 EDUCACION PACASMAYO","RO ","CAS","PERSONAL DE VIGILANCIA",1150,17984799,"GURBILLON ZAMORA JUAN FRANCISCO",null,"SECUNDARIA COMPLETA",0,"026-2015",12,13800,"026-2015",6,6900]
[null,"302 EDUCACION PACASMAYO","RO ","CAS","PERSONAL DE VIGILANCIA",1150,45401513,"HOYOS MUÑOZ CEDRIC IVAN",null,"SECUNDARIA COMPLETA",0,"018-2016",12,13800,"018-2016",6,6900]
[null,"302 EDUCACION PACASMAYO","RO ","CAS","PERSONAL DE VIGILANCIA",1150,19238000,"JIMENEZ CHAVEZ ROBERTO CARLOS",null,"SECUNDARIA COMPLETA",0,"028-2015",12,13800,"028-2015",6,6900]
[null,"302 EDUCACION PACASMAYO","RO ","CAS","PERSONAL DE VIGILANCIA",1150,16663584,"MALHABER DIAZ JORGE LUIS",null,"SECUNDARIA COMPLETA",0,"033-2016",12,13800,"033-2016",6,6900]
[null,"302 EDUCACION PACASMAYO","RO ","CAS","PERSONAL DE VIGILANCIA",1150,43040007,"MEDINA CULQUE YTALO JOSE",null,"SECUNDARIA COMPLETA",0,"015-2015",12,13800,"015-2015",6,6900]
[null,"302 EDUCACION PACASMAYO","RO ","CAS","PERSONAL DE VIGILANCIA",1150,19184159,"MEGO RODRIGUEZ CESAR HENRRY",null,"SECUNDARIA COMPLETA",0,"020-2015",12,13800,"020-2015",6,6900]
[null,"302 EDUCACION PACASMAYO","RO ","CAS","PERSONAL DE VIGILANCIA",1150,19259895,"MENDOZA ARIAS CIRO PAUL",null,"SECUNDARIA COMPLETA",0,"013-2016",12,13800,"013-2016",6,6900]
[null,"302 EDUCACION PACASMAYO","RO ","CAS","PERSONAL DE VIGILANCIA",1150,19247749,"MERLO BECERRA GUILLERMO TRINIDAD",null,"SECUNDARIA COMPLETA",0,"029-2015",12,13800,"029-2015",6,6900]
[null,"302 EDUCACION PACASMAYO","RO ","CAS","PERSONAL DE VIGILANCIA",1150,19219978,"MONTERO CASTAÑEDA PEDRO CESAR",null,"SECUNDARIA COMPLETA",0,"017-2016",12,13800,"017-2016",6,6900]
[null,"302 EDUCACION PACASMAYO","RO ","CAS","PERSONAL DE VIGILANCIA",1150,19218127,"NIÑO LADRON DE GUEVARA ESTELA WILBERTO EMILIO",null,"SECUNDARIA COMPLETA",0,"046-2017",12,13800,"046-2017",6,6900]
[null,"302 EDUCACION PACASMAYO","RO ","CAS","PERSONAL DE VIGILANCIA",1150,19252107,"OLIVA ESPINOZA CARLOS ALEJANDRO",null,"SECUNDARIA COMPLETA",0,"027-2015",12,13800,"027-2015",6,6900]
[null,"302 EDUCACION PACASMAYO","RO ","CAS","PERSONAL DE VIGILANCIA",1150,19251693,"PRIETO HOWARD BENJAMIN OCTAVIO",null,"SECUNDARIA COMPLETA",0,"004-2015",12,13800,"004-2015",6,6900]
[null,"302 EDUCACION PACASMAYO","RO ","CAS","PERSONAL DE VIGILANCIA",1150,45524529,"RAZURI HERNANDEZ MARCO ANTONIO",null,"SECUNDARIA COMPLETA",0,"005-2015",12,13800,"005-2015",6,6900]
[null,"302 EDUCACION PACASMAYO","RO ","CAS","PERSONAL DE VIGILANCIA",1150,26955486,"ROMERO VALDERRAMA ILDER WILFREDO",null,"SECUNDARIA COMPLETA",0,"019-2016",12,13800,"019-2016",6,6900]
[null,"302 EDUCACION PACASMAYO","RO ","CAS","PERSONAL DE VIGILANCIA",1150,19251318,"TEPO VENTURA ELVIS MANUEL",null,"SECUNDARIA COMPLETA",0,"025-2015",12,13800,"025-2015",6,6900]
[null,"302 EDUCACION PACASMAYO","RO ","CAS","PERSONAL DE VIGILANCIA",1150,19330174,"VARGAS ADAN JUAN HEVER",null,"SECUNDARIA COMPLETA",0,"006-2016",12,13800,"006-2016",6,6900]
[null,"302 EDUCACION PACASMAYO","RO ","CAS","PERSONAL DE VIGILANCIA",1150,19187806,"VASQUEZ GARCIA ROGER ALBERTO",null,"SECUNDARIA COMPLETA",0,"017-2015",12,13800,"017-2015",6,6900]
[null,"302 EDUCACION PACASMAYO","RO ","CAS","PERSONAL DE VIGILANCIA",1150,80237789,"VERASTEGUI RIOS JOSE EDILBERTO",null,"SECUNDARIA COMPLETA",0,"030-2015",12,13800,"030-2015",6,6900]
[null,"302 EDUCACION PACASMAYO","RO ","CAS","PERSONAL DE VIGILANCIA",1150,19186097,"ULFE CHAYGUAQUE MARTHA BEATRIZ","PROFESOR","SUPERIOR PEDAGOGICO","PROFESOR DE EDUCACION SECUNDARIA","039-2019",12,13800,"039-2019",0,0]
[null,"302 EDUCACION PACASMAYO","RO ","CAS","PERSONAL DE VIGILANCIA",1150,41802877,"CABANILLAS TERAN WALTER MIGUEL",null,"SECUNDARIA COMPLETA",0,"030-2018",8,9200,"030-2018",6,6900]
[null,"302 EDUCACION PACASMAYO","RO ","CAS","PERSONAL DE VIGILANCIA",1150,41959386,"RAZURI ALBITRES CARLOS ENRIQUE","INFORMSTICO+","TECNICO","TECNICO EN COMPUTACION E INFORMATICA","058-2018",2,2300,"058-2018",6,6900]
[null,"302 EDUCACION PACASMAYO","RO ","CAS","PERSONAL DE VIGILANCIA",1150,40436435,"ALTAMIRANO FLORES CHRISTIAN ALEXANDER",null,"SECUNDARIA COMPLETA",0,null,0,0,"051-2019",6,6900]
[null,"302 EDUCACION PACASMAYO","RO ","CAS","APOYO EDUCATIVO",1150,19189822,"GRADOS CHIRINOS MELVA EDITH","PROFESOR","SUPERIOR PEDAGOGICO","PROFESOR DE EDUCACION SECUNDARIA","002-2018",8,{"$f":"F945*M945","v":9200},null,0,0]
[null,"302 EDUCACION PACASMAYO","RO ","CAS","APOYO EDUCATIVO",1150,40957129,"SANTISTEBAN CHAPOÑAN JANNET LUCILA","PROFESOR","SUPERIOR PEDAGOGICO","PROFESOR DE EDUCACION PRIMARIA","005-2018",8,9200,"033-2019",6,6900]
[null,"302 EDUCACION PACASMAYO","RO ","CAS","APOYO EDUCATIVO",1150,19187906,"CALDERON CUEVA HERBERT ORLANDO","PROFESOR","SUPERIOR PEDAGOGICO","PROFESOR DE EDUCACION SECUNDARIA","009-2018",8,9200,null,0,0]
[null,"302 EDUCACION PACASMAYO","RO ","CAS","APOYO EDUCATIVO",1150,41727904,"BECERRA GUANILO VIRGINIA ARACELLY","PROFESOR","SUPERIOR PEDAGOGICO","PROFESOR DE EDUCACION PRIMARIA","003-2018",8,9200,"038-2019",6,6900]
[null,"302 EDUCACION PACASMAYO","RO ","CAS","APOYO EDUCATIVO",1150,19261061,"LEON VARGAS MARIA MARLLY","PROFESOR","SUPERIOR PEDAGOGICO","PROFESOR DE EDUCACION PRIMARIA","011-2018",8,9200,"041-2019",6,6900]
[null,"302 EDUCACION PACASMAYO","RO ","CAS","APOYO EDUCATIVO",1150,19259185,"LLERENA REYES NORA ELIZABETH","PROFESOR","SUPERIOR PEDAGOGICO","PROFESOR DE EDUCACION PRIMARIA","006-2018",8,9200,"042-2019",6,6900]
[null,"302 EDUCACION PACASMAYO","RO ","CAS","APOYO EDUCATIVO",1150,19211923,"MEDINA VARGAS ROSA ELIZABETH","PROFESOR","SUPERIOR PEDAGOGICO","PROFESOR DE EDUCACION PRIMARIA","004-2018",8,9200,"040-2019",6,6900]
[null,"302 EDUCACION PACASMAYO","RO ","CAS","APOYO EDUCATIVO",1150,41863199,"TANTA ACOSTA  ALIZ YSABEL","PROFESOR","SUPERIOR PEDAGOGICO","PROFESOR DE EDUCACION PRIMARIA","010-2018",8,9200,"037-2019",6,6900]
[null,"302 EDUCACION PACASMAYO","RO ","CAS","APOYO EDUCATIVO",1150,80193053,"CHUQUIRUNA CHOLAN  KARINA MARIBEL","PROFESOR","SUPERIOR PEDAGOGICO","PROFESOR DE EDUCACION PRIMARIA","007-2018",8,9200,null,0,0]
[null,"302 EDUCACION PACASMAYO","RO ","CAS","APOYO EDUCATIVO",1150,41623816,"MERINO PASTOR LEONCIO ASUNCION","PROFESOR","SUPERIOR PEDAGOGICO","PROFESOR DE EDUCACION PRIMARIA","012-2018",8,9200,"034-2019",6,6900]
[null,"302 EDUCACION PACASMAYO","RO ","CAS","APOYO EDUCATIVO",1150,40607739,"DE LA CRUZ PRETELL JOSE ELIAS","PROFESOR","BACHILLER","PROFESOR DE EDUCACION PRIMARIA",0,0,0,"032-2019",6,6900]
[null,"302 EDUCACION PACASMAYO","RO ","CAS","APOYO EDUCATIVO",1150,19189828,"VERTIZ MORALES MARIA MILAGROS","PROFESOR","SUPERIOR PEDAGOGICO","PROFESOR DE EDUCACION PRIMARIA",0,0,0,"035-2019",6,6900]
[null,"302 EDUCACION PACASMAYO","RO ","CAS","APOYO EDUCATIVO",1150,40562457,"MENDOZA QUIROZ ROCIO MARISOL","PROFESOR","SUPERIOR PEDAGOGICO","PROFESOR DE EDUCACION PRIMARIA",0,0,0,"036-2019",6,6900]
[null,"302 EDUCACION PACASMAYO","RO ","CAS","COOR. INV. SOP. TEC.",1800,41665090,"CRUZADO RIVERA MARITZA DEL PILAR","INGENIERO","INGENIERO","INGENIERO DE SISTEMAS","018-2018",8,14400,"015-2019",2,3600]
[null,"302 EDUCACION PACASMAYO","RO ","CAS","COOR. INV. SOP. TEC.",1800,45209783,"GRADOS VALLADOLID IRIS DEL PILAR","INGENIERO","INGENIERO","INGENIERO DE SISTEMAS","021-2018",8,14400,null,0,0]
[null,"302 EDUCACION PACASMAYO","RO ","CAS","COOR. INV. SOP. TEC.",1800,40226066,"OCAS ANCAJIMA ELEAR GUIDO","INGENIERO","INGENIERO","INGENIERO DE SISTEMAS","013-2018",8,14400,"011-2019",2,3600]
[null,"302 EDUCACION PACASMAYO","RO ","CAS","COOR. INV. SOP. TEC.",1800,80347279,"RUIZ VARE  JHON  GOLMAN","INGENIERO","INGENIERO","INGENIERO DE SISTEMAS","016-2018",8,14400,"017-2019",2,3600]
[null,"302 EDUCACION PACASMAYO","RO ","CAS","COOR. INV. SOP. TEC.",1800,41012786,"TERRONES ALVAREZ OSCAR ROBERTO","INGENIERO","INGENIERO","INGENIERO DE SISTEMAS","022-2018",8,14400,"012-2019",2,3600]
[null,"302 EDUCACION PACASMAYO","RO ","CAS","COOR. INV. SOP. TEC.",1800,41486286,"CRUZADO CHAVEZ  JOSE IVAN","INGENIERO","INGENIERO","INGENIERO DE SISTEMAS","019-2018",8,14400,null,0,0]
[null,"302 EDUCACION PACASMAYO","RO ","CAS","COOR. INV. SOP. TEC.",1800,41258276,"SOTOMAYOR SANCHEZ CESAR AUGUSTO","INGENIERO","INGENIERO","INGENIERO DE SISTEMAS","024-2018",8,14400,"054-2019",2,3600]
[null,"302 EDUCACION PACASMAYO","RO ","CAS","COOR. INV. SOP. TEC.",1800,44242443,"CUEVA RAMIREZ CARY RALPH","INGENIERO","INGENIERO","INGENIERO DE SISTEMAS","014-2018",8,14400,null,0,0]
[null,"302 EDUCACION PACASMAYO","RO ","CAS","COOR. INV. SOP. TEC.",1800,46432306,"GIL VIGO HELVERT FRANKLIN","INGENIERO","INGENIERO","INGENIERO DE SISTEMAS","020-2018",8,14400,null,0,0]
[null,"302 EDUCACION PACASMAYO","RO ","CAS","COOR. INV. SOP. TEC.",1800,44978164,"ALDEA ISLA  ALEX PAUL","INFORMATICO","TECNICO","TECNICO EN INFORMATICA","023-2018",8,14400,null,0,0]
[null,"302 EDUCACION PACASMAYO","RO ","CAS","COOR. INV. SOP. TEC.",1800,42865709,"BRUNO VASQUEZ JUAN CARLOS","INGENIERO","BACHILLER","INGENIERIA DE SISTEMAS","015-2018",8,14400,null,0,0]
[null,"302 EDUCACION PACASMAYO","RO ","CAS","COOR. INV. SOP. TEC.",1800,45024459,"PEREZ CORREA JOSUE ANTONIO","INGENIERO","BACHILLER","INGENIERIA DE SISTEMAS","024-2018",8,14400,"013-2019",2,3600]
[null,"302 EDUCACION PACASMAYO","RO ","CAS","COOR. INV. SOP. TEC.",1800,47412777,"SILVA BARBOZA ELGER ORLANDO","INGENIERO","BACHILLER","INGENIERIA DE SISTEMAS","017-2018",8,14400,"014-2019",2,3600]
[null,"302 EDUCACION PACASMAYO","RO ","CAS","COOR. INV. SOP. TEC.",1800,45595831,"ALVAREZ RAMIREZ  BYAN FRANK","INGENIERO","BACHILLER","INGENIERIA DE SISTEMAS",0,0,0,"016-2019",2,3600]
[null,"302 EDUCACION PACASMAYO","RO ","CAS","COOR. INV. SOP. TEC.",1800,47640122,"CASTAÑEDA ABANTO LUIS DANIEL","INGENIERO","BACHILLER","INGENIERIA DE SISTEMAS",0,0,0,"018-2019",2,3600]
[null,"302 EDUCACION PACASMAYO","RO ","CAS","COOR. INV. SOP. TEC.",1800,19326819,"ROMERO CHUMBES VICTOR MACEDONIO","INGENIERO","BACHILLER","INGENIERIA DE SISTEMAS",0,0,0,"019-2019",2,{"$f":"F973*P973","v":3600}]
[null,"302 EDUCACION PACASMAYO","RO ","CAS","COOR. INV. SOP. TEC.",1800,45680352,"MIL OSORIO DIANA CAROLINA","INGENIERO","BACHILLER","INGENIERIA DE SISTEMAS",0,0,0,"020-2019",2,3600]
[null,"302 EDUCACION PACASMAYO","RO ","CAS","COOR. INV. SOP. TEC.",1800,45352965,"GONZALES LEZAMA  NELSON ANDRES","INGENIERO","BACHILLER","INGENIERIA DE SISTEMAS",0,0,0,"021-2019",2,3600]
[null,"302 EDUCACION PACASMAYO","RO ","CAS","COOR. INV. SOP. TEC.",1800,41254008,"MALASPINA HUANGAL LUIS ALBERTO","PROFESOR","LICENCIADO","LICENCIADO EN EDUCACION",0,0,0,"053-2019",2,3600]
[null,"302 EDUCACION PACASMAYO","RO ","CAS","COOR.ADM.RE.EDU.ZO.RU",2000,45108383,"GUANILO PALOMINO LEONID EDILBERTO","PROFESIONAL TECNICO","TECNICO","TECNICO EN COMPUTACION E INFORMATICA","026-2018",8,16000,"002-2019",2,4000]
[null,"302 EDUCACION PACASMAYO","RO ","CAS","COOR.ADM.RE.EDU.ZO.RU",2000,47346331,"ROMERO DELGADO LADY LISSET","ADMINISTRADOR","LICENCIADO","LICENCIADO EN ADMINISTRACION","029-2018",8,16000,"003-2019",2,4000]
[null,"302 EDUCACION PACASMAYO","RO ","CAS","COOR.ADM.RE.EDU.ZO.RU",2000,44186247,"CASTRO CRUZ NATHALIE YVETTE","ADMINISTRADOR","LICENCIADO","LICENCIADO EN ADMINISTRACION","032-2018",8,16000,"004-2019",2,4000]
[null,"302 EDUCACION PACASMAYO","RO ","CAS","COOR.ADM.RE.EDU.ZO.RU",2000,45936403,"COTRINA PEREZ OSCAR ALBERTO","ADMINISTRADOR","LICENCIADO","LICENCIADO EN ADMINISTRACION","027-2018",8,16000,"008-2019",2,4000]
[null,"302 EDUCACION PACASMAYO","RO ","CAS","COOR.ADM.RE.EDU.ZO.RU",2000,46336417,"ZAVALETA CHACALLA LADY ZULEIKA","ADMINISTRADOR","LICENCIADO","LICENCIADO EN ADMINISTRACION","025-2018",8,16000,"009-2019",2,4000]
[null,"302 EDUCACION PACASMAYO","RO ","CAS","COOR.ADM.RE.EDU.ZO.RU",2000,43488852,"MURRUGARRA ALVAREZ VILMA EVA","ADMINISTRADOR","LICENCIADO","LICENCIADO EN ADMINISTRACION","063-2018",8,16000,"010-2019",2,4000]
[null,"302 EDUCACION PACASMAYO","RO ","CAS","COOR.ADM.RE.EDU.ZO.RU",2000,44012984,"ETOHEBARNE CAMPOS VERA RAQUEL","ADMINISTRADOR","LICENCIADO","LICENCIADO EN ADMINISTRACION","030-2018",8,16000,"031-2019",2,4000]
[null,"302 EDUCACION PACASMAYO","RO ","CAS","COOR.ADM.RE.EDU.ZO.RU",2000,42062032,"CALDERON REYES PABLO ALBERTO","ADMINISTRADOR","LICENCIADO","LICENCIADO EN ADMINISTRACION","028-2018",8,{"$f":"F984*M984","v":16000},null,0,0]
[null,"302 EDUCACION PACASMAYO","RO ","CAS","COOR.ADM.RE.EDU.ZO.RU",2000,45762486,"ZELADA VERGARAY  LUISA GUADALITA","ADMINISTRADOR","LICENCIADO","LICENCIADO EN ADMINISTRACION","031-2018",8,16000,null,0,0]
[null,"302 EDUCACION PACASMAYO","RO ","CAS","COOR.ADM.RE.EDU.ZO.RU",2000,47152191,"RAZURI DEZA LUZ SILVANA","ADMINISTRADOR","LICENCIADO","LICENCIADO EN ADMINISTRACION",0,0,0,"005-2019",2,4000]
[null,"302 EDUCACION PACASMAYO","RO ","CAS","COOR.ADM.RE.EDU.ZO.RU",2000,45581247,"LAZARO CAPRISTAN RONALD ANTONIO","ADMINISTRADOR","LICENCIADO","LICENCIADO EN ADMINISTRACION",0,0,0,"006-2019",2,4000]
[null,"302 EDUCACION PACASMAYO","RO ","CAS","COOR.ADM.RE.EDU.ZO.RU",2000,70078455,"POMATANTA DELGADO MARK JUNIOR","INGENIERO","INGENIERO","INGENIERIA EMPRESARIAL",0,0,0]
[null,"302 EDUCACION PACASMAYO","RO ","CAS","PARSONAL DE MANTENIMIENTO",1150,41436135,"JAVIER FLORES JAMES JIME",null,"SECUNDARIA COMPLETA",0,"034-2018",8,9200,null,0,0]
[null,"302 EDUCACION PACASMAYO","RO ","CAS","PARSONAL DE MANTENIMIENTO",1150,45456891,"GALVEZ CHOMBA JHON POOL ENRIQUE","MECANICO","TECNICO","TECNICO EN MECANICA DE PRODUCCIÓN",0,0,0,"043-2019",2,2300]
[null,"302 EDUCACION PACASMAYO","RO ","CAS","PSICOLOGO(A)",2000,42441756,"FUENTES PEREZ SONIA MARIBEL","PSICOLOGO","LICENCIADO","LICENCIADO EN PSICOLOGIA","037-2018",8,16000,null,0,0]
[null,"302 EDUCACION PACASMAYO","RO ","CAS","PSICOLOGO(A)",2000,47130068,"URTEAGA ESPINO ZALY ANTONELA","PSICOLOGO","LICENCIADO","LICENCIADO EN PSICOLOGIA","040-2018",8,16000,null,0,0]
[null,"302 EDUCACION PACASMAYO","RO ","CAS","PSICOLOGO(A)",2000,46811263,"GUTIERREZ LEYVA KIOMY LISETTE","PSICOLOGO","LICENCIADO","LICENCIADO EN PSICOLOGIA","035-2018",8,16000,null,0,0]
[null,"302 EDUCACION PACASMAYO","RO ","CAS","PSICOLOGO(A)",2000,41787763,"TARRILLO GOMEZ OLGA","PSICOLOGO","LICENCIADO","LICENCIADO EN PSICOLOGIA","044-2018",8,16000,"024-2019",2,4000]
[null,"302 EDUCACION PACASMAYO","RO ","CAS","PSICOLOGO(A)",2000,48023679,"ALCANTARA NUÑEZ ESTEFANY","PSICOLOGO","LICENCIADO","LICENCIADO EN PSICOLOGIA","041-2018",8,16000,"027-2019",2,4000]
[null,"302 EDUCACION PACASMAYO","RO ","CAS","PSICOLOGO(A)",2000,18224894,"VENTURA ESPINOZA EVELYN NATHALIE","PSICOLOGO","LICENCIADO","LICENCIADO EN PSICOLOGIA","038-2018",8,16000,null,0,0]
[null,"302 EDUCACION PACASMAYO","RO ","CAS","PSICOLOGO(A)",2000,43346299,"RUIZ PINEDO JANEDITH","PSICOLOGO","LICENCIADO","LICENCIADO EN PSICOLOGIA","039-2018",8,16000,null,0,0]
[null,"302 EDUCACION PACASMAYO","RO ","CAS","PSICOLOGO(A)",2000,41855087,"RUIZ PINEDO LESLIE MARIANNEE","PSICOLOGO","LICENCIADO","LICENCIADO EN PSICOLOGIA","042-2018",8,16000,null,0,0]
[null,"302 EDUCACION PACASMAYO","RO ","CAS","PSICOLOGO(A)",2000,70026855,"LEZAMA COTRINA YOHAN ALBERTO","PSICOLOGO","LICENCIADO","LICENCIADO EN PSICOLOGIA","036-2018",8,16000,null,0,0]
[null,"302 EDUCACION PACASMAYO","RO ","CAS","PSICOLOGO(A)",2000,45426148,"CABOS MALON AVILA LIZETH ARACELI","PSICOLOGO","LICENCIADO","LICENCIADO EN PSICOLOGIA","043-2018",8,16000,"026-2019",2,4000]
[null,"302 EDUCACION PACASMAYO","RO ","CAS","PSICOLOGO(A)",2000,41888874,"NOLASCO VELEZMORO HELGA MELISSA","PSICOLOGO","LICENCIADO","LICENCIADO EN PSICOLOGIA",0,0,0,"022-2019",2,4000]
[null,"302 EDUCACION PACASMAYO","RO ","CAS","PSICOLOGO(A)",2000,46481312,"ALDANA MONJA EVA ELIZABETH","PSICOLOGO","LICENCIADO","LICENCIADO EN PSICOLOGIA",0,0,0,"023-2019",2,4000]
[null,"302 EDUCACION PACASMAYO","RO ","CAS","PSICOLOGO(A)",2000,47519386,"ACOSTA TIRADO FLOR MILAGROS","PSICOLOGO","LICENCIADO","LICENCIADO EN PSICOLOGIA",0,0,0,"025-2019",2,4000]
[null,"302 EDUCACION PACASMAYO","RO ","CAS","PSICOLOGO(A)",2000,40712150,"VALDERRAMA VENEGAS CARLOS BALUCY","PSICOLOGO","LICENCIADO","LICENCIADO EN PSICOLOGIA",0,0,0,"028-2019",2,4000]
[null,"302 EDUCACION PACASMAYO","RO ","CAS","PSICOLOGO(A)",2000,46581885,"CARHUATANTA LEZAMA NATHALY","PSICOLOGO","LICENCIADO","LICENCIADO EN PSICOLOGIA",0,0,0,"029-2019",2,4000]
[null,"302 EDUCACION PACASMAYO","RO ","CAS","PSICOLOGO(A)",2000,44964151,"TRUJILLO QUIROZ VANESSA YOVANNA","PSICOLOGO","LICENCIADO","LICENCIADO EN PSICOLOGIA",0,0,0,"030-2019",2,4000]
[null,"302 EDUCACION PACASMAYO","RO ","CAS","PSICOLOGO(A)",2000,45862213,"CRUZADO ESCOBAR JOSSY MARILYN","PSICOLOGO","LICENCIADO","LICENCIADO EN PSICOLOGIA",0,0,0,"052-2019",2,4000]
[null,"302 EDUCACION PACASMAYO","RO ","CAS","SECRETARIA",1400,19260107,"MONTERO TAFUR ROCIO ELIZABETH","PROFESIONAL TECNICO","TECNICO","TECNICO EN COMPUTACION E INFORMATICA","045-2018",8,11200,"050-2019",2,2800]
[null,"302 EDUCACION PACASMAYO","RO ","CAS","ACOMPAÑANTE PEDAGOGICO MULTIGRADO",3600,19336397,"CHAVEZ RODRIGUEZ JUAN GUMERCINDO","PROFESOR","BACHILLER","PROFESOR DE EDUCACION PRIMARIA","049-2018",8,28800,"039-2019",2,7200]
[null,"302 EDUCACION PACASMAYO","RO ","CAS","ACOMPAÑANTE PEDAGOGICO POLIDOCENTE",3400,19187165,"CASTRO ZAMORA NORKA GRACIELA","PROFESOR","SUPERIOR PEDAGOGICO","PROFESOR DE EDUCACION PRIMARIA","054-2018",8,27200,null,0,0]
[null,"302 EDUCACION PACASMAYO","RO ","CAS","ACOMPAÑANTE PEDAGOGICO POLIDOCENTE",3400,19257748,"MEGO JULCA ANGELICA GISSELA","PROFESOR","SUPERIOR PEDAGOGICO","PROFESOR DE EDUCACION PRIMARIA","046-2018",8,27200,null,0,0]
[null,"302 EDUCACION PACASMAYO","RO ","CAS","ACOMPAÑANTE PEDAGOGICO POLIDOCENTE",3400,19184053,"BUCHELLI FELIPE AIDA RAQUEL","PROFESOR","SUPERIOR PEDAGOGICO","PROFESOR DE EDUCACION PRIMARIA","050-2018",8,27200,null,0,0]
[null,"302 EDUCACION PACASMAYO","RO ","CAS","ACOMPAÑANTE PEDAGOGICO POLIDOCENTE",3400,19187217,"GRADOS AMAYA NELSON EDGARDO","PROFESOR","SUPERIOR PEDAGOGICO","PROFESOR DE EDUCACION PRIMARIA","055-2018",8,27200,null,0,0]
[null,"302 EDUCACION PACASMAYO","RO ","CAS","ACOMPAÑANTE PEDAGOGICO POLIDOCENTE",3400,19238943,"SOTO URIOL DELMA DORA","PROFESOR","SUPERIOR PEDAGOGICO","PROFESOR DE EDUCACION PRIMARIA","051-2018",8,27200,null,0,0]
[null,"302 EDUCACION PACASMAYO","RO ","CAS","ACOMPAÑANTE PEDAGOGICO POLIDOCENTE",3400,19234487,"REYES VENTURA NANCY ELIZABETH","PROFESOR","SUPERIOR PEDAGOGICO","PROFESOR DE EDUCACION PRIMARIA","047-2018",8,27200,null,0,0]
[null,"302 EDUCACION PACASMAYO","RO ","CAS","ACOMPAÑANTE PEDAGOGICO POLIDOCENTE",3400,19259715,"VARGAS PEREZ JIMMY CESAR","PROFESOR","SUPERIOR PEDAGOGICO","PROFESOR DE EDUCACION PRIMARIA","056-2018",8,27200,null,0,0]
[null,"302 EDUCACION PACASMAYO","RO ","CAS","ABOGADO",1500,40042214,"YSLA YSLA PAUL GIANFRANCO","ABOGADO","LICENCIADO","LICENCIADO EN DERECHO","022-2018",8,12000,null,null,0]
[null,"302 EDUCACION PACASMAYO","RO ","CAS","ABOGADO",1500,42008935,"CASTRO FLORES GRIZZLY IVONNE","ASISTENTE DE GERENCIA","TECNICO","ASISTENTE DE GERENCIA","048-2018",8,12000,null,0,0]
[null,"302 EDUCACION PACASMAYO","RO ","CAS","PORTERO",850,null,"PANDO YSLA CARLOS ALBERTO CLEMENTE",0,"SECUNDARIA COMPLETA",0,"081-2017",12,10200,"081-2017",6,5100]
[null,"302 EDUCACION PACASMAYO","RO ","CAS","GUARDIAN",750,null,"YSLA  RODRIGUEZ WILSON ENRIQUE",null,"SECUNDARIA COMPLETA",0,"002-2015",12,9000,"002-2015",6,4500]
[null,"302 EDUCACION PACASMAYO","RO ","CAS","ALMACEN",1000,42630513,"JAVIER LAZAMA CARLOS EDUARDO","CONTADOR","LICENCIADO","CONTADOR","052-2018",12,12000,"052-2018",6,6000]
[null,"302 EDUCACION PACASMAYO","RO ","CAS","TECNICO ADMINISTRATIVO",1050,null,"DIAZ VERA LUIS ALBERTO","PROFESOR","SUPERIOR PEDAGOGICO","PROFESOR DE EDUCACION SECUNDARIA","005-2016",12,12600,"005-2016",6,6300]
[null,"302 EDUCACION PACASMAYO","RO ","CAS","TECNICO ADMINISTRATIVO",1300,null,"RIVERA ARIAS JANETH ROXANA","CONTADOR","TECNICO","TECNICO EN CONTABILIDAD","035-2018",12,15600,"035-2018",6,7800]
[null,"302 EDUCACION PACASMAYO","RO ","CAS","ESPECIALISTA EN PLANILLAS",2300,44460753,"GUANILO GOMEZ PEDRO RAFAEL","INGENIERO","INGENIERO","INGENIERIA INFORMATICA","033-2018",11,25300,"033-2018",6,13800]
[null,"302 EDUCACION PACASMAYO","RO ","CAS","ABOGADO",1500,18152124,"ESCOBEDO RODRIGUEZ PEDRO HERNAN","ABOGADO","LICENCIADO","LICENCIADO EN DERECHO",0,0,0,"044-2019",2,3000]
[null,"302 EDUCACION PACASMAYO","RO ","CAS","ABOGADO",1500,45051572,"QUISPE LEON KAREN ELIZABETH","ABOGADO","LICENCIADO","LICENCIADO EN DERECHO",0,0,0,"045-2019",2,3000]
[null,"302 EDUCACION PACASMAYO","RO ","CAS","ESP.EN MONIT. EVA ESTU Y DOC",2600,70078455,"POMATANTA DELGADO MARK JUNIOR","INGENIERO","INGENIERO","INGENIERIA EMPRESARIAL","059-2018",8,20800,null,0,0]
[null,"302 EDUCACION PACASMAYO","RO ","CAS","ESPEC. CONVIVENCIA",2600,47204752,"CAVERO ALBA LUIS JAVIER ALEXANDER","PSICOLOGO","LICENCIADO","LICENCIADO EN PSICOLOGIA","060-2018",8,20800,"060-2018",6,15600]
[null,"302 EDUCACION PACASMAYO","RO ","CAS","ESPECIALISTA EN PROCESOS DSCIPLINARIOS",2600,43509638,"BUSTAMANTE TAPIA SARA DORIS","ABOGADO","LICENCIADO","ABOGADO",null,0,0,"061-2019",2,5200]
[null,"302 EDUCACION PACASMAYO","RO ","CAS","ESPEC. MONI. PRIVADAS",2600,46133638,"PINILLOS PAZ IVETTE MILENE","ADMINISTRADORA","LICENCIADA","LICENCIADA EN ADMINISTRACION","058-2018",8,20800,null,0,0]
[null,"302 EDUCACION PACASMAYO","RO ","CAS","PATRIMONIO",2600,47204752,"BOBADILLA SEGURA WILFREDO ALVARO","CONTADOR","LICENCIADO","LICENCIADO EN CONTABILIDAD",0,0,0,"046-2019",2,5200]
[null,"302 EDUCACION PACASMAYO","RO ","CAS","ESP. EVAL.DOCENTE",2600,18161320,"CORTEZ PAIRAZAMAN DIEGO ARTURO","INGENIERO","INGENIERO","INGENIERIA DE SISTEMAS",0,0,0,"047-2019",2,5200]
[null,"302 EDUCACION PACASMAYO","RO ","CAS","ESPE. ABASTECIMIENTO",2600,44098194,"HUAYUNGA PIZURI DIMAS SEGUNDO","CONTADOR","LICENCIADO","LICENCIADO EN CONTABILIDAD","057-2018",10,26000,null,0,0]
[null,"302 EDUCACION PACASMAYO","RO ","CAS","ESPE. ABASTECIMIENTO",2600,43600559,"PINTADO TORRES LIRIAN MELISSA","ADMNISTRACION","LICENCIADO","LICENCIADA EN ADMINISTRACION",0,0,0,"048-2019",2,5200]
[null,"302 EDUCACION PACASMAYO","RO ","CAS","GESTOR DE INTERV.",3500,46691255,"JACINTO AVILA JOSE MARCELO","INGENIERO","INGENIERO","INGENIERIA INDUSTRIAL","061-2018",8,28000,null,0,0]
[null,"302 EDUCACION PACASMAYO","RO ","CAS","RESPONSABLE CALIDAD DE LA INFORMACION",3000,19701825," CASTILLO HARO LESLIE SAUL","INFORMATICO","TECNICO","TECNICO EN INFORMATICA","062-2018",8,24000,null,0,0]
[null,"TOTAL",null,null,null,{"$f":"SUM(F908:F1036)","v":221350},null,null,null,null,null,null,null,{"$f":"SUM(N908:N1036)","v":1552600},null,null,{"$f":"SUM(Q908:Q1036)","v":531500}]
[null,"UE 303 EDUCACION ASCOPE","R.O","CAS","RESPONSABLE DE ABASTECIMIENTO",1500,"70017449","SALAZAR MENDOZA ROGER EDUARDO","administrador",null,"universitario",null,null,null,2,4,{"$f":"(F1038*P1038)","v":6000}]
[null,"UE 303 EDUCACION ASCOPE","R.O","CAS","RESPONSABLE DE PATRIMONIO",930,70367212,"RODRIGUEZ  CASTILLO MARLON MANUEL","contador",null,"universitario",null,null,null,2,4,{"$f":"(F1039*P1039)","v":3720}]
[null,"UE 303 EDUCACION ASCOPE","R.O","CAS","PSICOLOGO",2000,40901946,"NECIOSUP RODRIGUEZ JENNYFER LILIANA ","psicólogo",null,"universitario",null,null,null,1,1,2000]
[null,"UE 303 EDUCACION ASCOPE","R.O","CAS","PSICOLOGO",2000,46282023,"GUARNIZ MARTOS JEANETTE FIORELLY ","psicólogo",null,"universitario",null,null,null,1,2,4000]
[null,"UE 303 EDUCACION ASCOPE","R.O","CAS","PERSONAL DE MANTENIMIENTO",1150,40334786,"PAICO MIRANDA SEGUNDO ALBERTO",null,"5° de secundaria",null,null,null,null,1,3,3450]
[null,"UE 303 EDUCACION ASCOPE","R.O","CAS","COORDINADOR DE INNOVACION Y SOPORTE TECNOLOGICO_JEC",1800,16805348,"EFIO COLUNCHE JESUS SANTIAGO",null,null,null,null,null,null,1,2,3600]
[null,"UE 303 EDUCACION ASCOPE","R.O","CAS","PERSONAL DE MANTENIMIENTO",930,18837532,"CABANILLAS SANTIAGO OLBY KARINA",null,"5° de secundaria",null,null,null,null,1,2,1860]
[null,"UE 303 EDUCACION ASCOPE","R.O","CAS","PERSONAL DE MANTENIMIENTO",930,18837532,"GUTIERREZ CARPIO JHOSET LUIS ",null,"5° de secundaria",null,null,null,null,1,2,1860]
[null,"UE 303 EDUCACION ASCOPE","R.O","CAS","PERSONAL DE MANTENIMIENTO",930,18837564,"RAMIREZ CRESPO VICTOR PEDRO ",null,"5° de secundaria",null,null,null,null,1,2,1860]
[null,"UE 303 EDUCACION ASCOPE","R.O","CAS","PERSONAL DE VIGILANCIA",1150,"18859102","SANTA CRUZ RUIZ LUIS FERNANDO",null,"5° de secundaria",null,4,12,{"$f":"(F1047*M1047)","v":13800},2,6,6900]
[null,"UE 303 EDUCACION ASCOPE","R.O","CAS","PERSONAL DE VIGILANCIA",1150,"18893147","TIZNADO LOPEZ RINA YSABEL",null,"5° de secundaria",null,2,9,{"$f":"(F1048*M1048)","v":10350},2,6,6900]
[null,"UE 303 EDUCACION ASCOPE","R.O","CAS","PERSONAL DE VIGILANCIA",1150,"18859815","HUATAY CORTEGANA VICTOR JESUS",null,"5° de secundaria",null,4,12,13800,2,6,6900]
[null,"UE 303 EDUCACION ASCOPE","R.O","CAS","PERSONAL DE VIGILANCIA",1150,"18906771","SIPIRAN PAIRAZAMAN AMERICO HIGINIO",null,"5° de secundaria",null,3,12,13800,2,6,6900]
[null,"UE 303 EDUCACION ASCOPE","R.O","CAS","PERSONAL DE VIGILANCIA",1150,"46859582","AGUILAR QUITO POLK EBERT ORLANDO",null,"5° de secundaria",null,4,12,13800,2,6,6900]
[null,"UE 303 EDUCACION ASCOPE","R.O","CAS","PERSONAL DE VIGILANCIA",1150,"18897345","CARRION CABANILLAS MARIA ESTHER",null,"5° de secundaria",null,4,12,13800,2,6,6900]
[null,"UE 303 EDUCACION ASCOPE","R.O","CAS","PERSONAL DE VIGILANCIA",1150,"45540465","RUIZ CABRERA DAVID MOISES",null,"5° de secundaria",null,3,12,13800,2,6,6900]
[null,"UE 303 EDUCACION ASCOPE","R.O","CAS","PERSONAL DE VIGILANCIA",1150,"18858045","REYES BAZAN ELIZABETH MARGARITA",null,"5° de secundaria",null,6,12,13800,2,6,6900]
[null,"UE 303 EDUCACION ASCOPE","R.O","CAS","ACOMPAÑANTE PEDAGOGICO PARA IIEE MULTIGRADO MONOLINGUE CASTELLANO",3600,"42345190","ROJAS CASTILLO YURI JANETH","profesora",null,"universitario",null,null,0,1,3,10800]
[null,"UE 303 EDUCACION ASCOPE","R.O","CAS","ACOMPAÑANTE PEDAGOGICO PARA IIEE MULTIGRADO MONOLINGUE CASTELLANO",3600,"41936328","TIRADO ARRÉSTEGUI JONNY OMER","profesor",null,"universitario",null,null,0,1,3,10800]
[null,"UE 303 EDUCACION ASCOPE","R.O","CAS","ESPECIALISTA EN CONVIVENCIA ESCOLAR_ CAS UGEL DEL MINEDU",2600,"46471714","MIRANDA RIOS YAMILET NATHALI","psicóloga",null,"universitario",4,10,26000,3,6,15600]
[null,"UE 303 EDUCACION ASCOPE","R.O","CAS","ESPECIALISTA EN PROCESOS ADMINISTRATIVOS DISCIPLINARIOS_CAS UGEL DEL MINEDU",2600,"41091410","PELAEZ SANCHEZ LILIANA ISABEL","abogada",null,"universitario",null,null,0,1,1,2600]
[null,"UE 303 EDUCACION ASCOPE","R.O","CAS","ANALISTAS ADMINISTRATIVOS E INSTITUCIONALES",2600,"70017449","SALAZAR MENDOZA ROGER EDUARDO","administrador",null,"universitario",null,null,0,1,2,5200]
[null,"UE 303 EDUCACION ASCOPE","R.O","CAS","ANALISTAS ADMINISTRATIVOS E INSTITUCIONALES",2600,"18207669","SILVA CASTRO JOSE LUIS","ingenieria civil",null,"universitario",null,null,0,1,2,5200]
[null,"UE 303 EDUCACION ASCOPE","R.O","CAS","GESTOR CURRICULAR",4000,"18890055","CRUZ MONZON LILIANA ISABEL","profesora",null,"universitario",null,null,0,1,3,12000]
[null,"UE 303 EDUCACION ASCOPE","R.O","CAS","PERSONAL DE VIGILANCIA",1150,"18892753","ZEVALLOS VARGAS RODOLFO ELI",null,"5° de secundaria",null,null,null,0,2,6,6900]
[null,"UE 303 EDUCACION ASCOPE","R.O","CAS","PERSONAL DE VIGILANCIA",1150,"18856043","AZAÑERO AGUILAR RICHARD AUGUSTO",null,"5° de secundaria",null,null,null,0,2,6,6900]
[null,"UE 303 EDUCACION ASCOPE","R.O","CAS","PERSONAL DE VIGILANCIA",1150,"18820076","DE LA MELENA MONTOYA GERARDO",null,"5° de secundaria",null,null,null,0,2,6,6900]
[null,"UE 303 EDUCACION ASCOPE","R.O","CAS","COORDINADOR DE INNOVACION Y SOPORTE TECNOLOGICO_JEC",1800,"42802176","VERGARA BAÑALES CESAR ANTONIO","ingeniero de sistemas",0,"universitario",null,null,0,null,null,0]
[null,"UE 303 EDUCACION ASCOPE","R.O","CAS","PSICOLOGO",2000,"46890243","ABANTO CRUZ LUIS ANDERSON","psicólogo",null,"universitario",null,null,0,1,3,6000]
[null,"UE 303 EDUCACION ASCOPE","R.O","CAS","COORDINADOR ADMINISTRATIVO Y DE RECURSOS EDUCATIVOS PARA ZONAS URBANAS",2000,"18882579","JACINTO AVILA JOSE MARCELO","ingeniero industrial","bachiller","universitario",null,null,0,1,3,6000]
[null,"UE 303 EDUCACION ASCOPE","R.O","CAS","PERSONAL DE VIGILANCIA",1150,"18891589","MONTES DE OCA FRIAS MIGUEL ANDRES",null,"5° de secundaria",null,null,null,0,2,6,6900]
[null,"UE 303 EDUCACION ASCOPE","R.O","CAS","PERSONAL DE VIGILANCIA",1150,"18891168","FLORES JAVE VICTOR AMADEO",null,"5° de secundaria",null,null,null,0,2,6,6900]
[null,"UE 303 EDUCACION ASCOPE","R.O","CAS","PERSONAL DE VIGILANCIA",1150,"18825505","CASTILLO DIAZ ARNALDO CAROL",null,"5° de secundaria",null,null,null,0,2,6,6900]
[null,"UE 303 EDUCACION ASCOPE","R.O","CAS","COORDINADOR DE INNOVACION Y SOPORTE TECNOLOGICO_JEC",1800,"41014657","TAMBOR ASPAJO WILDER","ingeniero de sistemas",0,"universitario",null,null,0,1,3,5400]
[null,"UE 303 EDUCACION ASCOPE","R.O","CAS","COORDINADOR DE INNOVACION Y SOPORTE TECNOLOGICO_JEC",1800,"18896664","AGUILAR CHUQUIPOMA ROSAS ADRIAN",null,"computación e informatica","instituto",null,null,0,null,null,0]
[null,"UE 303 EDUCACION ASCOPE","R.O","CAS","PSICOLOGO",2000,"46477975","ESPINOZA MARIN NESTOR FRANCISCO","psicólogo",null,"universitario",null,null,0,1,3,6000]
[null,"UE 303 EDUCACION ASCOPE","R.O","CAS","APOYO EDUCATIVO",1150,"18890619","CASSANA TORRES DE ALFARO BERTILA MERCEDES","profesora",null,"universitario",null,null,0,1,3,3450]
[null,"UE 303 EDUCACION ASCOPE","R.O","CAS","COORDINADOR ADMINISTRATIVO Y DE RECURSOS EDUCATIVOS PARA ZONAS URBANAS",2000,"44455927","FERNANDEZ CAVERO ALICIA","administrador",null,"universitario",null,null,0,1,3,6000]
[null,"UE 303 EDUCACION ASCOPE","R.O","CAS","PERSONAL DE VIGILANCIA",1150,"43004450","ALVA DIAZ FREDDY ALBERTO",null,"5° de secundaria",null,null,null,0,2,6,6900]
[null,"UE 303 EDUCACION ASCOPE","R.O","CAS","PERSONAL DE VIGILANCIA",1150,"18888038","CASTILLO SEGURA CLEMENTE ALFONSO",null,"5° de secundaria",null,null,null,0,2,6,6900]
[null,"UE 303 EDUCACION ASCOPE","R.O","CAS","PERSONAL DE VIGILANCIA",1150,"44040901","ZAMUDIO NINAQUISPE LUIS ALBERTO",null,"5° de secundaria",null,null,null,0,2,6,6900]
[null,"UE 303 EDUCACION ASCOPE","R.O","CAS","COORDINADOR DE INNOVACION Y SOPORTE TECNOLOGICO_JEC",1800,"18138448","CHAVEZ CARMONA JUAN PABLO",null,"computación e informatica","instituto",null,null,0,null,null,0]
[null,"UE 303 EDUCACION ASCOPE","R.O","CAS","PSICOLOGO",2000,"45152631","PALMA BARRUETO LILA GRACE","psicólogo",null,"universitario",null,null,0,1,3,6000]
[null,"UE 303 EDUCACION ASCOPE","R.O","CAS","APOYO EDUCATIVO",1150,"40083001","VILCHEZ VASQUEZ SANDRA MONICA","profesora",null,"universitario",null,null,0,1,3,3450]
[null,"UE 303 EDUCACION ASCOPE","R.O","CAS","PERSONAL DE SECRETARIA",1400,"43871814","BENAVIDES MACO MARISOL",null,"secretariado ejecutivo","instituto",null,null,0,1,3,4200]
[null,"UE 303 EDUCACION ASCOPE","R.O","CAS","COORDINADOR ADMINISTRATIVO Y DE RECURSOS EDUCATIVOS PARA ZONAS URBANAS",2000,"47155700","SICCHA ROQUE CHRISTIAN DAVID","contador",null,"universitario",null,null,0,1,2,4000]
[null,"UE 303 EDUCACION ASCOPE","R.O","CAS","PERSONAL DE VIGILANCIA",1150,"72959732","VICENTE ALARCON EDSON STEVE",null,"5° de secundaria",null,null,null,0,2,6,6900]
[null,"UE 303 EDUCACION ASCOPE","R.O","CAS","PERSONAL DE VIGILANCIA",1150,"18828575","RAMOS DEVERA FERNANDO REMIGIO",null,"5° de secundaria",null,null,null,0,2,6,6900]
[null,"UE 303 EDUCACION ASCOPE","R.O","CAS","PERSONAL DE VIGILANCIA",1150,"18900557","ROSAS ZARE LUIS MIGUEL",null,"5° de secundaria",null,null,null,0,2,6,6900]
[null,"UE 303 EDUCACION ASCOPE","R.O","CAS","COORDINADOR DE INNOVACION Y SOPORTE TECNOLOGICO_JEC",1800,"45296630","YEPES SAGASTEGUI JOHN HENNING",null,"computación e informatica","instituto",null,null,0,null,null,0]
[null,"UE 303 EDUCACION ASCOPE","R.O","CAS","APOYO EDUCATIVO",1150,"41084544","MENDEZ IBAÑEZ DORESMITH MALIK","profesora",null,"instituto",null,null,0,1,3,3450]
[null,"UE 303 EDUCACION ASCOPE","R.O","CAS","PERSONAL DE SECRETARIA",1400,"71663471","GARCIA GARCIA YURBI LIZET",null,"secretariado ejecutivo","instituto",null,null,0,1,3,4200]
[null,"UE 303 EDUCACION ASCOPE","R.O","CAS","COORDINADOR ADMINISTRATIVO Y DE RECURSOS EDUCATIVOS PARA ZONAS URBANAS",2000,"70828679","MORENO SALINAS MILAGROS SANDRA MARILU",null,null,"universitario",null,null,0,1,3,6000]
[null,"UE 303 EDUCACION ASCOPE","R.O","CAS","PERSONAL DE VIGILANCIA",1150,"73479115","RODRIGUEZ AGUILAR ALVARO GERMAN RAUL",null,"5° de secundaria",null,null,null,0,2,6,6900]
[null,"UE 303 EDUCACION ASCOPE","R.O","CAS","PERSONAL DE VIGILANCIA",1150,"46070575","VASQUEZ ZAMBRANO JOSE MIGUEL",null,"5° de secundaria",null,null,null,0,2,6,6900]
[null,"UE 303 EDUCACION ASCOPE","R.O","CAS","PERSONAL DE VIGILANCIA",1150,"18831683","PAREDES PINEDO LUIS YOEL",null,"5° de secundaria",null,null,null,0,2,6,6900]
[null,"UE 303 EDUCACION ASCOPE","R.O","CAS","COORDINADOR DE INNOVACION Y SOPORTE TECNOLOGICO_JEC",1800,"43793359","GONZALEZ ARGOMEDO SEGUNDO ARTURO","profesor",null,"instituto",null,null,0,null,null,0]
[null,"UE 303 EDUCACION ASCOPE","R.O","CAS","PSICOLOGO",2000,"41950791","VARGAS ALTAMIRANO INGRID LISZET","psicólogo",null,"universitario",null,null,0,1,3,6000]
[null,"UE 303 EDUCACION ASCOPE","R.O","CAS","APOYO EDUCATIVO",1150,"42012548","SANCHEZ MANTILLA CARMEN DEL ROSARIO","profesora",null,"instituto",null,null,0,null,null,0]
[null,"UE 303 EDUCACION ASCOPE","R.O","CAS","PERSONAL DE SECRETARIA",1400,"41159803","DE LA CRUZ GRADOS SARELY MAGALI",null,"contabilidad computarizada","instituto",null,null,0,1,3,4200]
[null,"UE 303 EDUCACION ASCOPE","R.O","CAS","COORDINADOR ADMINISTRATIVO Y DE RECURSOS EDUCATIVOS PARA ZONAS URBANAS",2000,"18857920","BARDALES SAUCEDO GERSON","contador",null,"universitario",null,null,0,1,3,6000]
[null,"UE 303 EDUCACION ASCOPE","R.O","CAS","PERSONAL DE VIGILANCIA",1150,"18858628","ZAVALETA GUTIERREZ ANGEL VICTOR",null,"5° de secundaria",null,null,null,0,2,6,6900]
[null,"UE 303 EDUCACION ASCOPE","R.O","CAS","PERSONAL DE VIGILANCIA",1150,"42184784","ARMAS PASMINIO ALEX IVAN",null,"5° de secundaria",null,null,null,0,2,6,6900]
[null,"UE 303 EDUCACION ASCOPE","R.O","CAS","PERSONAL DE VIGILANCIA",1150,"18835609","GOICOCHEA LOPEZ JUAN ANDRES",null,"5° de secundaria",null,null,null,0,2,6,6900]
[null,"UE 303 EDUCACION ASCOPE","R.O","CAS","COORDINADOR DE INNOVACION Y SOPORTE TECNOLOGICO_JEC",1800,"40677471","HOYOS CALDERON ROBERTO MONTIEL","ingeniero de sistemas",0,"universitario",null,null,0,1,3,5400]
[null,"UE 303 EDUCACION ASCOPE","R.O","CAS","PSICOLOGO",2000,"41348466","RAFAEL CRUZ ELLA","psicólogo",null,"universitario",null,null,0,1,3,{"$f":"(F1103*P1103)","v":6000}]
[null,"UE 303 EDUCACION ASCOPE","R.O","CAS","APOYO EDUCATIVO",1150,"70402412","PEREZ CAMACHO YILMA JOVANA GRACE","profesora",null,"universitario",null,null,0,null,null,0]
[null,"UE 303 EDUCACION ASCOPE","R.O","CAS","COORDINADOR ADMINISTRATIVO Y DE RECURSOS EDUCATIVOS PARA ZONAS URBANAS",2000,"45514604","ESTACIO SANCHEZ EVERTH JHONATAN","contador",null,"universitario",null,null,0,1,2,4000]
[null,"UE 303 EDUCACION ASCOPE","R.O","CAS","PERSONAL DE VIGILANCIA",1150,"08168144","CASTILLO ROJAS EDWIN CRISTIAN",null,"5° de secundaria",null,null,null,0,2,6,6900]
[null,"UE 303 EDUCACION ASCOPE","R.O","CAS","PERSONAL DE VIGILANCIA",1150,"45044550","VALVERDE NOLASCO JOSE LUIS",null,"5° de secundaria",null,null,null,0,2,6,6900]
[null,"UE 303 EDUCACION ASCOPE","R.O","CAS","PERSONAL DE VIGILANCIA",1150,"43215768","MENDEZ FLORIAN DE PLASENCIA LUZMILA DEL PILAR",0,"5° de secundaria",null,null,null,0,2,6,6900]
[null,"UE 303 EDUCACION ASCOPE","R.O","CAS","COORDINADOR DE INNOVACION Y SOPORTE TECNOLOGICO_JEC",1800,"43382995","BAZAN ANTICONA JOACIM MANUEL","ingeniero computacion y sistema",0,"universitario",null,null,0,1,3,5400]
[null,"UE 303 EDUCACION ASCOPE","R.O","CAS","PSICOLOGO",2000,"44834365","CHACON IHUI IRAIDA KATHERINE","psicólogo",null,"universitario",null,null,0,1,3,6000]
[null,"UE 303 EDUCACION ASCOPE","R.O","CAS","APOYO EDUCATIVO",1150,"41112924","GUARNIZ DELFIN LUZ MARINA","profesora",null,"universitario",null,null,0,null,null,0]
[null,"UE 303 EDUCACION ASCOPE","R.O","CAS","PERSONAL DE SECRETARIA",1400,"46481705","DIAZ PAREDES CAROL ESTEFANY",null,"secretariado ejecutivo","instituto",null,null,{"$f":"(F1112*M1112)","v":0},1,3,4200]
[null,"UE 303 EDUCACION ASCOPE","R.O","CAS","COORDINADOR ADMINISTRATIVO Y DE RECURSOS EDUCATIVOS PARA ZONAS URBANAS",2000,"18856839","VALENCIA LORINO LUIS","contador",null,"universitario",null,null,0,1,3,6000]
[null,"UE 303 EDUCACION ASCOPE","R.O","CAS","PERSONAL DE VIGILANCIA",1150,"18892721","CULQUICHICON VALIENTE HAYDEE MAGALY",0,"5° de secundaria",null,null,null,0,2,6,6900]
[null,"UE 303 EDUCACION ASCOPE","R.O","CAS","PERSONAL DE VIGILANCIA",1150,"18902854","MENDOZA GUIVAR JACOB",null,"5° de secundaria",null,null,null,0,2,6,6900]
[null,"UE 303 EDUCACION ASCOPE","R.O","CAS","PERSONAL DE VIGILANCIA",1150,"42335730","ZELADA CARMONA EDGAR CESAR",null,"5° de secundaria",null,null,null,0,1,3,3450]
[null,"UE 303 EDUCACION ASCOPE","R.O","CAS","COORDINADOR DE INNOVACION Y SOPORTE TECNOLOGICO_JEC",1800,"70550711","VALENCIA OLIVA PEDRO",null,"computación e informaática","instituto",null,null,0,null,null,0]
[null,"UE 303 EDUCACION ASCOPE","R.O","CAS","PSICOLOGO",2000,"44709742","LLANOS REYES WALTER OCTAVIO","psicólogo",null,"universitario",null,null,0,1,3,6000]
[null,"UE 303 EDUCACION ASCOPE","R.O","CAS","PERSONAL DE VIGILANCIA",1150,"45023361","COTRINA HUATAY MARIA MILAGROS",null,"8° ciclo educación inicial","instituto",null,null,0,null,null,0]
[null,"UE 303 EDUCACION ASCOPE","R.O","CAS","PERSONAL DE SECRETARIA",1400,"43814527","YATAS AMAYA ROSA MERCEDES",null,"secretariado ejecutivo","instituto",null,null,0,1,1,1400]
[null,"UE 303 EDUCACION ASCOPE","R.O","CAS","PERSONAL DE MANTENIMIENTO",1150,"73243808","LEIVA DIAZ LUIS ALBERTO",null,"5° de secundaria",null,null,null,0,1,3,3450]
[null,"UE 303 EDUCACION ASCOPE","R.O","CAS","COORDINADOR ADMINISTRATIVO Y DE RECURSOS EDUCATIVOS PARA ZONAS RURALES",2000,"70845991","LOPEZ CASTILLO YURI DANIEL","administrador",null,"universitario",null,null,0,1,3,6000]
[null,"UE 303 EDUCACION ASCOPE","R.O","CAS","PERSONAL DE VIGILANCIA",1150,"80639541","VERASTEGUI SILVA ALEXANDER AGUSTIN",null,"5° de secundaria",null,null,null,0,2,6,6900]
[null,"UE 303 EDUCACION ASCOPE","R.O","CAS","PERSONAL DE VIGILANCIA",1150,"18856678","SALDAÑA CABANILLAS DANIEL",null,"5° de secundaria",null,null,null,0,2,6,6900]
[null,"UE 303 EDUCACION ASCOPE","R.O","CAS","PERSONAL DE VIGILANCIA",1150,"42209313","PAREDES MERINO SUSANA YSABEL",null,"5° de secundaria",null,null,null,0,2,6,6900]
[null,"UE 303 EDUCACION ASCOPE","R.O","CAS","COORDINADOR DE INNOVACION Y SOPORTE TECNOLOGICO_JEC",1800,"27078658","ZELADA VERGARAY ANGELES BENITO","ingeniero de sistemas","bachiller","universitario",null,null,0,1,3,5400]
[null,"UE 303 EDUCACION ASCOPE","R.O","CAS","PSICOLOGO",2000,"45155046","DELGADO PORTILLA KARLA PATRICIA","psicólogo",null,"universitario",null,null,0,1,3,6000]
[null,"UE 303 EDUCACION ASCOPE","R.O","CAS","APOYO EDUCATIVO",1150,"18896914","ROJAS SUAREZ MARITZA ELVIRA","profesora",null,"instituto",null,null,0,null,null,0]
[null,"UE 303 EDUCACION ASCOPE","R.O","CAS","PERSONAL DE SECRETARIA",1400,"18907300","CASTILLO CAMACHO PERSIDA LOIDA",null,"secretariado ejecutivo","instituto",null,null,0,1,3,4200]
[null,"UE 303 EDUCACION ASCOPE","R.O","CAS","PERSONAL DE MANTENIMIENTO",1150,"70017460","SAAVEDRA CORDOVA ELENA MERCEDES",null,"5° de secundaria",null,null,null,0,1,3,3450]
[null,"UE 303 EDUCACION ASCOPE","R.O","CAS","COORDINADOR ADMINISTRATIVO Y DE RECURSOS EDUCATIVOS PARA ZONAS URBANAS",2000,"71467673","MIÑANO MANTILLA DORIS MARJORIE","administrador",null,"universitario",null,null,0,1,3,6000]
[null,"UE 303 EDUCACION ASCOPE","R.O","CAS","PERSONAL DE VIGILANCIA",1150,"18891545","PAREDES INCISO VALENTINO",null,"5° de secundaria",null,null,null,0,2,6,6900]
[null,"UE 303 EDUCACION ASCOPE","R.O","CAS","PERSONAL DE VIGILANCIA",1150,"18905431","GARCIA ALZA ARTURO CELSO",null,"5° de secundaria",null,null,null,0,2,6,6900]
[null,"UE 303 EDUCACION ASCOPE","R.O","CAS","PERSONAL DE VIGILANCIA",1150,"18905153","SIPIRAN PAIRAZAMAN GUISELA JOSEFINA",null,"5° de secundaria",null,null,null,0,2,6,6900]
[null,"UE 303 EDUCACION ASCOPE","R.O","CAS","COORDINADOR DE INNOVACION Y SOPORTE TECNOLOGICO_JEC",1800,"40571837","CAPRISTAN JONES MILTON CAMILO",null,"egresado en ingenieria de sistemas","universitario",null,null,0,null,null,0]
[null,"UE 303 EDUCACION ASCOPE","R.O","CAS","PSICOLOGO",2000,"70606127","CAMPOS ACOSTA EDWARD HEBERTH","psicólogo",null,"universitario",null,null,0,1,3,6000]
[null,"UE 303 EDUCACION ASCOPE","R.O","CAS","PERSONAL DE VIGILANCIA",1150,"80203339","PAREDES GUZMAN ZAIRA LIZET",null,"administración industrial","instituto",null,null,0,null,null,0]
[null,"UE 303 EDUCACION ASCOPE","R.O","CAS","PERSONAL DE SECRETARIA",1400,"18890682","CHAVEZ VARGAS FANNY MARLENE",null,"secretariado ejecutivo","instituto",null,null,0,1,3,4200]
[null,"UE 303 EDUCACION ASCOPE","R.O","CAS","PERSONAL DE MANTENIMIENTO",1150,"40334786","PAICO MIRANDA SEGUNDO ALBERTO",null,"5° de secundaria",null,null,null,0,1,3,3450]
[null,"UE 303 EDUCACION ASCOPE","R.O","CAS","COORDINADOR ADMINISTRATIVO Y DE RECURSOS EDUCATIVOS PARA ZONAS URBANAS",2000,"40639957","ALVARADO VEGA JULIO SANTIAGO","ingeniero agroindustrial","bachiller","universitario",null,null,0,1,3,6000]
[null,"UE 303 EDUCACION ASCOPE","R.O","CAS","PERSONAL DE MANTENIMIENTO",930,18837532,"CRUZ CACHO JOSE JUNIOR",null,"5° de secundaria",null,null,null,0,null,null,0]
[null,"UE 303 EDUCACION ASCOPE","R.O","CAS","PERSONAL DE MANTENIMIENTO",930,18855375,"CABRERA RAMIREZ ROSA ELVIRA",null,"5° de secundaria",null,null,null,0,1,2,1860]
[null,"UE 303 EDUCACION ASCOPE","R.O","CAS","PERSONAL DE MANTENIMIENTO",930,40818907,"CORREA FLORES WILTON ",null,"5° de secundaria",null,null,null,0,1,2,1860]
[null,"UE 303 EDUCACION ASCOPE","R.O","CAS","PERSONAL DE MANTENIMIENTO",930,18892678,"DURAND VIGO MERCY SOLEDAD",null,"5° de secundaria",null,null,null,0,1,2,1860]
[null,"UE 303 EDUCACION ASCOPE","R.O","CAS","PERSONAL DE MANTENIMIENTO",930,70132655,"LEON GUARNIZ VICTOR MERARDO",null,"5° de secundaria",null,null,null,0,null,null,0]
[null,"UE 303 EDUCACION ASCOPE","R.O","CAS","PERSONAL DE MANTENIMIENTO",930,75373423,"LEIVA GUARNIZ CHRISTIAN ANDRE",null,"5° de secundaria",null,null,null,0,1,2,1860]
[null,"UE 303 EDUCACION ASCOPE","R.O","CAS","PERSONAL DE MANTENIMIENTO",930,73136733,"PAREDES CASTILLO MAGDALENA ABIGAID",null,"5° de secundaria",null,null,null,0,1,2,1860]
[null,"UE 303 EDUCACION ASCOPE","R.O","CAS","PERSONAL DE MANTENIMIENTO",930,45370809,"QUIROZ RUIZ DARLIN AUGUSTO",null,"5° de secundaria",null,null,null,0,1,2,1860]
[null,"UE 303 EDUCACION ASCOPE","R.O","CAS","PERSONAL DE MANTENIMIENTO",930,18837564,"MIRANDA VEREAU BLANCA ELIZABETH",null,"5° de secundaria",null,null,null,0,null,null,0]
[null,"UE 303 EDUCACION ASCOPE","R.O","CAS","PERSONAL DE MANTENIMIENTO",930,47317689,"ROJAS LINO LARRY ANDONI",null,"5° de secundaria",null,null,null,0,1,2,1860]
[null,"UE 303 EDUCACION ASCOPE","R.O","CAS","PERSONAL DE MANTENIMIENTO",930,45771556,"SOLANO UCEDA JOSE JAVIER",null,"5° de secundaria",null,null,null,0,1,2,1860]
[null,"UE 303 EDUCACION ASCOPE","R.O","CAS","PERSONAL DE MANTENIMIENTO",930,18903122,"TERRONES CASTILLO JOSE DANIEL",null,"5° de secundaria",null,null,null,0,1,2,1860]
[null,"UE 303 EDUCACION ASCOPE","R.O","CAS","PERSONAL DE MANTENIMIENTO",930,18850400,"ULLON SANCHEZ WILLIAMS ALEX",null,"5° de secundaria",null,null,null,0,1,2,1860]
[null,"UE 303 EDUCACION ASCOPE","R.O","CAS","PERSONAL DE MANTENIMIENTO",930,"09611131","VASQUEZ CABRERA JUAN ADOLFO",null,"5° de secundaria",null,null,null,0,1,2,1860]
[null,"UE 303 EDUCACION ASCOPE","R.O","CAS","PERSONAL DE MANTENIMIENTO",930,18836521,"VASQUEZ DURAND SEGUNDO MELANIO",null,"5° de secundaria",null,null,null,0,1,2,1860]
[null,"UE 303 EDUCACION ASCOPE","R.O","CAS","PERSONAL DE MANTENIMIENTO",930,18835781,"VASQUEZ LLAMOGA MANUELA ",null,"5° de secundaria",null,null,null,0,1,2,1860]
[null,"UE 303 EDUCACION ASCOPE","R.O","CAS","PERSONAL DE MANTENIMIENTO",930,18892594,"YEP CASTILLO WILLIAM CESAR",null,"5° de secundaria",null,null,null,0,1,2,1860]
[null,"UE 303 EDUCACION ASCOPE","R.O","CAS","PERSONAL DE MANTENIMIENTO",930,46552573,"ZELADA CARMONA KRISTELL MADELEYNE",null,"5° de secundaria",null,null,null,0,1,2,1860]
[null,"UE 303 EDUCACION ASCOPE","R.O","CAS","RESPONSABLE DE ALMACEN",1500,41737836,"ACEVEDO  SAENZ PAOLA EVELINA","contador",null,"universitario",null,null,0,2,5,7500]
[null,"UE 303 EDUCACION ASCOPE","R.O","CAS","RESPONSABLE DE CONTROL PATRIMONIAL",1500,70367212,"RODRIGUEZ  CASTILLO MARLON MANUEL","contador",null,"universitario",null,null,0,1,2,3000]
[null,"UE 303 EDUCACION ASCOPE","R.O","CAS","ASISTENTE DEL AREA DE ASESORIA JURIDICA",1500,18893061,"SOLANO CAMACHO ESMELDA  VERTILA","abogada","bachiller","universitario",5,12,18000,2,6,9000]
[null,"UE 303 EDUCACION ASCOPE","R.O","CAS","AUXILIAR DE APOYO ADMINISTRATIVO",930,18892680,"LOZADA  MURGA ALVARO  MIGUEL",null,"egresado educacion primaria","instituto",2,10,9300,2,6,5580]
[null,"UE 303 EDUCACION ASCOPE","R.O","CAS","CHOFER",930,40976497,"CALDERON  MARIN JOHAN  JHOFRE",null,"5° de secundaria",null,2,10,9300,3,6,5580]
[null,"UE 303 EDUCACION ASCOPE","R.O","CAS","RESPONSABLE DE MESA DE PARTES",930,80299967,"PLASENCIA ZAVALETA KETTY  GIOVANA",null,"5° de secundaria",null,2,10,9300,2,6,5580]
[null,"UE 303 EDUCACION ASCOPE","R.O","CAS","RESPONSABLE DE CAJA",930,47439228,"BOBADILLA RUIZ VIERA","administradora",null,"universitario",2,10,9300,2,6,5580]
[null,"UE 303 EDUCACION ASCOPE","R.O","CAS","PERSONAL DE MANTENIMIENTO Y SERVICIOS GENERALES",930,40808132,"TORRES  PLASENCIA ALBERT  ALEXANDER",null,"5° de secundaria",null,2,10,9300,2,6,5580]
[null,"UE 303 EDUCACION ASCOPE","R.O","CAS","PERSONAL DE MANTENIMIENTO Y SERVICIOS GENERALES",930,42946113,"VELASQUEZ  ORBEGOSO EDGAR GENARO",null,"5° de secundaria",null,null,null,0,1,2,{"$f":"(F1167*P1167)","v":1860}]
[null,"UE 303 EDUCACION ASCOPE","R.O","CAS","PERSONAL DE MANTENIMIENTO Y SERVICIOS GENERALES",930,18893292,"VASQUEZ SALDAÑA HENRY  DANIEL",null,"5° de secundaria",null,2,10,9300,2,6,5580]
[null,"UE 303 EDUCACION ASCOPE","R.O","CAS","ACOMPAÑANTE PEDAGOGICO PARA IIEE MULTIGRADO MONOLINGUE CASTELLANO",3600,"42345190","ROJAS CASTILLO YURI JANETH","profesora",null,"instituto",3,10,36000,null,null,0]
[null,"UE 303 EDUCACION ASCOPE","R.O","CAS","ACOMPAÑANTE PEDAGOGICO PARA IIEE MULTIGRADO MONOLINGUE CASTELLANO",3600,"18901420","TRUJILLO CRUZ MAGNOLIA YANINA","profesora",null,null,3,10,36000,null,null,0]
[null,"UE 303 EDUCACION ASCOPE","R.O","CAS","ACOMPAÑANTE PEDAGOGICO PRIMARIA POLIDOCENTE COMPLETO",3400,"18904665","RUMAY LPEZ EVA ROSA","profesora",null,null,3,10,34000,null,null,0]
[null,"UE 303 EDUCACION ASCOPE","R.O","CAS","ACOMPAÑANTE PEDAGOGICO PRIMARIA POLIDOCENTE COMPLETO",3400,"19675171","GIL PASCUAL OLGER GERARDO","profesor",null,null,3,10,34000,null,null,0]
[null,"UE 303 EDUCACION ASCOPE","R.O","CAS","ACOMPAÑANTE PEDAGOGICO PRIMARIA POLIDOCENTE COMPLETO",3400,"18114536","CURI GAMARRA YOVANNA RAQUEL","profesora",null,null,3,9,30600,null,null,0]
[null,"UE 303 EDUCACION ASCOPE","R.O","CAS","ACOMPAÑANTE PEDAGOGICO PRIMARIA POLIDOCENTE COMPLETO",3400,"17931721","VASQUEZ MENDEZ ELMER RAMIRO","profesor",null,null,3,9,30600,null,null,0]
[null,"UE 303 EDUCACION ASCOPE","R.O","CAS","ACOMPAÑANTE PEDAGOGICO PRIMARIA POLIDOCENTE COMPLETO",3400,"17934610","VARGAS ALCANTARA PATRICIA MERCEDES","profesora",null,null,3,9,30600,null,null,0]
[null,"UE 303 EDUCACION ASCOPE","R.O","CAS","ACOMPAÑANTE PEDAGOGICO PRIMARIA POLIDOCENTE COMPLETO",3400,"18890778","CASTILLO SUAREZ SANDRA MICHEL","profesora",null,null,3,9,{"$f":"(F1176*M1176)","v":30600},null,null,0]
[null,"UE 303 EDUCACION ASCOPE","R.O","CAS","PERSONAL DE VIGILANCIA",1150,"18891626","VILLALOBOS AGUILAR DE QUISPE JANETT PATRICIA",0,"5° de secundaria",null,3,9,10350,null,null,0]
[null,"UE 303 EDUCACION ASCOPE","R.O","CAS","PERSONAL DE VIGILANCIA",1150,"40619287","SILVA HUACCHA KARINA DEL PILAR",null,"5° de secundaria",null,3,9,10350,null,null,0]
[null,"UE 303 EDUCACION ASCOPE","R.O","CAS","APOYO EDUCATIVO",1150,"41084544","MENDEZ IBAÑEZ DORESMITH MALIK","profesora",null,"instituto",3,9,10350,null,null,0]
[null,"UE 303 EDUCACION ASCOPE","R.O","CAS","PERSONAL DE VIGILANCIA",1150,18828630,"ROLDAN ALVA MARIA DENISSE",null,"5° de secundaria",null,3,9,10350,null,null,0]
[null,"UE 303 EDUCACION ASCOPE","R.O","CAS","APOYO EDUCATIVO",1150,"40083001","VILCHEZ VASQUEZ SANDRA MONICA","profesora",null,"universitario",3,9,10350,null,null,0]
[null,"UE 303 EDUCACION ASCOPE","R.O","CAS","APOYO EDUCATIVO",1150,"41112924","GUARNIZ DELFIN LUZ MARINA","profesora",null,"universitario",3,9,10350,null,null,0]
[null,"UE 303 EDUCACION ASCOPE","R.O","CAS","PERSONAL DE VIGILANCIA",1150,"45023361","COTRINA HUATAY MARIA MILAGROS",null,"5° de secundaria",null,3,9,10350,null,null,0]
[null,"UE 303 EDUCACION ASCOPE","R.O","CAS","PERSONAL DE VIGILANCIA",1150,"18855754","CIRIACO RODRIGUEZ LUCILA",null,"5° de secundaria",null,3,9,10350,null,null,0]
[null,"UE 303 EDUCACION ASCOPE","R.O","CAS","COORDINADOR ADMINISTRATIVO Y DE RECURSOS EDUCATIVOS PARA ZONAS RURALES",2000,"45784086","BAZAN ANTICONA ERICK JATNIEL",null,null,null,3,9,18000,null,null,0]
[null,"UE 303 EDUCACION ASCOPE","R.O","CAS","COORDINADOR ADMINISTRATIVO Y DE RECURSOS EDUCATIVOS PARA ZONAS URBANAS",2000,"45548360","ARAUJO DOMINGUEZ JOHNATAN ORLANDO",null,null,null,3,9,18000,null,null,0]
[null,"UE 303 EDUCACION ASCOPE","R.O","CAS","COORDINADOR ADMINISTRATIVO Y DE RECURSOS EDUCATIVOS PARA ZONAS URBANAS",2000,"46093898","LINARES DIAZ JORGE ANTONIO",null,null,null,3,9,18000,null,null,0]
[null,"UE 303 EDUCACION ASCOPE","R.O","CAS","COORDINADOR ADMINISTRATIVO Y DE RECURSOS EDUCATIVOS PARA ZONAS URBANAS",2000,"19183996","TORRES GALLO LUZ MERY",null,null,null,3,9,18000,null,null,0]
[null,"UE 303 EDUCACION ASCOPE","R.O","CAS","COORDINADOR ADMINISTRATIVO Y DE RECURSOS EDUCATIVOS PARA ZONAS URBANAS",2000,"45514604","ESTACIO SANCHEZ EVERTH JHONATAN","contador",null,"universitario",3,9,18000,null,null,0]
[null,"UE 303 EDUCACION ASCOPE","R.O","CAS","COORDINADOR ADMINISTRATIVO Y DE RECURSOS EDUCATIVOS PARA ZONAS URBANAS",2000,"44718594","AQUINO LAIZA LUIS ALFONSO",null,null,null,3,9,18000,null,null,0]
[null,"UE 303 EDUCACION ASCOPE","R.O","CAS","COORDINADOR ADMINISTRATIVO Y DE RECURSOS EDUCATIVOS PARA ZONAS URBANAS",2000,"44553117","ARTEAGA MIÑANO BRISEIDA KARIM",null,null,null,3,9,18000,null,null,0]
[null,"UE 303 EDUCACION ASCOPE","R.O","CAS","COORDINADOR ADMINISTRATIVO Y DE RECURSOS EDUCATIVOS PARA ZONAS URBANAS",2000,"41020039","FLORES PAJARES WILMER ERNESTO",null,null,null,3,9,18000,null,null,0]
[null,"UE 303 EDUCACION ASCOPE","R.O","CAS","COORDINADOR ADMINISTRATIVO Y DE RECURSOS EDUCATIVOS PARA ZONAS URBANAS",2000,"71467673","MIÑANO MANTILLA DORIS MARYORIE","administrador",null,"universitario",3,9,18000,null,null,0]
[null,"UE 303 EDUCACION ASCOPE","R.O","CAS","COORDINADOR ADMINISTRATIVO Y DE RECURSOS EDUCATIVOS PARA ZONAS URBANAS",2000,"45614913","NAMOC SANCHEZ YUVISA URSULA",null,null,null,3,9,18000,null,null,0]
[null,"UE 303 EDUCACION ASCOPE","R.O","CAS","COORDINADOR DE INNOVACION Y SOPORTE TECNOLOGICO_JEC",1800,"42059009","ARCE VARGAS JHONNY AUGUSTO",null,null,null,2,9,16200,null,null,0]
[null,"UE 303 EDUCACION ASCOPE","R.O","CAS","COORDINADOR DE INNOVACION Y SOPORTE TECNOLOGICO_JEC",1800,"41014657","TAMBOR ASPAJO WILDER","ingeniero de sistemas",0,"universitario",3,9,16200,null,null,0]
[null,"UE 303 EDUCACION ASCOPE","R.O","CAS","COORDINADOR DE INNOVACION Y SOPORTE TECNOLOGICO_JEC",1800,"46566784","PEREZ OTINIANO JHONATAN JHOSSEP",null,null,null,2,9,16200,null,null,0]
[null,"UE 303 EDUCACION ASCOPE","R.O","CAS","COORDINADOR DE INNOVACION Y SOPORTE TECNOLOGICO_JEC",1800,"18890246","GUTIERREZ RIOS FELIPE JESUS",null,null,null,3,9,16200,null,null,0]
[null,"UE 303 EDUCACION ASCOPE","R.O","CAS","COORDINADOR DE INNOVACION Y SOPORTE TECNOLOGICO_JEC",1800,"45296630","YEPES SAGASTEGUI JOHN HENNING",null,"computación e informatica","instituto",2,9,16200,null,null,0]
[null,"UE 303 EDUCACION ASCOPE","R.O","CAS","COORDINADOR DE INNOVACION Y SOPORTE TECNOLOGICO_JEC",1800,"43793359","GONZALEZ ARGOMEDO SEGUNDO ARTURO","profesor",null,"instituto",2,9,16200,null,null,0]
[null,"UE 303 EDUCACION ASCOPE","R.O","CAS","COORDINADOR DE INNOVACION Y SOPORTE TECNOLOGICO_JEC",1800,"40677471","HOYOS CALDERON ROBERTO MONTIEL","ingeniero de sistemas",0,"universitario",3,9,16200,null,null,0]
[null,"UE 303 EDUCACION ASCOPE","R.O","CAS","COORDINADOR DE INNOVACION Y SOPORTE TECNOLOGICO_JEC",1800,"43382995","BAZAN ANTICONA JOACIM MANUEL","ingeniero computacion y sistema",0,"universitario",3,9,16200,null,null,0]
[null,"UE 303 EDUCACION ASCOPE","R.O","CAS","COORDINADOR DE INNOVACION Y SOPORTE TECNOLOGICO_JEC",1800,"18138448","CHAVEZ CARMONA JUAN PABLO",null,"computación e informatica","instituto",2,9,16200,null,null,0]
[null,"UE 303 EDUCACION ASCOPE","R.O","CAS","COORDINADOR DE INNOVACION Y SOPORTE TECNOLOGICO_JEC",1800,"70550711","VALENCIA OLIVA PEDRO",null,"computación e informatica","instituto",2,9,16200,null,null,0]
[null,"UE 303 EDUCACION ASCOPE","R.O","CAS","COORDINADOR DE INNOVACION Y SOPORTE TECNOLOGICO_JEC",1800,"18896664","AGUILAR CHUQUIPOMA ROSAS ADRIAN",null,"computación e informatica","instituto",2,9,16200,null,null,0]
[null,"UE 303 EDUCACION ASCOPE","R.O","CAS","ESPECIALISTA EN ABASTECIMIENTO",2600,"70017449","SALAZAR MENDOZA ROGER EDUARDO","administrador",null,"universitario",4,12,31200,null,null,0]
[null,"UE 303 EDUCACION ASCOPE","R.O","CAS","ESPECIALISTA EN MONITOREO DE EVALUACIONES DE ESTUDIANTES Y DOCENTES",2600,"41680051","QUEZADA LLAURY FABIO RAUL",null,null,null,2,8,20800,null,null,0]
[null,"UE 303 EDUCACION ASCOPE","R.O","CAS","ESPECIALISTA EN PROCESOS ADMINISTARTIVOS DISCIPLINARIOS",2600,"44951481","DIAZ MORON JULIO IRVIN","abogado",null,null,4,12,31200,null,null,0]
[null,"UE 303 EDUCACION ASCOPE","R.O","CAS","GESTOR LOCAL",3500,"40355911","VERA SANCHEZ ESTELA PATRICIA","contadora",null,null,3,12,42000,null,null,0]
[null,"UE 303 EDUCACION ASCOPE","R.O","CAS","GESTOR CURRICULAR",4000,"18890055","CRUZ MONZON LILIANA ISABEL","profesora",null,"instituto",1,9,36000,null,null,0]
[null,"UE 303 EDUCACION ASCOPE","R.O","CAS","PERSONAL DE VIGILANCIA",1150,"48836249","ALCANTARA HIPOLITO JUAN CARLOS",null,"5° de secundaria",null,3,9,10350,null,null,0]
[null,"UE 303 EDUCACION ASCOPE","R.O","CAS","PERSONAL DE VIGILANCIA",1150,"18892678","DURAND VIGO MERCY SOLEDAD",null,"5° de secundaria",null,3,9,10350,null,null,0]
[null,"UE 303 EDUCACION ASCOPE","R.O","CAS","PERSONAL DE VIGILANCIA",1150,"42255678","ROJAS LINO LIZ YOVANNA",null,"5° de secundaria",null,3,9,10350,null,null,0]
[null,"UE 303 EDUCACION ASCOPE","R.O","CAS","PERSONAL DE SECRETARIA",1400,"43871814","BENAVIDES MACO MARISOL",null,"secretariado ejecutivo","instituto",3,9,12600,null,null,0]
[null,"UE 303 EDUCACION ASCOPE","R.O","CAS","PERSONAL DE SECRETARIA",1400,"43814527","YATAS AMAYA ROSA MERCEDES",null,"secretariado ejecutivo","instituto",3,9,12600,null,null,0]
[null,"UE 303 EDUCACION ASCOPE","R.O","CAS","PERSONAL DE SECRETARIA",1400,"41159803","DE LA CRUZ GRADOS SARELY MAGALI",null,"contabilidad computarizada","instituto",3,9,12600,null,null,0]
[null,"UE 303 EDUCACION ASCOPE","R.O","CAS","PERSONAL DE SECRETARIA",1400,"46481705","DIAZ PAREDES CAROL ESTEFANY",null,"secretariado ejecutivo","instituto",3,9,12600,null,null,0]
[null,"UE 303 EDUCACION ASCOPE","R.O","CAS","PERSONAL DE SECRETARIA",1400,"18887677","ESPINA VASQUEZ GLORIA MARÍA",null,null,null,3,9,12600,null,null,0]
[null,"UE 303 EDUCACION ASCOPE","R.O","CAS","PERSONAL DE SECRETARIA",1400,"18907300","CASTILLO CAMACHO PERSIDA LOIDA",null,"secretariado ejecutivo","instituto",3,9,12600,null,null,0]
[null,"UE 303 EDUCACION ASCOPE","R.O","CAS","PERSONAL DE SECRETARIA",1400,"18890682","CHAVEZ VARGAS FANNY MARLENE",null,"secretariado ejecutivo","instituto",3,9,12600,null,null,0]
[null,"UE 303 EDUCACION ASCOPE","R.O","CAS","PERSONAL DE VIGILANCIA",1150,"18820076","DE LA MELENA MONTOYA GERARDO",null,"5° de secundaria",null,4,12,13800,null,null,0]
[null,"UE 303 EDUCACION ASCOPE","R.O","CAS","PERSONAL DE VIGILANCIA",1150,"18856043","AZAÑERO AGUILAR RICHARD AUGUSTO",null,"5° de secundaria",null,4,12,13800,null,null,0]
[null,"UE 303 EDUCACION ASCOPE","R.O","CAS","PERSONAL DE VIGILANCIA",1150,"18892753","ZEVALLOS VARGAS RODOLFO ELI",null,"5° de secundaria",null,4,12,13800,null,null,0]
[null,"UE 303 EDUCACION ASCOPE","R.O","CAS","PERSONAL DE VIGILANCIA",1150,"18891589","MONTES DE OCA FRIAS MIGUEL ANDRES",null,"5° de secundaria",null,4,12,13800,null,null,0]
[null,"UE 303 EDUCACION ASCOPE","R.O","CAS","PERSONAL DE VIGILANCIA",1150,"18891168","FLORES JAVE VICTOR AMADEO",null,"5° de secundaria",null,4,12,13800,null,null,0]
[null,"UE 303 EDUCACION ASCOPE","R.O","CAS","PERSONAL DE VIGILANCIA",1150,"18825505","CASTILLO DIAZ ARNALDO CAROL",null,"5° de secundaria",null,4,12,13800,null,null,0]
[null,"UE 303 EDUCACION ASCOPE","R.O","CAS","PERSONAL DE VIGILANCIA",1150,"44040901","ZAMUDIO NINAQUISPE LUIS ALBERTO",null,"5° de secundaria",null,4,12,13800,null,null,0]
[null,"UE 303 EDUCACION ASCOPE","R.O","CAS","PERSONAL DE VIGILANCIA",1150,"43004450","ALVA DIAZ FREDDY ALBERTO",null,"5° de secundaria",null,4,12,13800,null,null,0]
[null,"UE 303 EDUCACION ASCOPE","R.O","CAS","PERSONAL DE VIGILANCIA",1150,"18888038","CASTILLO SEGURA CLEMENTE ALFONSO",null,"5° de secundaria",null,4,12,13800,null,null,0]
[null,"UE 303 EDUCACION ASCOPE","R.O","CAS","PERSONAL DE VIGILANCIA",1150,"72959732","VICENTE ALARCON EDSON STEVE",null,"5° de secundaria",null,4,12,13800,null,null,0]
[null,"UE 303 EDUCACION ASCOPE","R.O","CAS","PERSONAL DE VIGILANCIA",1150,"18900557","ROSAS ZARE LUIS MIGUEL",null,"5° de secundaria",null,4,12,13800,null,null,{"$f":"(F1231*P1231)","v":0}]
[null,"UE 303 EDUCACION ASCOPE","R.O","CAS","PERSONAL DE VIGILANCIA",1150,"18828575","RAMOS DEVERA FERNANDO REMIGIO",null,"5° de secundaria",null,4,12,13800,null,null,0]
[null,"UE 303 EDUCACION ASCOPE","R.O","CAS","PERSONAL DE VIGILANCIA",1150,"46070575","VASQUEZ ZAMBRANO JOSE MIGUEL",null,"5° de secundaria",null,4,12,13800,null,null,0]
[null,"UE 303 EDUCACION ASCOPE","R.O","CAS","PERSONAL DE VIGILANCIA",1150,"18831683","PAREDES PINEDO LUIS YOEL",null,"5° de secundaria",null,4,12,13800,null,null,0]
[null,"UE 303 EDUCACION ASCOPE","R.O","CAS","PERSONAL DE VIGILANCIA",1150,"73479115","RODRIGUEZ AGUILAR ALVARO GERMAN RAUL",null,"5° de secundaria",null,4,12,13800,null,null,0]
[null,"UE 303 EDUCACION ASCOPE","R.O","CAS","PERSONAL DE VIGILANCIA",1150,"42184784","ARMAS PASMINIO ALEX IVAN",null,"5° de secundaria",null,4,12,13800,null,null,0]
[null,"UE 303 EDUCACION ASCOPE","R.O","CAS","PERSONAL DE VIGILANCIA",1150,"18858628","ZAVALETA GUTIERREZ ANGEL VICTOR",null,"5° de secundaria",null,4,12,13800,null,null,0]
[null,"UE 303 EDUCACION ASCOPE","R.O","CAS","PERSONAL DE VIGILANCIA",1150,"18835609","GOICOCHEA LOPEZ JUAN ANDRES",null,"5° de secundaria",null,4,12,13800,null,null,0]
[null,"UE 303 EDUCACION ASCOPE","R.O","CAS","PERSONAL DE VIGILANCIA",1150,"08168144","CASTILLO ROJAS EDWIN CRISTIAN",null,"5° de secundaria",null,4,12,13800,null,null,0]
[null,"UE 303 EDUCACION ASCOPE","R.O","CAS","PERSONAL DE VIGILANCIA",1150,"43215768","MENDEZ FLORIAN DE PLASENCIA LUZMILA DEL PILAR",0,"5° de secundaria",null,4,12,{"$f":"(F1240*M1240)","v":13800},null,null,0]
[null,"UE 303 EDUCACION ASCOPE","R.O","CAS","PERSONAL DE VIGILANCIA",1150,"45044550","VALVERDE NOLASCO JOSE LUIS",null,"5° de secundaria",null,4,12,13800,null,null,0]
[null,"UE 303 EDUCACION ASCOPE","R.O","CAS","PERSONAL DE VIGILANCIA",1150,"43988069","BUENO CIRIACO MIRIAM ESTHER",null,"5° de secundaria",null,4,12,13800,1,3,3450]
[null,"UE 303 EDUCACION ASCOPE","R.O","CAS","PERSONAL DE VIGILANCIA",1150,"18892721","CULQUICHICON VALIENTE HAYDEE MAGALY",null,"5° de secundaria",null,4,12,13800,null,null,0]
[null,"UE 303 EDUCACION ASCOPE","R.O","CAS","PERSONAL DE VIGILANCIA",1150,"18902854","MENDOZA GUIVAR JACOB",null,"5° de secundaria",null,4,12,13800,null,null,0]
[null,"UE 303 EDUCACION ASCOPE","R.O","CAS","PERSONAL DE VIGILANCIA",1150,"42209313","PAREDES MERINO SUSANA YSABEL",null,"5° de secundaria",null,4,12,13800,null,null,0]
[null,"UE 303 EDUCACION ASCOPE","R.O","CAS","PERSONAL DE VIGILANCIA",1150,"18856678","SALDAÑA CABANILLAS DANIEL",null,"5° de secundaria",null,4,12,13800,null,null,0]
[null,"UE 303 EDUCACION ASCOPE","R.O","CAS","PERSONAL DE VIGILANCIA",1150,"80639541","VERASTEGUI SILVA ALEXANDER AGUSTIN",null,"5° de secundaria",null,4,12,13800,null,null,0]
[null,"UE 303 EDUCACION ASCOPE","R.O","CAS","PERSONAL DE VIGILANCIA",1150,"18891545","PAREDES INCISO VALENTINO",null,"5° de secundaria",null,4,12,13800,null,null,0]
[null,"UE 303 EDUCACION ASCOPE","R.O","CAS","PERSONAL DE VIGILANCIA",1150,"18905153","SIPIRAN PAIRAZAMAN GUISELA JOSEFINA",null,"5° de secundaria",null,4,12,13800,null,null,0]
[null,"UE 303 EDUCACION ASCOPE","R.O","CAS","PERSONAL DE VIGILANCIA",1150,"18905431","GARCIA ALZA ARTURO CELSO",null,"5° de secundaria",null,4,12,13800,null,null,0]
[null,"UE 303 EDUCACION ASCOPE","R.O","CAS","PSICOLOGO",2000,"46890243","ABANTO CRUZ LUIS ANDERSON","psicólogo",null,"universitario",3,10,20000,null,null,0]
[null,"UE 303 EDUCACION ASCOPE","R.O","CAS","PSICOLOGO",2000,"46423455","CASTILLO YARSON ELVITA MERCEDES","psicólogo",null,null,3,10,20000,null,null,0]
[null,"UE 303 EDUCACION ASCOPE","R.O","CAS","PSICOLOGO",2000,"45152631","PALMA BARRUETO LILA GRACE","psicólogo",null,"universitario",3,10,20000,null,null,0]
[null,"UE 303 EDUCACION ASCOPE","R.O","CAS","PSICOLOGO",2000,"70298192","CARBAJAL SANCHEZ MARIA HERMELINDA","psicólogo",null,null,2,10,20000,null,null,0]
[null,"UE 303 EDUCACION ASCOPE","R.O","CAS","PSICOLOGO",2000,"41950791","VARGAS ALTAMIRANO INGRID LISZET","psicólogo",null,"universitario",3,10,20000,null,null,0]
[null,"UE 303 EDUCACION ASCOPE","R.O","CAS","PSICOLOGO",2000,"41348466","RAFAEL CRUZ ELLA","psicólogo",null,"universitario",3,10,20000,null,null,0]
[null,"UE 303 EDUCACION ASCOPE","R.O","CAS","PSICOLOGO",2000,"48036326","IPANAQUE SANCHEZ GINA","psicólogo",null,null,3,10,20000,null,null,0]
[null,"UE 303 EDUCACION ASCOPE","R.O","CAS","PSICOLOGO",2000,"44709742","LLANOS REYES WALTER OCTAVIO","psicólogo",null,"universitario",3,10,20000,null,null,0]
[null,"UE 303 EDUCACION ASCOPE","R.O","CAS","PSICOLOGO",2000,"45155046","DELGADO PORTILLA KARLA PATRICIA","psicólogo",null,"universitario",3,10,20000,null,null,0]
[null,"UE 303 EDUCACION ASCOPE","R.O","CAS","PSICOLOGO",2000,"80639514","VILCHEZ CARRILLO KAREN ROXANA",0,null,null,3,10,20000,null,null,0]
[null,"UE 303 EDUCACION ASCOPE","R.O","CAS","RESPONSABLE DE LA CALIDAD DE LA INFORMACION",3000,"41877648","CABANILLAS NOVOA MONICA LISSET","ingeniera  de sistemas",0,null,2,10,30000,null,null,0]
[null,"UE 303 EDUCACION ASCOPE","R.O","CAS","PERSONAL DE MANTENIMIENTO Y VIGILANCIA",920,40808132,"TORRES PLASENCIA ALEXANDER ",0,"5° de secundaria",null,2,10,9200,null,null,0]
[null,"UE 303 EDUCACION ASCOPE","R.O","CAS","PERSONAL DE MANTENIMIENTO Y VIGILANCIA",930,18848811,"CARRION CASTILLO CARLOS",null,"5° de secundaria",null,3,10,9300,null,null,0]
[null,"UE 303 EDUCACION ASCOPE","R.O","CAS","PERSONAL DE MANTENIMIENTO Y VIGILANCIA",930,70812547,"ANTICONA GUTIERREZ JOSE",null,"5° de secundaria",null,3,10,9300,null,null,0]
[null,"UE 303 EDUCACION ASCOPE","R.O","CAS","PERSONAL DE MANTENIMIENTO Y VIGILANCIA",930,18891666,"VALIENTE MORALES JOSE",null,"5° de secundaria",null,3,9,8370,null,null,0]
[null,"UE 303 EDUCACION ASCOPE","R.O","CAS","PERSONAL DE MANTENIMIENTO Y VIGILANCIA",930,"09611131","VASQUEZ CABRERA JUAN",null,"5° de secundaria",null,3,9,8370,null,null,0]
[null,"UE 303 EDUCACION ASCOPE","R.O","CAS","PERSONAL DE MANTENIMIENTO Y VIGILANCIA",930,41982537,"FERNANDEZ ASENCIO JUDITH",null,"5° de secundaria",null,3,9,8370,null,null,0]
[null,"UE 303 EDUCACION ASCOPE","R.O","CAS","PERSONAL DE MANTENIMIENTO Y VIGILANCIA",930,18830007,"LEON GUARNIZ VICTOR",null,"5° de secundaria",null,3,9,8370,null,null,0]
[null,"UE 303 EDUCACION ASCOPE","R.O","CAS","PERSONAL DE MANTENIMIENTO Y VIGILANCIA",930,45771556,"SOLANO UCEDA LUIS",null,"5° de secundaria",null,3,9,8370,null,null,0]
[null,"UE 303 EDUCACION ASCOPE","R.O","CAS","PERSONAL DE MANTENIMIENTO Y VIGILANCIA",930,80195851,"NAMOC PICHEN LUZ",null,"5° de secundaria",null,2,9,8370,null,null,0]
[null,"UE 303 EDUCACION ASCOPE","R.O","CAS","PERSONAL DE MANTENIMIENTO Y VIGILANCIA",930,42375727,"HUAMAN TOCAS MARIA",null,"5° de secundaria",null,3,9,8370,null,null,0]
[null,"UE 303 EDUCACION ASCOPE","R.O","CAS","PERSONAL DE MANTENIMIENTO Y VIGILANCIA",930,18858424,"MERCADO MIRANDA ROSA",null,"5° de secundaria",null,3,9,8370,null,null,0]
[null,"UE 303 EDUCACION ASCOPE","R.O","CAS","PERSONAL DE MANTENIMIENTO Y VIGILANCIA",930,40915362,"MESTANZA MEDINA NARDA",null,"5° de secundaria",null,3,9,8370,null,null,0]
[null,"UE 303 EDUCACION ASCOPE","R.O","CAS","PERSONAL DE MANTENIMIENTO Y VIGILANCIA",930,40571837,"CAPRISTAN JONES MILTON CAMILO",0,"egresado en ingenieria de sistemas","universitario",3,9,8370,null,null,0]
[null,"UE 303 EDUCACION ASCOPE","R.O","CAS","PERSONAL DE MANTENIMIENTO Y VIGILANCIA",930,72563983,"SALDAÑA ALVA NEISER",null,"5° de secundaria",null,3,9,8370,null,null,0]
[null,"UE 303 EDUCACION ASCOPE","R.O","CAS","PERSONAL DE MANTENIMIENTO Y VIGILANCIA",930,40334786,"PAICO MIRANDA SEGUNDO",null,"5° de secundaria",null,3,9,8370,null,null,0]
[null,"UE 303 EDUCACION ASCOPE","R.O","CAS","PERSONAL DE MANTENIMIENTO Y VIGILANCIA",930,18836521,"VASQUEZ DURAND SEGUNDO",null,"5° de secundaria",null,3,9,8370,null,null,0]
[null,"UE 303 EDUCACION ASCOPE","R.O","CAS","PERSONAL DE MANTENIMIENTO Y VIGILANCIA",930,18835781,"VASQUEZ LLAMOGA MANUELA",null,"5° de secundaria",null,3,9,8370,null,null,0]
[null,"UE 303 EDUCACION ASCOPE","R.O","CAS","PERSONAL DE MANTENIMIENTO Y VIGILANCIA",930,18857428,"ASCOY ALVAREZ VICTOR",null,"5° de secundaria",null,3,9,8370,null,null,0]
[null,"UE 303 EDUCACION ASCOPE","R.O","CAS","RESPONSABLE DE PATRIMONIO",1500,47179790,"AGUILAR JULCA JHOHAN PETER",0,"bachiller",null,2,9,13500,null,null,0]
[null,"UE 303 EDUCACION ASCOPE","R.O","CAS","TECNICO ADMINISTRATIVO",930,18828101,"VASQUEZ GONZALES JORGE LUIS",0,null,null,2,9,8370,null,null,0]
[null,"UE 303 EDUCACION ASCOPE","R.O","CAS","RESPONSABLE DE ALMACEN",1500,45204358,"FLORES CARUAJULCA EVER",null,null,null,2,9,13500,1,1,1500]
[null,"UE 303 EDUCACION ASCOPE","R.O","CAS","ASESORA LEGAL DE PERSONAL",1500,45204358,"NARVAEZ CEDANO SINDY KARIN","abogada",null,null,4,9,13500,null,null,0]
[null,"UE 303 EDUCACION ASCOPE","R.O","CAS","AUXILIAR DE SISTEMA ADMINISTRATIVO",810,45204358,"PALACIOS IGLESIAS MILAGROS JACKELINE",0,"5° de secundaria",null,3,9,7290,null,null,0]
[null,"UE 303 EDUCACION ASCOPE","R.O","CAS","RESPONSABLE DE PATRIMONIO",1500,46605330,"PEREZ FLORES ANA PAULA","contadora",null,null,3,9,13500,null,null,0]
[null,"UE 303 EDUCACION ASCOPE","R.O","CAS","CHOFER",810,18903896,"SANCHEZ RUBIÑOS RAJOO JESUS",0,"5° de secundaria",null,3,10,8100,null,null,0]
[null,"UE 303 EDUCACION ASCOPE","R.O","CAS","RESPONSABLE DE PATRIMONIO",1500,47138133,"QUISPE RODRIGUEZ NAYLEA ","contadora",null,null,2,10,15000,null,null,0]
[null,"UE 303 EDUCACION ASCOPE","R.O","CAS","RESPONSABLE DE CAJA",810,70367212,"RODRIGUEZ  CASTILLO MARLON MANUEL","contador",null,"universitario",3,12,9720,null,null,0]
[null,"UE 303 EDUCACION ASCOPE","R.O","CAS","ASISTENTE DEL AREA DE ASESORIA JURIDICA",1500,18893061,"SOLANO CAMACHO ESMELDA  VERTILA","abogada","bachiller","universitario",5,12,18000,null,null,0]
[null,"UE 303 EDUCACION ASCOPE","R.O","CAS","MANTENIMIENTO  Y VIGILANCIA",810,18892680,"LOZADA  MURGA ALVARO  MIGUEL",0,"egresado educacion primaria","instituto",3,10,8100,null,null,0]
[null,"UE 303 EDUCACION ASCOPE","R.O","CAS","CHOFER",810,40976497,"CALDERON  MARIN JOHAN  JHOFRE",0,"5° de secundaria",null,3,10,8100,null,null,0]
[null,"UE 303 EDUCACION ASCOPE","R.O","CAS","ENCARGADO DE MESA DE PARTES",810,80299967,"PLASENCIA ZAVALETA KETTY  GIOVANA",0,"5° de secundaria",null,3,10,8100,null,null,0]
[null,"UE 303 EDUCACION ASCOPE","R.O","CAS","PERSONAL DE SERVICIO",810,18893292,"VASQUEZ SALDAÑA HENRY  DANIEL",0,"5° de secundaria",null,3,10,8100,null,null,0]
[null,"TOTAL",null,null,null,{"$f":"SUM(F1038:F1293)","v":381600},null,null,null,null,null,null,null,{"$f":"SUM(N1047:N1293)","v":2140830},null,null,{"$f":"SUM(Q1038:Q1293)","v":615890}]
[null,"304- EDUCACION GRAN CHIMU","R.O","CAS","SECRETARIA GESTION INSTITUCIONAL",850,45789244,"PALACIOS LEON MAGNA CECILIA",null,"SECRETARIADO TECNICO",0,1,11,{"$f":"850*11","v":9350},1,1,930]
[null,"304- EDUCACION GRAN CHIMU","RO","CAS","PATRIMONIO",1200,45789244,"PALACIOS LEON MAGNA CECILIA","CONTABILIDAD","BACHILLER EN CONTABILIDAD",0,null,null,null,1,6,{"$f":"1200*5","v":6000}]
[null,"304- EDUCACION GRAN CHIMU","R.O","CAS","SECRETARIA ASESORIA JURIDICA",850,42682621,"PAULINO CAMACHO CARMEN CECILIA",null,"SECRETARIADO TECNICO",0,1,11,{"$f":"850*11","v":9350},1,0,{"$f":"930*6","v":5580}]
[null,"304- EDUCACION GRAN CHIMU","R.O","CAS","RESPONSABLE DE PDT",850,42786555,"IPARRAGUIRRE PLASENCIA JNOEMI JIMENA",null,"ESTUDIOS CONCLUIDOS EN SECRETARIADO ",0,1,11,{"$f":"850*11","v":9350},1,6,{"$f":"930*6","v":5580}]
[null,"304- EDUCACION GRAN CHIMU","R.O","CAS","OFICINISTA ",850,27171810,"DEZA TERRONES WILMER ALBERTO",null,"SUPERIOR INCOMPLETA",0,1,11,{"$f":"850*11","v":9350},1,6,{"$f":"930*6","v":5580}]
[null,"304- EDUCACION GRAN CHIMU","R.O","CAS","APOYO EN ESCALAFON",850,32784748,"LEON LEON ALFONSO GONZALO","ADMINISTRACION","BACHILLER EN ADMINISTRACION",0,0,11,{"$f":"850*11","v":9350},null,6,{"$f":"930*6","v":5580}]
[null,"304- EDUCACION GRAN CHIMU","R.O","CAS","OPERADOR PAD",850,74928244,"ANGULO ANGULO YOSELLY MILAGRITOS",null,"TECNICO EN ADMINISTRACION",0,1,11,{"$f":"850*11","v":9350},1,6,{"$f":"930*6","v":5580}]
[null,"304- EDUCACION GRAN CHIMU","R.O","CAS","PATRIMONIO",1200,47242505,"VELASQUEZ SANCHEZ JOSE MARDOQUEO","ADMINISTRACION","TITULO COLEGIADO","TITULO COLEGIADO",1,10,{"$f":"1200*10","v":12000},0,0,0]
[null,"304- EDUCACION GRAN CHIMU","R.O","CAS","PLANILLAS",1200,44078939,"HERRADA  PALACIOS ROCIO LIZET","ECONOMISTA","TITULO COLEGIADO","TITULO COLEGIADO",1,11,{"$f":"1200*11","v":13200},1,6,{"$f":"1200*6","v":7200}]
[null,"304- EDUCACION GRAN CHIMU","R.O","CAS","RESPONSABLE LOCAL DE LA CALIDAD DE INFORMACION",3000,45250838,"BECERRA REYES MARLO RENATO","INGENIERO DE SISTEMAS","TITULADO","TITULO PROFESIONAL",1,11,{"$f":"3000*11","v":33000},0,0,0]
[null,"304- EDUCACION GRAN CHIMU","R.O","CAS","RESPONSABLE DEL CENTRO DE RECURSOS DE APRENDIZAJE ( CRA )",1500,18207974,"LEYVA LEON VICTOR MANUEL ","PROFESOR","TITULADO","TITULO PAROFESIONAL",1,11,{"$f":"1500*11","v":16500},0,0,0]
[null,"304- EDUCACION GRAN CHIMU","R.O","CAS","ALMACEN",930,47179430,"DIAZ GUARNIZ ESHEFANI NATALI","ECONOMISTA",null,"BACHILLER EN CIENCIAS ECONOMICAS",1,0,0,0,3,{"$f":"930*3","v":2790}]
[null,"304- EDUCACION GRAN CHIMU","R.O","CAS","TRAMITE DOCUMENTARIO",850,47290929,"TIRADO IGLESIAS KEYKO MILAGRITOS","TECNICA EN COMPUTACION E INFORMATICA",0,"TITULO TECNICO",0,7,{"$f":"850*7","v":5950},1,6,{"$f":"930*6","v":5580}]
[null,"304- EDUCACION GRAN CHIMU","R.O","CAS","ESPECIALISTA EN ABASTECIMIENTO",2600,19082543,"BOCANEGRA ALCANTARA INDIRA","ECONOMISTA","TITULADA","TITULO PROFESIONAL",1,5,{"$f":"2600*5","v":13000},0,0,0]
[null,"304- EDUCACION GRAN CHIMU","R.O","CAS","ANALISTA EN INFRAESTRUCTURA",2600,45399336,"PARO USSCA YESSICA  MARIA","INGENIERA",null,"INGENIERA CIVIL",0,0,0,1,3,{"$f":"2600*3","v":7800}]
[null,"304- EDUCACION GRAN CHIMU","R.O","CAS","ESPECIALISTA EN PROCESO ADMINISTRATIVO DISCIPLINARIOS ( PAD )",2600,80502979,"WILMWR ALEXANDER MENDOZA AMAYA","ABOGADO","TITULADO","TITULO PROFESIONAL",1,12,{"$f":"2600*12","v":31200},1,6,{"$f":"2600*6","v":15600}]
[null,"304- EDUCACION GRAN CHIMU","R.O","CAS","GESTORA LOCAL",3500,41899915,"AYALA AZABACHE ROCIO GRACIELA","ECONOMISTA","TITULADA","TITULO PROFESIONAL",1,11,{"$f":"3500*11","v":38500},0,0,0]
[null,"304- EDUCACION GRAN CHIMU","R.O","CAS","ESPECIALISTA EN MONITOREO DE EVALUACIONES DE ESTUDIANTES Y DOCENTES",2600,17818503,"MONTIEL FLORES ROSA EVANGELINA","PROFESORA ","LICENCIADA EN EDUCACION SECUNDARIA","TITULO PROFESIONAL",1,3,{"$f":"2600*3","v":7800},0,0,0]
[null,"304- EDUCACION GRAN CHIMU","R.O","CAS","ACOMPAÑANTE PEDAGOGICO",3600,18008242,"BRICEÑO ALAYO DE ZAÑA MARINA ELIZABETH","DOCENTE",null,"BACHILLER EN EDUCACION",1,11,{"$f":"3600*11","v":39600},1,2,9720]
[null,"304- EDUCACION GRAN CHIMU","R.O","CAS","ACOMPAÑANTE PEDAGOGICO",3600,17891001,"AGUILAR BUENO VILMA INES","ADMINISTRADOR","TITULADA","ESPECIALISTA EN TECNOLOGIA EDUCATIVA",1,11,{"$f":"3600*11","v":39600},0,0,0]
[null,"304- EDUCACION GRAN CHIMU","R.O","CAS","ESPECIALISTA ABASTECIMIENTO",2600,46466446,"MACHUCA PADILLA JULIO ALBERTO","ADMINISTRACDOR",0,"LIC. EN ADMINISTRACION",1,3,{"$f":"2600*3","v":7800},1,3,{"$f":"2600*3","v":7800}]
[null,"304- EDUCACION GRAN CHIMU","RO","CAS","ESPECIALISTA EN MONITOREO",2600,41157506,"VEGA CORDOVA GROVERT GUSTAVO","INGENIERO",null,"INGENIERO DE COMPUTACION Y SISTEMAS",1,3,{"$f":"2600*3","v":7800},0,0,0]
[null,"304- EDUCACION GRAN CHIMU","RO","CAS","GESTOR  CURRICULAR",4000,18835392,"VALENCIA VELARDE ANDREA","PROFESORA EDUC. PRIMARIA",0,"TITULO PEDAGOGICO",0,null,null,1,2,8000]
[null,"304- EDUCACION GRAN CHIMU","RO","CAS","ESPECIALISTA DE CONVIVENCIA ESCOLAR",2600,41899665,"ALVARADO LISBOA CARLA CECILIA","PSICOLOGIA",null,"TITULO  LICENCIADA EN  EDUCACION PRIMARIA",1,3,{"$f":"2600*3","v":7800},1,6,{"$f":"2600*6","v":15600}]
[null,"304- EDUCACION GRAN CHIMU","RO","CAS","CENTRO DE RECURSOS PARA EL APRENDIZAJE PELA",4000,45605529,"SEGURA VILLALOBOS NIEVES EVITA","DOCENTE",null,"LICENCIADO EN EDUCACION PRIMARIA",1,1,4000,0,0,0]
[null,"304- EDUCACION GRAN CHIMU","RO","CAS","GESTOR CURRICULAR",4000,27152373,"TISNADO CAMACHO MIRTHA ELENA","DOCENTE",null,"BACHILLER EN EDUCAACION",1,1,4000,0,0,0]
[null,"304- EDUCACION GRAN CHIMU","R.O","CAS","COORDINADOR ADMINISTRATIVO DE RECURSOS EDUCATIVOS",2000,70154800,"GUERRA  HUAMAN JHOAN DAVID","INGENIERO ",null,"INGENIERO AGRO INDUSTRIAL Y COMERCIO EXTERIOR",1,1,2000,0,0,0]
[null,"304- EDUCACION GRAN CHIMU","RO","CAS","PERSONAL DE MANTENIMIENTO DE II.EE",1500,70177885,"CAHVEZ MORALES RONAD LEONAR","SECUNDARIA COMPLETA",0,0,1,1,1500,0,0,0]
[null,"304- EDUCACION GRAN CHIMU","RO","CAS","PERSONAL DE MANTENIMIENTO DE II.EE",1500,17987338,"SALDAÑA CACHI SEGUNDO ALBERTO","SECUNDARIA COMPLETA",0,0,1,1,1500,0,0,0]
[null,"304- EDUCACION GRAN CHIMU","RO","CAS","ACOMPAÑANTE PEDAGOGICO",3600,17991001,"AGUILAR BUENO VI LMA INES","DOCENTE","MAESTRA EN EDUCACION","TITULO ESPECIALISTA EN TECNOLOGIA EDUCATIVA",1,5,{"$f":"3600*5","v":18000},0,0,0]
[null,"304- EDUCACION GRAN CHIMU","RD","CAS","ACOMPAÑANTE PEDAGOGICO",3600,26956724,"CALDERON RUIZ DINA ESTHER","DOCENTE","DOCTORA EN ADMINISTRACION DE LA EDUCACION","MAGISTER  EN EDUCACION",0,null,null,1,2,{"$f":"3600*2","v":7200}]
[]
[null,"TOTAL",null,null,null,{"$f":"SUM(F1295:F1325)","v":68080},null,null,null,null,null,null,null,{"$f":"SUM(N1295:N1325)","v":360850},null,null,{"$f":"SUM(Q1295:Q1326)","v":122120}]
[null,"305 EDUCACION OTUZCO","R.O.","CAS","PERSONAL DE VIGILANCIA",1150,"41738471","QUISPE ROSAS JOSE IVAN",null,null,null,1,12,{"$f":"+F1328*M1328","v":13800}]
[null,"305 EDUCACION OTUZCO","R.O.","CAS","PERSONAL DE VIGILANCIA",1150,"76955722","YBAÑEZ QUIPUSCOA BRAJHAN RUDY",null,"Secundaria Completa",null,1,12,13800]
[null,"305 EDUCACION OTUZCO","R.O.","CAS","PERSONAL DE VIGILANCIA",1150,"19100128","ZAVALETA DE LA CRUZ MARINO EDUARDO",null,"Secundaria Completa",null,1,12,13800]
[null,"305 EDUCACION OTUZCO","R.O.","CAS","PERSONAL DE VIGILANCIA",1150,"76377041","ZAVALETA ORDOÑEZ VANNER JONEL",null,"Secundaria Completa",null,1,12,13800]
[null,"305 EDUCACION OTUZCO","R.O.","CAS","PERSONAL DE VIGILANCIA",1150,"75903745","ALFARO RODRIGUEZ LOTAR ISAC",null,"Secundaria Completa",null,1,12,13800]
[null,"305 EDUCACION OTUZCO","R.O.","CAS","PERSONAL DE VIGILANCIA",1150,"40015271","ANGULO LOYOLA EMILDA FIDELQUISA",null,"Secundaria Completa",null,1,12,13800]
[null,"305 EDUCACION OTUZCO","R.O.","CAS","PERSONAL DE VIGILANCIA",1150,"77167581","QUILICHE VALDIVIEZO SANTOS ANTHONY",null,"Secundaria Completa",null,1,12,13800]
[null,"305 EDUCACION OTUZCO","R.O.","CAS","PERSONAL DE VIGILANCIA",1150,"19030400","SALINAS SALINAS PEDRO PABLO",null,"Secundaria Completa",null,1,12,13800]
[null,"305 EDUCACION OTUZCO","R.O.","CAS","PERSONAL DE VIGILANCIA",1150,"45477268","ZAVALETA GARCIA FRANK EDER",null,"Secundaria Completa",null,1,12,13800]
[null,"305 EDUCACION OTUZCO","R.O.","CAS","PERSONAL DE VIGILANCIA",1150,"45255201","ZAVALETA VASQUEZ DENIS ALAN",null,"Secundaria Completa",null,1,12,13800]
[null,"305 EDUCACION OTUZCO","R.O.","CAS","PERSONAL DE VIGILANCIA",1150,"41511380","GARCIA ROSAS JOSE GILMER",null,"Secundaria Completa",null,1,12,13800]
[null,"305 EDUCACION OTUZCO","R.O.","CAS","GESTOR LOCAL INTERVENCIONES PP090",3500,"17996170","GARCIA CARRANZA JESUS ALFONSO","Administrador","Superior","Licenciado en Administración",1,3,10500]
[null,"305 EDUCACION OTUZCO","R.O.","CAS","RESPONSABLE LOCAL DE CALIDAD DE LA INFORMACION",3000,"47242505","VELASQUEZ SANCHEZ JOSE MARDOQUEO","Administrador","Superior","Licenciado en Administración",1,6,18000]
[null,"305 EDUCACION OTUZCO","R.O.","CAS","ACOMPAÑANTE PEDAGOGICO PARA IIEE MULTIGRADO MONOLINGUE CASTELLANO",3600,"44334185","NUREÑA ALVA ROSA MARDELY","Profesora","Superior","Profesora de Educación Primaria",1,7,25200]
[null,"305 EDUCACION OTUZCO","R.O.","CAS","ACOMPAÑANTE PEDAGOGICO PARA IIEE MULTIGRADO MONOLINGUE CASTELLANO",3600,"19029746","AGUILAR RODRIGUEZ LUIS MIGUEL","Profesor","Superor","Licenciado en Educaicón",1,7,25200]
[null,"305 EDUCACION OTUZCO","R.O.","CAS","ACOMPAÑANTE PEDAGOGICO PRIMARIA POLIDOCENTE COMPLETO",3400,"18131627","SANCHEZ AVALOS MARIA ELIZA","Profesora","Superior","Profesora de Educación Primaria",1,7,23800]
[null,"305 EDUCACION OTUZCO","R.O.","CAS","ACOMPAÑANTE PEDAGOGICO PRIMARIA POLIDOCENTE COMPLETO",3400,"19075155","REYES GONZALES OSBER WILSON","Profesora","Superior","Profesora de Educación Primaria",1,4,13600]
[null,"305 EDUCACION OTUZCO","R.O.","CAS","ESPECIALISTA EN MONITOREO DE EVALUACIONES DE ESTUDIANTES Y DOCENTES",2600,"18066958","FUENTES ALEGRIA MARCO ALBERTO","Ingeniero","Superior","Ingeniero",1,9,23400]
[null,"305 EDUCACION OTUZCO","R.O.","CAS","ESPECIALISTA EN ABASTECIMIENTO",2600,"42304064","VALLEJOS YOPAN LLIN EYNER","Administrador","Superior","Licenciado en Administración",1,6,15600]
[null,"305 EDUCACION OTUZCO","R.O.","CAS","ESPECIALISTA EN PATRIMONIO",2600,"43123935","LEON MARTELL JORGE EMILIO","Contador","Superior","Contador Publico Colegiado",1,12,31200]
[null,"305 EDUCACION OTUZCO","R.O.","CAS","ESPECIALISTA EN PROCESOS ADMINISTRATIVOS DISCIPLINARIOS",2600,"42010186","DAVILA HORNA HERMES WILMAN","Abogado","Superior","Abogado",1,5,13000]
[null,"305 EDUCACION OTUZCO","R.O.","CAS","ACOMPAÑANTE PEDAGÓGICO DE MATEMÁTICA SRN",3600,"19037618","VENEGAS MENDOZA MELVER RAUL","Profesor","Superior","Profesor de Educación Secundaria",1,2,7200]
[null,"305 EDUCACION OTUZCO","R.O.","CAS","APOYO EDUCATIVO",1150,"46581977","NEIRA CHAVEZ NERY MARIBEL","Profesora","Superior","Profesora de Educación Primaria",1,12,13800]
[null,"305 EDUCACION OTUZCO","R.O.","CAS","PERSONAL DE VIGILANCIA",1150,"45294715","VENTURA LAZARO EDAR EFRAIN",null,"Secundaria Completa",0,1,12,13800]
[null,"305 EDUCACION OTUZCO","R.O.","CAS","PERSONAL DE VIGILANCIA",1150,"41677778","RODRIGUEZ ARTEAGA JUAN ALBERTO",null,"Secundaria Completa",0,1,12,13800]
[null,"305 EDUCACION OTUZCO","R.O.","CAS","PERSONAL DE VIGILANCIA",1150,"40272499","VIDAL CARRANZA MILE DENIS",null,"Secundaria Completa",0,1,12,13800]
[null,"305 EDUCACION OTUZCO","R.O.","CAS","COORDINADOR DE INNOVACION Y SOPORTE TECNOLOGICO",1800,"45744896","RODRIGUEZ ABANTO ROLANDO ALEXANDER",null,null,null,1,3,5400]
[null,"305 EDUCACION OTUZCO","R.O.","CAS","PSICOLOGO",2000,"46533591","AGUILAR CHACON LOURDES MELIZA","PSICOLOGO","Superior","LICENCIADA EN PSICOLOGIA",1,7,14000]
[null,"305 EDUCACION OTUZCO","R.O.","CAS","COORDINADOR ADMINISTRATIVO Y DE RECURSOS EDUCATIVOS PARA ZONAS URBANAS",2000,"44397162","MORENO BENITES VANESSA LISETH",null,null,null,1,6,12000]
[null,"305 EDUCACION OTUZCO","R.O.","CAS","APOYO EDUCATIVO",1150,"19081060","ANGELES MENDOZA CAROLINA MIRELLA","Profesor","Instituto Superior","Profesora de Educación Primaria",1,7,8050]
[null,"305 EDUCACION OTUZCO","R.O.","CAS","PERSONAL DE VIGILANCIA",1150,"40285095","RODRIGUEZ HURTADO JORGE JAVIER","Profesor","Instituto Superior","Profesora de Educación Primaria",1,12,13800]
[null,"305 EDUCACION OTUZCO","R.O.","CAS","PERSONAL DE VIGILANCIA",1150,"44307458","MIRANDA RUIZ JUAN CARLOS","Profesor","Instituto Superior","Profesora de Educación Primaria",1,12,13800]
[null,"305 EDUCACION OTUZCO","R.O.","CAS","PERSONAL DE VIGILANCIA",1150,"46862222","CRUZ JUAREZ HAMERT KENNER",null,"Secundaria Completa",null,1,12,13800]
[null,"305 EDUCACION OTUZCO","R.O.","CAS","COORDINADOR DE INNOVACION Y SOPORTE TECNOLOGICO",1800,"43278562","JAVE ALCANTARA ELDER CESAR","Ingeniero de Sistemas","Bachiller","Bachiller en Ingenieria de Sistemas",1,6,10800]
[null,"305 EDUCACION OTUZCO","R.O.","CAS","PSICOLOGO",2000,"47519386","ACOSTA TIRADO FLOR MILAGROS",null,null,null,1,6,12000]
[null,"305 EDUCACION OTUZCO","R.O.","CAS","COORDINADOR ADMINISTRATIVO Y DE RECURSOS EDUCATIVOS PARA ZONAS URBANAS",2000,"45581247","LAZARO CAPRISTAN RONALD ANTONIO",null,null,null,1,2,4000]
[null,"305 EDUCACION OTUZCO","R.O.","CAS","COORDINADOR(A) ADMINISTRATIVO Y DE RECURSOS EDUCATIVOS SRN",2000,"45613329","ZAVALETA ORDOÑEZ NESTOR ALFREDO","Administrador","Superior","Licenciado en Administración",1,2,4000]
[null,"305 EDUCACION OTUZCO","R.O.","CAS","PERSONAL DE MANTENIMIENTO SRN",1150,"46751900","REYES ZAVALETA VILMA RITA",null,null,null,1,1,1150]
[null,"305 EDUCACION OTUZCO","R.O.","CAS","PSICÓLOGO(A) SRN",2000,"46486088","PEREZ PAREDES CARLI JHOANA",null,null,null,1,1,2000]
[null,"305 EDUCACION OTUZCO","R.O.","CAS","APOYO EDUCATIVO",1150,"19089043","GUTIERREZ ACEVEDO IRIS ARACELLI","Profesor","Instituto Superior","Profesora de Educación Primaria",1,12,13800]
[null,"305 EDUCACION OTUZCO","R.O.","CAS","APOYO EDUCATIVO",1150,"45503988","CONTRERAS GUTIERREZ MARITA ROXANA","Profesor","Instituto Superior","Profesora de Educación Primaria",1,12,13800]
[null,"305 EDUCACION OTUZCO","R.O.","CAS","PERSONAL DE SECRETARIA",1400,"46314254","ARANDA MENDOZA MARIA BENILDA","Profesor","Instituto Superior","Profesora de Educación Primaria",1,12,16800]
[null,"305 EDUCACION OTUZCO","R.O.","CAS","PERSONAL DE MANTENIMIENTO",1150,"46248326","GIL MENDEZ HENRRY ELI",null,"Secundaria Completa",0,1,12,13800]
[null,"305 EDUCACION OTUZCO","R.O.","CAS","PERSONAL DE VIGILANCIA",1150,"45400796","REYES SAAVEDRA EDUART HEINER",null,"Secundaria Completa",0,1,12,13800]
[null,"305 EDUCACION OTUZCO","R.O.","CAS","PERSONAL DE VIGILANCIA",1150,"42870778","CRUZ JUAREZ JAVIER KAESTER",null,"Secundaria Completa",0,1,12,13800]
[null,"305 EDUCACION OTUZCO","R.O.","CAS","PERSONAL DE VIGILANCIA",1150,"41678666","RODRIGUEZ ANGULO ELI",null,"Secundaria Completa",0,1,12,13800]
[null,"305 EDUCACION OTUZCO","R.O.","CAS","COORDINADOR DE INNOVACION Y SOPORTE TECNOLOGICO",1800,"73681104","PONTE ANAMPA DAVIL LUDYN",null,null,null,1,3,5400]
[null,"305 EDUCACION OTUZCO","R.O.","CAS","PSICOLOGO",2000,"42161891","VARELA VALDIVIEZO IVONE VANESSA",null,null,null,1,7,14000]
[null,"305 EDUCACION OTUZCO","R.O.","CAS","COORDINADOR ADMINISTRATIVO Y DE RECURSOS EDUCATIVOS PARA ZONAS URBANAS",2000,"44577447","VILLANUEVA ROJAS WILSER CLAYDERMAN",null,null,null,1,6,12000]
[null,"305 EDUCACION OTUZCO","R.O.","CAS","COORDINADOR(A) ADMINISTRATIVO Y DE RECURSOS EDUCATIVOS SRN",2000,"72326453","QUIPUSCOA MEDINA LEIDI YULEICI",null,null,null,1,1,2000]
[null,"305 EDUCACION OTUZCO","R.O.","CAS","PSICÓLOGO(A) SRN",2000,"74815520","AVILA CASTRO YULIANA ROSSEL",null,null,null,1,1,2000]
[null,"305 EDUCACION OTUZCO","R.O.","CAS","APOYO EDUCATIVO",1150,"44068472","SEYJAS MOYA JARRI RICHAR","Profesor","Instituto Superior","Profesora de Educación Primaria",1,12,13800]
[null,"305 EDUCACION OTUZCO","R.O.","CAS","PERSONAL DE SECRETARIA",1400,"46585315","ZAVALETA ORDOÑEZ ROSA EMELDA","Profesor","Instituto Superior","Profesora de Educación Primaria",1,12,16800]
[null,"305 EDUCACION OTUZCO","R.O.","CAS","PERSONAL DE MANTENIMIENTO",1150,"80300171","RUIZ ZAVALETA MARI NORMA",null,"Secundaria Completa",0,1,12,13800]
[null,"305 EDUCACION OTUZCO","R.O.","CAS","PERSONAL DE VIGILANCIA",1150,"41336769","RODRIGUEZ GUTIERREZ JULIO CESAR",null,null,null,1,12,13800]
[null,"305 EDUCACION OTUZCO","R.O.","CAS","PERSONAL DE VIGILANCIA",1150,"19090133","HORNA HARO FIDEL",null,"Secundaria Completa",0,1,12,13800]
[null,"305 EDUCACION OTUZCO","R.O.","CAS","PERSONAL DE VIGILANCIA",1150,"19021577","CRUZADO VARGAS GILMER WILSON",null,"Secundaria Completa",0,1,12,13800]
[null,"305 EDUCACION OTUZCO","R.O.","CAS","COORDINADOR DE INNOVACION Y SOPORTE TECNOLOGICO",1800,"71410876","PACHECO ANGULO JESUS MILCIADES",null,null,null,1,3,5400]
[null,"305 EDUCACION OTUZCO","R.O.","CAS","PSICOLOGO",2000,"71459106","ALAYO CASTILLO FERLINDA ETHEL",null,null,null,1,3,6000]
[null,"305 EDUCACION OTUZCO","R.O.","CAS","COORDINADOR ADMINISTRATIVO Y DE RECURSOS EDUCATIVOS PARA ZONAS RURALES",2000,"46642156","RODRIGUEZ VEGA EKATHERIN TATIANA",null,null,null,1,4,8000]
[null,"305 EDUCACION OTUZCO","R.O.","CAS","APOYO EDUCATIVO",1150,"18152124","ESCOBEDO RODRIGUEZ PEDRO HERNAN",null,null,null,1,3,3450]
[null,"305 EDUCACION OTUZCO","R.O.","CAS","PERSONAL DE SECRETARIA",1400,"47501817","SERIN CHACON MAVILA","Secretariado Ejecutivo","Superior Tecnica","Secretariado Ejecutivo",1,12,16800]
[null,"305 EDUCACION OTUZCO","R.O.","CAS","PERSONAL DE VIGILANCIA",1150,"47428892","MANTILLA ALAYO AGAPITO HIPOLITO",null,"Secundaria Completa",0,1,12,13800]
[null,"305 EDUCACION OTUZCO","R.O.","CAS","PERSONAL DE VIGILANCIA",1150,"48683864","ALFARO RODRIGUEZ HARON STEIGER",null,null,null,1,12,13800]
[null,"305 EDUCACION OTUZCO","R.O.","CAS","PERSONAL DE VIGILANCIA",1150,"74712922","IBAÑEZ YAURI ROBIN OMAR",null,"Secundaria Completa",0,1,12,{"$f":"+F1392*M1392","v":13800}]
[null,"305 EDUCACION OTUZCO","R.O.","CAS","COORDINADOR DE INNOVACION Y SOPORTE TECNOLOGICO",1800,"44785484","ALCALDE CASTILLO WILSON ENRIQUE",null,null,null,1,3,5400]
[null,"305 EDUCACION OTUZCO","R.O.","CAS","PSICOLOGO",2000,"46688049","ROJAS GIL LIZ VARINA",null,null,null,1,6,12000]
[null,"305 EDUCACION OTUZCO","R.O.","CAS","COORDINADOR ADMINISTRATIVO Y DE RECURSOS EDUCATIVOS PARA ZONAS RURALES",2000,"44332621","RODRIGUEZ ARTEAGA CARLOS FRANCISCO","Administrador","Superior","Licenciado en Administración",1,7,14000]
[null,"305 EDUCACION OTUZCO","R.O.","CAS","COORDINADOR(A) ADMINISTRATIVO Y DE RECURSOS EDUCATIVOS SRN",2000,"70362125","REYES VIDAL EDITH LIZETH","Administrador","Superior","Licenciado en Administración",1,1,2000]
[null,"305 EDUCACION OTUZCO","R.O.","CAS","APOYO EDUCATIVO",1150,"45456869","GARCIA AVALOS ARLET ABIGAIL","Profesor","Instituto Superior","Profesora de Educación Primaria",1,12,13800]
[null,"305 EDUCACION OTUZCO","R.O.","CAS","PERSONAL DE SECRETARIA",1400,"44138380","ZAVALETA MENDEZ ANA ROSA",null,"Secundaria Completa",0,1,12,16800]
[null,"305 EDUCACION OTUZCO","R.O.","CAS","PERSONAL DE VIGILANCIA",1150,"70372966","ORBEGOSO RODRIGUEZ DIEGO ARMANDO",null,"Secundaria Completa",0,1,12,13800]
[null,"305 EDUCACION OTUZCO","R.O.","CAS","PERSONAL DE VIGILANCIA",1150,"19053671","LUJAN ESPINOLA AGUSTO ORLANDO",null,"Secundaria Completa",0,1,12,13800]
[null,"305 EDUCACION OTUZCO","R.O.","CAS","PERSONAL DE VIGILANCIA",1150,"70051935","GUTIERREZ REYES EDGAR",null,null,null,1,12,13800]
[null,"305 EDUCACION OTUZCO","R.O.","CAS","COORDINADOR DE INNOVACION Y SOPORTE TECNOLOGICO",1800,"73059760","JIMENEZ AMADOR LESMIS CANDELARIO",null,null,null,1,3,5400]
[null,"305 EDUCACION OTUZCO","R.O.","CAS","PSICOLOGO",2000,"45763478","SUAREZ ALVARADO EVELYN",null,null,null,1,6,12000]
[null,"305 EDUCACION OTUZCO","R.O.","CAS","COORDINADOR ADMINISTRATIVO Y DE RECURSOS EDUCATIVOS PARA ZONAS RURALES",2000,"70845991","LOPEZ CASTILLO YURI DANIEL",null,null,null,1,7,14000]
[null,"305 EDUCACION OTUZCO","R.O.","CAS","COORDINADOR(A) ADMINISTRATIVO Y DE RECURSOS EDUCATIVOS SRN",2000,"70600264","ALFARO HURTADO YENSI ANELY",null,null,null,1,1,2000]
[null,"305 EDUCACION OTUZCO","R.O.","CAS","PSICÓLOGO(A) SRN",2000,"46456144","CHAVEZ SAGASTEGUI JOHANA ROSSY",null,null,null,1,1,2000]
[null,"305 EDUCACION OTUZCO","R.O.","CAS","APOYO EDUCATIVO",1150,"19079896","AVALOS TOMAS ANTERO FRANCISCO",null,null,null,1,6,6900]
[null,"305 EDUCACION OTUZCO","R.O.","CAS","PERSONAL DE SECRETARIA",1400,"46993371","CRUZ REYES DIANA YAMELI","Secretariado Ejecutivo","Superior Tecnica","Secretariado Ejecutivo",1,12,16800]
[null,"305 EDUCACION OTUZCO","R.O.","CAS","PERSONAL DE MANTENIMIENTO",1150,"19100447","SANCHEZ RODRIGUEZ JORGE MERALDO",null,null,null,1,12,13800]
[null,"305 EDUCACION OTUZCO","R.O.","CAS","PERSONAL DE VIGILANCIA",1150,"19081307","CHAVEZ GUTIERREZ ULICES EDUARDO",null,"Secundaria Completa",0,1,12,13800]
[null,"305 EDUCACION OTUZCO","R.O.","CAS","PERSONAL DE VIGILANCIA",1150,"47230046","REYES LUJAN JUNIOR HEYSSER",null,"Secundaria Completa",0,1,12,13800]
[null,"305 EDUCACION OTUZCO","R.O.","CAS","PERSONAL DE VIGILANCIA",1150,"60137658","GUTIERREZ GUEVARA SANTOS JAIMITO",null,"Secundaria Completa",0,1,12,13800]
[null,"305 EDUCACION OTUZCO","R.O.","CAS","COORDINADOR DE INNOVACION Y SOPORTE TECNOLOGICO",1800,"44232290","GAMBOA RODRIGUEZ DEINER SMITH","Ingeniero de Sistemas","Superior","Ingeniero de Sistemas",1,3,5400]
[null,"305 EDUCACION OTUZCO","R.O.","CAS","PSICOLOGO",2000,"40817564","MACHUCA PIZAN JOSE EDUARDO","PSICOLOGO","Superior","LICENCIADA EN PSICOLOGIA",1,7,14000]
[null,"305 EDUCACION OTUZCO","R.O.","CAS","COORDINADOR ADMINISTRATIVO Y DE RECURSOS EDUCATIVOS PARA ZONAS RURALES",2000,"70359091","ORBEGOSO RODRIGUEZ KEYLA CRISTELL",null,null,null,1,7,14000]
[null,"305 EDUCACION OTUZCO","R.O.","CAS","APOYO EDUCATIVO",1150,"41015081","DIAZ ANGULO OSVAR",null,null,null,1,1,1150]
[null,"305 EDUCACION OTUZCO","R.O.","CAS","PERSONAL DE SECRETARIA",1400,"42658170","ROSSO VALVERDE MILAGROS MARDELLY",null,null,null,1,3,4200]
[null,"305 EDUCACION OTUZCO","R.O.","CAS","PERSONAL DE MANTENIMIENTO",1150,"44309081","CHAVEZ GERVACIO FAVIOLA JANETH",null,"Secundaria Completa",0,1,12,13800]
[null,"305 EDUCACION OTUZCO","R.O.","CAS","PERSONAL DE VIGILANCIA",1150,"19069223","VALDEZ ACEVEDO ALEJANDRO AUSBERTO",null,"Secundaria Completa",0,1,12,13800]
[null,"305 EDUCACION OTUZCO","R.O.","CAS","PERSONAL DE VIGILANCIA",1150,"19088524","MUÑOZ JULCA WILSON ULICES",null,"Secundaria Completa",0,1,12,13800]
[null,"305 EDUCACION OTUZCO","R.O.","CAS","PERSONAL DE VIGILANCIA",1150,"44583521","ENRIQUEZ JUAREZ RONAL DANILO",null,null,null,1,12,13800]
[null,"305 EDUCACION OTUZCO","R.O.","CAS","PSICOLOGO",2000,"43076894","GARCIA ALFARO ALBERTO EDUARDO",null,null,null,1,3,6000]
[null,"305 EDUCACION OTUZCO","R.O.","CAS","COORDINADOR ADMINISTRATIVO Y DE RECURSOS EDUCATIVOS PARA ZONAS RURALES",2000,"44314653","LEON LAGUNA JOSE MIGUEL",null,"Bachiller","Bachiller en Ciencias Economicas",1,6,12000]
[null,"305 EDUCACION OTUZCO","R.O.","CAS","APOYO EDUCATIVO",1150,"40272496","GUTIERREZ BRICEÑO TANIA ELENA","Profesor","Instituto Superior","Profesora de Educación Primaria",1,12,13800]
[null,"305 EDUCACION OTUZCO","R.O.","CAS","PERSONAL DE SECRETARIA",1400,"44818852","CASTILLO JUAREZ YENY ARANCELY","Profesor","Instituto Superior","Profesora de Educación Primaria",1,12,16800]
[null,"305 EDUCACION OTUZCO","R.O.","CAS","PERSONAL DE MANTENIMIENTO",1150,"48235317","VARAS VIDAL SINTIA MARIBEL",null,"Secundaria Completa",0,1,12,13800]
[null,"305 EDUCACION OTUZCO","R.O.","CAS","PERSONAL DE VIGILANCIA",1150,"42790021","GOMEZ VENTURA SANTOS MELANIO",null,"Secundaria Completa",0,1,12,13800]
[null,"305 EDUCACION OTUZCO","R.O.","CAS","PERSONAL DE VIGILANCIA",1150,"48445614","NOLASCO JUAREZ YHONDER BILMER",null,"Secundaria Completa",0,1,12,13800]
[null,"305 EDUCACION OTUZCO","R.O.","CAS","PERSONAL DE VIGILANCIA",1150,"44771662","ZAVALETA CRUZ OSBER ALEX",null,"Secundaria Completa",0,1,12,13800]
[null,"305 EDUCACION OTUZCO","R.O.","CAS","COORDINADOR DE INNOVACION Y SOPORTE TECNOLOGICO",1800,"70174685","BARRETO ALVARADO WILLY ANDERSON","Ingeniero de Sistemas","Superior","Ingeniero de Sistemas",1,6,10800]
[null,"305 EDUCACION OTUZCO","R.O.","CAS","PSICOLOGO",2000,"44834365","CHACON IHUI IRAIDA KATHERINE","PSICOLOGO","Superior","LICENCIADA EN PSICOLOGIA",1,3,6000]
[null,"305 EDUCACION OTUZCO","R.O.","CAS","COORDINADOR ADMINISTRATIVO Y DE RECURSOS EDUCATIVOS PARA ZONAS RURALES",2000,"45258342","LEDESMA CORTIJO LUIS ARTURO WILFREDO","Administrador","Superior","Licenciado en Administración",1,7,14000]
[null,"305 EDUCACION OTUZCO","R.O.","CAS","APOYO EDUCATIVO",1150,"42539030","VERDE RODRIGUEZ MARY KELLY","Profesor","Instituto Superior","Profesora de Educación Primaria",1,12,13800]
[null,"305 EDUCACION OTUZCO","R.O.","CAS","PERSONAL DE VIGILANCIA",1150,"70175670","GOMEZ VILLACORTA BREYDI FRANK",null,null,null,1,12,13800]
[null,"305 EDUCACION OTUZCO","R.O.","CAS","PERSONAL DE VIGILANCIA",1150,"42150535","OBESO TRUJILLO VALQUER DUBERT",null,"Secundaria Completa",0,1,12,13800]
[null,"305 EDUCACION OTUZCO","R.O.","CAS","PERSONAL DE VIGILANCIA",1150,"19077991","POLO PAREDES MARIO LUIS",null,"Secundaria Completa",0,1,12,13800]
[null,"305 EDUCACION OTUZCO","R.O.","CAS","COORDINADOR DE INNOVACION Y SOPORTE TECNOLOGICO",1800,"43994179","BALDEON SOTO RAUL ABELARDO",null,null,null,1,3,5400]
[null,"305 EDUCACION OTUZCO","R.O.","CAS","COORDINADOR ADMINISTRATIVO Y DE RECURSOS EDUCATIVOS PARA ZONAS RURALES",2000,"42710887","POLO GUERRA JUAN MIGUEL",null,null,null,1,6,12000]
[null,"305 EDUCACION OTUZCO","R.O.","CAS","APOYO EDUCATIVO",1150,"74219493","GONZALES LAZARO KAROL YASMIN",null,null,null,1,1,1150]
[null,"305 EDUCACION OTUZCO","R.O.","CAS","PERSONAL DE SECRETARIA",1400,"18220759","SANCHEZ GONZALES ADELA MARGARITA","Tecnica en Contabilidad","Superior Tecnica","Tecnica en Contabilidad",1,12,16800]
[null,"305 EDUCACION OTUZCO","R.O.","CAS","PERSONAL DE VIGILANCIA",1150,"41095195","ARROYO RUIZ VICTOR ALEXANDER",null,"Secundaria Completa",0,1,12,13800]
[null,"305 EDUCACION OTUZCO","R.O.","CAS","PERSONAL DE VIGILANCIA",1150,"19023129","VILLARREAL CASTRO JORGE DENIS",null,"Secundaria Completa",0,1,12,13800]
[null,"305 EDUCACION OTUZCO","R.O.","CAS","PERSONAL DE VIGILANCIA",1150,"43023440","EVANGELISTA MENDOZA MARLENI JHANET",null,"Secundaria Completa",0,1,12,13800]
[null,"305 EDUCACION OTUZCO","R.O.","CAS","COORDINADOR DE INNOVACION Y SOPORTE TECNOLOGICO",1800,"42100578","SANCHEZ CUBA PACO MANUEL",null,null,null,1,1,1800]
[null,"305 EDUCACION OTUZCO","R.O.","CAS","PSICOLOGO",2000,"42643789","GARRIDO LOAYZA EDSON JESÚS",null,null,null,1,6,12000]
[null,"305 EDUCACION OTUZCO","R.O.","CAS","COORDINADOR ADMINISTRATIVO Y DE RECURSOS EDUCATIVOS PARA ZONAS RURALES",2000,"70828705","DELGADO LUJAN LILI",null,null,null,1,7,14000]
[null,"305 EDUCACION OTUZCO","R.O.","CAS","APOYO EDUCATIVO",1150,"41869565","ZAVALETA CRUZ GELBER ROSI",null,null,null,1,12,13800]
[null,"305 EDUCACION OTUZCO","R.O.","CAS","PERSONAL DE SECRETARIA",1400,"74497040","SALINAS JUAREZ ARACELI NOELI","Secretariado Ejecutivo","Superior Tecnica","Secretariado Ejecutivo",1,12,16800]
[null,"305 EDUCACION OTUZCO","R.O.","CAS","PERSONAL DE VIGILANCIA",1150,"48593133","SANCHEZ TORRES TITE CLEIDER",null,null,null,1,12,13800]
[null,"305 EDUCACION OTUZCO","R.O.","CAS","PERSONAL DE VIGILANCIA",1150,"47027702","CASTILLO SANCHEZ IRVIN RICARDO",null,null,null,1,12,13800]
[null,"305 EDUCACION OTUZCO","R.O.","CAS","PERSONAL DE VIGILANCIA",1150,"46521022","GARCIA VENTURA ELAR JHOSIMAR",null,null,null,1,12,13800]
[null,"305 EDUCACION OTUZCO","R.O.","CAS","COORDINADOR DE INNOVACION Y SOPORTE TECNOLOGICO",1800,"47404819","SANCHEZ ROSALES CARLOS ALBERTO","Ingeniero de Sistemas","Superior","Ingeniero de Sistemas",1,3,5400]
[null,"305 EDUCACION OTUZCO","R.O.","CAS","PSICOLOGO",2000,"42379208","CHOPITEA AZABACHE ROSA LISETH",null,null,null,1,2,4000]
[null,"305 EDUCACION OTUZCO","R.O.","CAS","COORDINADOR ADMINISTRATIVO Y DE RECURSOS EDUCATIVOS PARA ZONAS RURALES",2000,"41927863","CASTAÑEDA MUÑOZ ELVIS EFRAIN",null,null,null,1,7,14000]
[null,"305 EDUCACION OTUZCO","R.O.","CAS","PERSONAL DE SECRETARIA",1400,"45676295","NAVARRO YANAYACO MARIA DEL PILAR","Lic. En Adm. De Turismo y Hoteleria","Superior","Lic. En Adm. De Turismo y Hoteleria",1,12,16800]
[null,"305 EDUCACION OTUZCO","R.O.","CAS","PERSONAL DE MANTENIMIENTO",1150,"42903663","RODRIGUEZ RODRIGUEZ YESCENIA PAMELA",null,"Secundaria Completa",0,1,12,{"$f":"+F1456*M1456","v":13800}]
[null,"305 EDUCACION OTUZCO","R.O.","CAS","PERSONAL DE VIGILANCIA",1150,"19080970","NICASIO ALVARADO ROBERT HEBERT",null,"Secundaria Completa",0,1,12,13800]
[null,"305 EDUCACION OTUZCO","R.O.","CAS","PERSONAL DE VIGILANCIA",1150,"42831970","ROSAS CRUZADO AMER ANTONIO",null,"Secundaria Completa",0,1,12,13800]
[null,"305 EDUCACION OTUZCO","R.O.","CAS","PERSONAL DE VIGILANCIA",1150,"43544398","AURORA ALFARO SEGUNDO JUAN",null,"Secundaria Completa",0,1,12,13800]
[null,"305 EDUCACION OTUZCO","R.O.","CAS","COORDINADOR DE INNOVACION Y SOPORTE TECNOLOGICO",1800,"73103493","GARCIA RODRIGUEZ TYLER OSCAR",null,null,null,1,1,1800]
[null,"305 EDUCACION OTUZCO","R.O.","CAS","PSICOLOGO",2000,"70228812","VALDEZ ZAVALETA JUANITA YIANINA","PSICOLOGO","Superior","LICENCIADA EN PSICOLOGIA",1,3,6000]
[null,"305 EDUCACION OTUZCO","R.O.","CAS","COORDINADOR ADMINISTRATIVO Y DE RECURSOS EDUCATIVOS PARA ZONAS RURALES",2000,"47069781","BURGOS REYNA PABLO JONATHAN",null,null,null,1,7,14000]
[null,"305 EDUCACION OTUZCO","R.O.","CAS","PERSONAL DE VIGILANCIA_JEC",1150,"44536179","ZAVALETA CASTAÑEDA ELDER GEINER",null,null,null,null,null,null,1,4,{"$f":"+F1463*P1463","v":4600}]
[null,"305 EDUCACION OTUZCO","R.O.","CAS","PERSONAL DE VIGILANCIA_JEC",1150,"19100128","ZAVALETA DE LA CRUZ MARINO EDUARDO",null,"Secundaria Completa",0,null,null,null,1,6,6900]
[null,"305 EDUCACION OTUZCO","R.O.","CAS","PERSONAL DE VIGILANCIA_JEC",1150,"19030400","SALINAS SALINAS PEDRO PABLO",null,null,null,null,null,null,1,6,6900]
[null,"305 EDUCACION OTUZCO","R.O.","CAS","PERSONAL DE VIGILANCIA_JEC",1150,"45255201","ZAVALETA VASQUEZ DENIS ALAN",null,"Secundaria Completa",0,null,null,null,1,6,6900]
[null,"305 EDUCACION OTUZCO","R.O.","CAS","PERSONAL DE VIGILANCIA_JEC",1150,"75903745","ALFARO RODRIGUEZ LOTAR ISAC",null,"Secundaria Completa",0,null,null,null,1,6,6900]
[null,"305 EDUCACION OTUZCO","R.O.","CAS","PERSONAL DE VIGILANCIA_JEC",1150,"77167581","QUILICHE VALDIVIEZO SANTOS ANTHONY",null,"Secundaria Completa",0,null,null,null,1,6,6900]
[null,"305 EDUCACION OTUZCO","R.O.","CAS","PERSONAL DE VIGILANCIA_JEC",1150,"40015271","ANGULO LOYOLA EMILDA FIDELQUISA",null,"Secundaria Completa",0,null,null,null,1,6,6900]
[null,"305 EDUCACION OTUZCO","R.O.","CAS","ACOMPAÑANTE PEDAGOGICO PARA IIEE MULTIGRADO MONOLINGUE CASTELLANO",3600,"17991001","AGUILAR BUENO VILMA INES",null,null,null,null,null,null,1,4,14400]
[null,"305 EDUCACION OTUZCO","R.O.","CAS","ESPECIALISTA EN CONVIVENCIA ESCOLAR_ CAS UGEL DEL MINEDU",2600,"46124403","PACHECO ALDEAN KARIN VIOLETA","PSICOLOGO","Superior","LICENCIADA EN PSICOLOGIA",0,null,null,1,4,10400]
[null,"305 EDUCACION OTUZCO","R.O.","CAS","ESPECIALISTA EN PROCESOS ADMINISTRATIVOS DISCIPLINARIOS_CAS UGEL DEL MINEDU",2600,"41337155","SALDAÑA PINEDA HARDY AUGUSTO",null,null,null,null,null,null,1,4,10400]
[null,"305 EDUCACION OTUZCO","R.O.","CAS","ANALISTAS ADMINISTRATIVOS E INSTITUCIONALES",2600,"41185967","ORTECHO GARCIA ROBERT DEIBY",null,null,null,null,null,null,1,4,10400]
[null,"305 EDUCACION OTUZCO","R.O.","CAS","ANALISTAS ADMINISTRATIVOS E INSTITUCIONALES",2600,"41135645","CHIU MORAN JUAN",null,null,null,null,null,null,1,4,10400]
[null,"305 EDUCACION OTUZCO","R.O.","CAS","ANALISTAS ADMINISTRATIVOS E INSTITUCIONALES",2600,"43235343","VARGAS CALDERON ROBINSON",null,null,null,null,null,null,1,4,10400]
[null,"305 EDUCACION OTUZCO","R.O.","CAS","GESTOR(A) CURRICULAR",3600,"19029746","AGUILAR RODRIGUEZ LUIS MIGUEL","Profesor","Superor","Licenciado en Educaicón",0,null,null,1,4,14400]
[null,"305 EDUCACION OTUZCO","R.O.","CAS","PERSONAL DE VIGILANCIA_JEC",1150,"45294715","VENTURA LAZARO EDAR EFRAIN",null,"Secundaria Completa",0,null,null,null,1,6,6900]
[null,"305 EDUCACION OTUZCO","R.O.","CAS","PERSONAL DE VIGILANCIA_JEC",1150,"41677778","RODRIGUEZ ARTEAGA JUAN ALBERTO",null,"Secundaria Completa",0,null,null,null,1,6,6900]
[null,"305 EDUCACION OTUZCO","R.O.","CAS","PERSONAL DE VIGILANCIA_JEC",1150,"40272499","VIDAL CARRANZA MILE DENIS",null,"Secundaria Completa",0,null,null,null,1,6,6900]
[null,"305 EDUCACION OTUZCO","R.O.","CAS","PSICOLOGO_JEC",2000,"46533591","AGUILAR CHACON LOURDES MELIZA","PSICOLOGO","Superior","LICENCIADA EN PSICOLOGIA",0,null,null,1,4,8000]
[null,"305 EDUCACION OTUZCO","R.O.","CAS","APOYO EDUCATIVO",1150,"45456869","GARCIA AVALOS ARLET ABIGAIL","Profesor","Instituto Superior","Profesora de Educación Primaria",0,null,null,1,4,4600]
[null,"305 EDUCACION OTUZCO","R.O.","CAS","COORDINADOR ADMINISTRATIVO Y DE RECURSOS EDUCATIVOS PARA ZONAS URBANAS",2000,"45548360","ARAUJO DOMINGUEZ JOHNATAN ORLANDO","Administrador","Superior","Licenciado en Administración",0,null,null,1,4,8000]
[null,"305 EDUCACION OTUZCO","R.O.","CAS","PERSONAL DE VIGILANCIA_JEC",1150,"46862222","CRUZ JUAREZ HAMERT KENNER",null,"Secundaria Completa",0,null,null,null,1,6,6900]
[null,"305 EDUCACION OTUZCO","R.O.","CAS","PERSONAL DE VIGILANCIA_JEC",1150,"40285095","RODRIGUEZ HURTADO JORGE JAVIER",null,"Secundaria Completa",0,null,null,null,1,6,6900]
[null,"305 EDUCACION OTUZCO","R.O.","CAS","PERSONAL DE VIGILANCIA_JEC",1150,"19051917","RODRIGUEZ RODRIGUEZ LUCIANO WILDER",null,null,null,null,null,null,1,4,4600]
[null,"305 EDUCACION OTUZCO","R.O.","CAS","COORDINADOR DE INNOVACION Y SOPORTE TECNOLOGICO_JEC",1800,"43278562","JAVE ALCANTARA ELDER CESAR","Ingeniero de Sistemas","Bachiller","Bachiller en Ingenieria de Sistemas",0,null,null,1,4,7200]
[null,"305 EDUCACION OTUZCO","R.O.","CAS","PSICOLOGO_JEC",2000,"45763478","SUAREZ ALVARADO EVELYN",null,null,null,null,null,null,1,4,8000]
[null,"305 EDUCACION OTUZCO","R.O.","CAS","APOYO EDUCATIVO",1150,"46581977","NEIRA CHAVEZ NERY MARIBEL",null,null,null,null,null,null,1,4,4600]
[null,"305 EDUCACION OTUZCO","R.O.","CAS","COORDINADOR ADMINISTRATIVO Y DE RECURSOS EDUCATIVOS PARA ZONAS URBANAS",2000,"44624781","BACILIO SOLANO BENERANDO VIDAL",null,null,null,null,null,null,1,4,8000]
[null,"305 EDUCACION OTUZCO","R.O.","CAS","PERSONAL DE VIGILANCIA_JEC",1150,"42870778","CRUZ JUAREZ JAVIER KAESTER",null,"Secundaria Completa",0,null,null,null,1,6,6900]
[null,"305 EDUCACION OTUZCO","R.O.","CAS","PERSONAL DE VIGILANCIA_JEC",1150,"41678666","RODRIGUEZ ANGULO ELI",null,"Secundaria Completa",0,null,null,null,1,6,6900]
[null,"305 EDUCACION OTUZCO","R.O.","CAS","PERSONAL DE VIGILANCIA_JEC",1150,"45400796","REYES SAAVEDRA EDUART HEINER",null,"Secundaria Completa",0,null,null,null,1,6,6900]
[null,"305 EDUCACION OTUZCO","R.O.","CAS","COORDINADOR DE INNOVACION Y SOPORTE TECNOLOGICO_JEC",1800,"43460051","RAFAEL QUIPAN DANNY YUNIOR",null,null,null,null,null,null,1,4,7200]
[null,"305 EDUCACION OTUZCO","R.O.","CAS","PSICOLOGO_JEC",2000,"43114909","LLERENA OTINIANO CELIA ROSA",null,null,null,null,null,null,1,4,8000]
[null,"305 EDUCACION OTUZCO","R.O.","CAS","APOYO EDUCATIVO",1150,"19089043","GUTIERREZ ACEVEDO IRIS ARACELLI","Profesor","Instituto Superior","Profesora de Educación Primaria",0,null,null,1,4,4600]
[null,"305 EDUCACION OTUZCO","R.O.","CAS","APOYO EDUCATIVO",1150,"41625248","MARTINEZ IBAÑEZ JESSICA MABEL",null,null,null,null,null,null,1,4,4600]
[null,"305 EDUCACION OTUZCO","R.O.","CAS","PERSONAL DE SECRETARIA",1400,"46314254","ARANDA MENDOZA MARIA BENILDA","Tecnica en Contabilidad","Superior Tecnica","Tecnica en Contabilidad",0,null,null,1,4,5600]
[null,"305 EDUCACION OTUZCO","R.O.","CAS","PERSONAL DE MANTENIMIENTO",1150,"46620645","REYES RAMIREZ LUIS DANIEL",null,null,null,null,null,null,1,4,4600]
[null,"305 EDUCACION OTUZCO","R.O.","CAS","COORDINADOR ADMINISTRATIVO Y DE RECURSOS EDUCATIVOS PARA ZONAS URBANAS",2000,"44314653","LEON LAGUNA JOSE MIGUEL",null,"Bachiller",0,0,null,null,1,4,8000]
[null,"305 EDUCACION OTUZCO","R.O.","CAS","PERSONAL DE VIGILANCIA_JEC",1150,"19090133","HORNA HARO FIDEL",null,"Secundaria Completa",0,null,null,null,1,6,6900]
[null,"305 EDUCACION OTUZCO","R.O.","CAS","PERSONAL DE VIGILANCIA_JEC",1150,"19021577","CRUZADO VARGAS GILMER WILSON",null,"Secundaria Completa",0,null,null,null,1,6,6900]
[null,"305 EDUCACION OTUZCO","R.O.","CAS","PERSONAL DE VIGILANCIA_JEC",1150,"41738471","QUISPE ROSAS JOSE IVAN",null,null,null,null,null,null,1,6,6900]
[null,"305 EDUCACION OTUZCO","R.O.","CAS","PERSONAL DE SECRETARIA",1400,"70175668","CONTRERAS IBAÑEZ CECILIA MEDALIT",null,null,null,null,null,null,1,4,5600]
[null,"305 EDUCACION OTUZCO","R.O.","CAS","PERSONAL DE MANTENIMIENTO",1150,"80300171","RUIZ ZAVALETA MARI NORMA",null,"Secundaria Completa",0,null,null,null,1,4,4600]
[null,"305 EDUCACION OTUZCO","R.O.","CAS","COORDINADOR ADMINISTRATIVO Y DE RECURSOS EDUCATIVOS PARA ZONAS RURALES",2000,"70508178","AVALOS CONTRERAS KARINA ANALY",null,null,null,null,null,null,1,4,8000]
[null,"305 EDUCACION OTUZCO","R.O.","CAS","PERSONAL DE VIGILANCIA_JEC",1150,"74712922","IBAÑEZ YAURI ROBIN OMAR",null,"Secundaria Completa",0,null,null,null,1,6,6900]
[null,"305 EDUCACION OTUZCO","R.O.","CAS","PERSONAL DE VIGILANCIA_JEC",1150,"47428892","MANTILLA ALAYO AGAPITO HIPOLITO",null,"Secundaria Completa",0,null,null,null,1,6,6900]
[null,"305 EDUCACION OTUZCO","R.O.","CAS","PERSONAL DE VIGILANCIA_JEC",1150,"48683864","ALFARO RODRIGUEZ HARON STEIGER",null,null,null,null,null,null,1,6,6900]
[null,"305 EDUCACION OTUZCO","R.O.","CAS","PSICOLOGO_JEC",2000,"40817564","MACHUCA PIZAN JOSE EDUARDO","PSICOLOGO","Superior","LICENCIADA EN PSICOLOGIA",0,null,null,1,4,8000]
[null,"305 EDUCACION OTUZCO","R.O.","CAS","PERSONAL DE SECRETARIA",1400,"47501817","SERIN CHACON MAVILA","Secretariado Ejecutivo","Superior Tecnica","Secretariado Ejecutivo",0,null,null,1,4,5600]
[null,"305 EDUCACION OTUZCO","R.O.","CAS","PERSONAL DE MANTENIMIENTO",1150,"46361660","QUIPUSCOA GAMBOA YELITA JAQUELINE",null,null,null,null,null,null,1,4,4600]
[null,"305 EDUCACION OTUZCO","R.O.","CAS","COORDINADOR ADMINISTRATIVO Y DE RECURSOS EDUCATIVOS PARA ZONAS RURALES",2000,"44332621","RODRIGUEZ ARTEAGA CARLOS FRANCISCO","Administrador","Superior","Licenciado en Administración",0,null,null,1,4,8000]
[null,"305 EDUCACION OTUZCO","R.O.","CAS","PERSONAL DE VIGILANCIA_JEC",1150,"43233441","ANTICONA ARROYO ERIKA ELIZABETH",null,null,null,null,null,null,1,4,4600]
[null,"305 EDUCACION OTUZCO","R.O.","CAS","PERSONAL DE VIGILANCIA_JEC",1150,"19053671","LUJAN ESPINOLA AGUSTO ORLANDO",null,"Secundaria Completa",0,null,null,null,1,6,6900]
[null,"305 EDUCACION OTUZCO","R.O.","CAS","PERSONAL DE VIGILANCIA_JEC",1150,"70051935","GUTIERREZ REYES EDGAR",null,null,null,null,null,null,1,6,6900]
[null,"305 EDUCACION OTUZCO","R.O.","CAS","PSICOLOGO_JEC",2000,"70298192","CARBAJAL SANCHEZ MARIA HERMELINDA",null,null,null,null,null,null,1,4,8000]
[null,"305 EDUCACION OTUZCO","R.O.","CAS","PERSONAL DE SECRETARIA",1400,"44138380","ZAVALETA MENDEZ ANA ROSA",null,"Secundaria Completa",0,null,null,null,1,4,5600]
[null,"305 EDUCACION OTUZCO","R.O.","CAS","COORDINADOR ADMINISTRATIVO Y DE RECURSOS EDUCATIVOS PARA ZONAS RURALES",2000,"45131124","GRAOS OTINIANO WALTER ESMILDER",null,null,null,null,null,null,1,4,8000]
[null,"305 EDUCACION OTUZCO","R.O.","CAS","PERSONAL DE VIGILANCIA_JEC",1150,"45697455","PIÑA AVALOS ELVIS JOEL",null,null,null,null,null,null,1,4,4600]
[null,"305 EDUCACION OTUZCO","R.O.","CAS","PERSONAL DE VIGILANCIA_JEC",1150,"19081307","CHAVEZ GUTIERREZ ULICES EDUARDO",null,"Secundaria Completa",0,null,null,null,1,6,6900]
[null,"305 EDUCACION OTUZCO","R.O.","CAS","PSICOLOGO_JEC",2000,"46688049","ROJAS GIL LIZ VARINA",null,null,null,null,null,null,1,4,8000]
[null,"305 EDUCACION OTUZCO","R.O.","CAS","PERSONAL DE MANTENIMIENTO",1150,"19100447","SANCHEZ RODRIGUEZ JORGE MERALDO",null,null,null,null,null,null,1,4,4600]
[null,"305 EDUCACION OTUZCO","R.O.","CAS","COORDINADOR ADMINISTRATIVO Y DE RECURSOS EDUCATIVOS PARA ZONAS RURALES",2000,"18081411","AGUILAR LIZARRAGA ROLANDO HEBER",null,null,null,null,null,null,1,4,8000]
[null,"305 EDUCACION OTUZCO","R.O.","CAS","PERSONAL DE VIGILANCIA_JEC",1150,"19088524","MUÑOZ JULCA WILSON ULICES",null,"Secundaria Completa",0,null,null,null,1,6,6900]
[null,"305 EDUCACION OTUZCO","R.O.","CAS","PERSONAL DE VIGILANCIA_JEC",1150,"19069223","VALDEZ ACEVEDO ALEJANDRO AUSBERTO",null,"Secundaria Completa",0,null,null,null,1,6,6900]
[null,"305 EDUCACION OTUZCO","R.O.","CAS","PERSONAL DE VIGILANCIA_JEC",1150,"44583521","ENRIQUEZ JUAREZ RONAL DANILO",null,null,null,null,null,null,1,6,6900]
[null,"305 EDUCACION OTUZCO","R.O.","CAS","PERSONAL DE MANTENIMIENTO",1150,"44309081","CHAVEZ GERVACIO FAVIOLA JANETH",null,"Secundaria Completa",0,null,null,null,1,4,{"$f":"+F1527*P1527","v":4600}]
[null,"305 EDUCACION OTUZCO","R.O.","CAS","COORDINADOR ADMINISTRATIVO Y DE RECURSOS EDUCATIVOS PARA ZONAS RURALES",2000,"45258342","LEDESMA CORTIJO LUIS ARTURO WILFREDO","Administrador","Superior","Licenciado en Administración",0,null,null,1,4,8000]
[null,"305 EDUCACION OTUZCO","R.O.","CAS","PERSONAL DE VIGILANCIA_JEC",1150,"44771662","ZAVALETA CRUZ OSBER ALEX",null,"Secundaria Completa",0,null,null,null,1,6,6900]
[null,"305 EDUCACION OTUZCO","R.O.","CAS","PERSONAL DE VIGILANCIA_JEC",1150,"48445614","NOLASCO JUAREZ YHONDER BILMER",null,"Secundaria Completa",0,null,null,null,1,6,6900]
[null,"305 EDUCACION OTUZCO","R.O.","CAS","PERSONAL DE VIGILANCIA_JEC",1150,"42790021","GOMEZ VENTURA SANTOS MELANIO",null,"Secundaria Completa",0,null,null,null,1,6,6900]
[null,"305 EDUCACION OTUZCO","R.O.","CAS","COORDINADOR DE INNOVACION Y SOPORTE TECNOLOGICO_JEC",1800,"70174685","BARRETO ALVARADO WILLY ANDERSON","Ingeniero de Sistemas","Superior",0,0,null,null,1,4,7200]
[null,"305 EDUCACION OTUZCO","R.O.","CAS","PERSONAL DE MANTENIMIENTO",1150,"48235317","VARAS VIDAL SINTIA MARIBEL",null,"Secundaria Completa",0,null,null,null,1,4,4600]
[null,"305 EDUCACION OTUZCO","R.O.","CAS","COORDINADOR ADMINISTRATIVO Y DE RECURSOS EDUCATIVOS PARA ZONAS RURALES",2000,"46920981","OTINIANO AGUILAR EDMUNDO ALEXANDER",null,null,null,null,null,null,1,4,8000]
[null,"305 EDUCACION OTUZCO","R.O.","CAS","PERSONAL DE VIGILANCIA_JEC",1150,"19077991","POLO PAREDES MARIO LUIS",null,"Secundaria Completa",0,null,null,null,1,6,6900]
[null,"305 EDUCACION OTUZCO","R.O.","CAS","PERSONAL DE VIGILANCIA_JEC",1150,"42150535","OBESO TRUJILLO VALQUER DUBERT",null,"Secundaria Completa",0,null,null,null,1,6,6900]
[null,"305 EDUCACION OTUZCO","R.O.","CAS","APOYO EDUCATIVO",1150,"42539030","VERDE RODRIGUEZ MARY KELLY","Profesor","Instituto Superior","Profesora de Educación Primaria",0,null,null,1,4,4600]
[null,"305 EDUCACION OTUZCO","R.O.","CAS","COORDINADOR ADMINISTRATIVO Y DE RECURSOS EDUCATIVOS PARA ZONAS RURALES",2000,"45613329","ZAVALETA ORDOÑEZ NESTOR ALFREDO","Administrador","Superior","Licenciado en Administración",0,null,null,1,4,8000]
[null,"305 EDUCACION OTUZCO","R.O.","CAS","PERSONAL DE VIGILANCIA_JEC",1150,"41095195","ARROYO RUIZ VICTOR ALEXANDER",null,"Secundaria Completa",0,null,null,null,1,4,4600]
[null,"305 EDUCACION OTUZCO","R.O.","CAS","PERSONAL DE VIGILANCIA_JEC",1150,"43023440","EVANGELISTA MENDOZA MARLENI JHANET",null,"Secundaria Completa",0,null,null,null,1,6,6900]
[null,"305 EDUCACION OTUZCO","R.O.","CAS","PERSONAL DE VIGILANCIA_JEC",1150,"19023129","VILLARREAL CASTRO JORGE DENIS",null,"Secundaria Completa",0,null,null,null,1,6,6900]
[null,"305 EDUCACION OTUZCO","R.O.","CAS","PSICOLOGO_JEC",2000,"42643789","GARRIDO LOAYZA EDSON JESÚS",null,null,null,null,null,null,1,4,8000]
[null,"305 EDUCACION OTUZCO","R.O.","CAS","COORDINADOR ADMINISTRATIVO Y DE RECURSOS EDUCATIVOS PARA ZONAS RURALES",2000,"44718594","AQUINO LAIZA LUIS ALFONSO",null,null,null,null,null,null,1,4,8000]
[null,"305 EDUCACION OTUZCO","R.O.","CAS","PERSONAL DE VIGILANCIA_JEC",1150,"46521022","GARCIA VENTURA ELAR JHOSIMAR",null,null,null,null,null,null,1,6,6900]
[null,"305 EDUCACION OTUZCO","R.O.","CAS","PERSONAL DE VIGILANCIA_JEC",1150,"48593133","SANCHEZ TORRES TITE CLEIDER",null,null,null,null,null,null,1,6,6900]
[null,"305 EDUCACION OTUZCO","R.O.","CAS","PERSONAL DE VIGILANCIA_JEC",1150,"47027702","CASTILLO SANCHEZ IRVIN RICARDO",null,null,null,null,null,null,1,6,6900]
[null,"305 EDUCACION OTUZCO","R.O.","CAS","PERSONAL DE MANTENIMIENTO",1150,"19032844","VILLACORTA ZAVALETA SANTOS JULIANA",null,null,null,null,null,null,1,4,4600]
[null,"305 EDUCACION OTUZCO","R.O.","CAS","COORDINADOR ADMINISTRATIVO Y DE RECURSOS EDUCATIVOS PARA ZONAS RURALES",2000,"70600264","ALFARO HURTADO YENSI ANELY",null,null,null,null,null,null,1,4,8000]
[null,"305 EDUCACION OTUZCO","R.O.","CAS","PERSONAL DE VIGILANCIA_JEC",1150,"42831970","ROSAS CRUZADO AMER ANTONIO",null,"Secundaria Completa",0,null,null,null,1,6,6900]
[null,"305 EDUCACION OTUZCO","R.O.","CAS","PERSONAL DE VIGILANCIA_JEC",1150,"43544398","AURORA ALFARO SEGUNDO JUAN",null,"Secundaria Completa",0,null,null,null,1,6,6900]
[null,"305 EDUCACION OTUZCO","R.O.","CAS","PERSONAL DE VIGILANCIA_JEC",1150,"19080970","NICASIO ALVARADO ROBERT HEBERT",null,"Secundaria Completa",0,null,null,null,1,6,6900]
[null,"305 EDUCACION OTUZCO","R.O.","CAS","COORDINADOR ADMINISTRATIVO Y DE RECURSOS EDUCATIVOS PARA ZONAS RURALES",2000,"43850242","SANTIAGO LUJAN CARLOS BERINO",null,null,null,null,null,null,1,4,8000]
[null,"TOTAL",null,null,null,{"$f":"SUM(F1328:F1552)","v":350200},null,null,null,null,null,null,null,{"$f":"SUM(N1328:N1552)","v":1627550},null,null,{"$f":"SUM(Q1328:Q1552)","v":632100}]
[null,"306 Educación Santiago de Chuco","RO","C.A.S.","GESTOR LOCAL INTERVENCIONES PP090",3500,40073349,"MENDOZA FLORES WILDER SAMUEL ","CONTADOR PÚBLICO","BACHILLER EN CIENCIAS ECONÓMICAS","CONTADOR PÚBLICO",3,7,{"$f":"+M1554*F1554+1983.03","v":26483.03}]
[null,"306 Educación Santiago de Chuco","RO","C.A.S.","RESPONSABLE LOCAL DE CALIDAD DE LA INFORMACION",3000,18170906,"RICARDO SORIANO PAREDES","INGENIERO DE SISTEMAS","BACHILLER EN INGENIERIA DE SISTEMAS","INGENIERO DE SISTEMAS",3,7,{"$f":"+M1555*F1555+1700","v":22700}]
[null,"306 Educación Santiago de Chuco","RO","C.A.S.","RESPONSABLE LOCAL DE CALIDAD DE LA INFORMACION",2500,42476318,"ZELADA VERGARAY CÉSAR AUGUSTO ","PROFESOR DE COMPUTACIÓN E INFORMÁTICA","BACHILLER EN ECUCACIÓN","PROFESOR DE COMPUTACIÓN E INFORMÁTICA",".",null,null,1,3,{"$f":"+P1556*F1556","v":7500}]
[null,"306 Educación Santiago de Chuco","RO","C.A.S.","ESPECIALISTA EN PROCESOS ADMINISTRATIVOS DISCIPLINARIOS",2600,42398908,"MARCO ANTONIO BERMUDEZ GONZALES","ABOGADO","BACHILLER EN DERECHO Y CIENCIAS POLÍTICAS","ABOGADO",3,7,{"$f":"+M1557*F1557+1386.67","v":19586.669999999998},1,1,2600]
[null,"306 Educación Santiago de Chuco","RO","C.A.S.","ABOGADA DE OFICINA DE PERSONAL",1300,42329695,"KAREN YANET BOLAÑOS PEREDA","ABOGADA","BACHILLER EN DERECHO Y CIENCIAS POLÍTICAS","ABOGADA",3,8,{"$f":"+M1558*F1558+520","v":10920},2,6,7800]
[null,"306 Educación Santiago de Chuco","RO","C.A.S.","PROYECTISTA",900,19692656,"NANCI ROCÍO CABALLERO RODRÍGUEZ","PROFESORA","NO TIENE","PROFESORA",4,12,{"$f":"+M1559*F1559","v":10800},2,6,5400]
[null,"306 Educación Santiago de Chuco","RO","C.A.S.","ALMACENERO",900,40780927,"EUGENIO MANUEL IRAITA ESPINOZA","TÉCNICO EN CONTABILIDAD","NO TIENE","TECNICO EN CONTABILIDAD",4,12,{"$f":"+M1560*F1560","v":10800},2,6,5400]
[null,"306 Educación Santiago de Chuco","RO","C.A.S.","GUARDIAN",750,43663693,"SANTOS ALEJANDRO SALVADOR ROSADO","TÉCNICO AGROPECUARIO","NO TIENE","TÉCNICO AGROPECUARIO",4,12,{"$f":"+M1561*F1561","v":9000},2,6,4500]
[null,"306 Educación Santiago de Chuco","RO","C.A.S.","RESPONSABLE DE CONTROL PATRIMONIAL",1100,72252471,"VELÁSQUEZ LIZÁRRAGA MARICIELO MERCEDES","TÉCNICO EN CONTABILIDAD","NO TIENE","TÉCNICO EN CONTABILIDAD",1,3,{"$f":"+M1562*F1562","v":3300},2,6,6600]
[null,"306 Educación Santiago de Chuco","RO","C.A.S.","ACOMPAÑANTE PEDAGOGICO PARA IIEE MULTIGRADO MONOLINGUE CASTELLANO",3600,19203026,"JENNY MARITA SANCHEZ SERRANO","PROFESORA","NO TIENE","LICENCIADO EN EDUCACIÓN",3,7,{"$f":"+M1563*F1563+2040","v":27240}]
[null,"306 Educación Santiago de Chuco","RO","C.A.S.","ACOMPAÑANTE PEDAGOGICO PARA IIEE MULTIGRADO MONOLINGUE CASTELLANO",3600,17928933,"ZULEISA JULY MENDOZA ALBITRES","PROFESORA","NO TIENE","LICENCIADO EN EDUCACIÓN",3,7,{"$f":"+M1564*F1564+2040","v":27240},1,3,{"$f":"+P1564*F1564","v":10800}]
[null,"306 Educación Santiago de Chuco","RO","C.A.S.","ACOMPAÑANTE PEDAGOGICO PARA IIEE MULTIGRADO MONOLINGUE CASTELLANO",3600,43231360,"JOVINA ROSITA CARBAJAL CARRANZA","PROFESORA","MAGISTER","LICENCIADO EN EDUCACIÓN",3,7,{"$f":"+M1565*F1565+2040","v":27240}]
[null,"306 Educación Santiago de Chuco","RO","C.A.S.","ACOMPAÑANTE PEDAGOGICO PARA IIEE MULTIGRADO MONOLINGUE CASTELLANO",3600,42958392,"MODESTA AMARILIS VÁSQUEZ REBAZA","PROFESORA","MAGISTER","LICENCIADO EN EDUCACIÓN",3,7,27240]
[null,"306 Educación Santiago de Chuco","RO","C.A.S.","ACOMPAÑANTE PEDAGOGICO PARA IIEE MULTIGRADO MONOLINGUE CASTELLANO",3600,41399274,"DEYNE JUVENAL GARCIA MEZA","PROFESOR","NO TIENE","LICENCIADO EN EDUCACIÓN",3,7,27240]
[null,"306 Educación Santiago de Chuco","RO","C.A.S.","ACOMPAÑANTE PEDAGOGICO PARA IIEE MULTIGRADO MONOLINGUE CASTELLANO",3600,18131021,"SUSANA AURORA SALDAÑA HUAYAN","PROFESORA","NO TIENE","LICENCIADO EN EDUCACIÓN",3,7,27240,1,3,10800]
[null,"306 Educación Santiago de Chuco","RO","C.A.S.","ACOMPAÑANTE PEDAGOGICO PARA IIEE MULTIGRADO MONOLINGUE CASTELLANO",3600,43379698,"YANET MARLENY CARRANZA GUEVARA","PROFESORA","NO TIENE","LICENCIADO EN EDUCACIÓN",3,7,27240,1,3,10800]
[null,"306 Educación Santiago de Chuco","RO","C.A.S.","ACOMPAÑANTE PEDAGOGICO PARA IIEE MULTIGRADO MONOLINGUE CASTELLANO",3600,18102231,"LUCIO EDUARDO LEON DIAZ","PROFESOR","MAGISTER","LICENCIADO EN EDUCACIÓN",3,7,27240,1,3,10800]
[null,"306 Educación Santiago de Chuco","RO","C.A.S.","ACOMPAÑANTE PEDAGOGICO PARA IIEE MULTIGRADO MONOLINGUE CASTELLANO",3600,17837967,"REY GUILLERMO JIMENEZ CASTILLO","PROFESOR","NO TIENE","PROFESOR",2,6,{"$f":"+M1571*F1571","v":21600}]
[null,"306 Educación Santiago de Chuco","RO","C.A.S.","ACOMPAÑANTE PEDAGOGICO PARA IIEE MULTIGRADO MONOLINGUE CASTELLANO",3600,19526509,"MANUEL JESUS GARCÍA QUIROZ","PROFESOR","DOCTOR","LICENCIADO EN EDUCACIÓN",2,6,{"$f":"+M1572*F1572","v":21600}]
[null,"306 Educación Santiago de Chuco","RO","C.A.S.","ACOMPAÑANTE PEDAGOGICO PARA IIEE MULTIGRADO MONOLINGUE CASTELLANO",3600,19696965,"DANIEL MODESTO GIL BENITEZ","PROFESOR","NO TIENE","LICENCIADO EN EDUCACIÓN",2,6,{"$f":"+M1573*F1573","v":21600}]
[null,"306 Educación Santiago de Chuco","RO","C.A.S.","GESTOR CURRICULAR",4000,19696965,"DANIEL MODESTO GIL BENITEZ","PROFESOR","NO TIENE","LICENCIADO EN EDUCACIÓN",2,6,{"$f":"+M1574*F1574","v":24000},1,3,12000]
[null,"306 Educación Santiago de Chuco","RO","C.A.S.","ACOMPAÑANTE PEDAGOGICO PARA IIEE MULTIGRADO MONOLINGUE CASTELLANO",3600,"09364810","NEIRA ARIAS ELIZABETH MARGOT","PROFESORA","NO TIENE","LICENCIADO EN EDUCACIÓN",null,null,null,1,3,10800]
[null,"306 Educación Santiago de Chuco","RO","C.A.S.","ACOMPAÑANTE PEDAGOGICO PARA IIEE MULTIGRADO MONOLINGUE CASTELLANO",3600,"18166931","CHAVEZ OTERO MIRIAN ELLA DEL MILAGRO ","PROFESORA","NO TIENE","LICENCIADO EN EDUCACIÓN",null,null,null,1,3,10800]
[null,"306 Educación Santiago de Chuco","RO","C.A.S.","ACOMPAÑANTE PEDAGOGICO PARA IIEE MULTIGRADO MONOLINGUE CASTELLANO",3600,"19696941","ESQUIVEL MÉNDEZ MILTON ADAN","PROFESOR","NO TIENE","LICENCIADO EN EDUCACIÓN",null,null,null,1,3,10800]
[null,"306 Educación Santiago de Chuco","RO","C.A.S.","ACOMPAÑANTE PEDAGOGICO PARA IIEE MULTIGRADO MONOLINGUE CASTELLANO",3600,"45886656","GABRIEL REBAZA ANABEL ELIZABETH","PROFESORA","NO TIENE","PROFESOR",null,null,null,1,3,10800]
[null,"306 Educación Santiago de Chuco","RO","C.A.S.","ACOMPAÑANTE PEDAGOGICO PARA IIEE MULTIGRADO MONOLINGUE CASTELLANO",3600,18063285,"BENITES MORILLAS AYDEE AUROA","PROFESORA","NO TIENE","PROFESOR",null,null,null,1,3,10800]
[null,"306 Educación Santiago de Chuco","RO","C.A.S.","ACOMPAÑANTE PEDAGOGICO PARA IIEE MULTIGRADO MONOLINGUE CASTELLANO",3600,19075413,"DIAZ MAURICIO JORGE LUIS","PROFESOR","NO TIENE","PROFESOR",null,null,null,1,3,10800]
[null,"306 Educación Santiago de Chuco","RO","C.A.S.","ESPECIALISTA EN CONVIVENCIA ESCOLAR",2600,44909730,"NANCY RAQUEL CASANA QUEZADA","TRABAJADORA SOCIAL","BACHILLER EN CIENCIAS SOCIALES","LIC. TRABAJO SOCIAL",3,7,{"$f":"+M1581*F1581+1900","v":20100},2,6,{"$f":"+P1581*F1581","v":15600}]
[null,"306 Educación Santiago de Chuco","RO","C.A.S.","ESPECIALISTA EN MONITOREO DE EVALUACIONES DE ESTUDIANTES Y DOCENTES",2600,47630108,"KARLA STEFANY LIHON ROJAS","ADMINISTRADORA","BACHILLER EN ADMINISTRACIÓN","LIC. EN ADMINISTRACIÓN",3,7,{"$f":"+M1582*F1582+1900","v":20100}]
[null,"306 Educación Santiago de Chuco","RO","C.A.S.","ESPECIALISTA EN ABASTECIMIENTO",2600,73274402,"STEFANI TAIS CASTILLO REYNA","ADMINISTRADORA","BACHILLER EN ADMINISTRACIÓN","LIC. EN ADMINISTRACIÓN",2,4,{"$f":"+M1583*F1583+1213","v":11613}]
[null,"306 Educación Santiago de Chuco","RO","C.A.S.","ANALISTA DE ABASTECIMIENTO",2600,73274402,"STEFANI TAIS CASTILLO REYNA","ADMINISTRADORA","BACHILLER EN ADMINISTRACIÓN","LIC. EN ADMINISTRACIÓN",null,null,null,1,3,7800]
[null,"306 Educación Santiago de Chuco","RO","C.A.S.","ANALISTA EN ESCALAFÓN Y TECNOLOGÍAS DE LA INFORMACIÓN",2600,46761651,"DANAE ALICIA ORTÍZ PRETEL","INGENIERO INFORMÁTICO","BACHILLER EN CIENCIAS DE LA COMPUTACIÓN","INGENIERO INFORMÁTICO",null,null,null,1,3,7800]
[null,"306 Educación Santiago de Chuco","RO","C.A.S.","PERSONAL DE VIGILANCIA",1150,"43349881","CCAMA APAZA JUAN BAUTISTA","NO TIENE","NO TIENE","SECUNDARIA COMPLETA",4,12,{"$f":"+M1586*F1586","v":13800},1,6,6900]
[null,"306 Educación Santiago de Chuco","RO","C.A.S.","PERSONAL DE VIGILANCIA",1150,"40761109","MARCOS VILLANUEVA EDILBERTO AURELIO","NO TIENE ","NO TIENE","SECUNDARIA COMPLETA",4,12,{"$f":"+M1587*F1587","v":13800},1,6,6900]
[null,"306 Educación Santiago de Chuco","RO","C.A.S.","JORNADA ESCOLAR COMPLETA",2000,"46828272","QUISPE GUTIERREZ DEYSI MARGARITA","ADMINISTRADORA","MAGISTER ","LICENCIADA EN ADMINISTRACION",2,7,{"$f":"+M1588*F1588+1066.67","v":15066.67}]
[null,"306 Educación Santiago de Chuco","RO","C.A.S.","JORNADA ESCOLAR COMPLETA",1150,"19705452","SICCHA PASTOR SERAPIO ALBERTO","NO TIENE","NO TIENE","SECUNDARIA COMPLETA",4,12,{"$f":"+M1589*F1589","v":13800},1,6,6900]
[null,"306 Educación Santiago de Chuco","RO","C.A.S.","JORNADA ESCOLAR COMPLETA",1150,"19675177","VALVERDE RODRIGUEZ LEOCADIO","NO TIENE","NO TIENE","SECUNDARIA COMPLETA",4,12,13800,1,6,6900]
[null,"306 Educación Santiago de Chuco","RO","C.A.S.","APOYO EDUCATIVO",1150,"80431061","BENITES CUSTODIO ETHEL LASTENIA","PROFESORA","NO TIENE","PROFESORA",3,9,10350,1,3,3450]
[null,"306 Educación Santiago de Chuco","RO","C.A.S.","PERSONAL DE VIGILANCIA",1150,"45023344","CARLOS ZARATE ABILIO MERCEDES","TÉCNICO EN AGROPECUARIA","NO TIENE","TÉCNICO EN AGROPECUARIA",4,12,13800,1,6,6900]
[null,"306 Educación Santiago de Chuco","RO","C.A.S.","PERSONAL DE VIGILANCIA",1150,"19692631","JARA BENITES MANUEL ORLANDO","NO TIENE","NO TIENE","SECUNDARIA COMPLETA",4,12,13800,1,6,6900]
[null,"306 Educación Santiago de Chuco","RO","C.A.S.","PERSONAL DE VIGILANCIA-JORNADA ESCOLAR COMPLETA ",1150,"43433137","MENDEZ IBAÑEZ SEGUNDO SANTIAGO","NO TIENE","NO TIENE","SECUNDARIA COMPLETA",4,12,13800,1,6,6900]
[null,"306 Educación Santiago de Chuco","RO","C.A.S.","PERSONAL DE VIGILANCIA-JORNADA ESCOLAR COMPLETA ",1150,"43941347","MURGA VASQUEZ JAVIER ARNALDO","NO TIENE","NO TIENE","SECUNDARIA COMPLETA",4,12,13800,1,6,6900]
[null,"306 Educación Santiago de Chuco","RO","C.A.S.","ESP. MONITORIO EED",2600,"40093845","ALCANTARA LUJAN PEDRO ISMAEL","PROFESOR","NO TIENE","LIC. EDUCACIÓN",1,3,{"$f":"+M1596*F1596","v":7800}]
[null,"306 Educación Santiago de Chuco","RO","C.A.S.","APOYO EDUCATIVO",1150,"19668444","BURGOS PAREDES ANDRES GLICERIO","PROFESOR","NO TIENE","PROFESOR",1,2,{"$f":"+M1597*F1597","v":2300}]
[null,"306 Educación Santiago de Chuco","RO","C.A.S.","SECRETARIA",1400,"47416355","RUIZ MAURICIO NERY","SECRETARIA","NO TIENE","SECRETARIA",4,12,{"$f":"+M1598*F1598","v":16800}]
[null,"306 Educación Santiago de Chuco","RO","C.A.S.","PERSONAL DE VIGILANCIA",1150,"19693300","AGUILAR BAZAN EDWIN GUILLERMO","NO TIENE","NO TIENE","SECUNDARIA COMPLETA",3,8,{"$f":"+M1599*F1599+613.33","v":9813.33},1,6,6900]
[null,"306 Educación Santiago de Chuco","RO","C.A.S.","PERSONAL DE MANTENIMIENTO",1150,45027120,"AGREDA GARCÍA GRACIELA YSABEL","NO TIENE","NO TIENE","ESTUDIOS CONCLUIDOS EN SECRETARIADO",3,8,{"$f":"+M1600*F1600+613.33","v":9813.33}]
[null,"306 Educación Santiago de Chuco","RO","C.A.S.","PSICOLOGO",2000,45926160,"TARRILO GARCÍA DIEGO ANTONIO","PSICOLOGO","BACHILLER EN PSICOLOGÍA","PSICOLOGO",3,7,{"$f":"+M1601*F1601+1066.67","v":15066.67}]
[null,"306 Educación Santiago de Chuco","RO","C.A.S.","COORDINADOR DE INNOVACION Y SOPORTE TECNOLOGICO",1800,43984236,"HUAMAN CASTILLO ANFARO JUAN","TECNICO EN COMPUTACION","NO TIENE","TECNICO EN COMPUTACION",1,3,{"$f":"+M1602*F1602","v":5400}]
[null,"306 Educación Santiago de Chuco","RO","C.A.S.","COORDINADOR DE INNOVACION Y SOPORTE TECNOLOGICO",1800,19693691,"RUIZ JACOBOPEDRO DEYNER","TECNICO EN COMPUTACION","NO TIENE","TECNICO EN COMPUTACION",1,3,{"$f":"+M1603*F1603","v":5400}]
[null,"TOTAL",null,null,null,{"$f":"SUM(F1554:F1603)","v":120150},null,null,null,null,null,null,null,{"$f":"SUM(N1554:N1603)","v":680332.7},null,null,{"$f":"SUM(Q1554:Q1601)","v":256550}]
[null,"307 EDUCACION SANCHEZ CARRION","R.O","CAS","AST.ADM - PLANILLAS",1050,42468675,"QUEZADA PEÑA JERALDINA MARILI","TECNICO","TITULADO","COMPUTACION E INFORMATICA",4,11,{"$f":"F1605*M1605","v":11550},2,6,{"$f":"P1605*F1605","v":6300}]
[null,"307 EDUCACION SANCHEZ CARRION","R.O","CAS","AST.ADM - AGI",1050,46244363,"VALLE DE LA CRUZ DANNA LILIA","PROFESIONAL","BACHILLER","ADMINISTRACION DE EMPRESAS",4,11,{"$f":"F1606*M1606","v":11550},2,6,{"$f":"P1606*F1606","v":6300}]
[null,"307 EDUCACION SANCHEZ CARRION","R.O","CAS","AST.ADM - PERSONAL",1050,43606413,"ACOSTA LIÑAN PABLO ","TECNICO","TITULADO","COMPUTACION E INFORMATICA",4,11,11550,2,6,6300]
[null,"307 EDUCACION SANCHEZ CARRION","R.O","CAS","AST.ADM - COMPUTO",1050,41765773,"RIOS SANCHEZ EDWIN OSCAR ","TECNICO","TITULADO","COMPUTACION E INFORMATICA",4,11,11550,2,6,6300]
[null,"307 EDUCACION SANCHEZ CARRION","R.O","CAS","AST.ADM - ADMINISTRACION",1050,41617472,"PAREDES POLO JESSICA MARGARITA","PROFESIONAL","TITULADO","DOCENTE DE EDUCACION PRIMARIA",4,11,11550,2,6,6300]
[null,"307 EDUCACION SANCHEZ CARRION","R.O","CAS","TECNICO - AIRHSP",1200,44384595,"GONZALEZ RODRIGUEZ SUSAN CAROL","PROFESIONAL","TITULADO","CONTADORA PUBLICA",3,10,12000,2,6,7200]
[null,"307 EDUCACION SANCHEZ CARRION","R.O","CAS","TECNICO - PATRIMONIO",1200,44567327,"VASQUEZ SAGASTEGUI ELVIS ERNALDO","TECNICO","TITULADO","COMPUTACION E INFORMATICA",4,11,13200,2,6,7200]
[null,"307 EDUCACION SANCHEZ CARRION","R.O","CAS","RESONSABLE - ALMACEN",1200,19558677,"OLIVA JUAREZ CESAR ","PROFESIONAL","TITULADO","DOCENTE DE EDUCACION PRIMARIA",4,11,13200,2,6,7200]
[null,"307 EDUCACION SANCHEZ CARRION","R.O","CAS","CHOFER",1200,42024446,"VILLAVICENCIO AGUIRRE CARLOS OLEGARIO","TECNICO","TITULADO",null,4,11,13200,2,6,7200]
[null,"307 EDUCACION SANCHEZ CARRION","R.O","CAS","ABOGADO",1200,70659212,"RODRIGUEZ ALAYO KELLY JANDU","TECNICO","TITULADO","ABOGADA",3,10,12000,2,6,7200]
[null,"307 EDUCACION SANCHEZ CARRION","R.O","CAS","AST.ADM - PERSONAL",1050,null,"PEÑA CUSTODIO MARINA FELICITA","AUXILIAR","EGRESADA","SECRETARIADO",3,8,8400,0,null,0]
[null,"307 EDUCACION SANCHEZ CARRION","R.O","CAS","GUARDIAN",950,19573281,"POLO SANCHEZ SANTOS","AUXILIAR","EGRESADO",null,3,11,10450,2,6,5700]
[null,"307 EDUCACION SANCHEZ CARRION","R.O","CAS",null,null,null,null,null,null,null,null,null,{"$f":"SUM(N1605:N1616)","v":140200},null,null,{"$f":"SUM(Q1605:Q1616)","v":73200}]
[null,"307 EDUCACION SANCHEZ CARRION","R.O","CAS","GESTOR LOCAL",{"$f":"(3500/30)*30","v":3500},40711138,"AGUINAGA URBINA VICTOR ALBERTO","PROFESIONAL","TITULADO","ADMINSITRACION",4,12,{"$f":"F1618*M1618","v":42000},0,null,{"$f":"P1618*F1618","v":0}]
[null,"307 EDUCACION SANCHEZ CARRION","R.O","CAS","CALIDAD DE LA INFORMACION",{"$f":"(3000/30)*30","v":3000},41130838,"CISNEROS AVILA NORBERTO","PROFESIONAL","TITULADO","ING.SISTEMAS",3,10,{"$f":"F1619*M1619","v":30000},2,6,{"$f":"P1619*F1619","v":18000}]
[null,"307 EDUCACION SANCHEZ CARRION","R.O","CAS","CRA",{"$f":"(1500/30)*30","v":1500},40148048,"TORRES RIOS MARIA GLORIA","PROFESIONAL","TITULADO","DOCENTE ",3,10,15000,0,null,0]
[null,"307 EDUCACION SANCHEZ CARRION","R.O","CAS","CRA",{"$f":"(1500/30)*30","v":1500},42619816,"SANCHEZ LEYVA HUGO ADEMIR ","PROFESIONAL","TITULADO","DOCENTE ",3,10,15000,0,null,0]
[null,"307 EDUCACION SANCHEZ CARRION","R.O","CAS","CRA",{"$f":"(1500/30)*30","v":1500},41787276,"AGREDA ASTO LUIS ALBERTO","PROFESIONAL","TITULADO","DOCENTE ",3,10,15000,0,null,0]
[null,"307 EDUCACION SANCHEZ CARRION","R.O","CAS","CRA",{"$f":"(1500/30)*30","v":1500},42752552,"JIMENEZ VASQUEZ KARINA JACQUELINE","PROFESIONAL","TITULADO","DOCENTE ",3,10,15000,0,null,0]
[null,"307 EDUCACION SANCHEZ CARRION","R.O","CAS","ESP.PROCES",{"$f":"(2600/30)*30","v":2600},18100464,"NAVEZ JAIME RAUL","PROFESIONAL","TITULADO","AGOGADO",4,10,26000,2,6,15600]
[null,"307 EDUCACION SANCHEZ CARRION","R.O","CAS","ESP.CONTB.",{"$f":"(2600/30)*30","v":2600},42134302,"CASTAÑEDA RUIZ CINTHIA HILDA","PROFESIONAL","TITULADO","CONTADORA PUBLICA",3,10,26000,2,6,15600]
[null,"307 EDUCACION SANCHEZ CARRION","R.O","CAS","ESP.ABASTECIMIENTO",{"$f":"(2600/30)*30","v":2600},44891133,"CHAVEZ MORANTE , ARLITA","PROFESIONAL","TITULADO","ADMINSITRACION",3,10,26000,2,6,15600]
[null,"307 EDUCACION SANCHEZ CARRION","R.O","CAS","ESP.ABASTECIMIENTO",{"$f":"(2600/30)*30","v":2600},42975892,"VEGA VASQUEZ MIRTHA ISOLINA","PROFESIONAL","TITULADO","ADMINISTRACION DE EMPRESAS",3,10,26000,null,null,0]
[null,"307 EDUCACION SANCHEZ CARRION","R.O","CAS","ESP.CONVIVENCIA ",{"$f":"(2600/30)*30","v":2600},46484846,"REYES ZAVALLOS JHONNY ALEXIS","PROFESIONAL","TITULADO","PSICOLOGO",3,10,26000,2,6,15600]
[null,"307 EDUCACION SANCHEZ CARRION","R.O","CAS","ASIST.CONVIVENCIA",{"$f":"(2400/30)*30","v":2400},41274265,"DIAZ RABANAL LESLIE CAROL","PROFESIONAL","TITULADO","PSICOLOGO",3,10,24000,null,null,0]
[null,"307 EDUCACION SANCHEZ CARRION","R.O","CAS","ASIST.CONVIVENCIA",2400,47960000,"ASTO GARCIA KARLA GABRIELA","PROFESIONAL","TITULADO","PSICOLOGO",0,0,0,1,2,4800]
[null,"307 EDUCACION SANCHEZ CARRION","R.O","CAS",null,null,null,null,null,null,null,null,null,{"$f":"SUM(N1618:N1630)","v":286000},null,null,{"$f":"SUM(Q1618:Q1630)","v":85200}]
[null,"307 EDUCACION SANCHEZ CARRION","R.O","CAS","ACOMPAÑANTES PEDAGOGICOS MULTIGRADOS",3600,19520989,"ALFARO BALLENA PEDRO ENEMECIO","PROFESIONAL","TITULADO","DOCENTE",3,8,{"$f":"F1632*M1632","v":28800}]
[null,"307 EDUCACION SANCHEZ CARRION","R.O","CAS","ACOMPAÑANTES PEDAGOGICOS MULTIGRADOS",3600,18891321,"ARCE RIOS CIRO","PROFESIONAL","TITULADO","DOCENTE",3,8,{"$f":"F1633*M1633","v":28800}]
[null,"307 EDUCACION SANCHEZ CARRION","R.O","CAS","ACOMPAÑANTES PEDAGOGICOS MULTIGRADOS",3600,19573231,"BRICEÑO CAMPOS CLEVER ANTONIO ","PROFESIONAL","TITULADO","DOCENTE",3,8,28800]
[null,"307 EDUCACION SANCHEZ CARRION","R.O","CAS","ACOMPAÑANTES PEDAGOGICOS MULTIGRADOS",3600,18037025,"CUEVA GONZALES DE MENDEZ CARMEN ROSA","PROFESIONAL","TITULADO","DOCENTE",3,8,28800]
[null,"307 EDUCACION SANCHEZ CARRION","R.O","CAS","ACOMPAÑANTES PEDAGOGICOS MULTIGRADOS",3600,19040365,"GONZALEZ SOLANO AUGUSTO BERNABE","PROFESIONAL","TITULADO","DOCENTE",3,8,28800]
[null,"307 EDUCACION SANCHEZ CARRION","R.O","CAS","ACOMPAÑANTES PEDAGOGICOS MULTIGRADOS",3600,19074886,"GARCIA NEYRA FREMIT ISABEL","PROFESIONAL","TITULADO","DOCENTE",3,8,28800]
[null,"307 EDUCACION SANCHEZ CARRION","R.O","CAS","ACOMPAÑANTES PEDAGOGICOS MULTIGRADOS",3600,41990264,"OLIVARES MONTANO JOSE CARLOS ","PROFESIONAL","TITULADO","DOCENTE",3,8,28800]
[null,"307 EDUCACION SANCHEZ CARRION","R.O","CAS","ACOMPAÑANTES PEDAGOGICOS MULTIGRADOS",3600,19559717,"MONZON GAITAN ANITA ","PROFESIONAL","TITULADO","DOCENTE",3,8,28800]
[null,"307 EDUCACION SANCHEZ CARRION","R.O","CAS","ACOMPAÑANTES PEDAGOGICOS MULTIGRADOS",3600,19571018,"RUIZ GARCIA SANTOS WALTER","PROFESIONAL","TITULADO","DOCENTE",3,8,28800]
[null,"307 EDUCACION SANCHEZ CARRION","R.O","CAS","ACOMPAÑANTES PEDAGOGICOS MULTIGRADOS",3600,19568537,"RUIZ ALAYO EDMUNDO ALVARO","PROFESIONAL","TITULADO","DOCENTE",3,8,28800]
[null,"307 EDUCACION SANCHEZ CARRION","R.O","CAS","ACOMPAÑANTES PEDAGOGICOS MULTIGRADOS",3600,18984088,"TRUJILLO BLAS FAUSTO MAXIMO","PROFESIONAL","TITULADO","DOCENTE",3,8,28800]
[null,"307 EDUCACION SANCHEZ CARRION","R.O","CAS","ACOMPAÑANTES PEDAGOGICOS MULTIGRADOS",3600,18116216,"ESPINOZA VELASQUEZ ALVARO ORLANDO","PROFESIONAL","TITULADO","DOCENTE",3,8,28800]
[null,"307 EDUCACION SANCHEZ CARRION","R.O","CAS","ACOMPAÑANTES PEDAGOGICOS MULTIGRADOS",3600,41177895,"VEGA BURGOS WILLIAN ANTONIO","PROFESIONAL","TITULADO","DOCENTE",3,8,28800]
[null,"307 EDUCACION SANCHEZ CARRION","R.O","CAS","ACOMPAÑANTES PEDAGOGICOS MULTIGRADOS",3600,19525323,"MARINO SANCHO WILDER MANUEL","PROFESIONAL","TITULADO","DOCENTE",3,8,28800]
[null,"307 EDUCACION SANCHEZ CARRION","R.O","CAS","ACOMPAÑANTES PEDAGOGICOS MULTIGRADOS",3600,45472673,"QUEZADA CASTILLO FANNY VANESSA ","PROFESIONAL","TITULADO","DOCENTE",3,8,28800]
[null,"307 EDUCACION SANCHEZ CARRION","R.O","CAS","ACOMPAÑANTES PEDAGOGICOS MULTIGRADOS",3600,18176871,"MENDEZ VASQUEZ RICARDO JAVIER","PROFESIONAL","TITULADO","DOCENTE",3,8,28800]
[null,"307 EDUCACION SANCHEZ CARRION","R.O","CAS","ACOMPAÑANTES PEDAGOGICOS MULTIGRADOS",3600,42678525,"GUERRA LUIS BERTHA NATIVIDAD","PROFESIONAL","TITULADO","DOCENTE",3,8,28800]
[null,"307 EDUCACION SANCHEZ CARRION","R.O","CAS","ACOMPAÑANTES PEDAGOGICOS MULTIGRADOS",3600,19529714,"RODRIGUEZ FLORES SANTOS PEDRO","PROFESIONAL","TITULADO","DOCENTE",3,8,28800]
[null,"307 EDUCACION SANCHEZ CARRION","R.O","CAS","ACOMPAÑANTES PEDAGOGICOS MULTIGRADOS",3600,42638377,"AGUILAR VENTURA LUCY YOBANY ","PROFESIONAL","TITULADO","DOCENTE",3,8,28800]
[null,"307 EDUCACION SANCHEZ CARRION","R.O","CAS","ACOMPAÑANTES PEDAGOGICOS MULTIGRADOS",3600,19562297,"JULCA YNFANTES DOMITILA ANTONIA","PROFESIONAL","TITULADO","DOCENTE",3,8,28800]
[null,"307 EDUCACION SANCHEZ CARRION","R.O","CAS",null,null,null,null,null,null,null,null,null,{"$f":"SUM(N1632:N1651)","v":576000}]
[null,"307 EDUCACION SANCHEZ CARRION","R.O","CAS","ACOMPAÑANTES PEDAGOGICOS MULTIGRADOS",3600,19560096,"ALAYO ARANDA NELIDA ESTHER","PROFESIONAL","TITULADO","DOCENTE",null,null,null,1,3,{"$f":"F1653*P1653","v":10800}]
[null,"307 EDUCACION SANCHEZ CARRION","R.O","CAS","ACOMPAÑANTES PEDAGOGICOS MULTIGRADOS",3600,19573231,"BRICEÑO CAMPOS CLEVER ANTONIO ","PROFESIONAL","TITULADO","DOCENTE",null,null,null,1,3,{"$f":"F1654*P1654","v":10800}]
[null,"307 EDUCACION SANCHEZ CARRION","R.O","CAS","ACOMPAÑANTES PEDAGOGICOS MULTIGRADOS",3600,43773011,"CONTRERAS CRESPIN BETHY","PROFESIONAL","TITULADO","DOCENTE",null,null,null,1,3,10800]
[null,"307 EDUCACION SANCHEZ CARRION","R.O","CAS","ACOMPAÑANTES PEDAGOGICOS MULTIGRADOS",3600,42863990,"ESQUIVEL VASQUEZ DANIEL AMILCAR","PROFESIONAL","TITULADO","DOCENTE",null,null,null,1,3,10800]
[null,"307 EDUCACION SANCHEZ CARRION","R.O","CAS","ACOMPAÑANTES PEDAGOGICOS MULTIGRADOS",3600,19040365,"GONZALEZ SOLANO AUGUSTO BERNABE","PROFESIONAL","TITULADO","DOCENTE",null,null,null,1,3,10800]
[null,"307 EDUCACION SANCHEZ CARRION","R.O","CAS","ACOMPAÑANTES PEDAGOGICOS MULTIGRADOS",3600,41990264,"OLIVARES MONTANO JOSE CARLOS ","PROFESIONAL","TITULADO","DOCENTE",null,null,null,1,3,10800]
[null,"307 EDUCACION SANCHEZ CARRION","R.O","CAS","ACOMPAÑANTES PEDAGOGICOS MULTIGRADOS",3600,19571018,"RUIZ GARCIA SANTOS WALTER","PROFESIONAL","TITULADO","DOCENTE",null,null,null,1,3,10800]
[null,"307 EDUCACION SANCHEZ CARRION","R.O","CAS","ACOMPAÑANTES PEDAGOGICOS MULTIGRADOS",3600,19530050,"SANCHEZ BARRETO NOEMI MARYLYN","PROFESIONAL","TITULADO","DOCENTE",null,null,null,1,3,10800]
[null,"307 EDUCACION SANCHEZ CARRION","R.O","CAS","ACOMPAÑANTES PEDAGOGICOS MULTIGRADOS",3600,16722704,"ZAFRA ORTIZ MARINA","PROFESIONAL","TITULADO","DOCENTE",null,null,null,1,3,10800]
[null,"307 EDUCACION SANCHEZ CARRION","R.O","CAS","ACOMPAÑANTES PEDAGOGICOS MULTIGRADOS",3600,19559717,"MONZON GAITAN ANITA","PROFESIONAL","TITULADO","DOCENTE",null,null,null,1,3,10800]
[null,"307 EDUCACION SANCHEZ CARRION","R.O","CAS","ACOMPAÑANTES PEDAGOGICOS MULTIGRADOS",3600,40148048,"TORRES RIOS MARIA GLORIA","PROFESIONAL","TITULADO","DOCENTE",null,null,null,1,3,10800]
[null,"307 EDUCACION SANCHEZ CARRION","R.O","CAS","ACOMPAÑANTES PEDAGOGICOS MULTIGRADOS",3600,42362510,"CRUZ ARROYO COSBY RICHARD","PROFESIONAL","TITULADO","DOCENTE",null,null,null,1,3,10800]
[null,"307 EDUCACION SANCHEZ CARRION","R.O","CAS","ACOMPAÑANTES PEDAGOGICOS MULTIGRADOS",3600,19076556,"DE LA CRUZ VILLACORTA, ORLANDO YUBANI","PROFESIONAL","TITULADO","DOCENTE",null,null,null,1,3,10800]
[null,"307 EDUCACION SANCHEZ CARRION","R.O","CAS","ACOMPAÑANTES PEDAGOGICOS MULTIGRADOS",3600,19562819,"CASTILLO CERNA, ELENA FLOR","PROFESIONAL","TITULADO","DOCENTE",null,null,null,1,3,10800]
[null,"307 EDUCACION SANCHEZ CARRION","R.O","CAS","ACOMPAÑANTES PEDAGOGICOS MULTIGRADOS",3600,18891321,"ARCE RIOS, CIRO","PROFESIONAL","TITULADO","DOCENTE",null,null,null,1,3,10800]
[null,"307 EDUCACION SANCHEZ CARRION","R.O","CAS","ACOMPAÑANTES PEDAGOGICOS MULTIGRADOS",3600,19074886,"GARCIA NEYRA, FREMIT ISABEL","PROFESIONAL","TITULADO","DOCENTE",null,null,null,1,3,10800]
[null,"307 EDUCACION SANCHEZ CARRION","R.O","CAS","ACOMPAÑANTES PEDAGOGICOS MULTIGRADOS",3600,18858577,"YTURBE MARTINEZ, JOSUE SEGUNDO","PROFESIONAL","TITULADO","DOCENTE",null,null,null,1,3,10800]
[null,"307 EDUCACION SANCHEZ CARRION","R.O","CAS","ACOMPAÑANTES PEDAGOGICOS MULTIGRADOS",3600,45472673,"QUEZADA CASTILLO, FANNY VANESA","PROFESIONAL","TITULADO","DOCENTE",null,null,null,1,3,10800]
[null,"307 EDUCACION SANCHEZ CARRION","R.O","CAS","ACOMPAÑANTES PEDAGOGICOS MULTIGRADOS",3600,40978617,"CAMPOS MARRUFO, YULY YANETH","PROFESIONAL","TITULADO","DOCENTE",null,null,null,1,3,10800]
[null,"307 EDUCACION SANCHEZ CARRION","R.O","CAS","ACOMPAÑANTES PEDAGOGICOS MULTIGRADOS",3600,18139874,"VILLANUEVA CARRANZA, ROSA","PROFESIONAL","TITULADO","DOCENTE",null,null,null,1,3,10800]
[null,"307 EDUCACION SANCHEZ CARRION","R.O","CAS",null,null,null,null,null,null,null,null,null,null,null,null,{"$f":"SUM(Q1653:Q1672)","v":216000}]
[null,"307 EDUCACION SANCHEZ CARRION","R.O","CAS","ACOMPAÑANTES POLIDOCENTES",3400,18199001,"HARO URIOL LITA MARIBEL","PROFESIONAL","TITULADO","DOCENTE",2,6,{"$f":"F1674*M1674","v":20400}]
[null,"307 EDUCACION SANCHEZ CARRION","R.O","CAS","ACOMPAÑANTES POLIDOCENTES",3400,40471218,"ALFARO ARAUJO ROCIO ELIZABETH","PROFESIONAL","TITULADO","DOCENTE",2,6,{"$f":"F1675*M1675","v":20400}]
[null,"307 EDUCACION SANCHEZ CARRION","R.O","CAS","ACOMPAÑANTES POLIDOCENTES",3400,19409920,"TERRY LOPEZ MARTHA JULIANA","PROFESIONAL","TITULADO","DOCENTE",2,6,{"$f":"F1676*M1676","v":20400}]
[null,"307 EDUCACION SANCHEZ CARRION","R.O","CAS","ACOMPAÑANTES POLIDOCENTES",3400,19411947,"QUIÑONEZ OLORTEGUI JORGE WAGNER","PROFESIONAL","TITULADO","DOCENTE",2,6,{"$f":"F1677*M1677","v":20400}]
[null,"307 EDUCACION SANCHEZ CARRION","R.O","CAS","ACOMPAÑANTES POLIDOCENTES",3400,41956623,"BACA RIVERA ZOILA ROSENDA","PROFESIONAL","TITULADO","DOCENTE",2,6,{"$f":"F1678*M1678","v":20400}]
[null,"307 EDUCACION SANCHEZ CARRION","R.O","CAS",null,null,null,null,null,null,null,null,null,{"$f":"SUM(N1674:N1678)","v":102000}]
[null,"307 EDUCACION SANCHEZ CARRION","R.O","CAS","GESTORES SRN",4000,25813852,"OBANDO RIOS ALEJANDR FIDEL","PROFESIONAL","TITULADO","DOCENTE",1,2,{"$f":"F1680*M1680","v":8000}]
[null,"307 EDUCACION SANCHEZ CARRION","R.O","CAS","GESTORES SRN",4000,40093845,"ALCANTARA LUJAN PEDRO","PROFESIONAL","TITULADO","DOCENTE",1,2,{"$f":"F1681*M1681","v":8000}]
[null,"307 EDUCACION SANCHEZ CARRION","R.O","CAS",null,null,null,null,null,null,null,null,null,{"$f":"SUM(N1680:N1681)","v":16000}]
[null,"307 EDUCACION SANCHEZ CARRION","R.O","CAS","GESTORES CURRICULARES",4000,18843586,"MUÑOZ AGUILAR LUCIA VIOLETA","PROFESIONAL","TITULADO","DOCENTE",null,null,null,1,3,{"$f":"F1683*P1683","v":12000}]
[null,"307 EDUCACION SANCHEZ CARRION","R.O","CAS","GESTORES CURRICULARES",4000,18207480,"PAREDES TACANGA FERNANDO","PROFESIONAL","TITULADO","DOCENTE",null,null,null,1,3,{"$f":"F1684*P1684","v":12000}]
[null,"307 EDUCACION SANCHEZ CARRION","R.O","CAS","GESTORES CURRICULARES",4000,19409920,"TERRY LOPEZ MARTHA JULIANA","PROFESIONAL","TITULADO","DOCENTE",null,null,null,1,3,{"$f":"F1685*P1685","v":12000}]
[null,"307 EDUCACION SANCHEZ CARRION","R.O","CAS","GESTORES CURRICULARES",4000,19568537,"RUIZ ALAYO EDMUNDO ALVARO","PROFESIONAL","TITULADO","DOCENTE",null,null,null,1,3,{"$f":"F1686*P1686","v":12000}]
[null,"307 EDUCACION SANCHEZ CARRION","R.O","CAS",null,null,null,null,null,null,null,null,null,null,null,null,{"$f":"SUM(Q1683:Q1686)","v":48000}]
[null,"307 EDUCACION SANCHEZ CARRION","R.O","CAS","CARE - JEC",2000,44905109,"RABINES HORNA DELSY VANESSA","PROFESIONAL","TITULADO","ADMINISTRACION",3,8,{"$f":"F1688*M1688","v":16000}]
[null,"307 EDUCACION SANCHEZ CARRION","R.O","CAS","CARE - JEC",2000,"72790451","POLO MAURICIO WILDER JHOEL","PROFESIONAL","TITULADO","ADMINISTRACION",3,8,{"$f":"F1689*M1689","v":16000}]
[null,"307 EDUCACION SANCHEZ CARRION","R.O","CAS","CARE - JEC",2000,"44656203","VALERA GARCIA JANE JUDITH","PROFESIONAL","TITULADO","ADMINISTRACION",3,8,16000]
[null,"307 EDUCACION SANCHEZ CARRION","R.O","CAS","CARE - JEC",2000,41255194,"RAMOS LAYZA CATALINA ALCIRA ","PROFESIONAL","TITULADO","ADMINISTRACION",3,8,16000]
[null,"307 EDUCACION SANCHEZ CARRION","R.O","CAS","CARE - JEC",2000,70227075,"PAREDES GRAOS LIZETH ROSMERY","PROFESIONAL","TITULADO","ADMINISTRACION",3,8,16000]
[null,"307 EDUCACION SANCHEZ CARRION","R.O","CAS","CARE - JEC",2000,70224304,"GARCIA ROBLES YURASY NOEMI","PROFESIONAL","TITULADO","ADMINISTRACION",3,8,16000]
[null,"307 EDUCACION SANCHEZ CARRION","R.O","CAS","CARE - JEC",2000,42164214,"SANDOVAL ARAUJO ANITA AMELIA","PROFESIONAL","TITULADO","ADMINISTRACION",3,8,16000]
[null,"307 EDUCACION SANCHEZ CARRION","R.O","CAS","CARE - JEC",2000,73302530,"ESCOBEDO REYES PATRICIA DANIELA ","PROFESIONAL","TITULADO","ADMINISTRACION",3,8,16000]
[null,"307 EDUCACION SANCHEZ CARRION","R.O","CAS","CARE - JEC",2000,"43349381","VILLA SAEZ, MILAGROS CELINDA","PROFESIONAL","TITULADO","ADMINISTRACION",3,8,16000]
[null,"307 EDUCACION SANCHEZ CARRION","R.O","CAS","CARE - JEC",2000,45944972,"GUTIERREZ CONTRERAS AUGUSTO VANDER","PROFESIONAL","TITULADO","ADMINISTRACION",3,8,16000]
[null,"307 EDUCACION SANCHEZ CARRION","R.O","CAS","CARE - JEC",2000,45648093,"RUIZ MARQUINA JANETH","PROFESIONAL","TITULADO","ADMINISTRACION",3,8,16000]
[null,"307 EDUCACION SANCHEZ CARRION","R.O","CAS","CARE - JEC",2000,47231066,"SALVADOR BALTAZAR FLOR","PROFESIONAL","TITULADO","ADMINISTRACION",3,8,16000]
[null,"307 EDUCACION SANCHEZ CARRION","R.O","CAS","CARE - JEC",2000,"46423445","SIFUENTES PEREZ ADRIANA OLINDA","PROFESIONAL","TITULADO","ADMINISTRACION",3,8,16000]
[null,"307 EDUCACION SANCHEZ CARRION","R.O","CAS","CARE - JEC",2000,40600939,"GORDILLO ANDRADE OSCAR","PROFESIONAL","TITULADO","ADMINISTRACION",3,8,16000]
[null,"307 EDUCACION SANCHEZ CARRION","R.O","CAS","CARE - JEC",2000,43877107,"RAMOS LAYZA EMILSEN ASUNCIONA","PROFESIONAL","TITULADO","ADMINISTRACION",3,8,16000]
[null,"307 EDUCACION SANCHEZ CARRION","R.O","CAS",null,null,null,null,null,null,null,null,null,{"$f":"SUM(N1688:N1702)","v":240000}]
[null,"307 EDUCACION SANCHEZ CARRION","R.O","CAS","CARE - JEC",2000,"43349381","VILLA SAEZ, MILAGROS CELINDA","PROFESIONAL","TITULADO","ADMINISTRACION",null,null,null,1,3,{"$f":"F1704*P1704","v":6000}]
[null,"307 EDUCACION SANCHEZ CARRION","R.O","CAS","CARE - JEC",2000,42164214,"SANDOVAL ARAUJO ANITA AMELIA","PROFESIONAL","TITULADO","ADMINISTRACION",null,null,null,1,3,{"$f":"F1705*P1705","v":6000}]
[null,"307 EDUCACION SANCHEZ CARRION","R.O","CAS","CARE - JEC",2000,"46579526","RAMIREZ TORIBIO, TATIANA NOEMI","PROFESIONAL","TITULADO","ADMINISTRACION",null,null,null,1,3,6000]
[null,"307 EDUCACION SANCHEZ CARRION","R.O","CAS","CARE - JEC",2000,46675092,"CONTRERAS ROJAS MILENA ANALI","PROFESIONAL","TITULADO","ADMINISTRACION",null,null,null,1,3,6000]
[null,"307 EDUCACION SANCHEZ CARRION","R.O","CAS","CARE - JEC",2000,44905109,"RABINES HORNA DELSY VANESSA","PROFESIONAL","TITULADO","ADMINISTRACION",null,null,null,1,3,6000]
[null,"307 EDUCACION SANCHEZ CARRION","R.O","CAS","CARE - JEC",2000,45648093,"RUIZ MARQUINA JANETH","PROFESIONAL","TITULADO","ADMINISTRACION",null,null,null,1,3,6000]
[null,"307 EDUCACION SANCHEZ CARRION","R.O","CAS","CARE - JEC",2000,70224258,"OLIVARES MORALES JEAN CARLO","PROFESIONAL","TITULADO","ADMINISTRACION",null,null,null,1,3,6000]
[null,"307 EDUCACION SANCHEZ CARRION","R.O","CAS","CARE - JEC",2000,"47073336","CARRANZA CAMPOS LEONARDA LEONILA","PROFESIONAL","TITULADO","ADMINISTRACION",null,null,null,1,3,6000]
[null,"307 EDUCACION SANCHEZ CARRION","R.O","CAS","CARE - JEC",2000,46715518,"JACOBO VERA JHIMMY EMERSON","PROFESIONAL","TITULADO","ADMINISTRACION",null,null,null,1,3,6000]
[null,"307 EDUCACION SANCHEZ CARRION","R.O","CAS","CARE - JEC",2000,46903161,"GELDRES ARTEAGA DANICELA","PROFESIONAL","TITULADO","ADMINISTRACION",null,null,null,1,3,6000]
[null,"307 EDUCACION SANCHEZ CARRION","R.O","CAS","CARE - JEC",2000,"42324896","SAAVEDRA CUEVAS EGON","PROFESIONAL","TITULADO","ADMINISTRACION",null,null,null,1,3,6000]
[null,"307 EDUCACION SANCHEZ CARRION","R.O","CAS","CARE - JEC",2000,"43989060","JAVIER AMAYA CYNTHIA DEL ROSARIO","PROFESIONAL","TITULADO","ADMINISTRACION",null,null,null,1,3,6000]
[null,"307 EDUCACION SANCHEZ CARRION","R.O","CAS","CARE - JEC",2000,45944972,"GUTIERREZ CONTRERAS AUGUSTO VANDER","PROFESIONAL","TITULADO","ADMINISTRACION",null,null,null,1,3,6000]
[null,"307 EDUCACION SANCHEZ CARRION","R.O","CAS","CARE - JEC",2000,"73084483","CRUZ FERNANDEZ LESLY MARIBI","PROFESIONAL","TITULADO","ADMINISTRACION",null,null,null,1,3,6000]
[null,"307 EDUCACION SANCHEZ CARRION","R.O","CAS","CARE - JEC",2000,45944972,"GUTIERREZ CONTRERAS AUGUSTO VANDER","PROFESIONAL","TITULADO","ADMINISTRACION",null,null,null,1,3,{"$f":"F1718*P1718","v":6000}]
[null,"307 EDUCACION SANCHEZ CARRION","R.O","CAS",null,null,null,null,null,null,null,null,null,null,null,null,{"$f":"SUM(Q1704:Q1718)","v":90000}]
[null,"307 EDUCACION SANCHEZ CARRION","R.O","CAS","PSICOLOGO - JEC",2000,45881392,"INFANTES PECHE MARIA HILDA ","PROFESIONAL","TITULADO","PSICOLOGO",3,8,{"$f":"F1720*M1720","v":16000}]
[null,"307 EDUCACION SANCHEZ CARRION","R.O","CAS","PSICOLOGO - JEC",2000,41305375,"MENDIETA LOAYZA CLOTILDE AMPARO","PROFESIONAL","TITULADO","PSICOLOGO",3,8,{"$f":"F1721*M1721","v":16000}]
[null,"307 EDUCACION SANCHEZ CARRION","R.O","CAS","PSICOLOGO - JEC",2000,"70227074","PAREDES GRAOS CYNTHIA PAOLA","PROFESIONAL","TITULADO","PSICOLOGO",3,8,16000]
[null,"307 EDUCACION SANCHEZ CARRION","R.O","CAS","PSICOLOGO - JEC",2000,75254202,"GOICOCHEA SALAZAR JULIA ARACELY","PROFESIONAL","TITULADO","PSICOLOGO",3,8,16000]
[null,"307 EDUCACION SANCHEZ CARRION","R.O","CAS","PSICOLOGO - JEC",2000,70233850,"LOYOLA REBAZA LIDIA PATRICIA","PROFESIONAL","TITULADO","PSICOLOGO",3,8,16000]
[null,"307 EDUCACION SANCHEZ CARRION","R.O","CAS","PSICOLOGO - JEC",2000,47105056,"SAIRITUPAC CUEVAS KEILA JULISSA","PROFESIONAL","TITULADO","PSICOLOGO",3,8,16000]
[null,"307 EDUCACION SANCHEZ CARRION","R.O","CAS","PSICOLOGO - JEC",2000,70233785,"CONTRERAS BOCANEGRA CARLA GHISELLA ","PROFESIONAL","TITULADO","PSICOLOGO",3,8,16000]
[null,"307 EDUCACION SANCHEZ CARRION","R.O","CAS","PSICOLOGO - JEC",2000,45954306,"CABRERA PAREDES PAOLA JACKELINE","PROFESIONAL","TITULADO","PSICOLOGO",3,8,16000]
[null,"307 EDUCACION SANCHEZ CARRION","R.O","CAS","PSICOLOGO - JEC",2000,46807986,"CHUSHO KUSAKABE, ANA ISABEL","PROFESIONAL","TITULADO","PSICOLOGO",3,8,16000]
[null,"307 EDUCACION SANCHEZ CARRION","R.O","CAS","PSICOLOGO - JEC",2000,45211765,"SEGURA VASQUEZ DIEGO CHISTIAN","PROFESIONAL","TITULADO","PSICOLOGO",3,8,16000]
[null,"307 EDUCACION SANCHEZ CARRION","R.O","CAS","PSICOLOGO - JEC",2000,45891393,"ALVARADO PEREZ ALCIDES WASHIGNTON","PROFESIONAL","TITULADO","PSICOLOGO",3,8,16000]
[null,"307 EDUCACION SANCHEZ CARRION","R.O","CAS","PSICOLOGO - JEC",2000,18176942,"DORA DELIA PUPUCHE HUAMAN","PROFESIONAL","TITULADO","PSICOLOGO",3,8,16000]
[null,"307 EDUCACION SANCHEZ CARRION","R.O","CAS","PSICOLOGO - JEC",2000,43190428,"CRUZ SOTOMAYOR, VANESSA YOVANNA","PROFESIONAL","TITULADO","PSICOLOGO",3,8,16000]
[null,"307 EDUCACION SANCHEZ CARRION","R.O","CAS","PSICOLOGO - JEC",2000,70280561,"POLO VARGAS LESLIE LIZET","PROFESIONAL","TITULADO","PSICOLOGO",3,8,16000]
[null,"307 EDUCACION SANCHEZ CARRION","R.O","CAS","PSICOLOGO - JEC",2000,70228812,"VALDEZ ZAVALETA JUANITA YIANINA","PROFESIONAL","TITULADO","PSICOLOGO",3,8,16000]
[null,"307 EDUCACION SANCHEZ CARRION","R.O","CAS","PSICOLOGO - JEC",null,null,null,null,null,null,null,null,{"$f":"SUM(N1720:N1734)","v":240000}]
[null,"307 EDUCACION SANCHEZ CARRION","R.O","CAS","PSICOLOGO - JEC",2000,"70227074","PAREDES GRAOS CYNTHIA PAOLA","PROFESIONAL","TITULADO","PSICOLOGO",null,null,null,1,3,{"$f":"F1736*P1736","v":6000}]
[null,"307 EDUCACION SANCHEZ CARRION","R.O","CAS","PSICOLOGO - JEC",2000,41305375,"MENDIETA LOAYZA CLOTILDE AMPARO","PROFESIONAL","TITULADO","PSICOLOGO",null,null,null,1,3,{"$f":"F1737*P1737","v":6000}]
[null,"307 EDUCACION SANCHEZ CARRION","R.O","CAS","PSICOLOGO - JEC",2000,45211765,"SEGURA VASQUEZ DIEGO CHISTIAN","PROFESIONAL","TITULADO","PSICOLOGO",null,null,null,1,3,6000]
[null,"307 EDUCACION SANCHEZ CARRION","R.O","CAS","PSICOLOGO - JEC",2000,70233785,"CONTRERAS BOCANEGRA CARLA GHISELLA ","PROFESIONAL","TITULADO","PSICOLOGO",null,null,null,1,3,6000]
[null,"307 EDUCACION SANCHEZ CARRION","R.O","CAS","PSICOLOGO - JEC",2000,70228812,"VALDEZ ZAVALETA JUANITA YIANINA","PROFESIONAL","TITULADO","PSICOLOGO",null,null,null,1,3,6000]
[null,"307 EDUCACION SANCHEZ CARRION","R.O","CAS","PSICOLOGO - JEC",2000,76285632,"AGUILAR PAREDES VICKY ESTHER","PROFESIONAL","TITULADO","PSICOLOGO",null,null,null,1,3,6000]
[null,"307 EDUCACION SANCHEZ CARRION","R.O","CAS","PSICOLOGO - JEC",2000,43076894,"GARCIA ALFARO ALBERTO EDUARDO","PROFESIONAL","TITULADO","PSICOLOGO",null,null,null,1,3,6000]
[null,"307 EDUCACION SANCHEZ CARRION","R.O","CAS","PSICOLOGO - JEC",2000,44377923,"MURGA GARCIA RAQUEL","PROFESIONAL","TITULADO","PSICOLOGO",null,null,null,1,3,6000]
[null,"307 EDUCACION SANCHEZ CARRION","R.O","CAS","PSICOLOGO - JEC",2000,"43799762","BRICEÑO SIFUENTES JULIO CESAR","PROFESIONAL","TITULADO","PSICOLOGO",null,null,null,1,3,6000]
[null,"307 EDUCACION SANCHEZ CARRION","R.O","CAS","PSICOLOGO - JEC",2000,70670890,"YARLEQUE CRUZ, ROMY MARILYN","PROFESIONAL","TITULADO","PSICOLOGO",null,null,null,1,3,6000]
[null,"307 EDUCACION SANCHEZ CARRION","R.O","CAS","PSICOLOGO - JEC",2000,72368547,"MORENO PASTOR, YANELA YOCELIN","PROFESIONAL","TITULADO","PSICOLOGO",null,null,null,1,3,6000]
[null,"307 EDUCACION SANCHEZ CARRION","R.O","CAS","PSICOLOGO - JEC",2000,"43799762","BRICEÑO SIFUENTES JULIO CESAR","PROFESIONAL","TITULADO","PSICOLOGO",null,null,null,1,3,6000]
[null,"307 EDUCACION SANCHEZ CARRION","R.O","CAS","PSICOLOGO - JEC",2000,44953325,"ROJAS HURTADO WILSON MANUEL","PROFESIONAL","TITULADO","PSICOLOGO",null,null,null,1,3,6000]
[null,"307 EDUCACION SANCHEZ CARRION","R.O","CAS","PSICOLOGO - JEC",2000,75061120,"MIRANDA LEYVA MARYURIT JENEFER","PROFESIONAL","TITULADO","PSICOLOGO",null,null,null,1,3,6000]
[null,"307 EDUCACION SANCHEZ CARRION","R.O","CAS","PSICOLOGO - JEC",2000,null,"VACANTE","PROFESIONAL","TITULADO","PSICOLOGO",null,null,null,1,3,{"$f":"F1750*P1750","v":6000}]
[null,"307 EDUCACION SANCHEZ CARRION","R.O","CAS",null,null,null,null,null,null,null,null,null,null,null,null,{"$f":"SUM(Q1736:Q1750)","v":90000}]
[null,"307 EDUCACION SANCHEZ CARRION","R.O","CAS","CIST - JEC",1800,47159369,"RUIZ ARANDA, AMELIA ELVIA","PROFESIONAL","TITULADO","ING.SISTEMAS",3,8,{"$f":"F1752*M1752","v":14400}]
[null,"307 EDUCACION SANCHEZ CARRION","R.O","CAS","CIST - JEC",1800,10204279,"DOMINGUEZ RIOS, JOSE LUIS","PROFESIONAL","TITULADO","ING.SISTEMAS",3,8,{"$f":"F1753*M1753","v":14400}]
[null,"307 EDUCACION SANCHEZ CARRION","R.O","CAS","CIST - JEC",1800,45995346,"BURGOS GAITAN , ALAN","PROFESIONAL","TITULADO","ING.SISTEMAS",3,8,14400]
[null,"307 EDUCACION SANCHEZ CARRION","R.O","CAS","CIST - JEC",1800,17874975,"CASTILLO DE LA CRUZ, SEGUNDO","PROFESIONAL","TITULADO","ING.SISTEMAS",3,8,14400]
[null,"307 EDUCACION SANCHEZ CARRION","R.O","CAS","CIST - JEC",1800,40833728,"LAVADO LAGUNA, FRANCISCO IVAN","PROFESIONAL","TITULADO","ING.SISTEMAS",3,8,14400]
[null,"307 EDUCACION SANCHEZ CARRION","R.O","CAS","CIST - JEC",1800,46887021,"GOMEZ MEDRANO, GERALDYN JIMENA","PROFESIONAL","TITULADO","ING.SISTEMAS",3,8,14400]
[null,"307 EDUCACION SANCHEZ CARRION","R.O","CAS","CIST - JEC",1800,41124322,"CUEVA VILLANUEVA, ALFONSO","PROFESIONAL","TITULADO","ING.SISTEMAS",3,8,14400]
[null,"307 EDUCACION SANCHEZ CARRION","R.O","CAS","CIST - JEC",1800,41376676,"GUTIERREZ CONTRERAS, MARLENI LEONILA","PROFESIONAL","TITULADO","ING.SISTEMAS",3,8,14400]
[null,"307 EDUCACION SANCHEZ CARRION","R.O","CAS","CIST - JEC",1800,42389488,"SILVA BARTUREN, RICARDO","PROFESIONAL","TITULADO","ING.SISTEMAS",3,8,14400]
[null,"307 EDUCACION SANCHEZ CARRION","R.O","CAS","CIST - JEC",1800,19701707,"RODRIGUEZ AGREDA, ELKIN","PROFESIONAL","TITULADO","ING.SISTEMAS",3,8,14400]
[null,"307 EDUCACION SANCHEZ CARRION","R.O","CAS","CIST - JEC",1800,41737452,"SANCHEZ HONORIO, HULDERICO","PROFESIONAL","TITULADO","ING.SISTEMAS",3,8,14400]
[null,"307 EDUCACION SANCHEZ CARRION","R.O","CAS","CIST - JEC",1800,46003321,"RUIZ RUIZ, FRANKLIN ELIELL","PROFESIONAL","TITULADO","ING.SISTEMAS",3,8,14400]
[null,"307 EDUCACION SANCHEZ CARRION","R.O","CAS","CIST - JEC",1800,46723937,"SANCHEZ FABIAN, HELLYBAN DEL ROSARIO","PROFESIONAL","TITULADO","ING.SISTEMAS",3,8,14400]
[null,"307 EDUCACION SANCHEZ CARRION","R.O","CAS","CIST - JEC",1800,43565916,"RODRIGUEZ RIOS, GILMER ROBERTO","PROFESIONAL","TITULADO","ING.SISTEMAS",3,8,14400]
[null,"307 EDUCACION SANCHEZ CARRION","R.O","CAS","CIST - JEC",1800,46620627,"VIERA ZEGARRA, ESTANISLAO","PROFESIONAL","TITULADO","ING.SISTEMAS",3,8,14400]
[null,"307 EDUCACION SANCHEZ CARRION","R.O","CAS","CIST - JEC",1800,10204279,"DOMINGUEZ RIOS, JOSE LUIS","PROFESIONAL","TITULADO","ING.SISTEMAS",3,8,14400]
[null,"307 EDUCACION SANCHEZ CARRION","R.O","CAS",null,null,null,null,null,null,null,null,null,{"$f":"SUM(N1752:N1767)","v":230400}]
[null,"307 EDUCACION SANCHEZ CARRION","R.O","CAS","CIST - JEC",1800,41990210,"CASTAÑEDA PALACIOS ARTEMIO VICTOR","PROFESIONAL","TITULADO","ING.SISTEMAS",null,null,null,1,3,{"$f":"F1769*P1769","v":5400}]
[null,"307 EDUCACION SANCHEZ CARRION","R.O","CAS","CIST - JEC",1800,42525952,"TOLEDO VERA JOHNNY SANDRO","PROFESIONAL","TITULADO","ING.SISTEMAS",null,null,null,1,3,{"$f":"F1770*P1770","v":5400}]
[null,"307 EDUCACION SANCHEZ CARRION","R.O","CAS","CIST - JEC",1800,70492964,"MUÑOZ CHUQUIRUNA JORGE AGUSTIN","PROFESIONAL","TITULADO","ING.SISTEMAS",null,null,null,1,3,5400]
[null,"307 EDUCACION SANCHEZ CARRION","R.O","CAS","CIST - JEC",1800,46003321,"RUIZ RUIZ, FRANKLIN","PROFESIONAL","TITULADO","ING.SISTEMAS",null,null,null,1,3,5400]
[null,"307 EDUCACION SANCHEZ CARRION","R.O","CAS","CIST - JEC",1800,41124322,"CUEVA VILLANUEVA, ALFONSO","PROFESIONAL","TITULADO","ING.SISTEMAS",null,null,null,1,3,5400]
[null,"307 EDUCACION SANCHEZ CARRION","R.O","CAS","CIST - JEC",1800,41737452,"SANCHEZ HONORIO, HULDERICO","PROFESIONAL","TITULADO","ING.SISTEMAS",null,null,null,1,3,5400]
[null,"307 EDUCACION SANCHEZ CARRION","R.O","CAS","CIST - JEC",1800,43899254,"MONZON AVILA, MARCOS SIMON","PROFESIONAL","TITULADO","ING.SISTEMAS",null,null,null,1,3,5400]
[null,"307 EDUCACION SANCHEZ CARRION","R.O","CAS","CIST - JEC",1800,44870212,"URPEQUE ARISPE, JUAN BENITO","PROFESIONAL","TITULADO","ING.SISTEMAS",null,null,null,1,3,5400]
[null,"307 EDUCACION SANCHEZ CARRION","R.O","CAS","CIST - JEC",1800,10204279,"DOMINGUEZ RIOS, JOSE LUIS","PROFESIONAL","TITULADO","ING.SISTEMAS",null,null,null,1,3,5400]
[null,"307 EDUCACION SANCHEZ CARRION","R.O","CAS","CIST - JEC",1800,70045634,"RODRIGUEZ BRICEÑO, CELIA KENETH","PROFESIONAL","TITULADO","ING.SISTEMAS",null,null,null,1,3,5400]
[null,"307 EDUCACION SANCHEZ CARRION","R.O","CAS","CIST - JEC",1800,73059760,"JIMENEZ AMADOR, LESMIS CANDELARIO","PROFESIONAL","TITULADO","ING.SISTEMAS",null,null,null,1,3,5400]
[null,"307 EDUCACION SANCHEZ CARRION","R.O","CAS","CIST - JEC",1800,47159369,"RUIZ ARANDA, AMELIA ELVIA","PROFESIONAL","TITULADO","ING.SISTEMAS",null,null,null,1,3,5400]
[null,"307 EDUCACION SANCHEZ CARRION","R.O","CAS","CIST - JEC",1800,10204279,"DOMINGUEZ RIOS, JOSE LUIS","PROFESIONAL","TITULADO","ING.SISTEMAS",null,null,null,1,3,5400]
[null,"307 EDUCACION SANCHEZ CARRION","R.O","CAS","CIST - JEC",1800,45995346,"BURGOS GAITAN , ALAN","PROFESIONAL","TITULADO","ING.SISTEMAS",null,null,null,1,3,5400]
[null,"307 EDUCACION SANCHEZ CARRION","R.O","CAS","CIST - JEC",1800,17874975,"CASTILLO DE LA CRUZ, SEGUNDO","PROFESIONAL","TITULADO","ING.SISTEMAS",null,null,null,1,3,5400]
[null,"307 EDUCACION SANCHEZ CARRION","R.O","CAS","CIST - JEC",1800,43565916,"RODRIGUEZ RIOS, GILMER ROBERTO","PROFESIONAL","TITULADO","ING.SISTEMAS",null,null,null,1,3,5400]
[null,"307 EDUCACION SANCHEZ CARRION","R.O","CAS",null,null,null,null,null,null,null,null,null,null,null,null,{"$f":"SUM(Q1769:Q1784)","v":86400}]
[null,"307 EDUCACION SANCHEZ CARRION","R.O","CAS","SECRETARIAS - JEC",1400,70045634,"RODRIGUEZ BRICEÑO CELIA KANETH","TECNICO","TITULADO","SECRETARIADO",3,8,{"$f":"F1786*M1786","v":11200}]
[null,"307 EDUCACION SANCHEZ CARRION","R.O","CAS","SECRETARIAS - JEC",1400,73082192,"GARCIA LEDESMA YESSENIA ELISABETH","TECNICO","TITULADO","SECRETARIADO",3,8,{"$f":"F1787*M1787","v":11200}]
[null,"307 EDUCACION SANCHEZ CARRION","R.O","CAS","SECRETARIAS - JEC",1400,45533121,"GARCIA QUINTANA VERONICA ","TECNICO","TITULADO","SECRETARIADO",3,8,11200]
[null,"307 EDUCACION SANCHEZ CARRION","R.O","CAS","SECRETARIAS - JEC",1400,"44584491","CASTILLO VEREAU, ROSA MARIBEL","TECNICO","TITULADO","SECRETARIADO",3,8,11200]
[null,"307 EDUCACION SANCHEZ CARRION","R.O","CAS","SECRETARIAS - JEC",1400,47898046,"GARCIA SEGURA NIVIA SUSANA","TECNICO","TITULADO","SECRETARIADO",3,8,11200]
[null,"307 EDUCACION SANCHEZ CARRION","R.O","CAS","SECRETARIAS - JEC",1400,46132019,"ALAYO GURREONERO FIORELLA ALTAGRACIA","TECNICO","TITULADO","SECRETARIADO",3,8,11200]
[null,"307 EDUCACION SANCHEZ CARRION","R.O","CAS","SECRETARIAS - JEC",1400,"45548595","SEGURA MUDARRA, MARGARITA","TECNICO","TITULADO","SECRETARIADO",3,8,11200]
[null,"307 EDUCACION SANCHEZ CARRION","R.O","CAS","SECRETARIAS - JEC",1400,"46579526","RAMIREZ TORIBIO, TATIANA NOEMI","TECNICO","TITULADO","SECRETARIADO",3,8,11200]
[null,"307 EDUCACION SANCHEZ CARRION","R.O","CAS","SECRETARIAS - JEC",1400,70044974,"RONDO RIOS EMERITA VANESA","TECNICO","TITULADO","SECRETARIADO",3,8,11200]
[null,"307 EDUCACION SANCHEZ CARRION","R.O","CAS","SECRETARIAS - JEC",1400,"40784064","GARCIA AGREDA, JAIRO DAVID","TECNICO","TITULADO","SECRETARIADO",3,8,11200]
[null,"307 EDUCACION SANCHEZ CARRION","R.O","CAS","SECRETARIAS - JEC",1400,46675092,"CONTRERAS ROJAS MILENA ANALI","TECNICO","TITULADO","SECRETARIADO",3,8,11200]
[null,"307 EDUCACION SANCHEZ CARRION","R.O","CAS","SECRETARIAS - JEC",1400,43578964,"MAURICIO CRUZ DORIS ARLENY","TECNICO","TITULADO","SECRETARIADO",3,8,11200]
[null,"307 EDUCACION SANCHEZ CARRION","R.O","CAS","SECRETARIAS - JEC",1400,71007754,"SALVADOR BLAS, LILIAN DEYSI","TECNICO","TITULADO","SECRETARIADO",3,8,11200]
[null,"307 EDUCACION SANCHEZ CARRION","R.O","CAS","SECRETARIAS - JEC",1400,73052867,"AZAÑERO LEDESMA FIORELA NATHALY","TECNICO","TITULADO","SECRETARIADO",3,8,11200]
[null,"307 EDUCACION SANCHEZ CARRION","R.O","CAS",null,null,null,null,null,null,null,null,null,{"$f":"SUM(N1786:N1799)","v":156800}]
[null,"307 EDUCACION SANCHEZ CARRION","R.O","CAS","SECRETARIAS - JEC",1400,47898046,"GARCIA SEGURA NIVIA SUSANA","TECNICO","TITULADO","SECRETARIADO",null,null,null,1,3,{"$f":"F1801*P1801","v":4200}]
[null,"307 EDUCACION SANCHEZ CARRION","R.O","CAS","SECRETARIAS - JEC",1400,43578964,"MAURICIO CRUZ DORIS ARLENY","TECNICO","TITULADO","SECRETARIADO",null,null,null,1,3,{"$f":"F1802*P1802","v":4200}]
[null,"307 EDUCACION SANCHEZ CARRION","R.O","CAS","SECRETARIAS - JEC",1400,45548595,"SEGURA MUDARRA MARGARITA","TECNICO","TITULADO","SECRETARIADO",null,null,null,1,3,4200]
[null,"307 EDUCACION SANCHEZ CARRION","R.O","CAS","SECRETARIAS - JEC",1400,73082192,"GARCIA LEDESMA YESSENIA ELISABETH","TECNICO","TITULADO","SECRETARIADO",null,null,null,1,3,4200]
[null,"307 EDUCACION SANCHEZ CARRION","R.O","CAS","SECRETARIAS - JEC",1400,70232224,"LOPEZ PALOMINO JUANA FLOR","TECNICO","TITULADO","SECRETARIADO",null,null,null,1,3,4200]
[null,"307 EDUCACION SANCHEZ CARRION","R.O","CAS","SECRETARIAS - JEC",1400,40292507,"VALLE INGA MILAGRO","TECNICO","TITULADO","SECRETARIADO",null,null,null,1,3,4200]
[null,"307 EDUCACION SANCHEZ CARRION","R.O","CAS","SECRETARIAS - JEC",1400,42221390,"VALLE VALDIVIEZO FRANCISCA","TECNICO","TITULADO","SECRETARIADO",null,null,null,1,3,4200]
[null,"307 EDUCACION SANCHEZ CARRION","R.O","CAS","SECRETARIAS - JEC",1400,"44727024","ALVA JARA ELVIA YANET","TECNICO","TITULADO","SECRETARIADO",null,null,null,1,3,4200]
[null,"307 EDUCACION SANCHEZ CARRION","R.O","CAS","SECRETARIAS - JEC",1400,70223755,"MARQUINA RAMOS MERCEDES","TECNICO","TITULADO","SECRETARIADO",null,null,null,1,3,4200]
[null,"307 EDUCACION SANCHEZ CARRION","R.O","CAS","SECRETARIAS - JEC",1400,70220385,"ULLOA ARANDA LADY JULISSA","TECNICO","TITULADO","SECRETARIADO",null,null,null,1,3,4200]
[null,"307 EDUCACION SANCHEZ CARRION","R.O","CAS","SECRETARIAS - JEC",1400,46109098,"ALVARADO ROJAS, NANCY GEOVANNY","TECNICO","TITULADO","SECRETARIADO",null,null,null,1,3,4200]
[null,"307 EDUCACION SANCHEZ CARRION","R.O","CAS","SECRETARIAS - JEC",1400,46771156,"JIMENEZ MISERICORDIA, EDWAR LEANDRO","TECNICO","TITULADO","SECRETARIADO",null,null,null,1,3,4200]
[null,"307 EDUCACION SANCHEZ CARRION","R.O","CAS","SECRETARIAS - JEC",1400,73710361,"ASUNCIÓN MIÑANO, GIOVANNA DIANA","TECNICO","TITULADO","SECRETARIADO",null,null,null,1,3,4200]
[null,"307 EDUCACION SANCHEZ CARRION","R.O","CAS","SECRETARIAS - JEC",1400,42930932,"YUPANQUI ARAUJO KELLY","TECNICO","TITULADO","SECRETARIADO",null,null,null,1,3,4200]
[null,"307 EDUCACION SANCHEZ CARRION","R.O","CAS",null,null,null,null,null,null,null,null,null,null,null,null,{"$f":"SUM(Q1801:Q1814)","v":58800}]
[null,"307 EDUCACION SANCHEZ CARRION","R.O","CAS","APOYO EDUCATIVO - JEC",1150,19573160,"VALVERDE CAMPOS ALAIN ORLANDO","TECNICO","TITULADO","AUXILIAR DE EDUCACION",3,8,{"$f":"F1816*M1816","v":9200}]
[null,"307 EDUCACION SANCHEZ CARRION","R.O","CAS","APOYO EDUCATIVO - JEC",1150,"45460624","SIMON QUISPE, SANTOS","TECNICO","TITULADO","AUXILIAR DE EDUCACION",3,8,{"$f":"F1817*M1817","v":9200}]
[null,"307 EDUCACION SANCHEZ CARRION","R.O","CAS","APOYO EDUCATIVO - JEC",1150,"72305989","SOTO QUEZADA KATIA ALESSANDRA","TECNICO","TITULADO","AUXILIAR DE EDUCACION",3,8,9200]
[null,"307 EDUCACION SANCHEZ CARRION","R.O","CAS","APOYO EDUCATIVO - JEC",1150,41300001,"CONTRERAS JAIME LIDIA ","TECNICO","TITULADO","AUXILIAR DE EDUCACION",3,8,9200]
[null,"307 EDUCACION SANCHEZ CARRION","R.O","CAS","APOYO EDUCATIVO - JEC",1150,46158851,"REYES ARAUJO ZULMA DIANA ","TECNICO","TITULADO","AUXILIAR DE EDUCACION",3,8,9200]
[null,"307 EDUCACION SANCHEZ CARRION","R.O","CAS","APOYO EDUCATIVO - JEC",1150,19560618,"SIGUENZA IPARRAGUIRRE EDITH ELSI","TECNICO","TITULADO","AUXILIAR DE EDUCACION",3,8,9200]
[null,"307 EDUCACION SANCHEZ CARRION","R.O","CAS","APOYO EDUCATIVO - JEC",1150,19691618,"VELASQUEZ NAVEZ ADELMAR","TECNICO","TITULADO","AUXILIAR DE EDUCACION",3,8,9200]
[null,"307 EDUCACION SANCHEZ CARRION","R.O","CAS","APOYO EDUCATIVO - JEC",1150,72305987,"SOTO QUEZADA JHONATAN JHORDI","TECNICO","TITULADO","AUXILIAR DE EDUCACION",3,8,9200]
[null,"307 EDUCACION SANCHEZ CARRION","R.O","CAS","APOYO EDUCATIVO - JEC",1150,72242631,"DE LA CRUZ INFANTES IRIS EDITH","TECNICO","TITULADO","AUXILIAR DE EDUCACION",3,8,9200]
[null,"307 EDUCACION SANCHEZ CARRION","R.O","CAS","APOYO EDUCATIVO - JEC",1150,43452286,"ALAYO GURREONERO CYNTHIA LORENA","TECNICO","TITULADO","AUXILIAR DE EDUCACION",3,8,9200]
[null,"307 EDUCACION SANCHEZ CARRION","R.O","CAS","APOYO EDUCATIVO - JEC",1150,42636078,"RAMOS CONTRERAS MILTON ","TECNICO","TITULADO","AUXILIAR DE EDUCACION",3,8,9200]
[null,"307 EDUCACION SANCHEZ CARRION","R.O","CAS","APOYO EDUCATIVO - JEC",1150,45560091,"LAGUNA TUMBAJULCA ELSA MARGARITA","TECNICO","TITULADO","AUXILIAR DE EDUCACION",3,8,9200]
[null,"307 EDUCACION SANCHEZ CARRION","R.O","CAS","APOYO EDUCATIVO - JEC",1150,70223660,"ROBLES SAAVEDRA ANA KELY","TECNICO","TITULADO","AUXILIAR DE EDUCACION",3,8,9200]
[null,"307 EDUCACION SANCHEZ CARRION","R.O","CAS","APOYO EDUCATIVO - JEC",1150,19529518,"FLORES ASUNCION JUSTINA","TECNICO","TITULADO","AUXILIAR DE EDUCACION",3,8,9200]
[null,"307 EDUCACION SANCHEZ CARRION","R.O","CAS","APOYO EDUCATIVO - JEC",1150,19560618,"SIGUENZA IPARRAGUIRRE EDITH ELSI","TECNICO","TITULADO","AUXILIAR DE EDUCACION",3,8,9200]
[null,"307 EDUCACION SANCHEZ CARRION","R.O","CAS","APOYO EDUCATIVO - JEC",1150,46283711,"MARQUINA BAUTISTA PEDRO","TECNICO","TITULADO","AUXILIAR DE EDUCACION",3,8,9200]
[null,"307 EDUCACION SANCHEZ CARRION","R.O","CAS","APOYO EDUCATIVO - JEC",1150,72242631,"DE LA CRUZ INFANTES IRIS EDITH","TECNICO","TITULADO","AUXILIAR DE EDUCACION",3,8,9200]
[null,"307 EDUCACION SANCHEZ CARRION","R.O","CAS",null,null,null,null,null,null,null,null,null,{"$f":"SUM(N1816:N1832)","v":156400}]
[null,"307 EDUCACION SANCHEZ CARRION","R.O","CAS","APOYO EDUCATIVO - JEC",1150,19560618,"SIGUENZA IPARRAGUIRRE EDITH ELSI","TECNICO","TITULADO","AUXILIAR DE EDUCACION",null,null,null,1,3,{"$f":"F1834*P1834","v":3450}]
[null,"307 EDUCACION SANCHEZ CARRION","R.O","CAS","APOYO EDUCATIVO - JEC",1150,46283711,"MARQUINA BAUTISTA PEDRO","TECNICO","TITULADO","AUXILIAR DE EDUCACION",null,null,null,1,3,{"$f":"F1835*P1835","v":3450}]
[null,"307 EDUCACION SANCHEZ CARRION","R.O","CAS","APOYO EDUCATIVO - JEC",1150,72242631,"DE LA CRUZ INFANTES IRIS EDITH","TECNICO","TITULADO","AUXILIAR DE EDUCACION",null,null,null,1,3,3450]
[null,"307 EDUCACION SANCHEZ CARRION","R.O","CAS","APOYO EDUCATIVO - JEC",1150,19529518,"FLORES ASUNCION JUSTINA","TECNICO","TITULADO","AUXILIAR DE EDUCACION",null,null,null,1,3,3450]
[null,"307 EDUCACION SANCHEZ CARRION","R.O","CAS","APOYO EDUCATIVO - JEC",1150,"19530483","CASTILLO REYES FERNANDO","TECNICO","TITULADO","AUXILIAR DE EDUCACION",null,null,null,1,3,3450]
[null,"307 EDUCACION SANCHEZ CARRION","R.O","CAS","APOYO EDUCATIVO - JEC",1150,"72305989","SOTO QUEZADA KATIA ALESSANDRA","TECNICO","TITULADO","AUXILIAR DE EDUCACION",null,null,null,1,3,3450]
[null,"307 EDUCACION SANCHEZ CARRION","R.O","CAS","APOYO EDUCATIVO - JEC",1150,"19691618","VELASQUEZ NAVEZ ADELMAR TEOFILO","TECNICO","TITULADO","AUXILIAR DE EDUCACION",null,null,null,1,3,3450]
[null,"307 EDUCACION SANCHEZ CARRION","R.O","CAS","APOYO EDUCATIVO - JEC",1150,73679264,"RAMOS VILLALOBOS NIMIA YOLANDA","TECNICO","TITULADO","AUXILIAR DE EDUCACION",null,null,null,1,3,3450]
[null,"307 EDUCACION SANCHEZ CARRION","R.O","CAS","APOYO EDUCATIVO - JEC",1150,72305987,"SOTO QUEZADA JHONATAN JHORDI","TECNICO","TITULADO","AUXILIAR DE EDUCACION",null,null,null,1,3,3450]
[null,"307 EDUCACION SANCHEZ CARRION","R.O","CAS","APOYO EDUCATIVO - JEC",1150,"41037691","CRUZATE IPARRAGUIRRE NORMA ISABEL","TECNICO","TITULADO","AUXILIAR DE EDUCACION",null,null,null,1,3,3450]
[null,"307 EDUCACION SANCHEZ CARRION","R.O","CAS","APOYO EDUCATIVO - JEC",1150,80378774,"BRISEÑO TACANGA, CAROLINA","TECNICO","TITULADO","AUXILIAR DE EDUCACION",null,null,null,1,3,3450]
[null,"307 EDUCACION SANCHEZ CARRION","R.O","CAS","APOYO EDUCATIVO - JEC",1150,17966002,"SUAREZ RODAS, CARMEN ROSA","TECNICO","TITULADO","AUXILIAR DE EDUCACION",null,null,null,1,3,3450]
[null,"307 EDUCACION SANCHEZ CARRION","R.O","CAS","APOYO EDUCATIVO - JEC",1150,41697264,"LEZAMA AVILA, CLEOFE RAQUEL","TECNICO","TITULADO","AUXILIAR DE EDUCACION",null,null,null,1,3,3450]
[null,"307 EDUCACION SANCHEZ CARRION","R.O","CAS","APOYO EDUCATIVO - JEC",1150,45066857,"RAMOS NAVEZ, JANET MAGALY","TECNICO","TITULADO","AUXILIAR DE EDUCACION",null,null,null,1,3,3450]
[null,"307 EDUCACION SANCHEZ CARRION","R.O","CAS","APOYO EDUCATIVO - JEC",1150,41787276,"AGREDA ASTO, LUIS ALBERTO","TECNICO","TITULADO","AUXILIAR DE EDUCACION",null,null,null,1,3,3450]
[null,"307 EDUCACION SANCHEZ CARRION","R.O","CAS","APOYO EDUCATIVO - JEC",1150,"47057522","MARIÑOS ROSARIO JIMENA LUCERO","TECNICO","TITULADO","AUXILIAR DE EDUCACION",null,null,null,1,3,3450]
[null,"307 EDUCACION SANCHEZ CARRION","R.O","CAS","APOYO EDUCATIVO - JEC",1150,"41321749","PALOMINO JURADO EVA MARIA","TECNICO","TITULADO","AUXILIAR DE EDUCACION",null,null,null,1,3,3450]
[null,"307 EDUCACION SANCHEZ CARRION","R.O","CAS",null,null,null,null,null,null,null,null,null,null,null,null,{"$f":"SUM(Q1834:Q1850)","v":58650}]
[null,"307 EDUCACION SANCHEZ CARRION","R.O","CAS","PERSONAL DE MANTENIMIENTO - JEC",1150,80452021,"VASQUEZ CONTRERAS FLOR DE MARIA","AUXILIAR ","TITULADO","MANTEMINEINTO",3,8,{"$f":"F1852*M1852","v":9200}]
[null,"307 EDUCACION SANCHEZ CARRION","R.O","CAS","PERSONAL DE MANTENIMIENTO - JEC",1150,19560336,"CALDERON VILLALVA FLOR MARIA","AUXILIAR ","TITULADO","MANTEMINEINTO",3,8,{"$f":"F1853*M1853","v":9200}]
[null,"307 EDUCACION SANCHEZ CARRION","R.O","CAS","PERSONAL DE MANTENIMIENTO - JEC",1150,42660675,"RUIZ VILLANUEVA HILDA RENE","AUXILIAR ","TITULADO","MANTEMINEINTO",3,8,9200]
[null,"307 EDUCACION SANCHEZ CARRION","R.O","CAS","PERSONAL DE MANTENIMIENTO - JEC",1150,43185696,"VILLALVA JULCA MAGDALENA","AUXILIAR ","TITULADO","MANTEMINEINTO",3,8,9200]
[null,"307 EDUCACION SANCHEZ CARRION","R.O","CAS","PERSONAL DE MANTENIMIENTO - JEC",1150,"44417210","MONZON YUPANQUI, ALEXANDER ROBER","AUXILIAR ","TITULADO","MANTEMINEINTO",3,8,9200]
[null,"307 EDUCACION SANCHEZ CARRION","R.O","CAS","PERSONAL DE MANTENIMIENTO - JEC",1150,43905934,"GAMBOA ANTICONA CLEMENCIA ","AUXILIAR ","TITULADO","MANTEMINEINTO",3,8,9200]
[null,"307 EDUCACION SANCHEZ CARRION","R.O","CAS","PERSONAL DE MANTENIMIENTO - JEC",1150,42739549,"GAMBOA ANTICONA MAGNA","AUXILIAR ","TITULADO","MANTEMINEINTO",3,8,9200]
[null,"307 EDUCACION SANCHEZ CARRION","R.O","CAS","PERSONAL DE MANTENIMIENTO - JEC",1150,41161570,"VEGA RONDO CESAR FLORES","AUXILIAR ","TITULADO","MANTEMINEINTO",3,8,9200]
[null,"307 EDUCACION SANCHEZ CARRION","R.O","CAS","PERSONAL DE MANTENIMIENTO - JEC",1150,80601075,"GUZMAN SAGON AIDA DORIS ","AUXILIAR ","TITULADO","MANTEMINEINTO",3,8,9200]
[null,"307 EDUCACION SANCHEZ CARRION","R.O","CAS","PERSONAL DE MANTENIMIENTO - JEC",1150,40260354,"RUIZ VILLANUEVA MARIELA ","AUXILIAR ","TITULADO","MANTEMINEINTO",3,8,9200]
[null,"307 EDUCACION SANCHEZ CARRION","R.O","CAS","PERSONAL DE MANTENIMIENTO - JEC",1150,"43941326","VILLAFRANCO TUMBAJULCA, ELADIO","AUXILIAR ","TITULADO","MANTEMINEINTO",3,8,9200]
[null,"307 EDUCACION SANCHEZ CARRION","R.O","CAS","PERSONAL DE MANTENIMIENTO - JEC",1150,19560012,"ESPEJO MORENO MERCEDES DEL PILAR","AUXILIAR ","TITULADO","MANTEMINEINTO",3,8,9200]
[null,"307 EDUCACION SANCHEZ CARRION","R.O","CAS","PERSONAL DE MANTENIMIENTO - JEC",1150,73543363,"SANCHEZ OTINIANO, ERICKA JULISSA","AUXILIAR ","TITULADO","MANTEMINEINTO",3,8,9200]
[null,"307 EDUCACION SANCHEZ CARRION","R.O","CAS","PERSONAL DE MANTENIMIENTO - JEC",1150,40928917,"POLO TORRES ROSA TRINIDAD","AUXILIAR ","TITULADO","MANTEMINEINTO",3,8,9200]
[null,"307 EDUCACION SANCHEZ CARRION","R.O","CAS",null,null,null,null,null,null,null,null,null,{"$f":"SUM(N1852:N1865)","v":128800}]
[null,"307 EDUCACION SANCHEZ CARRION","R.O","CAS","PERSONAL DE MANTENIMIENTO - JEC",1150,"40260354","VEGA RONDO CESAR","AUXILIAR ","TITULADO","MANTEMINEINTO",null,null,null,1,3,{"$f":"F1867*P1867","v":3450}]
[null,"307 EDUCACION SANCHEZ CARRION","R.O","CAS","PERSONAL DE MANTENIMIENTO - JEC",1150,"43941326","VILLAFRANCO TUMBAJULCA, ELADIO","AUXILIAR ","TITULADO","MANTEMINEINTO",null,null,null,1,3,{"$f":"F1868*P1868","v":3450}]
[null,"307 EDUCACION SANCHEZ CARRION","R.O","CAS","PERSONAL DE MANTENIMIENTO - JEC",1150,"47681208","BALLENA GARCIA JUANA","AUXILIAR ","TITULADO","MANTEMINEINTO",null,null,null,1,3,3450]
[null,"307 EDUCACION SANCHEZ CARRION","R.O","CAS","PERSONAL DE MANTENIMIENTO - JEC",1150,19560012,"ESPEJO MORENO MERCEDES DEL PILAR","AUXILIAR ","TITULADO","MANTEMINEINTO",null,null,null,1,3,3450]
[null,"307 EDUCACION SANCHEZ CARRION","R.O","CAS","PERSONAL DE MANTENIMIENTO - JEC",1150,43905934,"GAMBOA ANTICONA CLEMENCIA ","AUXILIAR ","TITULADO","MANTEMINEINTO",null,null,null,1,3,3450]
[null,"307 EDUCACION SANCHEZ CARRION","R.O","CAS","PERSONAL DE MANTENIMIENTO - JEC",1150,40780875,"DAZA SANTOS FELIPE","AUXILIAR ","TITULADO","MANTEMINEINTO",null,null,null,1,3,3450]
[null,"307 EDUCACION SANCHEZ CARRION","R.O","CAS","PERSONAL DE MANTENIMIENTO - JEC",1150,42660675,"RUIZ VILLANUEVA MARIANELA","AUXILIAR ","TITULADO","MANTEMINEINTO",null,null,null,1,3,3450]
[null,"307 EDUCACION SANCHEZ CARRION","R.O","CAS","PERSONAL DE MANTENIMIENTO - JEC",1150,80452021,"VASQUEZ CONTRERAS, FLOR DE MARIA","AUXILIAR ","TITULADO","MANTEMINEINTO",null,null,null,1,3,3450]
[null,"307 EDUCACION SANCHEZ CARRION","R.O","CAS","PERSONAL DE MANTENIMIENTO - JEC",1150,40928917,"POLO TORRES ROSA TRINIDAD","AUXILIAR ","TITULADO","MANTEMINEINTO",null,null,null,1,3,3450]
[null,"307 EDUCACION SANCHEZ CARRION","R.O","CAS","PERSONAL DE MANTENIMIENTO - JEC",1150,47228817,"BENITES REYNA JOSE MIGUEL","AUXILIAR ","TITULADO","MANTEMINEINTO",null,null,null,1,3,3450]
[null,"307 EDUCACION SANCHEZ CARRION","R.O","CAS","PERSONAL DE MANTENIMIENTO - JEC",1150,"44417210","MONZON YUPANQUI ALEXANDER","AUXILIAR ","TITULADO","MANTEMINEINTO",null,null,null,1,3,3450]
[null,"307 EDUCACION SANCHEZ CARRION","R.O","CAS","PERSONAL DE MANTENIMIENTO - JEC",1150,"18178074","ARTEAGA CORDOVA SONIA BEATRIZ","AUXILIAR ","TITULADO","MANTEMINEINTO",null,null,null,1,3,3450]
[null,"307 EDUCACION SANCHEZ CARRION","R.O","CAS","PERSONAL DE MANTENIMIENTO - JEC",1150,42660675,"RUIZ VILLANUEVA HILDA RENE","AUXILIAR ","TITULADO","MANTEMINEINTO",null,null,null,1,3,3450]
[null,"307 EDUCACION SANCHEZ CARRION","R.O","CAS","PERSONAL DE MANTENIMIENTO - JEC",1150,42739549,"GAMBOA ANTICONA MAGNA","AUXILIAR ","TITULADO","MANTEMINEINTO",null,null,null,1,3,{"$f":"F1880*P1880","v":3450}]
[null,"307 EDUCACION SANCHEZ CARRION","R.O","CAS",null,null,null,null,null,null,null,null,null,null,null,null,{"$f":"SUM(Q1867:Q1880)","v":48300}]
[null,"307 EDUCACION SANCHEZ CARRION","R.O","CAS","VIGILANTE - JEC",1150,40655242,"CONTRERAS ZAVALA JOSE NIXOR",null,null,null,4,12,{"$f":"F1882*M1882","v":13800},2,6,{"$f":"F1882*P1882","v":6900}]
[null,"307 EDUCACION SANCHEZ CARRION","R.O","CAS","VIGILANTE - JEC",1150,19564474,"RODRIGUEZ AGREDA MARIANO",null,null,null,4,12,{"$f":"F1883*M1883","v":13800},2,6,{"$f":"F1883*P1883","v":6900}]
[null,"307 EDUCACION SANCHEZ CARRION","R.O","CAS","VIGILANTE - JEC",1150,19578224,"CAMPOS CAMPOS JULIO CESAR ",null,null,null,4,12,13800,2,6,6900]
[null,"307 EDUCACION SANCHEZ CARRION","R.O","CAS","VIGILANTE - JEC",1150,19561034,"CASTILLO MARQUINA CIRILO VALENTIN",null,null,null,4,12,13800,2,6,6900]
[null,"307 EDUCACION SANCHEZ CARRION","R.O","CAS","VIGILANTE - JEC",1150,"46578369","POLO CRUZADO, ANTONIO",null,null,null,4,12,13800,2,6,6900]
[null,"307 EDUCACION SANCHEZ CARRION","R.O","CAS","VIGILANTE - JEC",1150,"19572390","VARGAS RABINES GONZALO ESTANISLAO",null,null,null,4,12,13800,2,6,6900]
[null,"307 EDUCACION SANCHEZ CARRION","R.O","CAS","VIGILANTE - JEC",1150,19559552,"ALAYO ARANDA ABELARDO JUAN ",null,null,null,4,12,13800,2,6,6900]
[null,"307 EDUCACION SANCHEZ CARRION","R.O","CAS","VIGILANTE - JEC",1150,"73475662","RAMOS FLORES, OMAR",null,null,null,4,12,13800,2,6,6900]
[null,"307 EDUCACION SANCHEZ CARRION","R.O","CAS","VIGILANTE - JEC",1150,"45044549","HUACCHA HUAMAN MELVIN ALBERTO",null,null,null,4,12,13800,2,6,6900]
[null,"307 EDUCACION SANCHEZ CARRION","R.O","CAS","VIGILANTE - JEC",1150,19551867,"SERIN HONORIO ZOSIMO",null,null,null,4,12,13800,2,6,6900]
[null,"307 EDUCACION SANCHEZ CARRION","R.O","CAS","VIGILANTE - JEC",1150,70153195,"LOPEZ VEREAU ABANTO",null,null,null,4,12,13800,2,6,6900]
[null,"307 EDUCACION SANCHEZ CARRION","R.O","CAS","VIGILANTE - JEC",1150,40501892,"YUPANQUI CAMPOS EMILIANO",null,null,null,4,12,13800,2,6,6900]
[null,"307 EDUCACION SANCHEZ CARRION","R.O","CAS","VIGILANTE - JEC",1150,42002723,"GAYTAN COLQUI PEDRO GUZMAN ",null,null,null,4,12,13800,2,6,6900]
[null,"307 EDUCACION SANCHEZ CARRION","R.O","CAS","VIGILANTE - JEC",1150,19574759,"CASTILLO ESPEJO FRANCILES TIMOTEO",null,null,null,4,12,13800,2,6,6900]
[null,"307 EDUCACION SANCHEZ CARRION","R.O","CAS","VIGILANTE - JEC",1150,19572890,"VILLANUEVA FLORES, ROSAS ROGELIO",null,null,null,4,12,13800,2,6,6900]
[null,"307 EDUCACION SANCHEZ CARRION","R.O","CAS","VIGILANTE - JEC",1150,41440363,"CABRERA CANSINO NILTON CESAR ",null,null,null,4,12,13800,2,6,6900]
[null,"307 EDUCACION SANCHEZ CARRION","R.O","CAS","VIGILANTE - JEC",1150,40664434,"SALINAS PADILLA, MARTIN",null,null,null,4,12,13800,2,6,6900]
[null,"307 EDUCACION SANCHEZ CARRION","R.O","CAS","VIGILANTE - JEC",1150,44077675,"VALLE DE LA CRUZ HUBERT JOSLIN",null,null,null,4,12,13800,2,6,6900]
[null,"307 EDUCACION SANCHEZ CARRION","R.O","CAS","VIGILANTE - JEC",1150,19530959,"MONZON CALDERON MARIANO ",null,null,null,4,12,13800,2,6,6900]
[null,"307 EDUCACION SANCHEZ CARRION","R.O","CAS","VIGILANTE - JEC",1150,46654500,"VASQUEZ PIZAN HERMITANIO",null,null,null,4,12,13800,2,6,6900]
[null,"307 EDUCACION SANCHEZ CARRION","R.O","CAS","VIGILANTE - JEC",1150,70346579,"CHACON AVILA  HERBERTH ROSSESWLTH",null,null,null,4,12,13800,2,6,6900]
[null,"307 EDUCACION SANCHEZ CARRION","R.O","CAS","VIGILANTE - JEC",1150,41255202,"ARANDA OTINIANO JUAN ISRRAEL",null,null,null,4,12,13800,2,6,6900]
[null,"307 EDUCACION SANCHEZ CARRION","R.O","CAS","VIGILANTE - JEC",1150,19565898,"ARANDA OTINIANO SANTOS JULIO",null,null,null,4,12,13800,2,6,6900]
[null,"307 EDUCACION SANCHEZ CARRION","R.O","CAS","VIGILANTE - JEC",1150,19539696,"YNFANTES CAMPOS PEDRO",null,null,null,4,12,13800,2,6,6900]
[null,"307 EDUCACION SANCHEZ CARRION","R.O","CAS","VIGILANTE - JEC",1150,19568325,"PAREDES LAGUNA MELANIO",null,null,null,4,12,13800,2,6,6900]
[null,"307 EDUCACION SANCHEZ CARRION","R.O","CAS","VIGILANTE - JEC",1150,40403107,"VILCHEZ ARENAS MARCO ANTONIO",null,null,null,4,12,13800,2,6,6900]
[null,"307 EDUCACION SANCHEZ CARRION","R.O","CAS","VIGILANTE - JEC",1150,"47510563","ARMAS ROSAS, EDWIN BENITO",null,null,null,4,12,13800,2,6,6900]
[null,"307 EDUCACION SANCHEZ CARRION","R.O","CAS","VIGILANTE - JEC",1150,19570020,"RONDO ARTEAGA JUAN ",null,null,null,4,12,13800,2,6,6900]
[null,"307 EDUCACION SANCHEZ CARRION","R.O","CAS","VIGILANTE - JEC",1150,19570231,"ARTEAGA CONTRERAS WILFREDO",null,null,null,4,12,13800,2,6,6900]
[null,"307 EDUCACION SANCHEZ CARRION","R.O","CAS","VIGILANTE - JEC",1150,19569556,"BACA FERNANDEZ ANANIAS LEONIDAS",null,null,null,4,12,13800,2,6,6900]
[null,"307 EDUCACION SANCHEZ CARRION","R.O","CAS","VIGILANTE - JEC",1150,47345003,"CARRION RAMIREZ, DIEGO JIMMY",null,null,null,4,12,13800,2,6,6900]
[null,"307 EDUCACION SANCHEZ CARRION","R.O","CAS","VIGILANTE - JEC",1150,73040303,"GRAOS POLO MARTIN GONZALO",null,null,null,4,12,13800,2,6,6900]
[null,"307 EDUCACION SANCHEZ CARRION","R.O","CAS","VIGILANTE - JEC",1150,43414606,"POLO CABALLERO CONCEPCION AGUSTIN",null,null,null,4,12,13800,2,6,6900]
[null,"307 EDUCACION SANCHEZ CARRION","R.O","CAS","VIGILANTE - JEC",1150,70043749,"PEÑA TRUJILLO RONALD EDGAR ",null,null,null,4,12,13800,2,6,6900]
[null,"307 EDUCACION SANCHEZ CARRION","R.O","CAS","VIGILANTE - JEC",1150,41307306,"SANDOVAL SALINAS SEGUNDO JUAN ",null,null,null,4,12,13800,2,6,6900]
[null,"307 EDUCACION SANCHEZ CARRION","R.O","CAS","VIGILANTE - JEC",1150,73695788,"CUEVA ALTAMIRANO RUBEN",null,null,null,4,12,13800,2,6,6900]
[null,"307 EDUCACION SANCHEZ CARRION","R.O","CAS","VIGILANTE - JEC",1150,"19568257","ROBLES MARQUINA, JUAN ANTONIO",null,null,null,4,12,13800,2,6,6900]
[null,"307 EDUCACION SANCHEZ CARRION","R.O","CAS","VIGILANTE - JEC",1150,"19578138","VARGAS CASTILLO VICENTE ",null,null,null,4,12,13800,2,6,6900]
[null,"307 EDUCACION SANCHEZ CARRION","R.O","CAS","VIGILANTE - JEC",1150,62251052,"CAYPO RUBIO NOE ELI",null,null,null,4,12,13800,2,6,6900]
[null,"307 EDUCACION SANCHEZ CARRION","R.O","CAS","VIGILANTE - JEC",1150,"19691585","ESCOBEDO VALVERDE, RODOLFO BENITO",null,null,null,4,12,13800,2,6,6900]
[null,"307 EDUCACION SANCHEZ CARRION","R.O","CAS","VIGILANTE - JEC",1150,"46867148","RUIZ HONORIO, GUTKNECHT LEODAN",null,null,null,4,12,13800,2,6,6900]
[null,"307 EDUCACION SANCHEZ CARRION","R.O","CAS","VIGILANTE - JEC",1150,"19678693","ZAMUDIO NARVAEZ, JORGE FRANCLIN",null,null,null,4,12,13800,2,6,6900]
[null,"307 EDUCACION SANCHEZ CARRION","R.O","CAS","VIGILANTE - JEC",1150,"19535515","RIOS LAIZA MAXIMO",null,null,null,4,12,13800,2,6,6900]
[null,"307 EDUCACION SANCHEZ CARRION","R.O","CAS","VIGILANTE - JEC",1150,71217362,"AGREDA ESPEJO  DENIS DARWIN",null,null,null,4,12,13800,2,6,6900]
[null,"307 EDUCACION SANCHEZ CARRION","R.O","CAS","VIGILANTE - JEC",1150,"19571083","ROMERO SANDOVAL EUSEBIO TEOFILO",null,null,null,4,12,13800,2,6,6900]
[null,"307 EDUCACION SANCHEZ CARRION","R.O","CAS","VIGILANTE - JEC",1150,40129352,"ASTO CAMPOS ANTONINO ENRIQUE",null,null,null,4,12,13800,2,6,6900]
[null,"307 EDUCACION SANCHEZ CARRION","R.O","CAS","VIGILANTE - JEC",1150,19571567,"AVILA ALVARADO NATIVIDAD FLORENTINO",null,null,null,4,12,13800,2,6,6900]
[null,"307 EDUCACION SANCHEZ CARRION","R.O","CAS","VIGILANTE - JEC",1150,44823280,"CISNEROS JARA JHAMES OMAR",null,null,null,4,12,13800,2,6,6900]
[null,"307 EDUCACION SANCHEZ CARRION","R.O","CAS","VIGILANTE - JEC",1150,"47250109","GAITAN RAMIREZ MARLLYN ADRIAN",null,null,null,4,12,13800,2,6,6900]
[null,"307 EDUCACION SANCHEZ CARRION","R.O","CAS","VIGILANTE - JEC",1150,17405762,"GINES ESPINOZA RAUL",null,null,null,4,12,13800,2,6,6900]
[null,"307 EDUCACION SANCHEZ CARRION","R.O","CAS","VIGILANTE - JEC",1150,42653890,"JARA VALDIVIA FREDDY RONALD ",null,null,null,4,12,13800,2,6,6900]
[null,"307 EDUCACION SANCHEZ CARRION","R.O","CAS","VIGILANTE - JEC",1150,"46188917","LAYZA RODRIGUEZ MOISES ELIAS",null,null,null,4,12,13800,2,6,6900]
[null,"307 EDUCACION SANCHEZ CARRION","R.O","CAS","VIGILANTE - JEC",1150,6785653,"LLANOS LOPEZ GILBERTO",null,null,null,4,12,13800,2,6,6900]
[null,"307 EDUCACION SANCHEZ CARRION","R.O","CAS","VIGILANTE - JEC",1150,42937163,"RUBIO CHACON CARLOS DONICIO",null,null,null,4,12,13800,2,6,6900]
[null,"307 EDUCACION SANCHEZ CARRION","R.O","CAS","VIGILANTE - JEC",1150,46351543,"VALVERDE CAMPOS FLOR HAYDEE",null,null,null,4,12,13800,2,6,6900]
[null,"307 EDUCACION SANCHEZ CARRION","R.O","CAS","VIGILANTE - JEC",1150,19577688,"SANTILLAN VASQUEZ FELIPE",null,null,null,4,12,13800,2,6,6900]
[null,null,null,null,null,null,null,null,null,null,null,null,null,{"$f":"SUM(N1882:N1937)","v":772800},null,null,{"$f":"SUM(Q1882:Q1937)","v":386400}]
[null,"TOTAL",null,null,null,{"$f":"SUM(F1605:F1938)","v":581050},null,null,null,null,null,null,null,{"$f":"N1617+N1631+N1652+N1679+N1682+N1703+N1735+N1768+N1800+N1833+N1866+N1938","v":3045400},null,null,{"$f":"Q1617+Q1631+Q1673+Q1687+Q1719+Q1751+Q1785+Q1815+Q1851+Q1881+Q1938","v":1240950}]
[null,"308 EDUCACION PATAZ","RO","CAS","ASESOR DOCENTE",1500,"45138807","CASTILLO MELGAREJO, ISAIAS KENLY","INGENIERO CIVIL","UNIVERSITARIO","TITULO UNIVERSITARIO",0,null,null,2,6,{"$f":"+P1940*F1940","v":9000}]
[null,"308 EDUCACION PATAZ","RO","CAS","ASESOR DOCENTE",1200,"45837610","SEPULVEDA MARREROS EDWIN TORIBIO","DOCENTE","BACHILLER","TITULO PROFESIONAL",3,10,{"$f":"+F1941*M1941","v":12000}]
[null,"308 EDUCACION PATAZ","RO","CAS","ASESOR DOCENTE",1200,"32861496","CHIHUALA VEGA MODESTO","DOCENTE","BACHILLER","TITULO PROFESIONAL",3,10,12000,2,6,{"$f":"+F1942*P1942","v":7200}]
[null,"308 EDUCACION PATAZ","RO","CAS","PROGRAMADOR DE APLICATIVO PAD",1500,"43619344","FLORES ESCUDERO KELLY MARLITH","ADMINISTRACION","BACHILLER","BACHILLER",2,10,15000]
[null,"308 EDUCACION PATAZ","RO","CAS","AUXILIAR DE MANTENIMIENTO",1150,"71963343","ESCALANTE RIOS MARIA IDALIA","SIN PROFESION","TECNICO","TECNICO",1,10,11500,2,6,{"$f":"+F1944*P1944","v":6900}]
[null,"308 EDUCACION PATAZ","RO","CAS","AUXILIAR DE MANTENIMIENTO",1150,"42634683","MEDINA SALINAS ELOY ROGER","SIN PROFESION","TECNICO","TECNICO",1,10,11500,1,3,{"$f":"1150*P1945","v":3450}]
[null,"308 EDUCACION PATAZ","RO","CAS","AUXILIAR DE MANTENIMIENTO",1150,"44360222","CALDERON MEDINA IMER BANI","SIN PROFESION","TECNICO","TECNICO",1,10,11500,2,6,{"$f":"+F1946*P1946","v":6900}]
[null,"308 EDUCACION PATAZ","RO","CAS","AUXILIAR DE MANTENIMIENTO",1150,"42602357","MEZA VALLE NATALI ELENA","SIN PROFESION","TECNICO","TECNICO",1,10,11500,2,6,9200]
[null,"308 EDUCACION PATAZ","RO","CAS","AUXILIAR DE MANTENIMIENTO",1150,"80500616","LECCA ANAMPA DOMINGA","SIN PROFESION","TECNICO","TECNICO",1,10,11500,2,6,{"$f":"1150*P1948","v":6900}]
[null,"308 EDUCACION PATAZ","RO","CAS","AUXILIAR DE MANTENIMIENTO",1150,"19420448","MUÑOZ MEZA LUCIANO","SIN PROFESION","TECNICO","TECNICO",1,10,11500,2,6,{"$f":"1150*P1949","v":6900}]
[null,"308 EDUCACION PATAZ","RO","CAS","AUXILIAR DE MANTENIMIENTO",1150,"47892970","FLORES ASPIROS FRANS EDER","SIN PROFESION","TECNICO","TECNICO",1,10,11500]
[null,"308 EDUCACION PATAZ","RO","CAS","AUXILIAR DE MANTENIMIENTO",1150,"71785630","MARCHENA ESPINOZA DERLY RAQUEL","SIN PROFESION","TECNICO","TECNICO",1,10,11500]
[null,"308 EDUCACION PATAZ","RO","CAS","PSICOLOGO",2000,"46885920","GAMBOA MENDEZ JOSE MIGUEL","PSICOLOGO","BACHILLER","BACHILLER",1,10,20000,2,5,{"$f":"2000*P1952","v":10000}]
[null,"308 EDUCACION PATAZ","RO","CAS","PSICOLOGO",2000,"71007588","JARA ZAVALETA MARYURI JOHANNA","PSICOLOGO","BACHILLER","BACHILLER",1,10,20000,2,5,{"$f":"2000*P1953","v":10000}]
[null,"308 EDUCACION PATAZ","RO","CAS","PSICOLOGO",2000,"46051845","CACEDA RODRIGUEZ JHONNY JOHNSON","PSICOLOGO","BACHILLER","BACHILLER",1,10,20000]
[null,"308 EDUCACION PATAZ","RO","CAS","PSICOLOGO",2000,"45683132","PONTE ALVAREZ KENNY LORENA","PSICOLOGO","BACHILLER","BACHILLER",1,10,20000]
[null,"308 EDUCACION PATAZ","RO","CAS","PSICOLOGO",2000,"45101282","HARO PIMENTEL HELBERT HANNS","PSICOLOGO","BACHILLER","BACHILLER",1,10,20000,2,5,{"$f":"2000*P1956","v":10000}]
[null,"308 EDUCACION PATAZ","RO","CAS","PSICOLOGO",2000,"71230097","HERRERA SALDAÑA JHON KLEIVER","PSICOLOGO","BACHILLER","BACHILLER",1,10,20000,2,5,{"$f":"2000*P1957","v":10000}]
[null,"308 EDUCACION PATAZ","RO","CAS","PSICOLOGO",2000,"70785685","MORENO LEON CARLOS ESTEPHAN","PSICOLOGO","BACHILLER","BACHILLER",1,10,20000]
[null,"308 EDUCACION PATAZ","RO","CAS","PSICOLOGO",2000,"44383799","ABURTO TORRES ARNOLD DIXON","PSICOLOGO","BACHILLER","BACHILLER",1,10,20000,3,6,{"$f":"2000*P1959","v":12000}]
[null,"308 EDUCACION PATAZ","RO","CAS","PSICOLOGO",2000,"45444977","SEVILLANO FRANCO KARI SOLEDAD","PSICOLOGO","BACHILLER","BACHILLER",1,10,20000,2,5,{"$f":"2000*P1960","v":10000}]
[null,"308 EDUCACION PATAZ","RO","CAS","PSICOLOGO",2000,"48022400","CACHAY MELENDEZ THALIA TATIANA","PSICOLOGO","BACHILLER","BACHILLER",1,10,20000]
[null,"308 EDUCACION PATAZ","RO","CAS","PSICOLOGO",2000,"47412174","FRANCO MARREROS SOLEDAD YANELI","PSICOLOGO","BACHILLER","BACHILLER",1,10,20000,2,5,{"$f":"2000*P1962","v":10000}]
[null,"308 EDUCACION PATAZ","RO","CAS","PSICOLOGO",2000,"47391997","PONTE MORILLO SELENE ARTEMIA","PSICOLOGO","BACHILLER","BACHILLER",1,10,20000]
[null,"308 EDUCACION PATAZ","RO","CAS","SECRETARIA/O",1400,"47606891","GARCIA ALVARADO JACKELINE","SECRETARIA/O","TECNICO","TITULO TECNICO",1,10,14000,2,5,{"$f":"2000*P1964","v":10000}]
[null,"308 EDUCACION PATAZ","RO","CAS","SECRETARIA/O",1400,"47347746","ATOCHY PONTE MILAGROS JAQUELIN","SECRETARIA/O","TECNICO","TITULO TECNICO",1,10,14000,2,5,{"$f":"2000*P1965","v":10000}]
[null,"308 EDUCACION PATAZ","RO","CAS","SECRETARIA/O",1400,"72240834","RUIZ LECCA SUSY MELINA","SECRETARIA/O","TECNICO","TITULO TECNICO",1,10,14000,2,6,{"$f":"1400*8","v":11200}]
[null,"308 EDUCACION PATAZ","RO","CAS","SECRETARIA/O",1400,"73309369","CASTAÑEDA MIGUEL CLOTILDE","SECRETARIA/O","TECNICO","TITULO TECNICO",1,10,14000]
[null,"308 EDUCACION PATAZ","RO","CAS","SECRETARIA/O",1400,"41806349","LOZANO ROQUE JEZABEL","SECRETARIA/O","TECNICO","TITULO TECNICO",1,10,14000]
[null,"308 EDUCACION PATAZ","RO","CAS","SECRETARIA/O",1400,"46377724","CENTURION SERIN MARGARITA BELISA","SECRETARIA/O","TECNICO","TITULO TECNICO",1,10,14000,2,6,{"$f":"1400*P1969","v":8400}]
[null,"308 EDUCACION PATAZ","RO","CAS","SECRETARIA/O",1400,"70927351","SIMON MENDOZA DIANA LEYLA","SECRETARIA/O","TECNICO","TITULO TECNICO",1,10,14000,2,6,{"$f":"1400*P1970","v":8400}]
[null,"308 EDUCACION PATAZ","RO","CAS","SECRETARIA/O",1400,"19407688","SILVA GAVIDIA SANTIAGO","SECRETARIA/O","TECNICO","TITULO TECNICO",1,10,14000,2,6,{"$f":"1400*8","v":11200}]
[null,"308 EDUCACION PATAZ","RO","CAS","SECRETARIA/O",1400,"48277399","ASPIROS DOMINGUEZ YOICI","SECRETARIA/O","TECNICO","TITULO TECNICO",1,10,14000,2,6,{"$f":"1400*8","v":11200}]
[null,"308 EDUCACION PATAZ","RO","CAS","SECRETARIA/O",1400,"46409904","MEZA SABINO YENI MADELEY","SECRETARIA/O","TECNICO","TITULO TECNICO",1,10,14000]
[null,"308 EDUCACION PATAZ","RO","CAS","SECRETARIA/O",1400,"47695439","HUAMAN FIGUEROA BARBARA JOAN","SECRETARIA/O","TECNICO","TITULO TECNICO",1,10,14000,2,6,{"$f":"1400*8","v":11200}]
[null,"308 EDUCACION PATAZ","RO","CAS","VIGILANTE",1150,"19404608","GARCIA LECCA JUAN RICARDO","SIN PROFESION","SECUNDARIA",null,1,10,11500,2,6,{"$f":"1400*8","v":11200}]
[null,"308 EDUCACION PATAZ","RO","CAS","VIGILANTE",1150,"44979280","PAREDES TERRONES SIXTA CLARA","SIN PROFESION","SECUNDARIA",null,1,10,11500]
[null,"308 EDUCACION PATAZ","RO","CAS","VIGILANTE",1150,"07265889","EGUSQUIZA AÑORGA VICTOR ADOLFO","SIN PROFESION","SECUNDARIA",null,1,10,11500,2,6,{"$f":"1150*P1977","v":6900}]
[null,"308 EDUCACION PATAZ","RO","CAS","VIGILANTE",1150,"19426106","MENDIETA HENRIQUEZ ARMANDO","SIN PROFESION","SECUNDARIA",null,1,10,11500,2,6,{"$f":"1150*P1978","v":6900}]
[null,"308 EDUCACION PATAZ","RO","CAS","VIGILANTE",1150,"44278278","SUAREZ CANCINO JHON HAYRO","SIN PROFESION","SECUNDARIA",null,1,10,11500]
[null,"308 EDUCACION PATAZ","RO","CAS","VIGILANTE",1150,"42690730","MORILLO PAULINO ANTONIO MARINO","SIN PROFESION","SECUNDARIA",null,1,10,11500]
[null,"308 EDUCACION PATAZ","RO","CAS","VIGILANTE",1150,"07389734","CAMPOS CUEVA SEGUNDO JULIO","SIN PROFESION","SECUNDARIA",null,1,10,11500,2,6,{"$f":"1150*P1981","v":6900}]
[null,"308 EDUCACION PATAZ","RO","CAS","VIGILANTE",1150,"73545126","SALVATIERRA CABALLERO NELLY","SIN PROFESION","SECUNDARIA",null,1,10,11500,2,6,{"$f":"1150*P1982","v":6900}]
[null,"308 EDUCACION PATAZ","RO","CAS","VIGILANTE",1150,"42531543","FLORES PAZ MARIA YSABEL","SIN PROFESION","SECUNDARIA",null,1,10,11500,2,6,{"$f":"1150*P1983","v":6900}]
[null,"308 EDUCACION PATAZ","RO","CAS","VIGILANTE",1150,"19414090","ASCATE DOMINGUEZ VICTOR","SIN PROFESION","SECUNDARIA",null,1,10,11500,2,6,{"$f":"1150*P1984","v":6900}]
[null,"308 EDUCACION PATAZ","RO","CAS","VIGILANTE",1150,"19427795","GUILLEN LECCA MARIBEL","SIN PROFESION","SECUNDARIA",null,1,10,11500]
[null,"308 EDUCACION PATAZ","RO","CAS","VIGILANTE",1150,"42762764","VILLANUEVA TORRES CESAR ALBERTO","SIN PROFESION","SECUNDARIA",null,1,10,11500,2,6,9200]
[null,"308 EDUCACION PATAZ","RO","CAS","VIGILANTE",1150,"19429180","LOZANO ROQUE AHON","SIN PROFESION","SECUNDARIA",null,1,10,11500,2,6,{"$f":"1150*P1987","v":6900}]
[null,"308 EDUCACION PATAZ","RO","CAS","VIGILANTE",1150,"42651527","GONZALES VALERA ANGEL","SIN PROFESION","SECUNDARIA",null,1,10,11500]
[null,"308 EDUCACION PATAZ","RO","CAS","VIGILANTE",1150,"19407489","ORTEGA IPARRAGUIRRE HUMBERTO","SIN PROFESION","SECUNDARIA",null,1,10,11500,2,6,9200]
[null,"308 EDUCACION PATAZ","RO","CAS","VIGILANTE",1150,"40780612","LOPEZ HONORIO JUAN HIPOLITO","SIN PROFESION","SECUNDARIA",null,1,10,11500,2,6,9200]
[null,"308 EDUCACION PATAZ","RO","CAS","VIGILANTE",1150,"41371318","TORREALVA CAMPOS DANNY STIVEN","SIN PROFESION","SECUNDARIA",null,1,10,11500,2,6,9200]
[null,"308 EDUCACION PATAZ","RO","CAS","VIGILANTE",1150,"43481307","ACOSTA RAMIREZ ESBALTER","SIN PROFESION","SECUNDARIA",null,1,10,11500,2,6,{"$f":"1150*P1992","v":6900}]
[null,"308 EDUCACION PATAZ","RO","CAS","VIGILANTE",1150,"73504831","CAMPOS CUSTODIO ANDY JHONATAN","SIN PROFESION","SECUNDARIA",null,1,10,11500]
[null,"308 EDUCACION PATAZ","RO","CAS","VIGILANTE",1150,"42099524","SANDOVAL LOPEZ KARINA MARIELA","SIN PROFESION","SECUNDARIA",null,1,10,11500,2,6,9200]
[null,"308 EDUCACION PATAZ","RO","CAS","VIGILANTE",1150,"40469725","MENDIETA SOTO ELMER","SIN PROFESION","SECUNDARIA",null,1,10,11500,2,6,9200]
[null,"308 EDUCACION PATAZ","RO","CAS","VIGILANTE",1150,"19414046","LECA ANAMPA SALOME","SIN PROFESION","SECUNDARIA",null,1,10,11500]
[null,"308 EDUCACION PATAZ","RO","CAS","VIGILANTE",1150,"42856100","HONORIO SANTISTEBAN JOSE GRABIEL","SIN PROFESION","SECUNDARIA",null,1,10,11500]
[null,"308 EDUCACION PATAZ","RO","CAS","VIGILANTE",1150,"19402542","MIRANDA NARRO ALEJANDRO VALDEMAR","SIN PROFESION","SECUNDARIA",null,1,10,11500,2,6,{"$f":"1150*P1998","v":6900}]
[null,"308 EDUCACION PATAZ","RO","CAS","VIGILANTE",1150,"19403585","MIRANDA NARRO JOSE MELANIO","SIN PROFESION","SECUNDARIA",null,1,10,11500,2,6,{"$f":"1150*P1999","v":6900}]
[null,"308 EDUCACION PATAZ","RO","CAS","VIGILANTE",1150,"45299434","ARANDA GRAUS NEYDER LUIS","SIN PROFESION","SECUNDARIA",null,1,10,11500,1,3,{"$f":"1150*P2000","v":3450}]
[null,"308 EDUCACION PATAZ","RO","CAS","VIGILANTE",1150,"40469741","VEGA GUILLEN FERNANDO DAVID","SIN PROFESION","SECUNDARIA",null,1,10,11500,2,6,9200]
[null,"308 EDUCACION PATAZ","RO","CAS","VIGILANTE",1150,"19426207","MENDIETA DOMINGUEZ EDUARDO","SIN PROFESION","SECUNDARIA",null,1,10,11500,2,6,{"$f":"1150*P2002","v":6900}]
[null,"308 EDUCACION PATAZ","RO","CAS","VIGILANTE",1150,"45714014","ZAVALETA CARRERA SEGUNDO CESAR","SIN PROFESION","SECUNDARIA",null,1,10,11500]
[null,"308 EDUCACION PATAZ","RO","CAS","VIGILANTE",1150,"43794888","CRUZADO SANCHEZ MIULLER","SIN PROFESION","SECUNDARIA",null,1,10,11500]
[null,"308 EDUCACION PATAZ","RO","CAS","VIGILANTE",1150,"19426940","CASTAÑEDA ABURTO JESUS","SIN PROFESION","SECUNDARIA",null,1,10,{"$f":"+F2005*M2005","v":11500},2,6,{"$f":"1150*P2005","v":6900}]
[null,"308 EDUCACION PATAZ","RO","CAS","VIGILANTE",1150,"48020361","RODRIGUEZ MEDINA ABAD JULIO","SIN PROFESION","SECUNDARIA",null,1,10,11500,2,6,9200]
[null,"308 EDUCACION PATAZ","RO","CAS","VIGILANTE",1150,"62662710","MENDIETA VERDE EUSEBIO ROGER","SIN PROFESION","SECUNDARIA",null,1,10,11500,2,6,9200]
[null,"308 EDUCACION PATAZ","RO","CAS","VIGILANTE",1150,"74543903","BERMUDEZ ASCATE IVAN SANTOS","SIN PROFESION","SECUNDARIA",null,1,10,11500]
[null,"308 EDUCACION PATAZ","RO","CAS","VIGILANTE",1150,"76573046","DIESTRA CORONEL LUSBER SAUL","SIN PROFESION","SECUNDARIA",null,1,10,11500,2,6,{"$f":"1150*P2009","v":6900}]
[null,"308 EDUCACION PATAZ","RO","CAS","VIGILANTE",1150,"43124731","ARMAS MEZA WALTER ENRIQUE","SIN PROFESION","SECUNDARIA",null,1,10,11500,2,6,9200]
[null,"308 EDUCACION PATAZ","RO","CAS","VIGILANTE",1150,"19403300","QUIROZ VALVERDE ROBERTO PABLO","SIN PROFESION","SECUNDARIA",null,1,10,11500,2,6,9200]
[null,"308 EDUCACION PATAZ","RO","CAS","VIGILANTE",1150,"10549241","QUIROZ VALVERDE MODESTO","SIN PROFESION","SECUNDARIA",null,1,10,11500,2,6,9200]
[null,"308 EDUCACION PATAZ","RO","CAS","VIGILANTE",1150,"42778949","RIVERA CABALLERO JAVIER","SIN PROFESION","SECUNDARIA",null,1,10,11500,2,6,9200]
[null,"308 EDUCACION PATAZ","RO","CAS","VIGILANTE",1150,"00000000","NO REGISTRADO NO REGISTRADO NO REGISTRADO","SIN PROFESION","SECUNDARIA",null,1,10,11500]
[null,"308 EDUCACION PATAZ","RO","CAS","VIGILANTE",1150,"46625231","HONORES GALINDOS ABRAHAM EVER","SIN PROFESION","SECUNDARIA",null,1,10,11500]
[null,"308 EDUCACION PATAZ","RO","CAS","VIGILANTE",1150,"72510902","AGUILAR MARIÑES ANA LILA","SIN PROFESION","SECUNDARIA",null,1,10,11500,2,6,{"$f":"1150*8","v":9200}]
[null,"308 EDUCACION PATAZ","RO","CAS","COORDINADOR DE INNOVACIÓN Y SOPORTE TECNOLÓGICO",1500,"44005964","GAMEZ MELGAREJO ANGEL MITCHEL","DOCENTE COMPUTACION","BACHILLER","TITULO PROFESIONAL",1,10,15000]
[null,"308 EDUCACION PATAZ","RO","CAS","COORDINADOR DE INNOVACIÓN Y SOPORTE TECNOLÓGICO",1500,"73309524","VALVERDE ARAUJO BERTHA FILOMENA","DOCENTE COMPUTACION","BACHILLER","TITULO PROFESIONAL",1,10,15000]
[null,"308 EDUCACION PATAZ","RO","CAS","COORDINADOR DE INNOVACIÓN Y SOPORTE TECNOLÓGICO",1500,"46229126","RUIZ LECCA JUDITH MARLENY","DOCENTE COMPUTACION","BACHILLER","TITULO PROFESIONAL",1,10,15000]
[null,"308 EDUCACION PATAZ","RO","CAS","COORDINADOR DE INNOVACIÓN Y SOPORTE TECNOLÓGICO",1500,"18218029","PALOMINO RAMIREZ JOSELI ELIAS","DOCENTE COMPUTACION","BACHILLER","TITULO PROFESIONAL",1,10,15000]
[null,"308 EDUCACION PATAZ","RO","CAS","COORDINADOR DE INNOVACIÓN Y SOPORTE TECNOLÓGICO",1500,"42814865","CENTURION LEON MARIO EDGAR","DOCENTE COMPUTACION","BACHILLER","TITULO PROFESIONAL",1,10,15000]
[null,"308 EDUCACION PATAZ","RO","CAS","COORDINADOR DE INNOVACIÓN Y SOPORTE TECNOLÓGICO",1500,"72091095","VIERA CORREA YERLI JASSO","DOCENTE COMPUTACION","BACHILLER","TITULO PROFESIONAL",1,10,15000]
[null,"308 EDUCACION PATAZ","RO","CAS","COORDINADOR DE INNOVACIÓN Y SOPORTE TECNOLÓGICO",1500,"71032103","LOPEZ ESTRADA MILLY ELIZABETH","DOCENTE COMPUTACION","BACHILLER","TITULO PROFESIONAL",1,10,15000]
[null,"308 EDUCACION PATAZ","RO","CAS","COORDINADOR DE INNOVACIÓN Y SOPORTE TECNOLÓGICO",1500,"71667245","LOPEZ RAMOS SUSI KENAT","DOCENTE COMPUTACION","BACHILLER","TITULO PROFESIONAL",1,10,15000]
[null,"308 EDUCACION PATAZ","RO","CAS","COORDINADOR DE INNOVACIÓN Y SOPORTE TECNOLÓGICO",1500,"77077598","RUIZ LOPEZ JESICA ROXANA","DOCENTE COMPUTACION","BACHILLER","TITULO PROFESIONAL",1,10,15000]
[null,"308 EDUCACION PATAZ","RO","CAS","COORDINADOR DE INNOVACIÓN Y SOPORTE TECNOLÓGICO",1500,"71433947","ALEGRE MARTELL MERY TATIANA","DOCENTE COMPUTACION","BACHILLER","TITULO PROFESIONAL",1,10,15000]
[null,"308 EDUCACION PATAZ","RO","CAS","COORDINADOR DE INNOVACIÓN Y SOPORTE TECNOLÓGICO",1500,"72361865","ALBARRAN CHIHUALA KEVIN ARNOLD","DOCENTE COMPUTACION","BACHILLER","TITULO PROFESIONAL",1,10,15000]
[null,"308 EDUCACION PATAZ","RO","CAS","COORDINADOR DE INNOVACIÓN Y SOPORTE TECNOLÓGICO",1500,"41806301","JARA MAURICIO ARCIDIO","DOCENTE COMPUTACION","BACHILLER","TITULO PROFESIONAL",1,10,15000]
[null,"308 EDUCACION PATAZ","RO","CAS","COORDINADOR ADMINISTRATIVO Y DE RECURSOS",2000,"19402625","CASTAÑEDA CHAVEZ CARLOS MARINO","DOCENTE","BACHILLER","TITULO PROFESIONAL",1,10,20000]
[null,"308 EDUCACION PATAZ","RO","CAS","COORDINADOR ADMINISTRATIVO Y DE RECURSOS",2000,"18089434","VELEZMORO ARAUJO JESUS","ADMINISTRADOR","BACHILLER","TITULO PROFESIONAL",1,10,20000]
[null,"308 EDUCACION PATAZ","RO","CAS","COORDINADOR ADMINISTRATIVO Y DE RECURSOS",2000,"72231156","GUADIAMOS MONTALVAN CAROL MARILU","ADMINISTRADOR","BACHILLER","TITULO PROFESIONAL",1,10,20000,2,6,{"$f":"2000*P2031","v":12000}]
[null,"308 EDUCACION PATAZ","RO","CAS","COORDINADOR ADMINISTRATIVO Y DE RECURSOS",2000,"46075208","CUADRA ALVARADO MERLY FIORELLA","ADMINISTRADOR","BACHILLER","TITULO PROFESIONAL",1,10,20000]
[null,"308 EDUCACION PATAZ","RO","CAS","COORDINADOR ADMINISTRATIVO Y DE RECURSOS",2000,"74609605","AGÜERO FLORES MAYKOL RICARDO","TEC. ADMINISTRACION","TECNICO","TITULO TECNICO",1,10,20000]
[null,"308 EDUCACION PATAZ","RO","CAS","COORDINADOR ADMINISTRATIVO Y DE RECURSOS",2000,"47966722","GUANILO JIMENEZ LYNN CANDICE","ADMINISTRADOR","BACHILLER","BACHILLER",1,10,20000]
[null,"308 EDUCACION PATAZ","RO","CAS","COORDINADOR ADMINISTRATIVO Y DE RECURSOS",2000,"47879935","FRANCO CHIHUALA JITHLER JOHN","ADMINISTRADOR","BACHILLER","BACHILLER",1,10,20000,1,3,{"$f":"2000*P2035","v":6000}]
[null,"308 EDUCACION PATAZ","RO","CAS","COORDINADOR ADMINISTRATIVO Y DE RECURSOS",2000,"43659729","ANTICONA ANAMPA NANCY DALILA","ADMINISTRADOR","BACHILLER","BACHILLER",1,10,20000,1,3,{"$f":"2000*P2036","v":6000}]
[null,"308 EDUCACION PATAZ","RO","CAS","COORDINADOR ADMINISTRATIVO Y DE RECURSOS",2000,"44905109","RABINES HORNA DELSY VANESSA","ADMINISTRADOR","BACHILLER","BACHILLER",1,10,20000]
[null,"308 EDUCACION PATAZ","RO","CAS","COORDINADOR ADMINISTRATIVO Y DE RECURSOS",2000,"72405374","LECCA CABALLERO SOHELY YEIMMY","ADMINISTRADOR","BACHILLER","BACHILLER",1,10,20000]
[null,"308 EDUCACION PATAZ","RO","CAS","COORDINADOR ADMINISTRATIVO Y DE RECURSOS",2000,"18198745","VELEZMORO ARAUJO LUIS SANTA MARIA","ADMINISTRADOR","BACHILLER","TITULO PROFESIONAL",1,10,20000]
[null,"308 EDUCACION PATAZ","RO","CAS","COORDINADOR ADMINISTRATIVO Y DE RECURSOS",2000,"18122747","GUTIERREZ MONTANO GERMAN ALEXANDER","ADMINISTRADOR","BACHILLER","TITULO PROFESIONAL",1,10,20000]
[null,"308 EDUCACION PATAZ","RO","CAS","ACOMPAÑANTE PEDA. IIEE MULTIGRADO MONOLINGUE CASTELLANO",3600,"19428939","GUANILO JIMENEZ MARIA DEL PILAR","DOCENTE","BACHILLER","TITULO PROFESIONAL",1,10,36000]
[null,"308 EDUCACION PATAZ","RO","CAS","ACOMPAÑANTE PEDA. IIEE MULTIGRADO MONOLINGUE CASTELLANO",3600,"19424950","PONTE CABALLERO DARWIN FELIX","DOCENTE","BACHILLER","TITULO PROFESIONAL",1,10,36000,2,5,{"$f":"3600*P2042","v":18000}]
[null,"308 EDUCACION PATAZ","RO","CAS","ACOMPAÑANTE PEDA. IIEE MULTIGRADO MONOLINGUE CASTELLANO",3600,"19429131","LOPEZ CASTILLO ESLEITER","DOCENTE","BACHILLER","TITULO PROFESIONAL",1,10,36000]
[null,"308 EDUCACION PATAZ","RO","CAS","ACOMPAÑANTE PEDA. IIEE MULTIGRADO MONOLINGUE CASTELLANO",3600,"40781953","BARRIOS CASTILLO INES","DOCENTE","BACHILLER","TITULO PROFESIONAL",1,10,36000,2,5,{"$f":"3600*P2044","v":18000}]
[null,"308 EDUCACION PATAZ","RO","CAS","ACOMPAÑANTE PEDA. IIEE MULTIGRADO MONOLINGUE CASTELLANO",3600,"19420632","FLORES ZAVALETA AUSBERTO JAIRO","DOCENTE","BACHILLER","TITULO PROFESIONAL",1,10,36000,2,5,{"$f":"3600*P2045","v":18000}]
[null,"308 EDUCACION PATAZ","RO","CAS","ACOMPAÑANTE PEDA. IIEE MULTIGRADO MONOLINGUE CASTELLANO",3600,"17837967","JIMENEZ CASTILLO REY GUILLERMO","DOCENTE","BACHILLER","TITULO PROFESIONAL",1,10,36000]
[null,"308 EDUCACION PATAZ","RO","CAS","ACOMPAÑANTE PEDA. IIEE MULTIGRADO MONOLINGUE CASTELLANO",3600,"19404557","GUILLEN LECCA MELCHOR","DOCENTE","BACHILLER","TITULO PROFESIONAL",1,10,36000,2,5,{"$f":"3600*P2047","v":18000}]
[null,"308 EDUCACION PATAZ","RO","CAS","ACOMPAÑANTE PEDA. IIEE MULTIGRADO MONOLINGUE CASTELLANO",3600,"19402465","CASTILLO PAREDES CESAR AUGUSTO","DOCENTE","BACHILLER","TITULO PROFESIONAL",1,10,36000]
[null,"308 EDUCACION PATAZ","RO","CAS","ACOMPAÑANTE PEDA. IIEE MULTIGRADO MONOLINGUE CASTELLANO",3600,"19400227","CORREA BARRIOS SEGUNDO","DOCENTE","BACHILLER","TITULO PROFESIONAL",1,10,36000,2,5,{"$f":"3600*P2049","v":18000}]
[null,"308 EDUCACION PATAZ","RO","CAS","ACOMPAÑANTE PEDA. IIEE MULTIGRADO MONOLINGUE CASTELLANO",3600,"19560441","ROJAS ORTIZ WILLAN AUGUSTO","DOCENTE","BACHILLER","TITULO PROFESIONAL",1,10,36000]
[null,"308 EDUCACION PATAZ","RO","CAS","ACOMPAÑANTE PEDA. IIEE MULTIGRADO MONOLINGUE CASTELLANO",3600,"19434932","SEGURA RODRIGUEZ DANIEL","DOCENTE","BACHILLER","TITULO PROFESIONAL",1,10,36000]
[null,"308 EDUCACION PATAZ","RO","CAS","ACOMPAÑANTE PEDA. IIEE MULTIGRADO MONOLINGUE CASTELLANO",3600,"19429483","FLORES ROLDAN ORLANDO","DOCENTE","BACHILLER","TITULO PROFESIONAL",1,10,36000,2,5,{"$f":"3600*P2052","v":18000}]
[null,"308 EDUCACION PATAZ","RO","CAS","ACOMPAÑANTE PEDA. IIEE MULTIGRADO MONOLINGUE CASTELLANO",3600,"19433070","JACINTO VELASQUEZ NICOLAS","DOCENTE","BACHILLER","TITULO PROFESIONAL",1,10,36000,2,5,{"$f":"3600*P2053","v":18000}]
[null,"308 EDUCACION PATAZ","RO","CAS","ACOMPAÑANTE PEDA. IIEE MULTIGRADO MONOLINGUE CASTELLANO",3600,"18016793","FIGUEROA TORRES MANUEL VICENTE","DOCENTE","BACHILLER","TITULO PROFESIONAL",1,10,36000,2,5,{"$f":"3600*P2054","v":18000}]
[null,"308 EDUCACION PATAZ","RO","CAS","ACOMPAÑANTE PEDA. IIEE MULTIGRADO MONOLINGUE CASTELLANO",3600,"80615023","GUILLEN ROSAS NELSIA MADELEINE","DOCENTE","BACHILLER","TITULO PROFESIONAL",1,10,36000,2,5,{"$f":"3600*P2055","v":18000}]
[null,"308 EDUCACION PATAZ","RO","CAS","ACOMPAÑANTE PEDA. IIEE MULTIGRADO MONOLINGUE CASTELLANO",3600,"19403483","GUILLEN MIRANDA DAMPIER","DOCENTE","BACHILLER","TITULO PROFESIONAL",1,10,36000,2,5,{"$f":"3600*P2056","v":18000}]
[null,"308 EDUCACION PATAZ","RO","CAS","ACOMPAÑANTE PEDA. IIEE MULTIGRADO MONOLINGUE CASTELLANO",3600,"19429616","GUANILO JIMENEZ SONIA ISABEL","DOCENTE","BACHILLER","TITULO PROFESIONAL",1,10,36000]
[null,"308 EDUCACION PATAZ","RO","CAS","ACOMPAÑANTE PEDA. IIEE MULTIGRADO MONOLINGUE CASTELLANO",3600,"19403011","DOMINGUEZ TRUJILLO GERASIMO JAMER","DOCENTE","BACHILLER","TITULO PROFESIONAL",1,10,36000,2,5,{"$f":"3600*P2058","v":18000}]
[null,"308 EDUCACION PATAZ","RO","CAS","ACOMPAÑANTE PEDA. IIEE MULTIGRADO MONOLINGUE CASTELLANO",3600,"17810636","HARO BUSTAMANTE ARCENIO","DOCENTE","BACHILLER","TITULO PROFESIONAL",1,10,36000]
[null,"308 EDUCACION PATAZ","RO","CAS","ACOMPAÑANTE PEDA. IIEE MULTIGRADO MONOLINGUE CASTELLANO",3600,"18072658","DIAZ ABANTO MIGUEL ALEJANDRO","DOCENTE","BACHILLER","TITULO PROFESIONAL",1,10,36000,2,5,{"$f":"3600*P2060","v":18000}]
[null,"308 EDUCACION PATAZ","RO","CAS","ACOMPAÑANTE PEDA. IIEE MULTIGRADO MONOLINGUE CASTELLANO",3600,"19091649","CONDOR JULCA SANTOS CORNELIO","DOCENTE","BACHILLER","TITULO PROFESIONAL",1,10,36000]
[null,"308 EDUCACION PATAZ","RO","CAS","ACOMPAÑANTE PEDA. IIEE MULTIGRADO MONOLINGUE CASTELLANO",3600,"19402175","GUILLEN LECCA WALTER ROSALINO","DOCENTE","BACHILLER","TITULO PROFESIONAL",1,10,36000,2,5,{"$f":"3600*P2062","v":18000}]
[null,"308 EDUCACION PATAZ","RO","CAS","APOYO EDUCATIVO",1150,"44712436","CRUZADO GOICOCHEA RUDY LIZVENIA","DOCENTE","BACHILLER","TITULO PROFESIONAL",1,10,11500,2,6,{"$f":"1150*P2063","v":6900}]
[null,"308 EDUCACION PATAZ","RO","CAS","APOYO EDUCATIVO",1150,"46193353","GONGORA LOPEZ VIOLETA","DOCENTE","BACHILLER","TITULO PROFESIONAL",1,10,11500]
[null,"308 EDUCACION PATAZ","RO","CAS","APOYO EDUCATIVO",1150,"45922975","MORI DIEGO ARMANDO AUGUSTO","DOCENTE","BACHILLER","TITULO PROFESIONAL",1,10,11500]
[null,"308 EDUCACION PATAZ","RO","CAS","APOYO EDUCATIVO",1150,"44005963","MEDINA ZAVALETA YUDITHZA DIOSELINA","DOCENTE","BACHILLER","TITULO PROFESIONAL",1,10,11500]
[null,"308 EDUCACION PATAZ","RO","CAS","APOYO EDUCATIVO",1150,"77352171","ROSALES VILLAREAL TAHINA CELENE","DOCENTE","BACHILLER","TITULO PROFESIONAL",1,10,11500]
[null,"308 EDUCACION PATAZ","RO","CAS","APOYO EDUCATIVO",1150,"18159621","ROJAS ANAMPA ROSITA MARIBEL","DOCENTE","BACHILLER","TITULO PROFESIONAL",1,10,11500]
[null,"308 EDUCACION PATAZ","RO","CAS","APOYO EDUCATIVO",1150,"47108804","CORONEL YNGA MARIA VEATRIZ","DOCENTE","BACHILLER","TITULO PROFESIONAL",1,10,{"$f":"+F2069*M2069","v":11500},2,6,{"$f":"1150*P2069","v":6900}]
[null,"308 EDUCACION PATAZ","RO","CAS","APOYO EDUCATIVO",1150,"10066114","VALLE LECCA LINA FANIA","DOCENTE","BACHILLER","TITULO PROFESIONAL",1,10,11500,2,6,9200]
[null,"308 EDUCACION PATAZ","RO","CAS","APOYO EDUCATIVO",1150,"26719373","GONZALES ZELADA ENRIQUE OVIDIO","DOCENTE","BACHILLER","TITULO PROFESIONAL",1,10,11500]
[null,"308 EDUCACION PATAZ","RO","CAS","APOYO EDUCATIVO",1150,"40336606","FLORES DOMINGUEZ ZARINA","DOCENTE","BACHILLER","TITULO PROFESIONAL",1,10,11500,2,6,{"$f":"1150*P2072","v":6900}]
[null,"308 EDUCACION PATAZ","RO","CAS","APOYO EDUCATIVO",1150,"71583535","ACUÑA IPARRAGUIRRE MARIL DEYSI","DOCENTE","BACHILLER","TITULO PROFESIONAL",1,10,11500]
[null,"308 EDUCACION PATAZ","RO","CAS","APOYO EDUCATIVO",1150,"62240198","MORA PUMACHAICO JOIMER","DOCENTE","BACHILLER","TITULO PROFESIONAL",1,10,11500]
[null,"308 EDUCACION PATAZ","RO","CAS","APOYO EDUCATIVO",1150,"45330974","OLORTEGUI MALDONADO ROSALI HERLINDA","DOCENTE","BACHILLER","TITULO PROFESIONAL",1,10,11500,2,6,9200]
[null,"308 EDUCACION PATAZ","RO","CAS","APOYO EDUCATIVO",1150,"72563011","INGA MUÑOZ ROSALI","DOCENTE","BACHILLER","TITULO PROFESIONAL",1,10,11500]
[null,"308 EDUCACION PATAZ","RO","CAS","RESPONSABLE DE LA ATENCION DE CRA",1500,"43738382","NARRO PAREJA WALTER","DOCENTE","BACHILLER","TITULO PROFESIONAL",1,10,15000]
[null,"308 EDUCACION PATAZ","RO","CAS","RESPONSABLE LOCAL DE LA CALIDAD DE LA INFORMACION",3000,"43235343","VARGAS CALDERON ROBINSON","INGENIERO","BACHILLER","TITULO PROFESIONAL",1,10,30000,1,3,{"$f":"3000*P2078","v":9000}]
[null,"308 EDUCACION PATAZ","RO","CAS","GESTOR LOCAL INTERVENCIONES PELA",3500,"40073349","MENDOZA FLORES WILDER SAMUEL","CONTADOR","BACHILLER","TITULO PROFESIONAL",1,10,35000]
[null,"308 EDUCACION PATAZ","RO","CAS","ESPECIALISTA  ADMINISTRATIVO  E INSTITUCIONAL",2600,"46811990","JIMENEZ CACHAY GHENESIS IMACULADA","ADMINISTRADOR","BACHILLER","BACHILLER",1,10,26000]
[null,"308 EDUCACION PATAZ","RO","CAS","ESPECIALISTA  ADMINISTRATIVO  E INSTITUCIONAL",2600,"70826264","PONCE ROSAS CINTYA MARLY","MARKETING","BACHILLER","TITULO PROFESIONAL",1,6,15600]
[null,"308 EDUCACION PATAZ","RO","CAS","ESPECIALISTA  ADMINISTRATIVO  E INSTITUCIONAL",2600,"45551261","GUANILO JIMENEZ IVE CLAIRE","CONTADOR","BACHILLER","BACHILLER",1,6,15600]
[null,"308 EDUCACION PATAZ","RO","CAS","ESPECIALISTA  ADMINISTRATIVO  E INSTITUCIONAL",2600,"43590417","GUILLEN MENDOZA HASSELL DE LOS MILAGROS","ADMINISTRADORA","BACHILLER","TITULO PROFESIONAL",1,6,15600]
[null,"308 EDUCACION PATAZ","RO","CAS","ESPECIALISTA  ADMINISTRATIVO  E INSTITUCIONAL",2600,"44353658","NORIEGA ROJAS JOSE ABDIAS","ABOGADO","BACHILLER","TITULO PROFESIONAL",1,6,15600]
[null,"308 EDUCACION PATAZ","RO","CAS","ESPECIALISTA  ADMINISTRATIVO  E INSTITUCIONAL",2600,44919369,"RODRIGUEZ RENGIFO CARLOS MANUEL","ECONOMISTA","BACHILLER","BACHILLER",null,null,null,2,5,{"$f":"2600*P2085","v":13000}]
[null,"308 EDUCACION PATAZ","RO","CAS","ASESOR DOCENTE",1500,45861224,"BURGOS RUIZ ABEL DAVID","INGENIERO","BACHILLER","TITULO PROFESIONAL",1,10,{"$f":"1200*M2086","v":12000},2,6,{"$f":"1200*P2086","v":7200}]
[null,"308 EDUCACION PATAZ","RO","CAS","ASESOR DOCENTE",1200,73902512,"CAPA MEDINA DOLMO RUMARIO","TECNICO EN COMPUTACION",null,"TITULO PROFESIONAL",0,null,null,2,6,{"$f":"1200*P2087","v":7200}]
[null,"308 EDUCACION PATAZ","RO","CAS","ASESOR DOCENTE",1200,72095018,"CAPA PONTE CHESTER","TECNICO EN COMPUTACION",null,"TITULO PROFESIONAL",0,null,null,2,6,{"$f":"1200*P2088","v":7200}]
[null,"308 EDUCACION PATAZ","RO","CAS","ASESOR DOCENTE",1200,45113315,"CHIHUALA DOMINGUEZ ZEILER BERNABE","SECUNDARIA",null,null,null,null,null,2,6,{"$f":"1200*P2089","v":7200}]
[null,"308 EDUCACION PATAZ","RO","CAS","ASESOR DOCENTE",1500,45455243,"GUILLEN TRUJILLO GABY KARINA","ARQUITECTA","BACHILLER","TITULO PROFESIONAL",0,null,null,2,6,{"$f":"1500*P2090","v":9000}]
[null,"308 EDUCACION PATAZ","RO","CAS","COORDINADOR DE INNOVACIÓN Y SOPORTE TECNOLÓGICO",1800,"71433947","ALEGRE MARTELL MERY TATIANA","DOCENTE COMPUTACION","BACHILLER","TITULO PROFESIONAL",0,null,null,1,3,{"$f":"1800*P2091","v":5400}]
[null,"308 EDUCACION PATAZ","RO","CAS","COORDINADOR DE INNOVACIÓN Y SOPORTE TECNOLÓGICO",1800,"42814865","CENTURION LEON MARIO EDGAR","DOCENTE COMPUTACION","BACHILLER","TITULO PROFESIONAL",0,null,null,1,3,{"$f":"1800*P2092","v":5400}]
[null,"308 EDUCACION PATAZ","RO","CAS","COORDINADOR DE INNOVACIÓN Y SOPORTE TECNOLÓGICO",1800,"77077598","RUIZ LOPEZ JESICA ROXANA","DOCENTE COMPUTACION","BACHILLER","TITULO PROFESIONAL",0,null,null,1,3,{"$f":"1800*P2093","v":5400}]
[null,"308 EDUCACION PATAZ","RO","CAS","COORDINADOR ADMINISTRATIVO Y DE RECURSOS",2000,47909001,"ARMAS PONCE GUISELA MARILYN","DOCENTE COMPUTACION","BACHILLER","TITULO PROFESIONAL",0,null,null,1,3,{"$f":"+F2094*P2094","v":6000}]
[null,"308 EDUCACION PATAZ","RO","CAS","APOYO EDUCATIVO",1150,71213693,"ARTEAGA VILLANUEVA MARIBEL","DOCENTE",null,"TITULO PROFESIONAL",0,null,null,1,3,{"$f":"+F2095*P2095","v":3450}]
[null,"308 EDUCACION PATAZ","RO","CAS","COORDINADOR ADMINISTRATIVO Y DE RECURSOS",2000,47937528,"BAYLON CASTAÑEDA MELISSA","CONTADOR",null,null,null,null,null,1,3,6000]
[null,"308 EDUCACION PATAZ","RO","CAS","AUXILIAR DE MANTENIMIENTO",1150,44360222,"CALDERON MEDINA IMER BANI","SECUNDARIA",null,null,null,null,null,1,3,3450]
[null,"308 EDUCACION PATAZ","RO","CAS","COORDINADOR ADMINISTRATIVO Y DE RECURSOS",2000,77071423,"CASTAÑEDA BAYLON EDELINDA","ADMINISTRADOR",null,null,null,null,null,1,3,6000]
[null,"308 EDUCACION PATAZ","RO","CAS","PSICOLOGO",2000,47317244,"CHAVARRI CUBA ANGELICA ARACELY","PSICOLOGO",null,null,null,null,null,1,3,6000]
[null,"308 EDUCACION PATAZ","RO","CAS","SECRETARIA/O",1400,46452850,"CUEVA CHINCHAYHUARA BELSY","SECRETARIA/O",null,null,null,null,null,1,3,4200]
[null,"308 EDUCACION PATAZ","RO","CAS","COORDINADOR DE INNOVACIÓN Y SOPORTE TECNOLÓGICO",1800,72581193,"DELGADO PAZ BLADIMIR","DOCENTE COMPUTACION",null,null,null,null,null,1,3,5400]
[null,"308 EDUCACION PATAZ","RO","CAS","COORDINADOR DE INNOVACIÓN Y SOPORTE TECNOLÓGICO",1800,47041662,"ESPINOZA FLORES MAGALY","DOCENTE COMPUTACION",null,null,null,null,null,1,3,5400]
[null,"308 EDUCACION PATAZ","RO","CAS","SECRETARIA/O",1400,47238205,"FLORES VARELA TANIA RUTH","SECRETARIA/O",null,null,null,null,null,1,3,4200]
[null,"308 EDUCACION PATAZ","RO","CAS","PSICOLOGO",2000,47228858,"GENOVEZ MORENO KATTIA MILAGROS","PSICOLOGO",null,null,null,null,null,1,3,6000]
[null,"308 EDUCACION PATAZ","RO","CAS","APOYO EDUCATIVO",1150,77498050,"GUILLEN CHACON THALIA MERLIN","DOCENTE",null,null,null,null,null,1,3,3450]
[null,"308 EDUCACION PATAZ","RO","CAS","SECRETARIA/O",1400,47160680,"LOPEZ ARTEAGA, ESTHER EDITH","SECRETARIA/O",null,null,null,null,null,1,3,4200]
[null,"308 EDUCACION PATAZ","RO","CAS","VIGILANTE",1150,26952534,"MARTINEZ TRUJILLO VALENTIN","SECRETARIA/O",null,null,null,null,null,1,3,3450]
[null,"308 EDUCACION PATAZ","RO","CAS","VIGILANTE",1150,42890880,"MEBUS OLASCUAGA ANGEL HUGO","SECRETARIA/O",null,null,null,null,null,1,3,3450]
[null,"308 EDUCACION PATAZ","RO","CAS","COORDINADOR ADMINISTRATIVO Y DE RECURSOS",2000,72230091,"MEBUS OLASCUAGA JEFFERSON SEGUNDO","DOCENTE COMPUTACION",null,null,null,null,null,1,3,6000]
[null,"308 EDUCACION PATAZ","RO","CAS","COORDINADOR ADMINISTRATIVO Y DE RECURSOS",2000,73803186,"MEDINA YEPEZ YULEISY VANESSA","DOCENTE COMPUTACION",null,null,null,null,null,1,3,6000]
[null,"308 EDUCACION PATAZ","RO","CAS","COORDINADOR DE INNOVACIÓN Y SOPORTE TECNOLÓGICO",1800,46208662,"MIRANDA UGARTE JOHAN","DOCENTE COMPUTACION",null,null,null,null,null,1,3,5400]
[null,"308 EDUCACION PATAZ","RO","CAS","VIGILANTE",1150,42799552,"MONTOYA RIVERA JANET","SECUNDARIA",null,null,null,null,null,1,3,3450]
[null,"308 EDUCACION PATAZ","RO","CAS","CRA",1500,71218825,"MORALES ZEGARRA NEIDER SELMIRA","DOCENTE",null,null,null,null,null,1,3,4500]
[null,"308 EDUCACION PATAZ","RO","CAS","PSICOLOGO",2000,46203578,"MORE SEMINARIO LUCERO JAZMIN","PSICOLOGO",null,null,null,null,null,1,3,6000]
[null,"308 EDUCACION PATAZ","RO","CAS","VIGILANTE",1150,46203578,"MORILLO PAULINO ANTONIO MARINO","SECUNDARIA",null,null,null,null,null,1,3,3450]
[null,"308 EDUCACION PATAZ","RO","CAS","COORDINADOR DE INNOVACIÓN Y SOPORTE TECNOLÓGICO",1800,70371950,"OLASCUAGA MIRANDA MARICELA","DOCENTE COMPUTACION",null,null,null,null,null,1,3,5400]
[null,"308 EDUCACION PATAZ","RO","CAS","PSICOLOGO",1150,48070051,"PAKER INFANTE MARIA LISSET","PSICOLOGO",null,null,null,null,null,1,3,3450]
[null,"308 EDUCACION PATAZ","RO","CAS","APOYO EDUCATIVO",1150,42605191,"PAZ HERRERA PEDRO PABLO","DOCERTE",null,null,null,null,null,1,3,3450]
[null,"308 EDUCACION PATAZ","RO","CAS","COORDINADOR ADMINISTRATIVO Y DE RECURSOS",2000,42158277,"RODRIGUEZ MARQUINA VIOLETA MARGARITA","ADMINISTRADOR",null,null,null,null,null,1,3,6000]
[null,"308 EDUCACION PATAZ","RO","CAS","COORDINADOR ADMINISTRATIVO Y DE RECURSOS",2000,71785635,"RODRIGUEZ QUIROZ KARO ESTHER","ADMINISTRADOR",null,null,null,null,null,1,3,6000]
[null,"308 EDUCACION PATAZ","RO","CAS","SECRETARIA/O",1400,73528387,"RODRIGUEZ RIOS ARACELY MAYLI","SECRETARIA/O",null,null,null,null,null,1,3,4200]
[null,"308 EDUCACION PATAZ","RO","CAS","COORDINADOR DE INNOVACIÓN Y SOPORTE TECNOLÓGICO",1800,72106403,"ROMERO ZEGARRA YESENIA MICAELA","DOCENTE COMPUTACION",null,null,null,null,null,1,3,5400]
[null,"308 EDUCACION PATAZ","RO","CAS","APOYO EDUCATIVO",1150,42814865,"SANCHEZ SANTISTEBAN ROSARIO MELISA","DOCENTE",null,null,null,null,null,1,3,3450]
[null,"308 EDUCACION PATAZ","RO","CAS","VIGILANTE",1150,43481307,"SANTISTEBAN CHAVEZ ROMEL","SECUNDARIA",null,null,null,null,null,1,3,3450]
[null,"308 EDUCACION PATAZ","RO","CAS","APOYO EDUCATIVO",1150,46208662,"SEVALLOS FERNANDEZ MAGALY","DOCENTE",null,null,null,null,null,1,3,3450]
[null,"308 EDUCACION PATAZ","RO","CAS","ACOMPAÑANTE PEDA. IIEE MULTIGRADO MONOLINGUE CASTELLANO",3600,72099638,"SICCHA QUISPE ANNER MARI","DOCENTE",null,null,null,null,null,1,3,10800]
[null,"308 EDUCACION PATAZ","RO","CAS","COORDINADOR DE INNOVACIÓN Y SOPORTE TECNOLÓGICO",1800,45630983,"ULLOA CABALLERO WALTER ALONSO","DOCENTE COMPUTACION",null,null,null,null,null,1,3,5400]
[null,"308 EDUCACION PATAZ","RO","CAS","COORDINADOR ADMINISTRATIVO Y DE RECURSOS",2000,70893479,"ZEGARRA ZUÑIGA YULI","CONTADOR",null,null,null,null,null,1,3,6000]
[null,"TOTAL",null,null,null,{"$f":"SUM(F1940:F2128)","v":332500},null,null,null,null,null,null,null,{"$f":"SUM(N1940:N2128)","v":2561400},null,null,{"$f":"SUM(Q1940:Q2128)","v":988200}]
[null,"UE 309 EDUCACION BOLIVAR","RO","CAS","PSICOLOGO",2600,44355736,"GOICOCHEA CHACATE ALBERTO HANS","PSICOLOGO","LICENCIADO","LICENCIADO EN PSICOLOGIA ",3,7,19500]
[null,"UE 309 EDUCACION BOLIVAR","RO","CAS","ESPECIALISTA  EN ABASTECIMIENTO",2600,70017880,"FLORINDEZ RAMOS YESSICA MAGALY","ADMINISTRACION ","LICENCIADA","LICENCIADAD EN ADMINISTRACION Y FINANZAS",3,7,19500]
[null,"UE 309 EDUCACION BOLIVAR","RO","CAS","VIGILANTE TURNO DIURNO",1300,18981956,"DAVILA RENGIFO MAGNO ELVER",null,null,"SECUNDARIA COMPLETA",6,12,15600]
[null,"UE 309 EDUCACION BOLIVAR","RO","CAS","PERSONAL DE VIGILANCIA",1000,46001285,"ORTIZ RENGIFO ALVARO",null,"SECUNDARIA COMPLETA",0,3,9,9000]
[null,"UE 309 EDUCACION BOLIVAR","RO","CAS","SECRETARIA TECNICA",2600,18131778,"PEREZ ESPINOZA LEONARDO JOVANY","ABOGADO","ABOGADO","ABOGADO",6,12,31200]
[null,"UE 309 EDUCACION BOLIVAR","RO","CAS","RESPONSABLE LOCAL DE LA CALIDAD DE LA INFORMACIÓN ",3000,18112499,"REYES ZAVALETA RICHARD MARCO ANTONIO",0]
[null,"UE 309 EDUCACION BOLIVAR","RO","CAS","RESPONSABLE DE PATRIMONIO",2600,47108894,"PAJUELO CHAVARRY JOHANE SARAI","ADMINISTRACION ","LICENCIADA","LICENCIADA EN ADMINISTRACION",6,12,31200]
[null,"UE 309 EDUCACION BOLIVAR","RO","CAS","ESPECIALISTA  EN ABASTECIMIENTO",1500,47289241,"PECHE MORENO LUIS MARVIN","ADMINSTRADOR","BACHILLER","BACHILLER EN ADMINISTRACION ",3,7,10500]
[null,"UE 309 EDUCACION BOLIVAR","RO",null,"ESPECIALISTA DE MONITOREO",2600,40780602,"CONTRERAS HORNA ROCIO MARIBEL ","ECONOMISTA","ECONOMISTA","CIENCIAS ECONOMICAS",3,7,18200]
[null,"UE 309 EDUCACION BOLIVAR","RO","CAS","ACOMPAÑANTE PEDAGOGICO PARA II.EE MULTIGRADO MONOLINGUE CASTELLANO",3900,41625596,"TORRES IPARRAGUIRRE EYNER VILMER","PROFESOR DE EDUCACION PRIMARIA ","PROFESOR","PROFESOR DE ED. PRIMARIA",3,7,27300]
[null,"UE 309 EDUCACION BOLIVAR","RO","CAS","ACOMPAÑANTE PEDAGOGICO PARA II.EE MULTIGRADO MONOLINGUE CASTELLANO",3900,"09327497","ROJAS SICCHA SEGUNDO  MANASES","PROFESOR DE EDUCACION PRIMARIA ","PROFESOR","PROFESOR DE ED. PRIMARIA",3,7,27300]
[null,"UE 309 EDUCACION BOLIVAR","RO","CAS","ACOMPAÑANTE PEDAGOGICO PARA II.EE MULTIGRADO MONOLINGUE CASTELLANO",3900,18981420,"PECHE PRIETO LUIS FRANCILES","PROFESOR DE EDUCACION PRIMARIA ","PROFESOR","PROFESOR DE ED. PRIMARIA",3,7,27300]
[null,"UE 309 EDUCACION BOLIVAR","RO","CAS","GESTOR CURRICULAR DE EDUCACION ",4200,18224186,"CHIGUALA PUITIZA DALMIRO","PROFESOR DE EDUCACION PRIMARIA ","PROFESOR","PROFESOR DE ED. PRIMARIA",2,3,12600]
[null,"UE 309 EDUCACION BOLIVAR","RO","CAS","TECNICO EN PLANILLAS ",1300,47287405,"FLORINDEZ PRIETO MIRTA MABEL","TECNICO EN CONTABILIDAD ","TECNICO","TECNICO EN CONTABLIDAD ",6,12,15600]
[null,"UE 309 EDUCACION BOLIVAR","RO","CAS","TECNICO EN LA OFICINA DE RECURSOS HUMANOS ",1300,72495463,"CUSQUIPOMA CHAVEZ GUISELA ANALY","MANEJO DE SOFWARE","TECNICO","COMPUTACION",2,4,5200]
[null,"UE 309 EDUCACION BOLIVAR","RO","CAS","GESTOR LOCAL",3500,18115979,"PECHE SORIANO MARUJA ELENA","ADMINISTRACION ","LICENCIADA","LICENCIADA EN ADMINISTRACION",1,3,10500]
[null,"UE 309 EDUCACION BOLIVAR","RO","CAS","VIGILANTE TURNO NOCTURNO",1000,70017872,"ROJAS SULLASI LUCY GHIOMARA",null,"SECUNDARIA COMPLETA",0,1,2,2000]
[null,"UE 309 EDUCACION BOLIVAR","RO","LOCACION ","PSICOLOGO",2000,44355736,"GOICOCHEA CHACATE ALBERTO HANS","PSICOLOGO","LICENCIADO"," LICENCIADO PSICOLOGIA",5,5,10000]
[null,"UE 309 EDUCACION BOLIVAR","RO","LOCACION","TRABAJADOR SOCIAL ",2000,18982366,"PECHE MIRANDA ELMER OCTAVIO ","ANTROPOLOGO","LICENCIADO","LICENCIADO EN ANTROPOLOGIA",7,7,14000]
[null,"UE 309 EDUCACION BOLIVAR","RO","LOCACION ","INVENTARIO DE DOCUMENTACION ARCHIVADA",2000,41027479,"DAVILA ECHEVERRIA EULER DANIEL","CONTADOR ","LICENCIADO ","LICENCIADO EN CONTABILIDAD",2,2,4000]
[null,"UE 309 EDUCACION BOLIVAR","RO","LOCACION ","MANEJO DE SIAGIE",1640,18981825,"DAVILA ECHEVERRIA AUSBERTO","INGENIERO CIVIL",null,"INGENIERO CIVIL",2,2,3280]
[null,"UE 309 EDUCACION BOLIVAR","RO","LOCACION","ANALISIS DE DATOS DE RIESGS Y DESASTRES",1000,18188632,"GARCIA MENDO JOSE EDMUNDO","PROFESOR DE EDUCACION PRIMARIA ","PROFESOR","PROFESOR DE ED. PRIMARIA",1,1,1000]
[null,"UE 309 EDUCACION BOLIVAR","RO","LOCACION ","PROCESAMIENTO DE INFORMAION DE PLANILLAS ",2600,18112499,"REYES ZAVALETA RICHARD MARCO ANTONIO","TECNICO EN COMPUTACION ","TECNICO","TECNICO EN COMPUTACION ",1,1,2600]
[null,"UE 309 EDUCACION BOLIVAR","RO","CAS","PSICOLOGO",2600,44355736,"GOICOCHEA CHACATE ALBERTO HANS","PSICOLOGO","LICENCIADO "," LICENCIADO PSICOLOGIA",null,null,null,4,6,15600]
[null,"UE 309 EDUCACION BOLIVAR","RO","CAS","GESTOR CURRICULAR DE EDUCACION ",4000,24719059,"VELASQUEZ QUISPE LOURDES ISABEL ","PROFESOR","LICENCIADA","LICENCIADA EN EDUCACION PRIMARIA ",0,null,null,1,1,4000]
[null,"UE 309 EDUCACION BOLIVAR","RO","CAS","TECNICO ADMINISTRATIVO",1300,436572234,"RODRIGUEZ JIMENEZ LUZ KELI","LICENCIADA EN EDUCACION PRIMARIA ","LICENCIADA","LICENCIADA EN EDUCACION PRIMARIA ",0,null,null,3,4,5200]
[null,"UE 309 EDUCACION BOLIVAR","RO","CAS","TECNICO EN PLANILLAS ",1300,47287405,"FLORINDEZ PRIETO MIRTA MABEL","TECNICO EN CONTABILIDAD ","TECNICO","TECNICO EN CONTABLIDAD ",null,null,null,3,6,7800]
[null,"UE 309 EDUCACION BOLIVAR","RO","CAS","VIGILANTE TURNO DIURNO",1300,18981956,"DAVILA RENGIFO MAGNO ELVER",null,"SECUNDARIA COMPLETA",0,null,null,null,3,6,7800]
[null,"UE 309 EDUCACION BOLIVAR","RO","CAS","SECRETARIA TECNICA",2600,18131778,"PEREZ ESPINOZA LEONARDO JOVANY","ABOGADO","ABOGADO","ABOGADO",null,null,null,3,6,15600]
[null,"UE 309 EDUCACION BOLIVAR","RO","CAS","ESPECIALISTA ADMINISTRATIVO EN ABASTECIMIENTO",1500,47108894,"PAJUELO CHAVARRY JOHANE SARAI","ADMINISTRACION ","LICENCIADA","LICENCIADA EN ADMINISTRACION",0,null,null,"3",4,6000]
[null,"UE 309 EDUCACION BOLIVAR","RO","CAS","PERSONAL DE VIGILANCIA",1150,46001285,"ORTIZ RENGIFO ALVARO",null,"SECUNDARIA COMPLETA",0,null,null,null,3,6,6900]
[null,"UE 309 EDUCACION BOLIVAR","RO","CAS","ACOMPAÑANTE PEDAGOGICO PARA II.EE MULTIGRADO MONOLINGUE CASTELLANO",3600,41625596,"TORRES IPARRAGUIRRE EYNER VILMER","PROFESOR DE EDUCACION PRIMARIA ","PROFESOR","PROFESOR DE ED. PRIMARIA",0,null,null,2,2,7200]
[null,"UE 309 EDUCACION BOLIVAR","RO","CAS","ACOMPAÑANTE PEDAGOGICO PARA II.EE MULTIGRADO MONOLINGUE CASTELLANO",3600,80374364,"SANCHEZ LOPEZ ROBER","PROFESOR","PROFESOR","PROFESOR DE ED. PRIMARIA",0,null,null,2,2,7200]
[null,"UE 309 EDUCACION BOLIVAR","RO","CAS","ACOMPAÑANTE PEDAGOGICO PARA II.EE MULTIGRADO MONOLINGUE CASTELLANO",3600,27046658,"TAPIA MORI MANUELA NATIVIDAD","PROFESOR","PROFESOR","PROFESOR DE ED. PRIMARIA",0,null,null,2,2,7200]
[null,"UE 309 EDUCACION BOLIVAR","RO","LOCACION ","APOYO EN EL AREA DE ALMACEN",2000,70017880,"FLORINDEZ RAMOS YESSICA MAGALY","ADMINISTRADOR","LICENCIADA","LICENCIADO EN ADMINISTRACION Y FINANZAS",0,null,null,1,1,2000]
[null,"UE 309 EDUCACION BOLIVAR","RO","LOCACION ","APOYO EN ESCALAFON ",2000,32943277,"FERRER CHINCHAYAN DEMETRIO SERGIO","PROFESOR","PROFESOR","PROFESOR DE ED. PRIMARIA",null,null,null,2,2,4000]
[null,"UE 309 EDUCACION BOLIVAR","RO","LOCACION ","APOYO EN EL AREA DE AGI",2000,46846380,"RAMIREZ VEREAU LUIS FERNANDO ","ADMINISTRADOR","LICENCIADO","LICENCIADO EN ADMINISTRACION",0,null,null,3,"2 Y MEDIO",5000]
[null,"UE 309 EDUCACION BOLIVAR","RO","LOCACION ",null,2000,47108894,"PAJUELO CHAVARRY JOHANE SARAI","ADMINISTRACION ","LICENCIADA","LICENCIADA EN ADMINISTRACION",0,null,null,1,1,2000]
[null,"TOTAL",null,null,null,{"$f":"SUM(F2130:F2167)","v":88590},null,null,null,null,null,null,null,{"$f":"SUM(N2130:N2167)","v":317380},null,null,{"$f":"SUM(Q2153:Q2167)","v":103500}]
[null,"310 Colegio Militar Ramón Castilla","00 - RO","CAS","Especialista en Abastecimiento",1500,17833169,"Burga Lozada Juan Jose","Administrador","Superior","Lic. Administración",1,12,19763.46,1,6,9616.2800000000007]
[null,"310 Colegio Militar Ramón Castilla","00 - RO","CAS","Contador",1500,41905750,"Bejarano Paredes Cesar Alfredo","Contador","Superior","Contador Público",0,0,0,1,5,8333.52]
[null,"310 Colegio Militar Ramón Castilla","00 - RO","CAS","Técnico en Abastecimiento",1200,75042829,"Armas Nuñez Valeria Milagros","Economista","Superior","Bachiller en Ciencias Económicas",0,0,0,1,5,6747.13]
[null,"310 Colegio Militar Ramón Castilla","00 - RO","CAS","Contador",1500,72766188,"Portilla Díaz Miluska Marielena","Contador","Superior","Contador Público",1,10,16933.37]
[null,"310 Colegio Militar Ramón Castilla","00 - RO","CAS","Especialista en Personal",1400,17876508,"Chumpitazi León Virgilio Renato","Administrador","Superior","Lic. Administración",1,9,13745.22,0,0,0]
[null,"310 Colegio Militar Ramón Castilla","00 - RO","CAS","Técnico Administrativo",1200,46401732,"Bracamonte Tabaco Claudia Cecilia","Tec. Administrativo","Técnico","Tec. Administrativo",1,3,4938.74,0,0,0]
[]
[null,"TOTAL",null,null,null,{"$f":"SUM(F2169:F2175)","v":8300},null,null,null,null,null,null,null,{"$f":"SUM(N2169:N2175)","v":55380.79},null,null,{"$f":"SUM(Q2169:Q2175)","v":24696.930000000004}]
[null,"311 EDUCACIÓN JULCÁN","RECURSOS ORDINARIOS","CAS","RELACIONISTA PUBLICO",1100,46077705,"ORDOÑEZ LUIS NADIA MELISSA","CIENCIAS DE LA COMUNICACIÓN","BACHILLER EN CIENCIAS DE LA COMUNICACIÓN","PROFESIONAL",3,12,{"$f":"+F2177*M2177","v":13200},2,6,{"$f":"+P2177*F2177","v":6600}]
[null,"311 EDUCACIÓN JULCÁN","RECURSOS ORDINARIOS","CAS","TECNICO EN ALMACEN",1100,47949841,"MEDEROS MONTERO SUSANA MILAGROS","LICENCIADA EN ADMINISTRACIÓN Y FINANZAS","LICENCIADA EN ADMINISTRACIÓN Y FINANZAS","PROFESIONAL"," "," "," ",1,2,2200]
[null,"311 EDUCACIÓN JULCÁN","RECURSOS ORDINARIOS","CAS","SECRETARIA DE ADMINISTRACIÓN",1050,42602019,"DIAZ RODRIGUEZ ROXANA ROSMERY","ARQUITECTURA Y URBANISMO","LICENCIADA EN ARQUITECTURA Y URBANISMO","PROFESIONAL",2,7,7700,1,2,2100]
[null,"311 EDUCACIÓN JULCÁN","RECURSOS ORDINARIOS","CAS","SECRETARIA DE AGP",1100,45960631,"OLIVARES BURGOS MARILUZ","TEC. EN CONTABILIDAD","TECNICO EN CONTABILIDAD","TECNICO",3,12,{"$f":"+F2180*M2180","v":13200},1,6,6600]
[null,"311 EDUCACIÓN JULCÁN","RECURSOS ORDINARIOS","CAS","CHOFER",1000,48028037,"VEGA RODRIGUEZ JOSELITO RUBEN","TÉCNICO AUTOMOTRIZ","SECUNDARIA COMPLETA","CAPACITACIÓN OCUPACIONAL",0,null,null,1,3,3000]
[null,"311 EDUCACIÓN JULCÁN","RECURSOS ORDINARIOS","CAS","GUARDIAN",1000,19084026,"GONZALES CALDERON EDY OMAR","SECUNDARIA COMPLETA","SECUNDARIA COMPLETA","CAPACITACIÓN OCUPACIONAL",0,12,{"$f":"+F2182*M2182","v":12000},1,6,6000]
[null,"311 EDUCACIÓN JULCÁN","RECURSOS ORDINARIOS","CAS","ESPECIALISTA EN PROCESOS ADMINISTRATIVOS ",2600,19037460,"CRUZ CORCUERA JUAN LUCIANO","ABOGADO","LICENCIADO EN DERECHO","PROFESIONAL",4,12,{"$f":"+F2183*M2183","v":31200},1,6,15600]
[null,"311 EDUCACIÓN JULCÁN","RECURSOS ORDINARIOS","CAS","EPECIALISTA EN CONVIVENCIA",2600,70538518,"RAMIREZ CASTILLO KATTYA VANESSA","PSICOLOGA","LICENCIADA EN PSICOLOGIA","PROFESIONAL",null,null,null,1,3,7800]
[null,"311 EDUCACIÓN JULCÁN","RECURSOS ORDINARIOS","CAS","ACOMPAÑANTE PEDAGÓGICO DE II.EE. MULTIGRADO",3600,19032133,"ALAYO CHAVEZ PABLO ANTENOR","PROFESOR DE EDUCACIÓN PRIMARIA","PROFESOR DE EDUCACIÓN PRIMARIA","PROFESIONAL",2,8,{"$f":"+F2185*M2185","v":28800},1,3,{"$f":"+P2185*F2185","v":10800}]
[null,"311 EDUCACIÓN JULCÁN","RECURSOS ORDINARIOS","CAS","ACOMPAÑANTE PEDAGÓGICO DE II.EE. MULTIGRADO",3600,19081383,"CARRANZA AGUILAR CESAR ALEXANDER","PROFESOR DE EDUCACIÓN PRIMARIA","PROFESOR DE EDUCACIÓN PRIMARIA","PROFESIONAL",2,6,{"$f":"+F2186*M2186","v":21600},1,3,{"$f":"+P2186*F2186","v":10800}]
[null,"311 EDUCACIÓN JULCÁN","RECURSOS ORDINARIOS","CAS","ACOMPAÑANTE PEDAGÓGICO DE II.EE. MULTIGRADO",3600,17881980,"CASTILLO ESLAVA LUCY MABEL","PROFESOR DE EDUCACIÓN PRIMARIA","LICENCIADA EN EDUCACIÓN PRIMARIA","PROFESIONAL",null,null,null,1,3,10800]
[null,"311 EDUCACIÓN JULCÁN","RECURSOS ORDINARIOS","CAS","ACOMPAÑANTE PEDAGÓGICO DE II.EE. MULTIGRADO",3600,41384039,"MORENO RODRIGUEZ NILLTON RICHARD","PROFESOR DE EDUCACIÓN PRIMARIA","PROFESOR DE EDUCACIÓN PRIMARIA","PROFESIONAL",null,null,null,1,3,10800]
[null,"311 EDUCACIÓN JULCÁN","RECURSOS ORDINARIOS","CAS","ACOMPAÑANTE PEDAGÓGICO DE II.EE. MULTIGRADO",3600,43490159,"MOYA ESPINOLA CARLITA LILIANA","PROFESOR DE EDUCACIÓN PRIMARIA","MAGISTER EN EDUCACIÓN","PROFESIONAL",null,null,null,1,3,10800]
[null,"311 EDUCACIÓN JULCÁN","RECURSOS ORDINARIOS","CAS","ACOMPAÑANTE PEDAGÓGICO DE II.EE. MULTIGRADO",3600,40791183,"REAÑO MENDOZA MARIA DEL ROSARIO","PROFESOR DE EDUCACIÓN PRIMARIA","BACHILLER EN EDUCACIÓN","PROFESIONAL",2,8,{"$f":"+F2190*M2190","v":28800},1,3,10800]
[null,"311 EDUCACIÓN JULCÁN","RECURSOS ORDINARIOS","CAS","ACOMPAÑANTE PEDAGÓGICO DE II.EE. MULTIGRADO",3600,19037976,"REYES ZAVALETA WALTER HUGO","PROFESOR DE EDUCACIÓN PRIMARIA","PROFESOR DE EDUCACIÓN PRIMARIA","PROFESIONAL",2,8,{"$f":"+F2191*M2191","v":28800},1,3,10800]
[null,"311 EDUCACIÓN JULCÁN","RECURSOS ORDINARIOS","CAS","ACOMPAÑANTE PEDAGÓGICO DE II.EE. MULTIGRADO",3600,42181419,"VASQUEZ SANDOVAL CARMEN ROSA","PROFESOR DE EDUCACIÓN PRIMARIA","LENCIADA EN EDUCACIÓN","PROFESIONAL",null,null,null,1,3,10800]
[null,"311 EDUCACIÓN JULCÁN","RECURSOS ORDINARIOS","CAS","ACOMPAÑANTE PEDAGÓGICO DE II.EE. MULTIGRADO",3600,41177895,"VEGA BURGOS WILLIAM ANTONIO","PROFESOR DE EDUCACIÓN PRIMARIA","BACHILLER EN DUCACIÓN","PROFESIONAL",null,null,null,1,3,10800]
[null,"311 EDUCACIÓN JULCÁN","RECURSOS ORDINARIOS","CAS","GESTOR CURRICULAR",4000,17894419,"LOLOY LOPEZ OSCAR","PROFESOR DE EDUCACIÓN PRIMARIA","MAGISTER EN EDUCACIÓN","PROFESIONAL",1,3,{"$f":"+F2194*M2194","v":12000},1,1,4000]
[null,"311 EDUCACIÓN JULCÁN","RECURSOS ORDINARIOS","CAS","TECNICO EN ALMACEN",1100,44323993,"SALVADOR GUTIERREZ GINO SALVADOR","TEC. COMPUTACIÓN E INFORMÁTICA","TEC. COMPUTACIÓN E INFORMÁTICA","TECNICO",1,5,{"$f":"+F2195*M2195","v":5500},1,3,3300]
[null,"311 EDUCACIÓN JULCÁN","RECURSOS ORDINARIOS","CAS","RESPONSABLE LOCAL DE LA CALIDAD DE LA INFORMACIÓN",3000,44323993,"SALVADOR GUTIERREZ GINO VANELLI","TEC. COMPUTACIÓN E INFORMÁTICA","TECNICO","TECNICO",2,7,{"$f":"+F2196*M2196","v":21000}]
[null,"311 EDUCACIÓN JULCÁN","RECURSOS ORDINARIOS","CAS","COORDINADOR ADMINISTRATIVOS Y DE RECURSOS",2000,70362125,"REYES VIDAL EDITH LIZETH","TEC. EN CONTABILIDAD","TECNICO EN CONTABILIDAD","TECNICO",null,null,null,1,3,6000]
[null,"311 EDUCACIÓN JULCÁN","RECURSOS ORDINARIOS","CAS","COORDINADOR ADMINISTRATIVO DE RECURSOS EDUCATIVOS",2000,"70086066","BLAS BENITES MIULER ROSARIO","CONTADOR","CONTADOR PUBLICO COLEGIADO","PROFESIONAL",2,8,{"$f":"+F2198*M2198","v":16000},1,1,2000]
[null,"311 EDUCACIÓN JULCÁN","RECURSOS ORDINARIOS","CAS","COORDINADOR ADMINISTRATIVOS Y DE RECURSOS",2000,72326453,"QUIPUSCOA MEDINA LEIDI YULEICI","ADMINISTRACIÓN","TEC. EN ADMINISTRACIÓN DE NEGOCIOS","PROFESIONAL",null,null,null,1,1,2000]
[null,"311 EDUCACIÓN JULCÁN","RECURSOS ORDINARIOS","CAS","COORDINADOR ADMINISTRATIVOS Y DE RECURSOS",2000,47842258,"REYES VILLANUEVA AMTONIO EDIN","ADMINISTRACIÓN","LICENCIADO EN ADMINISTRACIÓN","PROFESIONAL",null,null,null,1,3,6000]
[null,"311 EDUCACIÓN JULCÁN","RECURSOS ORDINARIOS","CAS","COORDINADOR ADMINISTRATIVOS Y DE RECURSOS",2000,47158214,"BENITES EUSTAQUIO ELVIS YANCARLO","INGENIERO INDUSTRIAL","TITULO DE INGENIERO INDUSTRIAL","PROFESIONAL",null,null,null,1,3,6000]
[null,"311 EDUCACIÓN JULCÁN","RECURSOS ORDINARIOS","CAS","COORDINADOR ADMINISTRATIVOS Y DE RECURSOS",2000,46413131,"REYES VILLANUEVA GILMER","CONTADOR PUBLICO","TITULO DE CONTADOR PÚBLICO COLEGIADO","PROFESIONAL",2,8,{"$f":"+F2202*M2202","v":16000},1,3,6000]
[null,"311 EDUCACIÓN JULCÁN","RECURSOS ORDINARIOS","CAS","COORDINADOR DE INNOVACIÓN Y SOPORTE TECNOLÓGICO",1800,70074154,"AGREDA AREDO DEYMER YESDIN","INGENIERIA DE SISTEMAS","BACHILLER EN INGENIERIA DE SISTEMAS","PROFESIONAL",2,8,{"$f":"+F2203*M2203","v":14400},1,3,5400]
[null,"311 EDUCACIÓN JULCÁN","RECURSOS ORDINARIOS","CAS","COORDINADOR DE INNOVACIÓN Y SOPORTE TECNOLÓGICO",1800,43462893,"BLAS PONCE EDIN DILMAR","INGENIERIA DE SISTEMAS","BACHILLER EN INGENIERIA DE SISTEMAS","PROFESIONAL",2,6,{"$f":"+F2204*M2204","v":10800},1,3,5400]
[null,"311 EDUCACIÓN JULCÁN","RECURSOS ORDINARIOS","CAS","COORDINADOR DE INNOVACIÓN Y SOPORTE TECNOLÓGICO",1800,19073434,"BARRIOS ROJAS JAVIER SAMUEL","CONTABILIDAD GENERAL","TECNICO EN CONTABILIDAD","TECNICO",null,null,null,1,3,5400]
[null,"311 EDUCACIÓN JULCÁN","RECURSOS ORDINARIOS","CAS","COORDINADOR DE INNOVACIÓN Y SOPORTE TECNOLÓGICO",1800,18199537,"CASTAÑEDA ALAYO ABRHAN BALMES","COMPUTACIÓN E INFORMATICA","TÉCNICO EN COMPUTACIÓN E INFORMÁTICA","TECNICO",2,7,{"$f":"+F2206*M2206","v":12600},1,3,5400]
[null,"311 EDUCACIÓN JULCÁN","RECURSOS ORDINARIOS","CAS","COORDINADOR DE INNOVACIÓN Y SOPORTE TECNOLÓGICO",1800,71757063,"SILVESTRE RAMIREZ FRANK","PROFESOR DE COMPUTACIÓN E INFORMATICA","PROFESOR DE COMPUTACIÓN E INFORMATICA","PROFESIONAL",null,null,null,1,3,5400]
[null,"311 EDUCACIÓN JULCÁN","RECURSOS ORDINARIOS","CAS","PSICOLOGA",2000,18216630,"VIDAL MONTOYA MARIA GIOVANA","PSICOLOGIA","LICENCIADA EN PSICOLOGÍA","PROFESIONAL",null,null,null,1,3,6000]
[null,"311 EDUCACIÓN JULCÁN","RECURSOS ORDINARIOS","CAS","PSICOLOGA",2000,76313415,"GAITAN RODRIGUEZ DALIA ELIZABETH","PSICOLOGIA","LICENCIADA EN PSICOLOGÍA","PROFESIONAL",null,null,null,1,3,6000]
[null,"311 EDUCACIÓN JULCÁN","RECURSOS ORDINARIOS","CAS","PSICOLOGA",2000,70045922,"REYES LAZARO SEILLY STACY","PSICOLOGIA","LICENCIADA EN PSICOLOGÍA","PROFESIONAL",2,7,{"$f":"+F2210*M2210","v":14000},1,3,6000]
[null,"311 EDUCACIÓN JULCÁN","RECURSOS ORDINARIOS","CAS","PSICOLOGO",2000,18861079,"ALDANA SILVESTRE SEGUNDO ALFREDO","PSICOLOGIA","LICENCIADA EN PSICOLOGÍA","PROFESIONAL",2,8,16000,1,3,6000]
[null,"311 EDUCACIÓN JULCÁN","RECURSOS ORDINARIOS","CAS","PSICOLOGA",2000,73709487,"MUÑOZ MORA ELIZAVETH","PSICOLOGÍA","LICENCIADA EN PSICOLOGÍA","PROFESIONAL",2,8,16000,1,3,6000]
[null,"311 EDUCACIÓN JULCÁN","RECURSOS ORDINARIOS","CAS","SECRETARIA",1400,70895748,"EUSTAQUIO EUSTAQUIO SANDRA YAJAHIRA","TEC. EN SECRETARIADO EJECTUTIVO","TEC. EN SECRETARIADO EJECTUTIVO","TECNICO",4,12,16800,1,3,4200]
[null,"311 EDUCACIÓN JULCÁN","RECURSOS ORDINARIOS","CAS","SECRETARIA",1400,48448638,"ORBEGOSO CASIMIRO MONICA GABY","TEC. EN SECRETARIADO EJECTUTIVO","TEC. EN SECRETARIADO EJECTUTIVO","TECNICO",4,12,16800,1,3,4200]
[null,"311 EDUCACIÓN JULCÁN","RECURSOS ORDINARIOS","CAS","SECRETARIA",1400,70120053,"BENITES VILLEGAS LESLY RAQUEL","TEC. EN SECRETARIADO EJECTUTIVO","TEC. EN SECRETARIADO EJECTUTIVO","TECNICO",4,12,16800,1,3,4200]
[null,"311 EDUCACIÓN JULCÁN","RECURSOS ORDINARIOS","CAS","SECRETARIA",1400,70676608,"UCEDA ESQUIVEL ELMIDA YUSELY","TEC. EN SECRETARIADO EJECTUTIVO","TEC. EN SECRETARIADO EJECTUTIVO","TECNICO",2,8,11200,1,3,4200]
[null,"311 EDUCACIÓN JULCÁN","RECURSOS ORDINARIOS","CAS","SECRETARIA",1400,73885138,"AGREDA AREDO DAYANA ANALI","CIENCIAS DE LA COMUNICACIÓN","BACHILLER CIENCIAS DE LA COMUNICACIÓN","PROFESIONAL",2,7,9800,1,3,4200]
[null,"311 EDUCACIÓN JULCÁN","RECURSOS ORDINARIOS","CAS","APOYO EDUCATIVO",1150,46407768,"CORRALES CASTAÑEDA ELVIS STALIN","PROFESOR DE ECUCACIÓN SECUNDARIA","PROFESOR DE EDUCACIÓN SECUNDARIA-COMUNICACIÓN","PROFESIONAL",null,null,null,1,3,3450]
[null,"311 EDUCACIÓN JULCÁN","RECURSOS ORDINARIOS","CAS","APOYO EDUCATIVO",1150,19072649,"BARRETO GRAOS MANUEL","SECUNDARIA COMPLETA","SECUNDARIA COMPLETA",null,null,null,null,1,3,3450]
[null,"311 EDUCACIÓN JULCÁN","RECURSOS ORDINARIOS","CAS","APOYO EDUCATIVO",1150,"´09339970","CASTILLO CHAVEZ JAGUER MIGUEL","SECUNDARIA COMPLETA","SECUNDARIA COMPLETA","CERTIFICADO DE AUXILIAR DE EDUCACIÓN SECUNDARIA",4,12,{"$f":"+F2220*M2220","v":13800},1,3,3450]
[null,"311 EDUCACIÓN JULCÁN","RECURSOS ORDINARIOS","CAS","APOYO EDUCATIVO",1150,41829359,"MOZO GOMEZ KARLA MABY","PROFESOR DE EDUCACIÓN PRIMARIA","PROFESOR DE EDUCACIÓN PRIMARIA","PROFESIONAL",4,12,13800,1,3,3450]
[null,"311 EDUCACIÓN JULCÁN","RECURSOS ORDINARIOS","CAS","APOYO EDUCATIVO",1150,42668973,"LUJAN ARROYO RODIL","SECUNDARIA COMPLETA","SECUNDARIA COMPLETA",null,4,12,13800,1,3,3450]
[null,"311 EDUCACIÓN JULCÁN","RECURSOS ORDINARIOS","CAS","AUXILIAR DE MANTENIMIENTO",1150,47393605,"CONTRERAS ARANDA TITO YONAR","SECUNDARIA COMPLETA","SECUNDARIA COMPLETA",null,4,12,13800,1,3,3450]
[null,"311 EDUCACIÓN JULCÁN","RECURSOS ORDINARIOS","CAS","AUXILIAR DE MANTENIMIENTO",1150,45069803,"BURGOS CRUZ CONSTANTE OSMER","SECUNDARIA COMPLETA","SECUNDARIA COMPLETA","CONSTANCIA DE ESTUDIOS TECNICO AGROPECUARIA",4,12,13800,1,3,3450]
[null,"311 EDUCACIÓN JULCÁN","RECURSOS ORDINARIOS","CAS","PERSONAL DE VIGILANCIA",1150,19073190,"ROJAS RAFAEL EFRAIN","SECUNDARIA COMPLETA","SECUNDARIA COMPLETA",null,2,8,9200,1,3,3450]
[null,"311 EDUCACIÓN JULCÁN","RECURSOS ORDINARIOS","CAS","PERSONAL DE VIGILANCIA",1150,47461656,"CHAVEZ MENDOZA GERARDO","SECUNDARIA COMPLETA","SECUNDARIA COMPLETA",null,null,null,null,1,3,3450]
[null,"311 EDUCACIÓN JULCÁN","RECURSOS ORDINARIOS","CAS","PERSONAL DE VIGILANCIA",1150,40089341,"REYES LOPEZ MANUEL NATIVIDAD","SECUNDARIA COMPLETA","SECUNDARIA COMPLETA",null,1,3,{"$f":"+F2227*M2227","v":3450},1,3,3450]
[null,"311 EDUCACIÓN JULCÁN","RECURSOS ORDINARIOS","CAS","PERSONAL DE VIGILANCIA",1150,70929503,"RAMIREZ CASTILLO GELBER","TEC. EN PRODUCCIÓN AGROPECUARIA","TEC. EN PRODUCCIÓN AGROPECUARIA","TECNICO",null,null,null,1,3,3450]
[null,"311 EDUCACIÓN JULCÁN","RECURSOS ORDINARIOS","CAS","PERSONAL DE VIGILANCIA",1150,70840625,"CASTRO ALVARADO WILDER MAX","SECUNDARIA COMPLETA","SECUNDARIA COMPLETA",null,2,8,{"$f":"+F2229*M2229","v":9200},1,3,3450]
[null,"311 EDUCACIÓN JULCÁN","RECURSOS ORDINARIOS","CAS","PERSONAL DE VIGILANCIA",1150,42628161,"LOZANO JUAREZ DANNY OSWER","SECUNDARIA COMPLETA","SECUNDARIA COMPLETA",null,4,12,13800,1,3,3450]
[null,"311 EDUCACIÓN JULCÁN","RECURSOS ORDINARIOS","CAS","PERSONAL DE VIGILANCIA",1150,47915694,"AGUIRRE ROJAS ROLANDO EDWARD","SECUNDARIA COMPLETA","SECUNDARIA COMPLETA",null,4,12,13800,2,6,6900]
[null,"311 EDUCACIÓN JULCÁN","RECURSOS ORDINARIOS","CAS","PERSONAL DE VIGILANCIA",1150,44498305,"ALVARADO CASTILLO ROYER HOYLER","SECUNDARIA COMPLETA","SECUNDARIA COMPLETA",null,4,12,13800,2,6,6900]
[null,"311 EDUCACIÓN JULCÁN","RECURSOS ORDINARIOS","CAS","PERSONAL DE VIGILANCIA",1150,70085717,"AREDO TAPIA WILDER MERCEDES","SECUNDARIA COMPLETA","SECUNDARIA COMPLETA",null,4,12,13800,2,6,6900]
[null,"311 EDUCACIÓN JULCÁN","RECURSOS ORDINARIOS","CAS","PERSONAL DE VIGILANCIA",1150,70085741,"ARROYO BACA ARNOLD OLIVER","SECUNDARIA COMPLETA","SECUNDARIA COMPLETA",null,4,12,13800,2,6,6900]
[null,"311 EDUCACIÓN JULCÁN","RECURSOS ORDINARIOS","CAS","PERSONAL DE VIGILANCIA",1150,42767357,"AVALOS ORBEGOSO YUVE BENITO","SECUNDARIA COMPLETA","SECUNDARIA COMPLETA",null,4,12,13800,2,6,6900]
[null,"311 EDUCACIÓN JULCÁN","RECURSOS ORDINARIOS","CAS","PERSONAL DE VIGILANCIA",1150,19685157,"CABALLERO ROJAS ELDER","SECUNDARIA COMPLETA","SECUNDARIA COMPLETA",null,4,12,13800,2,6,6900]
[null,"311 EDUCACIÓN JULCÁN","RECURSOS ORDINARIOS","CAS","PERSONAL DE VIGILANCIA",1150,70085367,"CASIMIRO EUSTAQUIO MIQUEL","SECUNDARIA COMPLETA","SECUNDARIA COMPLETA",null,4,12,13800,2,6,6900]
[null,"311 EDUCACIÓN JULCÁN","RECURSOS ORDINARIOS","CAS","PERSONAL DE VIGILANCIA",1150,41829363,"CASTILLO CARLOS ANDRES RUSBER","SECUNDARIA COMPLETA","SECUNDARIA COMPLETA",null,4,12,13800,2,6,6900]
[null,"311 EDUCACIÓN JULCÁN","RECURSOS ORDINARIOS","CAS","PERSONAL DE VIGILANCIA",1150,45815181,"GAVIDIA SANCHEZ FRANKLIN ALEXANDER","SECUNDARIA COMPLETA","SECUNDARIA COMPLETA",null,4,12,13800,2,6,6900]
[null,"311 EDUCACIÓN JULCÁN","RECURSOS ORDINARIOS","CAS","PERSONAL DE VIGILANCIA",1150,19568830,"MINIANO AREDO MILTON AYAY","SECUNDARIA COMPLETA","SECUNDARIA COMPLETA",null,4,12,13800,2,6,6900]
[null,"311 EDUCACIÓN JULCÁN","RECURSOS ORDINARIOS","CAS","PERSONAL DE VIGILANCIA",1150,19084874,"RODRIGUEZ CHAVEZ HENDRIX YRAN","SECUNDARIA COMPLETA","SECUNDARIA COMPLETA",null,4,12,13800,2,6,6900]
[null,"311 EDUCACIÓN JULCÁN","RECURSOS ORDINARIOS","CAS","PERSONAL DE VIGILANCIA",1150,46947594,"RODRIGUEZ REYNA SANTOS URIBE","SECUNDARIA COMPLETA","SECUNDARIA COMPLETA",null,4,12,13800,2,6,6900]
[null,"311 EDUCACIÓN JULCÁN","RECURSOS ORDINARIOS","CAS","PERSONAL DE VIGILANCIA",1150,46447322,"ULLOA BENITES MIGUEL ANGEL","SECUNDARIA COMPLETA","SECUNDARIA COMPLETA",null,4,12,13800,2,6,6900]
[null,"311 EDUCACIÓN JULCÁN","RECURSOS ORDINARIOS","CAS","PERSONAL DE VIGILANCIA",1150,45107465,"VEGA RODRIGUEZ GERALDO","SECUNDARIA COMPLETA","SECUNDARIA COMPLETA",null,4,12,13800,2,6,6900]
[null,"311 EDUCACIÓN JULCÁN","RECURSOS ORDINARIOS","CAS","CHOFER",1000,41615071,"SEBASTIAN REYES WILBER HOMERO","AUXILIAR DE EDUCACIÓN","AUXILIAR DE EDUCACIÓN","TECNICO",3,12,12000]
[null,"311 EDUCACIÓN JULCÁN","RECURSOS ORDINARIOS","CAS","ESPECIALISTA EN ABASTECIMIENTO",2600,41724278,"AGUILAR ZAVALETA MIGUEL ANGEL","ADMINISTRACIÓN","LICENCIADO EN ADMINISTRACIÓN","PROFESIONAL",2,7,18200]
[null,"311 EDUCACIÓN JULCÁN","RECURSOS ORDINARIOS","CAS","ESPECIALISTA EN CONVIVENCIA",2600,45115595,"SANCHEZ SICCHA DANERY VANESSA","PSICOLOGA","LICENCIADA EN PSICOLOGIA","PROFESIONAL",2,8,20800]
[null,"311 EDUCACIÓN JULCÁN","RECURSOS ORDINARIOS","CAS","GESTOR LOCAL",3500,45273296,"OTINIANO JUAREZ ERWIN NEYCER","ADMINISTRADOR","LICENCIADO EN ADMINISTRACIÓN","PROFESIONAL",2,8,28000]
[null,"311 EDUCACIÓN JULCÁN","RECURSOS ORDINARIOS","CAS","ACOMPAÑANTE PEDAGÓGICO DE II.EE. MULTIGRADO",3600,40589892,"ALVAREZ IPARRAGUIRRE JOANA SOLEDAD","PROFESOR DE EDUCACION PRIMARIA","LICENCIADA EN EDUCACIÓN PRIMARIA","PROFESIONAL",2,8,28800]
[null,"311 EDUCACIÓN JULCÁN","RECURSOS ORDINARIOS","CAS","ACOMPAÑANTE PEDAGÓGICO DE II.EE. MULTIGRADO",3600,18166931,"CHAVEZ OTERO MARIAN ELLA DEL MILAGRO","PROFESOR DE EDUCACION PRIMARIA","PROFESOR DE EDUCACION PRIMARIA","PROFESIONAL",2,8,28800]
[null,"311 EDUCACIÓN JULCÁN","RECURSOS ORDINARIOS","CAS","ACOMPAÑANTE PEDAGÓGICO DE II.EE. MULTIGRADO",3600,19560441,"ROJAS ORTIZ WILLIAN AUGUSTO","PROFESOR DE EDUCACION PRIMARIA","PROFESOR DE EDUCACION PRIMARIA","PROFESIONAL",2,6,21600]
[null,"311 EDUCACIÓN JULCÁN","RECURSOS ORDINARIOS","CAS","ACOMPAÑANTE PEDAGÓGICO DE II.EE. MULTIGRADO",3600,80522852,"RUIZ VALVERDE RICHARD ALFREDO","PROFESOR DE EDUCACION PRIMARIA","PROFESOR DE EDUCACION PRIMARIA","PROFESIONAL",2,8,28800]
[null,"311 EDUCACIÓN JULCÁN","RECURSOS ORDINARIOS","CAS","ACOMPAÑANTE PEDAGÓGICO DE II.EE. MULTIGRADO",3400,18197399,"PEREZ VASQUEZ EBERT LEODAN","PROFESOR DE EDUCACIÓN SECUNDARIA","LICENCIADO EN EDUCACIÓN SECUNDARIA- ESPECIALIDAD LENGUA Y LITERATURA","PROFESIONAL",1,3,10200]
[null,"311 EDUCACIÓN JULCÁN","RECURSOS ORDINARIOS","CAS","ACOMPAÑANTE PEDAGÓGICO DE II.EE. MULTIGRADO",3400,41529041,"DONATO VEGA RODIL YOBANI","PROFESOR DE EDUCACIÓN SECUNDARIA","LICENCIADO EN EDUCACIÓN SECUNDARIA- CIENCIAS MATEMATICAS","PROFESIONAL",1,3,10200]
[null,"311 EDUCACIÓN JULCÁN","RECURSOS ORDINARIOS","CAS","COORDINADOR ADMINISTRATIVO DE RECURSOS EDUCATIVOS",2000,18081411,"AGUILAR LIZARRAGA ROLANDO HEBER","INGENIERO INDUSTRIAL","LICENCIADO EN INGENIERIA INDUSTRIAL","PROFESIONAL",1,4,8000]
[null,"311 EDUCACIÓN JULCÁN","RECURSOS ORDINARIOS","CAS","PERSONAL DE VIGILANCIA",1150,"40665738","BLAS ARROYO SEGUNDO EMETERIO","SECUNDARIA COMPLETA","SECUNDARIA COMPLETA",null,2,8,9200]
[null,"311 EDUCACIÓN JULCÁN","RECURSOS ORDINARIOS","CAS","COORDINADOR DE INNOVACIÓN Y SOPORTE TECNOLÓGICO",1800,70840604,"BLAS CASTAÑEDA EDGAR ULISES","SECUNDARIA COMPLETA","SECUNDARIA COMPLETA",null,2,7,12600]
[null,"311 EDUCACIÓN JULCÁN","RECURSOS ORDINARIOS","CAS","APOYO EDUCATIVO",1150,"70085736","BLAS CEDANO DAMARI LUDIM","ADMINISTRADOR","LICENCIADO EN ADMINISTRACIÓN","PROFESIONAL",2,7,8050]
[null,"311 EDUCACIÓN JULCÁN","RECURSOS ORDINARIOS","CAS","PERSONAL DE VIGILANCIA",1150,48181030,"BURGOS CORDOVA EDWIN JHONEL","SECUNDARIA COMPLETA","SECUNDARIA COMPLETA",null,1,3,3450]
[null,"311 EDUCACIÓN JULCÁN","RECURSOS ORDINARIOS","CAS","COORDINADOR ADMINISTRATIVO DE RECURSOS",2000,"45131124","GRAOS OTINIANO WALTER ESMILDER","TEC. CONTABILIDAD","TEC. EN CONTABILIDAD","TECNICO",2,8,16000]
[null,"311 EDUCACIÓN JULCÁN","RECURSOS ORDINARIOS","CAS","COORDINADOR DE INNOVACIÓN Y SOPORTE TECNOLÓGICO",1800,70087380,"GUEVARA REYES ANDY MENEN ","LIC. EN EDUCACIÓN","Bachiller en Educación","PROFESIONAL",2,7,12600]
[null,"311 EDUCACIÓN JULCÁN","RECURSOS ORDINARIOS","CAS","PSICOLOGO",2000,43114909,"LLERENA OTINIANO CELIA ROSA","PSICOLOGA","LICENCIADA EN PSICOLOGIA","PROFESIONAL",2,8,16000]
[null,"311 EDUCACIÓN JULCÁN","RECURSOS ORDINARIOS","CAS","PERSONAL DE VIGILANCIA",1150,70092410,"LUCAS ROJAS ALI JARMI","SECUNDARIA COMPLETA","SECUNDARIA COMPLETA",null,2,6,6900]
[null,"311 EDUCACIÓN JULCÁN","RECURSOS ORDINARIOS","CAS","SECRETARIA",1400,"47067393","MENDOZA GUZMAN YUVIXA JAQUELINE","TEC. CONTABILIDAD","TEC. CONTABILIDAD","TECNICO",2,8,11200]
[null,"311 EDUCACIÓN JULCÁN","RECURSOS ORDINARIOS","CAS","COORDINADOR ADMINISTRATIVO DE RECURSOS EDUCATIVOS",2000,43908093,"RODRIGUEZ VARGAS LILIANA YANET","TEC. EN CONTABILIDAD","TEC. EN CONTABILIDAD","TECNICO",1,3,6000]
[null,"311 EDUCACIÓN JULCÁN","RECURSOS ORDINARIOS","CAS","COORDINADOR ADMINISTRATIVO DE RECURSOS EDUCATIVOS",2000,"45426136","SALINAS CONTRERAS MARIA JUANA","ADMINISTRADORA","LICENCIADA EN ADMINISTRACIÓN","PROFESIONAL",2,8,16000]
[null,"311 EDUCACIÓN JULCÁN","RECURSOS ORDINARIOS","CAS","PSICOLOGO",2000,"45610372","TABRA VALVERDE KELLY","PSICOLOGA","LICENCIADA EN PSICOLOGIA","PROFESIONAL",2,8,16000]
[null,"311 EDUCACIÓN JULCÁN","RECURSOS ORDINARIOS","CAS","COORDINADOR DE INNOVACIÓN Y SOPORTE TECNOLÓGICO",1800,45965689,"UCEDA ESQUIVEL JHON HIVAR","INGENIERO DE SISTEMAS","INGENIERO DE SISTEMAS","PROFESIONAL",2,7,12600]
[null,"311 EDUCACIÓN JULCÁN","RECURSOS ORDINARIOS","CAS","PERSONAL DE VIGILANCIA",1150,71753965,"VASQUEZ ESPINOLA EDWIN ROHEL","SECUNDARIA COMPLETA","SECUNDARIA COMPLETA",null,1,3,3450]
[null,"311 EDUCACIÓN JULCÁN","RECURSOS ORDINARIOS","CAS","APOYO EDUCATIVO",1150,"45960637","VILLANUEVA AVALOS JOHN ALEX","SECUNDARIA COMPLETA","SECUNDARIA COMPLETA",null,2,8,9200]
[null,"311 EDUCACIÓN JULCÁN","RECURSOS ORDINARIOS","CAS","COORDINADOR ADMINISTRATIVO DE RECURSOS EDUCATIVOS",2000,44398175,"ALARCON PERALTA CRISTHIAN ENRIQUE","INGENIERO INDUSTRIAL","LICENCIADO EN INGENIERIA INDUSTRIAL","PROFESIONAL",1,4,8000]
[null,"311 EDUCACIÓN JULCÁN","RECURSOS ORDINARIOS","CAS","PERSONAL DE VIGILANCIA",1150,42752716,"PEÑA PAREJA KAROL MAURICIO","SECUNDARIA COMPLETA","SECUNDARIA COMPLETA",null,3,8,9200]
[null,"311 EDUCACIÓN JULCÁN","RECURSOS ORDINARIOS","CAS","COORDINADOR ADMINISTRATIVO DE RECURSOS EDUCATIVOS",2000,"47842258","REYES VILLANUEVA ANTONIO EDIN","ADMINISTRADOR","LICENCIADO EN ADMINISTRACIÓN","PROFESIONAL",2,8,{"$f":"+M2273*F2273","v":16000}]
[null,"311 EDUCACIÓN JULCÁN","RECURSOS ORDINARIOS","CAS","PSICOLOGO",2000,70045922,"REYES LAZARO SEYLLY STACY","PSICOLOGA","LICENCIADA EN PSICOLOGIA","PROFESIONAL",2,7,14000]
[null,"311 EDUCACIÓN JULCÁN","RECURSOS ORDINARIOS","CAS","AUXILIAR DE MANTENIMIENTO",1150,47393605,"CONTRERAS ARANDA  TITO  YONAR ","SECUNDARIA COMPLETA","SECUNDARIA COMPLETA",null,4,12,13800]
[null,"311 EDUCACIÓN JULCÁN","RECURSOS ORDINARIOS","CAS","PERSONAL DE VIGILANCIA",1150,41829363,"CASTILLO CARLOS  ANDRES RUSBER","SECUNDARIA COMPLETA","SECUNDARIA COMPLETA",null,4,12,13800]
[null,"311 EDUCACIÓN JULCÁN","RECURSOS ORDINARIOS","CAS","PERSONAL DE VIGILANCIA",1150,19685157,"CABALLERO ROJAS  ELDER","SECUNDARIA COMPLETA","SECUNDARIA COMPLETA",null,4,12,13800]
[null,"311 EDUCACIÓN JULCÁN","RECURSOS ORDINARIOS","CAS","ACOMPAÑANTE PEDAGÓGICO DE II.EE. MULTIGRADO",3600,"42829524","CASTAÑEDA ALAYO OSCAR TELMO","PROFESOR DE EDUCACION PRIMARIA","PROFESOR DE EDUCACION PRIMARIA","PROFESIONAL",2,8,28800]
[null,"TOTAL",null,null,null,{"$f":"SUM(F2177:F2278)","v":191900},null,null,null,null,null,null,null,{"$f":"SUM(N2177:N2278)","v":1200900},null,null,{"$f":"SUM(Q2177:Q2278)","v":401850}]
[null,"312 Educacion Viru ","00 - RO","CAS","PERSONAL DE VIGILANCIA",1150,"41014158","DESPOSORIO SAAVEDRA LILIANA","SIN TITULO","SECUNDARIA","PERSONAL DE VIGILANCIA",1,10,{"$f":"M2280*F2280","v":11500},null,null,{"$f":"P2280*F2280","v":0}]
[null,"312 Educacion Viru ","00 - RO","CAS","PERSONAL DE VIGILANCIA",1150,19700997,"TOMAS GAMBOA SANTOS WILMER ","SIN TITULO","SECUNDARIA","PERSONAL DE VIGILANCIA",0,null,null,1,6,6900]
[null,"312 Educacion Viru ","00 - RO","CAS","PERSONAL DE VIGILANCIA",1150,"18208406","CRUZ QUINTANA JOSE CARLOS","SIN TITULO","SECUNDARIA","PERSONAL DE VIGILANCIA",1,10,{"$f":"M2282*F2282","v":11500},null,null,0]
[null,"312 Educacion Viru ","00 - RO","CAS","PERSONAL DE VIGILANCIA",1150,18119777,"BLAS ALVATIERRA HECTOR MANUEL ","SIN TITULO","SECUNDARIA","PERSONAL DE VIGILANCIA",0,null,null,1,3,3450]
[null,"312 Educacion Viru ","00 - RO","CAS","PERSONAL DE VIGILANCIA",1150,47095932,"VILLANUEVA RUIZ ALFREDO LUCIO ","SIN TITULO","SECUNDARIA","PERSONAL DE VIGILANCIA",0,null,null,1,3,3450]
[null,"312 Educacion Viru ","00 - RO","CAS","PERSONAL DE VIGILANCIA",1150,"48394188","TAPIA JARA GIANCARLO JOSUE","SIN TITULO","SECUNDARIA","PERSONAL DE VIGILANCIA",1,10,{"$f":"M2285*F2285","v":11500},null,null,0]
[null,"312 Educacion Viru ","00 - RO","CAS","RESPONSABLE LOCAL DE CALIDAD DE LA INFORMACION",3000,"18197487","SANDOVAL QUISPE HERNAN MIJAIL","TECNICO","TECNICO ","TECNICO EN COMPUTACION",1,10,30000,null,null,0]
[null,"312 Educacion Viru ","00 - RO","CAS","GESTOR LOCAL INTERVENCIONES PP090",3500,"18083827","PALACIOS BLAS JOSE CARLOS","CONTADOR","SUPERIOR",{"$f":"+I2287","v":"CONTADOR"},1,10,35000,null,null,0]
[null,"312 Educacion Viru ","00 - RO","CAS","ACOMPAÑANTE PEDAGOGICO PARA IIEE MULTIGRADO MONOLINGUE CASTELLANO",3600,"40823650","MIGUEL HONORIO HENRI GROBER","PROFESOR","SUPERIOR","PROFESOR EN EDUC. PRIMARIA",1,10,36000,null,null,0]
[null,"312 Educacion Viru ","00 - RO","CAS","ACOMPAÑANTE PEDAGOGICO PARA SOPORTE PEDAGOGICO PRIMARIA",3400,"42205888","HERNANDEZ GUTIERREZ SANTOS RAY","PROFESOR","SUPERIOR","PROFESOR EN EDUC. PRIMARIA",1,10,34000,null,null,0]
[null,"312 Educacion Viru ","00 - RO","CAS","ACOMPAÑANTE PEDAGOGICO PARA SOPORTE PEDAGOGICO PRIMARIA",3400,"18063285","BENITES MORILLAS HAYDEE AURORA","PROFESOR","SUPERIOR","PROFESOR EN EDUC. PRIMARIA",1,10,34000,null,null,0]
[null,"312 Educacion Viru ","00 - RO","CAS","ACOMPAÑANTE PEDAGOGICO PARA SOPORTE PEDAGOGICO PRIMARIA",3400,"18904665","RUMAY LOPEZ EVA ROSA","PROFESOR","SUPERIOR","PROFESOR EN EDUC. PRIMARIA",1,10,34000,null,null,0]
[null,"312 Educacion Viru ","00 - RO","CAS","ACOMPAÑANTE PEDAGOGICO PARA SOPORTE PEDAGOGICO PRIMARIA",3400,"18078212","DONATO PALACIOS MARLENY","PROFESOR","SUPERIOR","PROFESOR EN EDUC. PRIMARIA",1,10,34000,null,null,0]
[null,"312 Educacion Viru ","00 - RO","CAS","ACOMPAÑANTE PEDAGOGICO PARA SOPORTE PEDAGOGICO PRIMARIA",3400,"27060583","ESCALANTE ZEGARRA JOSE LUIS","PROFESOR","SUPERIOR","PROFESOR EN EDUC. PRIMARIA",1,10,34000,null,null,0]
[null,"312 Educacion Viru ","00 - RO","CAS","ACOMPAÑANTE PEDAGOGICO PARA SOPORTE PEDAGOGICO PRIMARIA",3400,"40525040","SANCHEZ AGUILAR ROCIO NILDA","PROFESOR","SUPERIOR","PROFESOR EN EDUC. PRIMARIA",1,10,34000,null,null,0]
[null,"312 Educacion Viru ","00 - RO","CAS","ACOMPAÑANTE PEDAGOGICO PARA SOPORTE PEDAGOGICO PRIMARIA",3400,"24702590","PAUCAR ATAMARI CASILDA","PROFESOR","SUPERIOR","PROFESOR EN EDUC. PRIMARIA",1,10,34000,null,null,0]
[null,"312 Educacion Viru ","00 - RO","CAS","ACOMPAÑANTE PEDAGOGICO PARA SOPORTE PEDAGOGICO PRIMARIA",3400,"19020415","REYES QUIPUSCOA CLEMENTE JARI","PROFESOR","SUPERIOR","PROFESOR EN EDUC. PRIMARIA",1,10,34000,null,null,0]
[null,"312 Educacion Viru ","00 - RO","CAS","ACOMPAÑANTE PEDAGOGICO PARA SOPORTE PEDAGOGICO PRIMARIA",3400,"18153967","CABANILLAS GARCIA ANDRES ANULFO","PROFESOR","SUPERIOR","PROFESOR EN EDUC. PRIMARIA",1,10,34000,null,null,0]
[null,"312 Educacion Viru ","00 - RO","CAS","ESPECIALISTA ADMINISTRATIVO E INSTITUCIONAL DE UGEL",2600,"19337987","MENDOZA PRADO CARLOS JAVIER","PROFESOR","SUPERIOR","PROFESOR DE EDUC. SECUNDAIRA",1,10,26000]
[null,"312 Educacion Viru ","00 - RO","CAS","ESPECIALISTA ADMINISTRATIVO E INSTITUCIONAL DE UGEL",2600,"47173539","FLORES JAVIER FELIX EDUARDO","INGENIERO ","SUPERIOR","BACHILLER EN INGENIERIA",1,10,26000,1,4,{"$f":"P2299*F2299","v":10400}]
[null,"312 Educacion Viru ","00 - RO","CAS","ESPECIALISTA ADMINISTRATIVO E INSTITUCIONAL DE UGEL",2600,"18006938","BLAS MALCA ESTUARDO ROBERTO","ADMINISTRADOR","SUPERIOR","LICENCIADO EN ADMINISTRACION",1,10,26000]
[null,"312 Educacion Viru ","00 - RO","CAS","ESPECIALISTA ADMINISTRATIVO E INSTITUCIONAL DE UGEL",2600,41130367,"PACHERREZ GANOZA EINSENHOWER","CONTADOR ","SUPERIOR","CONTADOR",null,null,null,1,4,{"$f":"P2301*F2301","v":10400}]
[null,"312 Educacion Viru ","00 - RO","CAS","ESPECIALISTA ADMINISTRATIVO E INSTITUCIONAL DE UGEL",2600,"44368811","FERNANDEZ RODRIGUEZ WILSON JUNIOR","INGENIERO ","SUPERIOR","INGENIERO ",1,10,{"$f":"M2302*F2302","v":26000}]
[null,"312 Educacion Viru ","00 - RO","CAS","ESPECIALISTA ADMINISTRATIVO E INSTITUCIONAL DE UGEL",2600,"06532646","VILLACORTA CASTILLO CARMEN YSABEL ","ARQITECTO ","SUPERIOR","ARQUITECTO",null,null,null,1,3,{"$f":"+P2303*F2303","v":7800}]
[null,"312 Educacion Viru ","00 - RO","CAS","ESPECIALISTA ADMINISTRATIVO E INSTITUCIONAL DE UGEL",2600,46009097,"SILVA SEVILLANO ROGER JUNIOR","ABOGADO ","SUPERIOR","ABOGADO",null,null,{"$f":"M2304*F2304","v":0},1,3,{"$f":"P2304*F2304","v":7800}]
[null,"312 Educacion Viru ","00 - RO","CAS","ESPECIALISTA ADMINISTRATIVO E INSTITUCIONAL DE UGEL",2600,"41028212","RIVERA GIL YESENIA JACQUELINE","CONTADOR","SUPERIOR","CONTADOR",1,10,{"$f":"M2305*F2305","v":26000},null,null,{"$f":"+P2305*F2305","v":0}]
[null,"312 Educacion Viru ","00 - RO","CAS","ESPECIALISTA ADMINISTRATIVO E INSTITUCIONAL DE UGEL",2600,"42808326","GARCIA FLORES LORENA NATALI","ABOGADO ","SUPERIOR","ABOGADO",1,10,{"$f":"M2306*F2306","v":26000},1,2,{"$f":"+P2306*F2306","v":5200}]
[null,"312 Educacion Viru ","00 - RO","CAS","ESPECIALISTA ADMINISTRATIVO E INSTITUCIONAL DE UGEL",2600,41384403,"AMAYA  MUÑOZ MIGUEL ANGEL ","ABOGADO ","SUPERIOR","ABOGADO",null,null,null,1,4,{"$f":"+P2307*F2307","v":10400}]
[null,"312 Educacion Viru ","00 - RO","CAS","ESPECIALISTA EN MONITOREO DE EVALUACIONES DE ESTUDIANTES Y DOCENTES",2600,"18073727","VIGO SANCHEZ CARLOS ALBERTO","CONTADOR","SUPERIOR","BACHILLER EN CONTABILIDAD",1,10,{"$f":"M2308*F2308","v":26000},null,null,{"$f":"P2308*F2308","v":0}]
[null,"312 Educacion Viru ","00 - RO","CAS","ESPECIALISTA EN MONITOREO DE EVALUACIONES DE ESTUDIANTES Y DOCENTES",2600,43803111,"GRACIA MORETO NEXAR ","INGENIERO ","SUPERIOR","BACHILLER INGENIERO ",0,null,null,1,3,{"$f":"P2309*F2309","v":7800}]
[null,"312 Educacion Viru ","00 - RO","CAS","APOYO EDUCATIVO",1150,"40448305","VERA BENITES SANTOS TABITA","PROFESOR","SECUNDARIA","BACHILLER EN EDUCACION",1,10,{"$f":"M2310*F2310","v":11500},null,null,{"$f":"+F2310*P2310","v":0}]
[null,"312 Educacion Viru ","00 - RO","CAS","COORDINADOR DE INNOVACION Y SOPORTE TECNOLOGICO",1800,"46447280","BERMUDEZ JARA GUILLERMO INOCENCIO","INGENIERO ","SUPERIOR","INGENIERO ",1,10,18000,1,6,{"$f":"P2311*F2311","v":10800}]
[null,"312 Educacion Viru ","00 - RO","CAS","PSICOLOGO O TRABAJADOR SOCIAL",1800,"32986768","LAVADO TRUJILLO CLEMENCIA EVELIA","PSICOLOGO","SUPERIOR","PSICOLOGA",1,10,18000,null,null,0]
[null,"312 Educacion Viru ","00 - RO","CAS","COORDINADOR ADMINISTRATIVO Y DE RECURSOS EDUCATIVOS",2000,"40063394","NAZARIO NAZARIO CARLOS ALBERTO","CONTADOR","SUPERIOR","CONTADOR",1,10,20000,null,null,0]
[null,"312 Educacion Viru ","00 - RO","CAS","PERSONAL DE VIGILANCIA",1150,"80354766","YAKUDEN OROSCO ROBERTO SHINDO","SIN TITULO","SECUNDARIA","PERSONAL DE VIGILANCIA",1,10,11500,1,6,6900]
[null,"312 Educacion Viru ","00 - RO","CAS","PERSONAL DE VIGILANCIA",1150,"18209327","BLAS MILQUIADES SERGIO LENI","SIN TITULO","SECUNDARIA","PERSONAL DE VIGILANCIA",1,10,11500,1,3,3450]
[null,"312 Educacion Viru ","00 - RO","CAS","PERSONAL DE VIGILANCIA",1150,"70403201","GALICIA DOMINGUEZ CARLOS EDUARDO","SIN TITULO","SECUNDARIA","PERSONAL DE VIGILANCIA",1,10,11500,1,6,6900]
[null,"312 Educacion Viru ","00 - RO","CAS","APOYO EDUCATIVO",1150,46711471,"ROJAS BLAS MIRINA ELIZABETH ","ENFERMERIA ","SUPERIOR ","TECNICA EN ENFERMERIA ",0,null,null,1,2,{"$f":"+F2317*P2317","v":2300}]
[null,"312 Educacion Viru ","00 - RO","CAS","APOYO EDUCATIVO",1100,"18162302","MACHADO PALACIOS DOANA KATHERINE","PROFESOR","SECUNDARIA","BACHILLER EN EDUCACION",1,10,{"$f":"M2318*F2318","v":11000},null,null,{"$f":"P2318*F2318","v":0}]
[null,"312 Educacion Viru ","00 - RO","CAS","COORDINADOR DE INNOVACION Y SOPORTE TECNOLOGICO",1800,"18138448","CHAVEZ CARMONA JUAN PABLO","TECNICO","SUPERIOR","TECNICO EN COMPUTACION",1,10,{"$f":"M2319*F2319","v":18000},null,4,7200]
[null,"312 Educacion Viru ","00 - RO","CAS","PSICOLOGO O TRABAJADOR SOCIAL",1800,"45776051","GARCIA PEREDA CRISTIAN ALEJANDRO","PSICOLOGO","SUPERIOR","PSICOLOGA",1,10,{"$f":"M2320*F2320","v":18000},null,null,0]
[null,"312 Educacion Viru ","00 - RO","CAS","COORDINADOR ADMINISTRATIVO Y DE RECURSOS EDUCATIVOS",2000,47165692,"CHAVEZ MARIN HOLMER DENIS "," ","SUPERIOR"," ",null,null,null,1,4,8000]
[null,"312 Educacion Viru ","00 - RO","CAS","COORDINADOR ADMINISTRATIVO Y DE RECURSOS EDUCATIVOS",2000,47179790,"AGUILAR JULCA JHOHAN PETER ",null,"SUPERIOR ",null,null,null,null,1,4,8000]
[null,"312 Educacion Viru ","00 - RO","CAS","COORDINADOR ADMINISTRATIVO Y DE RECURSOS EDUCATIVOS",2000,18073727,"VIGO SANCHEZ CARLOS ALBERTO","CONTADOR ","SUPERIOR ","CONTADOR",null,null,null,1,4,8000]
[null,"312 Educacion Viru ","00 - RO","CAS","COORDINADOR ADMINISTRATIVO Y DE RECURSOS EDUCATIVOS",2000,"40167457","VILLALOBOS VILLEGAS EVELYN JHUNETT","LICENCIADA EN ADMINISTRACION","SUPERIOR","LICENCIADO EN ADMINISTRACION",1,10,{"$f":"M2324*F2324","v":20000},null,null,0]
[null,"312 Educacion Viru ","00 - RO","CAS","PERSONAL DE SECRETARIA",1400,"45251394","ASAVACHE DIAZ JOSSY CAROLINA","SECRETARIA","SUPERIOR","SECRETARIADO EJECUTIVO COMPUTARIZADO",1,10,14000,1,6,8400]
[null,"312 Educacion Viru ","00 - RO","CAS","PERSONAL DE MANTENIMIENTO",1150,"19701609","ESPINOZA CASAMAYOR DEMETRIO HECTOR","SIN TITULO","SUPERIOR","PERSONAL DE MANTENIMIENTO",1,10,11500,1,4,4600]
[null,"312 Educacion Viru ","00 - RO","CAS","PERSONAL DE VIGILANCIA",1150,"17888736","VILLARREAL MORENO WILE","SIN TITULO","SECUNDARIA","PERSONAL DE VIGILANCIA",1,10,11500,1,8,9200]
[null,"312 Educacion Viru ","00 - RO","CAS","PERSONAL DE VIGILANCIA",1150,"18158438","MERCADO GARCIA SANTOS AGUSTIN","SIN TITULO","SECUNDARIA","PERSONAL DE VIGILANCIA",1,10,11500,null,null,0]
[null,"312 Educacion Viru ","00 - RO","CAS","PERSONAL DE VIGILANCIA",1150,"43269728","CARRANZA CAMPOS JORGE HERNAN","SIN TITULO","SECUNDARIA","PERSONAL DE VIGILANCIA",1,10,11500,1,8,9200]
[null,"312 Educacion Viru ","00 - RO","CAS","APOYO EDUCATIVO",1100,"46012990","CASTILLO VARGAS KATHERIN ESTEFANY MARINA","PSICOLOGO","SECUNDARIA","PSICOLOGA",1,10,11000,null,null,0]
[null,"312 Educacion Viru ","00 - RO","CAS","COORDINADOR DE INNOVACION Y SOPORTE TECNOLOGICO",1800,"18125150","RAMIREZ CIEZA OSCAR DAVID","PROFESOR","SUPERIOR","PROFESOR EN EDUC. SECUNDARIA",1,10,18000,null,null,0]
[null,"312 Educacion Viru ","00 - RO","CAS","PSICOLOGO O TRABAJADOR SOCIAL",2000,"45946806","CABALLERO ESQUIVEL LEIDY MARIANA TERESA","PSICOLOGO","SUPERIOR","PSICOLOGA",1,10,20000,null,null,0]
[null,"312 Educacion Viru ","00 - RO","CAS","COORDINADOR ADMINISTRATIVO Y DE RECURSOS EDUCATIVOS",2000,"18210821","VILLANUEVA LARA MAGGALIT JESICA","PROFESOR DE EDUCACION","SUPERIOR","PROFESOR DE EDUC. SECUNDAIRA",1,10,20000,null,null,0]
[null,"312 Educacion Viru ","00 - RO","CAS","PERSONAL DE SECRETARIA",1400,42658170,"ROSSO VALVERDE MILAGRITOS MARDELLY ","SECRETARIA","SUPERIOR","SECRETARIADO EJECUTIVO COMPUTARIZADO",0,null,null,1,4,5600]
[null,"312 Educacion Viru ","00 - RO","CAS","PERSONAL DE SECRETARIA",1400,"40571710","NIEVES REQUENA PRISCILLA VANESSA","SECRETARIA","SUPERIOR","SECRETARIADO EJECUTIVO COMPUTARIZADO",1,10,{"$f":"M2335*F2335","v":14000},1,6,8400]
[null,"312 Educacion Viru ","00 - RO","CAS","PERSONAL DE MANTENIMIENTO",1150,"18205341","AVILA REYES EVER JUSTO","SIN TITULO","SECUNDARIA","PERSONAL DE MANTENIMIENTO",1,10,11500,1,4,4600]
[null,"312 Educacion Viru ","00 - RO","CAS","PERSONAL DE VIGILANCIA",1150,"19557676","PAREDES CERNA BACILIO","SIN TITULO","SECUNDARIA","PERSONAL DE VIGILANCIA",1,10,11500,1,8,9200]
[null,"312 Educacion Viru ","00 - RO","CAS","PERSONAL DE VIGILANCIA",1150,"18883297","OLIVARES ROSAS WALTER","SIN TITULO","SECUNDARIA","PERSONAL DE VIGILANCIA",1,10,11500,1,8,9200]
[null,"312 Educacion Viru ","00 - RO","CAS","PERSONAL DE VIGILANCIA",1150,"18159133","RIOS HUAMAN ELIAS","SIN TITULO","SECUNDARIA","PERSONAL DE VIGILANCIA",1,10,11500,null,null,0]
[null,"312 Educacion Viru ","00 - RO","CAS","PERSONAL DE MANTENIMIENTO PARA EL CRFA",1150,"18187869","GUEVARA BLAS JORGE LUIS","SIN TITULO","SECUNDARIA","PERSONAL DE MANTENIMIENTO",1,10,11500,1,4,4600]
[null,"312 Educacion Viru ","00 - RO","CAS","PERSONAL DE COCINA PARA EL CRFA",1100,"48794301","ESQUIVEL PAJILLA CECILIA NATIVIDAD","SIN TITULO","SECUNDARIA","PERSONAL DE MANTENIMIENTO",1,10,11000,null,null,0]
[null,"312 Educacion Viru ","00 - RO","CAS","COORDINADOR DEL CRFA",3200,"40405070","SANCHEZ ROSALES JOSE LUIS","PROFESOR","SUPERIOR","PROFESOR EDUC. SECUNDARIA",1,10,32000,null,null,0]
[null,"312 Educacion Viru ","00 - RO","CAS","PERSONAL DE VIGILANCIA",1150,"","EN PROCESO SELECCIÓN  POR RENUNCIA ",0,null,null,null,null,null,null,null,0]
[null,"312 Educacion Viru ","00 - RO","CAS","PERSONAL DE VIGILANCIA",1150,"41825799","GUERRA ALVAREZ JACKSON","SIN TITULO","SECUNDARIA","PERSONAL DE VIGILANCIA",0,null,null,1,4,4600]
[null,"312 Educacion Viru ","00 - RO","CAS","PERSONAL DE VIGILANCIA",1150,"41386798","SOLES QUINTANA YONI RICARDO","SIN TITULO","SECUNDARIA","PERSONAL DE VIGILANCIA",0,null,null,1,4,4600]
[null,"312 Educacion Viru ","00 - RO","CAS","RESPONSABLE LOCAL DE CALIDAD DE LA INFORMACION",3000,"40015464","GUZMAN ORTIZ ROLANDO LUCIO","INGENIERO ","SUPERIOR","INGENIERO ",null,null,{"$f":"M2346*F2346","v":0},null,null,0]
[null,"312 Educacion Viru ","00 - RO","CAS","ACOMPAÑANTE PEDAGOGICO PARA IIEE MULTIGRADO MONOLINGUE CASTELLANO",3600,"19024525","COLLAVE NERI CRECENCIO","PROFESOR","SUPERIOR","PROFESOR EN EDUC. PRIMARIA",1,10,36000,1,4,14400]
[null,"312 Educacion Viru ","00 - RO","CAS","ACOMPAÑANTE PEDAGOGICO PARA IIEE MULTIGRADO MONOLINGUE CASTELLANO",3600,"44599335","CHACON RUMAY GLADYS SOLEDAD","PROFESOR","SUPERIOR","PROFESOR EN EDUC. PRIMARIA",1,10,36000,null,null,0]
[null,"312 Educacion Viru ","00 - RO","CAS","ACOMPAÑANTE PEDAGOGICO PRIMARIA POLIDOCENTE COMPLETO",3400,"18078212","DONATO PALACIOS MARLENY","PROFESOR","SUPERIOR","PROFESOR EN EDUC. PRIMARIA",1,10,34000,null,null,0]
[null,"312 Educacion Viru ","00 - RO","CAS","ACOMPAÑANTE PEDAGOGICO PRIMARIA POLIDOCENTE COMPLETO",3400,"17918334","HERNANDEZ MARIÑOS VIOLETA LILIANA","PROFESOR","SUPERIOR","PROFESOR EN EDUC. PRIMARIA",1,10,34000,1,4,13600]
[null,"312 Educacion Viru ","00 - RO","CAS","ACOMPAÑANTE PEDAGOGICO PRIMARIA POLIDOCENTE COMPLETO",3400,"16722704","ZAFRA ORTIZ MARINA","PROFESOR","SUPERIOR","PROFESOR EN EDUC. PRIMARIA",1,10,34000,null,null,0]
[null,"312 Educacion Viru ","00 - RO","CAS","ACOMPAÑANTE PEDAGOGICO PRIMARIA POLIDOCENTE COMPLETO",3400,"18037897","MENDEZ VASQUEZ BENJAMIN AMADO","PROFESOR","SUPERIOR","PROFESOR EN EDUC. PRIMARIA",1,10,34000,null,null,0]
[null,"312 Educacion Viru ","00 - RO","CAS","ACOMPAÑANTE PEDAGOGICO PRIMARIA POLIDOCENTE COMPLETO",3400,"18835392","VALENCIA VALVERDE ANDREA JESUS","PROFESOR","SUPERIOR","PROFESOR EN EDUC. PRIMARIA",1,10,34000,null,null,0]
[null,"312 Educacion Viru ","00 - RO","CAS","ACOMPAÑANTE PEDAGOGICO PRIMARIA POLIDOCENTE COMPLETO",3400,"42037949","MONTES BURGOS MONICA JULIA","PROFESOR","SUPERIOR","PROFESOR EN EDUC. PRIMARIA",1,10,34000,null,null,0]
[null,"312 Educacion Viru ","00 - RO","CAS","ESPECIALISTA EN CONVIVENCIA ESCOLAR",2600,45548975,"SANTOS ESCOBEDO CARMEN ROSA","PSICOLOGO","SUPERIOR","PSICOLOGA",1,10,26000,1,6,15600]
[null,"312 Educacion Viru ","00 - RO","CAS","ESPECIALISTA EN SUPERVICION DE IIEE PRIVADAS",2600,"46846376","VERASTEGUI VALDERA AUGUSTA INES","LICENCIADA EN ADMINISTRACION","SUPERIOR","LICENCIADO EN ADMINISTRACION",1,6,15600,null,null,0]
[null,"312 Educacion Viru ","00 - RO","CAS","ESPECIALISTA EN CONTABILIDAD",2600,"41606496","NICACIO CHAVEZ FREDDY DAVID","CONTADOR","SUPERIOR","CONTADOR",1,4,10400,null,null,0]
[null,"312 Educacion Viru ","00 - RO","CAS","ESPECIALISTA LEGAL",2600,"45244615","RUIZ JIMENEZ JIMY DENIS","ABOGADO ","SUPERIOR","ABOGADO",1,6,15600,null,null,0]
[null,"312 Educacion Viru ","00 - RO","CAS","APOYO EDUCATIVO",1150,32907356,"DE LA CRUZ MENDEZ VICTOR ROLANDO ","PROFESOR","SECUNDARIA","BACHILLER EN EDUCACION",0,null,null,1,4,4600]
[null,"312 Educacion Viru ","00 - RO","CAS","COORDINADOR DE INNOVACION Y SOPORTE TECNOLOGICO",1800,"46447280","BERMUDEZ JARA GUILLERMO INOCENCIO","INGENIERO ","SUPERIOR","INGENIERO INFORMATICO",0,null,null,1,4,7200]
[null,"312 Educacion Viru ","00 - RO","CAS","PSICOLOGO",2000,"43677990","SANCHEZ PEREZ DINA ARELI","PSICOLOGO","SUPERIOR","PSICOLOGA",null,null,null,1,4,8000]
[null,"312 Educacion Viru ","00 - RO","CAS","COORDINADOR ADMINISTRATIVO Y DE RECURSOS EDUCATIVOS PARA ZONAS RURALES",2000,"40063394","NAZARIO NAZARIO CARLOS ALBERTO","CONTADOR","SUPERIOR","CONTADOR",null,null,null,1,4,8000]
[null,"312 Educacion Viru ","00 - RO","CAS","APOYO EDUCATIVO",1150,48303668,"VEGA CASTRO PAOLA JANETH ","PROFESOR","SECUNDARIA","BACHILLER EN EDUCACION",0,null,null,1,4,4600]
[null,"312 Educacion Viru ","00 - RO","CAS","APOYO EDUCATIVO",1150,43684569,"CUÑE GARCIA ROSITA ELSA","TECNICO EN CONTABILIDAD","SECUNDARIA","TECNICO EN CONTABILIDAD",0,null,null,1,1,1150]
[null,"312 Educacion Viru ","00 - RO","CAS","PERSONAL DE VIGILANCIA",1150,"","EN PROCESO SELECCIÓN  POR RENUNCIA ",0,null,null,null,null,null,null,null,0]
[null,"312 Educacion Viru ","00 - RO","CAS","COORDINADOR DE INNOVACION Y SOPORTE TECNOLOGICO",1800,"47386941","ESQUIVEL IBAÑEZ DENNYS ADDERLY","BACHILLER","SUPERIOR","BACHILLER EN INGENIERIA",0,null,null,1,3,5400]
[null,"312 Educacion Viru ","00 - RO","CAS","PSICOLOGO",2000,43346299,"ULLOA MORA NOEMI LISETH ","PSICOLOGO","SUPERIOR","PSICOLOGA",null,null,null,1,4,8000]
[null,"312 Educacion Viru ","00 - RO","CAS","PSICOLOGO",2000,44895600,"ROJAS FLORES ELENA MILAGRITOS ","PSICOLOGO","SUPERIOR","PSICOLOGA",null,null,null,1,3,6000]
[null,"312 Educacion Viru ","00 - RO","CAS","PSICOLOGO",2000,"41383548","OTINIANO RAMIREZ IRMA MARLENE","PSICOLOGO","SUPERIOR","PSICOLOGA",null,null,null,1,3,6000]
[null,"312 Educacion Viru ","00 - RO","CAS","COORDINADOR ADMINISTRATIVO Y DE RECURSOS EDUCATIVOS PARA ZONAS RURALES",2000,"46926147","SAUCEDO PAREDES JESSICA CLARA","ADMINISTRADOR","SUPERIOR","LICENCIADO EN ADMINISTRACION",0,null,null,1,3,6000]
[null,"312 Educacion Viru ","00 - RO","CAS","APOYO EDUCATIVO",1150,"18106020","VASQUEZ BENITES CHARO","PROFESOR","SUPERIOR","PROFESOR DE EDUC. SECUNDAIRA",0,null,null,1,3,3450]
[null,"312 Educacion Viru ","00 - RO","CAS","PERSONAL DE VIGILANCIA",1150,"80158875","BACILIO CIUDAD RICHARD DANIEL","PROFESOR","SUPERIOR","PROFESOR",null,null,null,1,3,3450]
[null,"312 Educacion Viru ","00 - RO","CAS","COORDINADOR DE INNOVACION Y SOPORTE TECNOLOGICO",1800,43994179,"BALDEON SOTO RAUL ALBERTO ","BACHILLER","SUPERIOR","BCHILLER EN INGENIERIA DE SISTEMAS Y COMPUTACION",0,null,null,1,4,7200]
[null,"312 Educacion Viru ","00 - RO","CAS","COORDINADOR DE INNOVACION Y SOPORTE TECNOLOGICO",1800,"41701086","COTRINA MAURICIO ALAM DANIEL","BACHILLER","SUPERIOR","BCHILLER EN INGENIERIA DE SISTEMAS Y COMPUTACION",0,null,null,1,4,7200]
[null,"312 Educacion Viru ","00 - RO","CAS","PSICOLOGO",2000,"43346299","RUIZ PINBEDO JANEDITH","PSICOLOGO","SUPERIOR","PSICOLOGA",null,null,null,1,3,6000]
[null,"312 Educacion Viru ","00 - RO","CAS","COORDINADOR ADMINISTRATIVO Y DE RECURSOS EDUCATIVOS PARA ZONAS URBANAS",2000,"18161320","BOBADILLA SEGURA WILFREDO ALVARO","CONTABILIDAD","SUPERIOR","BACHILLER EN CONTABILIDAD",0,null,null,1,1,2000]
[null,"312 Educacion Viru ","00 - RO","CAS","COORDINADOR DEL CRFA",3200,"40405070","SANCHEZ ROSALES JOSE LUIS","PROFESOR DE EDUCACION","SUPERIOR","PROFESOR DE EDUC. SECUNDAIRA",0,null,null,1,4,12800]
[null,"312 Educacion Viru ","00 - RO","CAS","PERSONAL DE COCINA PARA EL CRFA",1150,"40739015","SICCHA GARCIA JEIDDY LARISA","SIN TITULO","SECUNDARIA","PERSONAL DE COCINA",0,null,null,1,4,4600]
[null,"312 Educacion Viru ","00 - RO","CAS","CHOFER",1151,18858093,"ALTAMIRANO MOSTACERO, CESAR AUGUSTO","PROFESOR DE EDUCACION","SUPERIOR","PROFESOR",1,12,{"$f":"M2379*F2379","v":13812},1,6,6906]
[null,"312 Educacion Viru ","00 - RO","CAS","ESTADISTICO",1726,43817650,"PIANTO MONSALVE DINO ANTONIO","INGENIERO ","SUPERIOR","INGENIERO ",1,10,17260,1,6,10356]
[null,"312 Educacion Viru ","00 - RO","CAS","ESTADISTICO",1726,41429051,"LUIS FELIPE PAREDES VALDIVIESO ","ESTADUISTICO","SUPERIOR","ESTADISTICO",1,10,17260,null,null,0]
[null,"312 Educacion Viru ","00 - RO","CAS","TEC. ADMIN. - PROY I",1151,70785046,"GONZALES AMAYA YOJHAIRA BEBZABETH","BACHILLER SISTEMA ","SUPERIOR","BACHILLER EN NG SISTEMAS",1,12,13812,1,6,{"$f":"P2382*F2382","v":6906}]
[null,"312 Educacion Viru ","00 - RO","CAS","TEC. ADMIN. - PROY I",1151,18209252,"ZEGARRA CRUZADO DE FLORES JULISSA EVELYN","BACHILLER SISTEMA ","SUPERIOR","BACHILLER EN ADMINISTRACION",1,11,12661,1,6,6906]
[null,"312 Educacion Viru ","00 - RO","CAS","TEC. ADMIN.- TRAM DOC.",1151,18129234,"NEYRA YUYEME HORTENCIA LILIANA","BACHILLER EN EDUCACION","SUPERIOR","BACHILLER EN EDUCACION",1,12,13812,null,null,0]
[null,"312 Educacion Viru ","00 - RO","CAS","TEC. ADMIN.- TRAM DOC.",1151,43776668,"VELASQUEZ PIMINCHUMO REYNERI EFRAIN","TECNICO COMPUTACION","SUPERIOR","LICENCIADO EN ADMINISTRACION",0,null,0,null,null,0]
[null,"312 Educacion Viru ","00 - RO","CAS","ESP. DE TESORERIA",1726,43089570,"RODRIGUEZ PULIDO, ANGELICA MARIA","CONTADOR ","SUPERIOR","CONTADOR",1,12,20712,1,6,10356]
[null,"312 Educacion Viru ","00 - RO","CAS","ESP.  ADM.  SUP",1726,47672313,"SANCHEZ GARCIA MIGUEL ANGEL","BACHILLER ECOINOMIA ","SUPERIOR","BACHILLER EN ECONOMIA",1,6,10356,1,6,10356]
[null,"312 Educacion Viru ","00 - RO","CAS","ESP.  ADM.  SUP",1726,46282022,"ALVAREZ MOSQUEIRA VICTOR ALEXANDER","BACHILLER EN CONTABILIDAD","SUPERIOR","BACHILLER EN CONTABILIDAD",1,5,8630,null,null,0]
[null,"312 Educacion Viru ","00 - RO","CAS","TEC. ADMIN.- PROY II",1151,41773637,"AGUILAR JUAREZ FREDDY ALAN","TECNICO CONTABLE","SUPERIOR","TECNICO EN CONTABILIDAD",1,6,6906,1,6,6906]
[null,"312 Educacion Viru ","00 - RO","CAS","TEC. ADMIN.- PROY II",1151,46926147,"SAUCEDO PAREDES JESSICA CLARA","LICENCIADA EN ADMINISTRACION","SUPERIOR","LICENCIADO EN ADMINISTRACION",1,12,13812,null,null,0]
[null,"312 Educacion Viru ","00 - RO","CAS","RESPONSABLE DE ESCALAFON",1151,18209252,"ZEGARRA CRUZADO DE FLORES JULISSA EVELYN","ADMINISTRADOR","SUPERIOR","BACHILLER EN ADMINISTRACION",1,12,13812,1,8,9208]
[null,"312 Educacion Viru ","00 - RO","CAS","RESPONSABLE DE ESCALAFON",1151,17971091,"TORO RAMIREZ JESUS ADOLFO","TECNICO","SUPERIOR","TECNICO EN CONTABILIDAD",1,11,12661,null,null,0]
[null,"312 Educacion Viru ","00 - RO","CAS","TEC. ADM. - ABASTEC",1151,46810462,"MONZON RAMIREZ,  ROSA MARGARITA","TECNICO CONTABLE","SUPERIOR","TECNICO EN CONTABILIDAD",1,12,13812,1,6,6906]
[null,"312 Educacion Viru ","00 - RO","CAS","CONTADOR",1726,18158919,"COTRINA PEREDA, JHONNY WILLIAM ","CONTADOR","SUPERIOR","CONTADOR",1,12,20712,1,6,10356]
[null,"312 Educacion Viru ","00 - RO","CAS","SECRETARIA DIREC",1726,71773843,"PAREDES GOMEZ, KARINA ISABEL","SECRETARIA","SUPERIOR","TECNICO EN SECRETARIADO",1,12,20712,1,6,10356]
[null,"312 Educacion Viru ","00 - RO","CAS","ABASTECIMIENTO",1726,18217560,"CRUZADO ESCORZA ALVARO JESUS","ADMINISTRADOR","SUPERIOR","LICENCIADO EN ADMINISTRACION",1,12,20712,1,6,10356]
[null,"312 Educacion Viru ","00 - RO","CAS","ESP. FINANZAS",1726,40276946,"VILLON PRIETO ROSITA ELIZABETH","CONTADOR ","SUPERIOR","CONTADOR",1,12,20712,null,null,0]
[null,"312 Educacion Viru ","00 - RO","CAS","ESP. FINANZAS",1726,70015615,"MILDRES ALENE SANCHEZ MARQUEZ ","CONTADOR ","SUPERIOR","CONTADOR",1,3,5178,1,1,1726]
[null,"312 Educacion Viru ","00 - RO","CAS","ESP. PERSONAL",1726,17804863,"ROBLES SALAZAR JOSE WALTER","ABOGADO ","SUPERIOR","ABOGADO",1,12,20712,null,null,0]
[null,"312 Educacion Viru ","00 - RO","CAS","ESP. PERSONAL",1726,40412528,"SANCHEZ LLAJA ROSA ESPERANZA","ABOGADO ","SUPERIOR","ABOGADO",1,10,17260,1,6,10356]
[null,"312 Educacion Viru ","00 - RO","CAS","ABOGADO",1726,47264549,"SALINAS HERRERA FIORELLA LIZBETH","ABOGADO ","SUPERIOR","ABOGADO",1,12,20712,1,1,1726]
[null,"312 Educacion Viru ","00 - RO","CAS","ABOGADO",1726,46009097,"SILVA SEVILLANO ROGER JUNIOR","ABOGADO ","SUPERIOR","ABOGADO",1,10,17260,1,3,5178]
[null,"312 Educacion Viru ","00 - RO","CAS","ESP. FINANZAS",1726,70015615,"PALACIOS BLAS JOSE CARLOS","CONTADOR ","SUPERIOR","CONTADOR",null,null,null,1,4,6904]
[null,"312 Educacion Viru ","00 - RO","CAS","ACOMPAÑANTE PEDAGOGICO PRIMARIA POLIDOCENTE COMPLETO",4000,19082770,"MEDINA VALENCIA MARITZA DEL PILAR ","PROFESOR","SUPERIOR","PROFESOR EN EDUC. PRIMARIA",0,null,null,1,4,16000]
[null,"312 Educacion Viru ","00 - RO","CAS","ACOMPAÑANTE PEDAGOGICO PRIMARIA POLIDOCENTE COMPLETO",4000,40852013,"COLLAVE MICHOLA JUAN CARLOS ","PROFESOR","SUPERIOR","PROFESOR EN EDUC. PRIMARIA",0,null,null,1,4,16000]
[null,"312 Educacion Viru ","00 - RO","CAS","SECRETARI A",1151,45447241,"GRADOS VEGA NORMA BALVINA ","SECRETARIA","SECUNDARIA","SECRETARIADO EJECUTIVO COMPUTARIZADO",0,null,null,1,4,4604]
[]
[null,"TOTAL",null,null,null," ",null,null,null,null,null,null,null,{"$f":"SUM(N2280:N2407)","v":1732888},null,null,{"$f":"SUM(Q2280:Q2407)","v":540968}]
[null,"313 EDUCACION EL PORVENIR","RO","CAS","ACOMPAÑANTE PEDAGOGICO PARA IIEE MULTIGRADO MONOLINGUE CASTELLANO",3600,"18071093","ANAMPA ACUÑA SEGUNDO EDILBERTO","DOCENTE","LICENCIADO EN EDUC. PRIMARIA","LICENCIADO",1,3,{"$f":"+F2409*M2409","v":10800}]
[null,"313 EDUCACION EL PORVENIR","RO","CAS","ACOMPAÑANTE PEDAGOGICO PARA IIEE MULTIGRADO MONOLINGUE CASTELLANO",3600,"19568684","BENITES GUEVARA JULIO","DOCENTE","LICENCIADO EN EDUC. PRIMARIA","LICENCIADO",1,3,{"$f":"+F2410*M2410","v":10800}]
[null,"313 EDUCACION EL PORVENIR","RO","CAS","ACOMPAÑANTE PEDAGOGICO PRIMARIA POLIDOCENTE COMPLETO",3400,"19568684","BENITES GUEVARA JULIO","DOCENTE","LICENCIADO EN EDUC. PRIMARIA","LICENCIADO",1,1,3400]
[null,"313 EDUCACION EL PORVENIR","RO","CAS","ACOMPAÑANTE PEDAGOGICO PRIMARIA POLIDOCENTE COMPLETO",3400,"31039451","GAMARRA CCANRE FELICIANO","DOCENTE","LICENCIADO EN EDUC. PRIMARIA","LICENCIADO",1,7,23800]
[null,"313 EDUCACION EL PORVENIR","RO","CAS","ACOMPAÑANTE PEDAGOGICO PRIMARIA POLIDOCENTE COMPLETO",3400,"09686084","SILVA ZAVALETA SANTIAGO ALEXANDER","DOCENTE","LICENCIADO EN EDUC. PRIMARIA","LICENCIADO",1,7,23800]
[null,"313 EDUCACION EL PORVENIR","RO","CAS","ACOMPAÑANTE PEDAGOGICO PRIMARIA POLIDOCENTE COMPLETO",3400,"18008733","LOYAGA GUZMAN JAVIER JESUS","DOCENTE","LICENCIADO EN EDUC. PRIMARIA","LICENCIADO",1,7,23800]
[null,"313 EDUCACION EL PORVENIR","RO","CAS","ACOMPAÑANTE PEDAGOGICO PRIMARIA POLIDOCENTE COMPLETO",3400,"27540197","GIL CHAVEZ NAPOLEON","DOCENTE","LICENCIADO EN EDUC. PRIMARIA","LICENCIADO",1,4,13600]
[null,"313 EDUCACION EL PORVENIR","RO","CAS","ESPECIALISTA EN MONITOREO DE EVALUACIONES DE ESTUDIANTES Y DOCENTES",2600,"18006938","BLAS MALCA ESTUARDO ROBERTO","ADMINISTRADOR","LICENCIADO EN ADMINISTRACION",0,1,7,18200]
[null,"313 EDUCACION EL PORVENIR","RO","CAS","ESPECIALISTA EN ABASTECIMIENTO",2600,"44589610","TISNADO IPANAQUE JORGE RICARDO","ADMINISTRADOR","LICENCIADO EN ADMINISTRACION",0,1,12,31200]
[null,"313 EDUCACION EL PORVENIR","RO","CAS","ESPECIALISTA EN PATRIMONIO",2600,"40695719","RUIZ AGREDA SUSAN CAROL","CONTADOR","CPC",null,1,6,15600]
[null,"313 EDUCACION EL PORVENIR","RO","CAS","ESPECIALISTA EN PROCESOS ADMINISTRATIVOS DISCIPLINARIOS",2600,"22512643","CACHO DE LA TORRE MARCO ANTONIO","ABOGADO","LICENCIADO EN DERECHO",0,1,4,10400]
[null,"313 EDUCACION EL PORVENIR","RO","CAS","ESPECIALISTA EN SUPERVISION DE IIEE PRIVADAS",2600,"40439462","CHAVEZ VARGAS LINDER FRANKLIN","ADMINISTRADOR","LICENCIADO EN ADMINISTRACION",0,1,6,15600,1,4,{"$f":"F2419*P2420","v":10400}]
[null,"313 EDUCACION EL PORVENIR","RO","CAS","GESTOR(A) CURRICULAR",4000,"18081935","FERNANDEZ LOPEZ ROSA ELIZABETH","DOCENTE","LICENCIADO EN EDUC. PRIMARIA",0,1,3,12000]
[null,"313 EDUCACION EL PORVENIR","RO","CAS","GESTOR LOCAL INTERVENCIONES PP090",3500,"18011462","TORRES MORALES VICTOR FRANCISCO","ADMINISTRADOR","LICENCIADO EN ADMINISTRACION",0,1,12,42000]
[null,"313 EDUCACION EL PORVENIR","RO","CAS","RESPONSABLE LOCAL DE CALIDAD DE LA INFORMACION",3000,"41962696","TORRES MENDOZA LOURDES LILIANA","ING. SISTEMAS",null,null,1,7,21000]
[null,"313 EDUCACION EL PORVENIR","RO","CAS","ESPECIALISTA ADMINISTRATIVO I - PERSONAL",2000,17940275,"GUTIERREZ ARTEAGA RAMON ALFREDO","ING. INDUSTRIAL",0,null,1,4,8000]
[null,"313 EDUCACION EL PORVENIR","RO","CAS","COORDINADOR DE INNOVACION Y SOPORTE TECNOLOGICO",1800,"48100059","RIVERA SALVATIERRA JOHN PAUL","BCH. INGENIERIA DE SISTEMAS",0,null,1,7,12600]
[null,"313 EDUCACION EL PORVENIR","RO","CAS","COORDINADOR ADMINISTRATIVO Y DE RECURSOS EDUCATIVOS PARA ZONAS URBANAS",2000,"18901224","BAZAN MASHCO EMERITA SUSANA","ADMINISTRADOR",0,null,1,7,14000]
[null,"313 EDUCACION EL PORVENIR","RO","CAS","COORDINADOR DE INNOVACION Y SOPORTE TECNOLOGICO",1800,"46341453","SALDARRIAGA ALZA GIANCARLO","ING. SISTEMAS",null,null,1,3,5400]
[null,"313 EDUCACION EL PORVENIR","RO","CAS","COORDINADOR ADMINISTRATIVO Y DE RECURSOS EDUCATIVOS PARA ZONAS URBANAS",2000,"17843000","MEDINA YECKLE LILY DEL ROSARIO","ADMINISTRADOR",0,null,1,7,14000]
[null,"313 EDUCACION EL PORVENIR","RO","CAS","COORDINADOR DE INNOVACION Y SOPORTE TECNOLOGICO",1800,"17843001","MEDINA DEL CARPIO EDHISON","ING. COMPUTACION Y SISTEMAS",0,0,1,2,3600]
[null,"313 EDUCACION EL PORVENIR","RO","CAS","PERSONAL DE VIGILANCIA",1150,"17843002","DE LA CRUZ BURGOS JORGE HILDEBRANDO",null,null,null,1,12,13800]
[null,"313 EDUCACION EL PORVENIR","RO","CAS","COORDINADOR DE INNOVACION Y SOPORTE TECNOLOGICO",1800,"17843003","GONZALES CENAS ANDREW ADAN","ING. COMPUTACION Y SISTEMAS",0,0,1,7,12600]
[null,"313 EDUCACION EL PORVENIR","RO","CAS","COORDINADOR ADMINISTRATIVO Y DE RECURSOS EDUCATIVOS PARA ZONAS RURALES",2000,"17843004","RAMOS BURGOS JUAN CARLOS","ADMINISTRADOR",0,null,1,5,10000]
[null,"313 EDUCACION EL PORVENIR","RO","CAS","PSICOLOGO",2000,"17843005","VALERIANO NORABUENA LUIS ALBERTO","PSICOLOGO",null,null,1,4,8000]
[null,"313 EDUCACION EL PORVENIR","RO","CAS","COORDINADOR DE INNOVACION Y SOPORTE TECNOLOGICO",1800,"17843006","RAMOS CASTILLO RONALD","TEC. EN COMPUTACION E INFORMATICA",0,0,1,5,9000]
[null,"313 EDUCACION EL PORVENIR","RO","CAS","COORDINADOR ADMINISTRATIVO Y DE RECURSOS EDUCATIVOS PARA ZONAS URBANAS",2000,"17843007","MORENO SALINAS MILAGROS SANDRA MARILU","ADMINISTRADOR",0,null,1,7,14000]
[null,"313 EDUCACION EL PORVENIR","RO","CAS","COORDINADOR DE INNOVACION Y SOPORTE TECNOLOGICO",1800,"17843008","ZELADA VERGARAY ANGELES BENITO","BCH. INGENIERIA DE SISTEMAS",0,null,1,5,9000]
[null,"313 EDUCACION EL PORVENIR","RO","CAS","COORDINADOR ADMINISTRATIVO Y DE RECURSOS EDUCATIVOS PARA ZONAS RURALES",2000,"17843009","BARRANTES GONZALEZ MARCO ANTONIO","ADMINISTRADOR",0,null,1,7,14000]
[null,"313 EDUCACION EL PORVENIR","RO","CAS","ACOMPAÑANTE PEDAGOGICO PARA IIEE MULTIGRADO MONOLINGUE CASTELLANO",3600,"17843010","TACANGA MIÑANO JUAN JULIO","DOCENTE","LICENCIADO EN EDUC. PRIMARIA",0,1,7,25200]
[null,"313 EDUCACION EL PORVENIR","RO","CAS","ACOMPAÑANTE PEDAGOGICO PRIMARIA POLIDOCENTE COMPLETO",3400,"17843011","CALVO GARCIA GILIANA MARILYN","DOCENTE","LICENCIADO EN EDUC. PRIMARIA",0,1,7,23800]
[null,"313 EDUCACION EL PORVENIR","RO","CAS","ACOMPAÑANTE PEDAGOGICO PRIMARIA POLIDOCENTE COMPLETO",3400,"17843012","ROJAS ABAD SILVIA FABIOLA","DOCENTE","LICENCIADO EN EDUC. PRIMARIA",0,1,7,23800]
[null,"313 EDUCACION EL PORVENIR","RO","CAS","ACOMPAÑANTE PEDAGOGICO PRIMARIA POLIDOCENTE COMPLETO",3400,"17843013","COLLANTES ROBLES ELIANA VANESSA","DOCENTE","LICENCIADO EN EDUC. PRIMARIA",0,1,7,23800]
[null,"313 EDUCACION EL PORVENIR","RO","CAS","ACOMPAÑANTE PEDAGOGICO PRIMARIA POLIDOCENTE COMPLETO",3400,"17843014","PEREZ MORALES LIANA CONSUELO","DOCENTE","LICENCIADO EN EDUC. PRIMARIA",0,1,7,23800]
[null,"313 EDUCACION EL PORVENIR","RO","CAS","GESTOR(A) CURRICULAR",4000,"17843015","SANCHEZ SOLANO CECILIA YOHANNA","DOCENTE","LICENCIADO EN EDUC. PRIMARIA",0,1,3,12000]
[null,"313 EDUCACION EL PORVENIR","RO","CAS","APOYO EDUCATIVO",1150,"17843016","ZAVALETA ALAYO JULIA ELIZABETH","DOCENTE","LICENCIADO EN EDUC. PRIMARIA",0,1,5,5750]
[null,"313 EDUCACION EL PORVENIR","RO","CAS","PERSONAL DE MANTENIMIENTO",1150,"17843017","SANCHEZ MOSQUEIRA JUAN BAUTISTA",null,null,"ESTUDIOS SECUNDARIOS",1,12,13800]
[null,"313 EDUCACION EL PORVENIR","RO","CAS","PERSONAL DE MANTENIMIENTO",1150,"17843018","HEREDIA ZAVALA EDIN GERARDO",null,null,"ESTUDIOS SECUNDARIOS",1,12,13800]
[null,"313 EDUCACION EL PORVENIR","RO","CAS","PSICOLOGO",2000,"17843019","CRUZ CASTRO LOURDES PAULINA","PSICOLOGO","LICENCIADA EN PSICOLOGIA",0,1,7,14000]
[null,"313 EDUCACION EL PORVENIR","RO","CAS","APOYO EDUCATIVO",1150,"17843020","ISIQUE SALINAS MILAGROS SOLEDAD","DOCENTE","LICENCIADO EN EDUC. PRIMARIA",0,1,1,1150]
[null,"313 EDUCACION EL PORVENIR","RO","CAS","PERSONAL DE SECRETARIA",1400,"17843021","PEREZ GARCIA TANIA ROSMERY",null,null,null,1,12,16800]
[null,"313 EDUCACION EL PORVENIR","RO","CAS","PSICOLOGO",2000,"17843022","MENDO VILLALOBOS RAQUEL","PSICOLOGO","LICENCIADA EN PSICOLOGIA",0,1,7,14000]
[null,"313 EDUCACION EL PORVENIR","RO","CAS","APOYO EDUCATIVO",1150,"17843023","CASTILLO VARGAS KRYSTY SUGEI","PSICOLOGO","LICENCIADA EN PSICOLOGIA",0,1,1,1150]
[null,"313 EDUCACION EL PORVENIR","RO","CAS","PERSONAL DE SECRETARIA",1400,"17843024","PRETEL MEDINA GLADIZ ELITA","SECRETARIA",null,null,1,12,16800]
[null,"313 EDUCACION EL PORVENIR","RO","CAS","PERSONAL DE MANTENIMIENTO",1150,"17843025","RODRIGUEZ CASTRO VIRGINIA AGUSTINA",null,null,"ESTUDIOS SECUNDARIOS",1,12,13800]
[null,"313 EDUCACION EL PORVENIR","RO","CAS","PSICOLOGO",2000,"17843026","SAUNA CASPITA DIANA CAROLINA","PSICOLOGO","LICENCIADA EN PSICOLOGIA",0,1,1,2000]
[null,"313 EDUCACION EL PORVENIR","RO","CAS","APOYO EDUCATIVO",1150,"17843027","RODRIGUEZ SILVESTRE MARLIT JULISA","DOCENTE","PROF. ",null,1,12,13800]
[null,"313 EDUCACION EL PORVENIR","RO","CAS","PERSONAL DE SECRETARIA",1400,"17843028","ESCOBAL JULCA BELINDA ERMEDIS","SECRETARIA",null,null,1,12,16800]
[null,"313 EDUCACION EL PORVENIR","RO","CAS","PERSONAL DE MANTENIMIENTO",1150,"17843029","SICCHA JIMENEZ FRANK ANTHONY",null,null,"ESTUDIOS SECUNDARIOS",1,7,8050]
[null,"313 EDUCACION EL PORVENIR","RO","CAS","PERSONAL DE MANTENIMIENTO",1150,"17843030","CRISTOBAL MELCHOR SANTOS ABELIO",null,null,"ESTUDIOS SECUNDARIOS",1,12,13800]
[null,"313 EDUCACION EL PORVENIR","RO","CAS","PSICOLOGO",2000,"17843031","GONZALES PEREZ ALAIN WALDEMAR",null,null,"ESTUDIOS SECUNDARIOS",1,7,14000]
[null,"313 EDUCACION EL PORVENIR","RO","CAS","APOYO EDUCATIVO",1150,"17843032","COTRINA RIOS LANDER EDUARDO",null,null,null,1,1,1150]
[null,"313 EDUCACION EL PORVENIR","RO","CAS","APOYO EDUCATIVO",1150,"17843033","MANTILLA MENDOZA LUZ FRANCISCA",null,null,null,1,2,2300]
[null,"313 EDUCACION EL PORVENIR","RO","CAS","APOYO EDUCATIVO",1150,"17843034","GONZALES PEREZ CARLOS JOHN",null,null,null,1,4,4600]
[null,"313 EDUCACION EL PORVENIR","RO","CAS","PERSONAL DE SECRETARIA",1400,"17843035","MIÑANO SANDOVAL VANIA GISSELA",null,null,null,1,12,16800]
[null,"313 EDUCACION EL PORVENIR","RO","CAS","PERSONAL DE MANTENIMIENTO",1150,"17843036","MANTILLA CASTILLO EVELYN JUDITH",null,null,"ESTUDIOS SECUNDARIOS",1,12,13800]
[null,"313 EDUCACION EL PORVENIR","RO","CAS","PSICOLOGO",2000,"17843037","CHAVEZ ROJAS EVELYN MANUELITA","PSICOLOGO",null,null,1,7,14000]
[null,"313 EDUCACION EL PORVENIR","RO","CAS","PERSONAL DE VIGILANCIA",1150,"17843038","DE LA CRUZ BURGOS JORGE HILDEBRANDO",null,null,"ESTUDIOS SECUNDARIOS",1,12,13800]
[null,"313 EDUCACION EL PORVENIR","RO","CAS","PERSONAL DE VIGILANCIA",1150,"17843039","CARRASCAL NUREÑA CARLOS ENRIQUE",null,null,"ESTUDIOS SECUNDARIOS",1,5,5750]
[null,"313 EDUCACION EL PORVENIR","RO","CAS","APOYO EDUCATIVO",1150,"17843040","UCEDA CASANA MELITA FIORELLA",null,null,"ESTUDIOS SECUNDARIOS",1,8,9200]
[null,"313 EDUCACION EL PORVENIR","RO","CAS","ESPECIALISTA ADMINISTRATIVO I - PERSONAL",2000,"17843041","GARCIA BRIONES SARA","ADMINISTRADOR","LICENCIADO EN ADMINISTRACION",null,1,2,4000]
[null,"313 EDUCACION EL PORVENIR","RO","CAS","ANALISTA LEGAL",2600,"18215077","RIVERA CHINCHAYHUARA YENNY","ABOGADO","LICENCIADA EN DERECHO","LICENCIADO",null,null,null,1,2,{"$f":"+F2470*P2470","v":5200}]
[null,"313 EDUCACION EL PORVENIR","RO","CAS","TECNICO ADMINISTRATIVO (ACTAS, CERTIFICADOS Y ARCHIVOS)",1700,18000445,"CRUZ LLERENA GERARDO ARSENIO","TEC. EN CONTABILIDAD","TEC. EN CONTABILIDAD","TITULO TECNICO",1,12,20400,3,6,{"$f":"+F2471*P2471","v":10200}]
[null,"313 EDUCACION EL PORVENIR","RO","CAS","ESCALAFON - TECNICO ADMINISTRATIVO I",1700,41386778,"GILIAN LINARES EDUARDO HENRY","ADMINISTRADOR","LICENCIADO EN ADMINISTRACION","LICENCIADO",1,12,20400,3,6,{"$f":"+F2472*P2472","v":10200}]
[null,"313 EDUCACION EL PORVENIR","RO","CAS","PLANIFICADOR I",2000,41439991,"FLORIAN HORA EDWIN EMILIO","CONTADOR","LICENCIADO EN CONTABILIDAD","LICENCIADO",1,12,24000,3,6,12000]
[null,"313 EDUCACION EL PORVENIR","RO","CAS","SECRETARIA I - AREA DE ASESORIA JURIDICA",1700,40360972,"FRANCO VIDAL MILAGROS DEL SOCORRO","-","-","ESTUDIOS SECUNDARIOS",1,12,{"$f":"+F2474*M2474","v":20400},3,6,10200]
[null,"313 EDUCACION EL PORVENIR","RO","CAS","ABOGADO I - ASESORIA LEGAL",2000,41428489,"ALVARADO TUESTA DAILY JUDITH","ABOGADO","LICENCIADO EN DERECHO","LICENCIADO",1,12,24000,3,6,12000]
[null,"313 EDUCACION EL PORVENIR","RO","CAS","ESTADISTICO I",2000,42068281,"COTRINA CASTELLANOS JORGE PAUL","ING. SISTEMAS","LICENCIADO EN INGENIERIA","LICENCIADO",1,12,24000,3,5,10000]
[null,"313 EDUCACION EL PORVENIR","RO","CAS","ABOGADO I - PERSONAL",2000,18106451,"RODRIGUEZ SANCHEZ DORIS MARGOTH","ABOGADO","LICENCIADO EN DERECHO","LICENCIADO",1,12,24000,3,6,12000]
[null,"313 EDUCACION EL PORVENIR","RO","CAS","ESPECIALISTA ADMINISTRATIVO I - ABASTECIMIENTO",2000,"07739502","PRADO OLANO EFRAIN MARCELINO","CONTADOR","LICENCIADO EN CONTABILIDAD","LICENCIADO",1,12,24000,3,6,12000]
[null,"313 EDUCACION EL PORVENIR","RO","CAS","TESORERO I",2000,41348949,"MARIÑOS SALVATIERRA LORENZO SEGUNDO","CONTADOR","LICENCIADO EN CONTABILIDAD","LICENCIADO",1,12,24000,3,6,12000]
[null,"313 EDUCACION EL PORVENIR","RO","CAS","CONTADOR I",2000,40276946,"VILLON PRIETO ROSITA ELIZABETH","CONTADOR","LICENCIADO EN CONTABILIDAD","LICENCIADO",1,12,24000,3,6,12000]
[null,"313 EDUCACION EL PORVENIR","RO","CAS","ESPECIALISTA EN CONVIVENCIA ESCOLAR",2600,45517938,"SILUPU ESPINOZA RICHARD ENRIQUE","PSICOLOGO","LICENCIADO EN PSICOLOGIA","LICENCIADO",null,null,null,3,6,15600]
[null,"313 EDUCACION EL PORVENIR","RO","CAS","INGENIERO I",2000,41191918,"ALEGRIA MENDOZA ROBERTO ENMANUEL","ARQUITECTO","LICENCIADO EN ARQUITECTURA","LICENCIADO",1,12,24000,3,6,12000]
[null,"313 EDUCACION EL PORVENIR","RO","CAS","TECNICO ADMINISTRATIVO I (OFICINA PERSONAL - PROYECTISTA)",1700,43560791,"GAMBOA OBESO HILDA ARACELI","BCH. DERECHO","BACHILLER","BACHILLER",1,12,20400,3,6,10200]
[null,"313 EDUCACION EL PORVENIR","RO","CAS","TRABAJADOR DE SERVICIO I - SEGURIDAD Y GUARDIANIA",1700,19426516,"MARTINEZ JARA FANNY MELVA",null,null,"ESTUDIOS SECUNDARIOS",1,12,20400,3,6,10200]
[null,"313 EDUCACION EL PORVENIR","RO","CAS","TRABAJADOR DE SERVICIO I - LIMPIEZA Y CONSERJERIA",1700,18150193,"CHAVEZ OLIVARES JAVIER ROLAN",null,null,"ESTUDIOS SECUNDARIOS",1,12,20400,3,6,10200]
[null,"313 EDUCACION EL PORVENIR","RO","CAS","TECNICO ADMINISTRATIVO I - TRAMITE DOCUMENTARIO",1700,18220350,"RIOS LOPEZ LUCY NEFRET","DOCENTE","LICENCIADO EN EDUC. SECUNDARIA","LICENCIADO",1,12,20400,3,6,10200]
[null,"313 EDUCACION EL PORVENIR","RO","CAS","ANALISTA EN ALMACÉN Y PATRIMONIO",2600,40695719,"RUIZ AGREDA SUSAN CAROL","CONTADOR","LICENCIADO EN CONTABILIDAD","LICENCIADO",null,null,null,1,3,7800]
[null,"313 EDUCACION EL PORVENIR","RO","CAS","SECRETARIA I – AREA DE GESTION INSTITUCIONAL",1700,18143077,"ENRIQUEZ ALTAMIRANO ROSA ARMINDA","ADMINISTRADOR","LICENCIADO EN ADMINISTRACION","LICENCIADO",1,12,20400,3,6,10200]
[null,"313 EDUCACION EL PORVENIR","RO","CAS","ANALISTA EN INFRAESTRUCTURA",2600,47216908,"RAMIREZ GUIORZO ROSSY LILA MERCEDES","ARQUITECTO","LICENCIADO EN ARQUITECTURA","LICENCIADO",1,null,null,null,2,5200]
[null,"313 EDUCACION EL PORVENIR","RO","CAS","CAJERO I",1700,41480441,"SALDAÑA HONORIO ELIA MARIA","CONTADOR","LICENCIADO EN CONTABILIDAD","LICENCIADO",1,null,null,3,6,10200]
[null,"313 EDUCACION EL PORVENIR","RO","CAS","ESPECIALISTA ADMINISTRATIVO I - PLANILLAS",2000,43107028,"LESCANO BAZAN JOSE MIGUEL","ING. SISTEMAS","LICENCIADO EN INGENIERA","LICENCIADO",1,12,24000,3,6,12000]
[null,"313 EDUCACION EL PORVENIR","RO","CAS","SECRETARIA II - DIRECCION",1700,41062162,"MEDINA MORALES ANA CECILIA","SECRETARIA","SECRETARIA","TITULO DE SECRETARIADO",1,12,20400,3,6,10200]
[null,"313 EDUCACION EL PORVENIR","RO","CAS","ESPECIALISTA EN PROCESOS ADMINISTRATIVOS DISCIPLINARIOS",2600,"47264549","SALINAS HERRERA FIORELLA LIZBETH","ABOGADO","LICENCIADA EN DERECHO","LICENCIADO",null,null,null,1,4,10400]
[null,"313 EDUCACION EL PORVENIR","RO","CAS","SECRETARIA I",1700,45750995,"AREDO CARMONA DAYANA DANISSE","SECRETARIA","SECRETARIA","TITULO DE SECRETARIADO",1,12,20400,3,6,10200]
[null,"313 EDUCACION EL PORVENIR","RO","CAS","ESPECIALISTA EN RACIONALIZACION",2000,23099146,"VEGA ESPINOZA ELVIN","ADMINISTRADOR","LICENCIADO EN ADMINISTRACION","LICENCIADO",1,12,24000,3,6,12000]
[null,"313 EDUCACION EL PORVENIR","RO","CAS","ESPECIALISTA EN FINANZAS I",2000,17867264,"CRUZ NOLASCO MANUEL FERNANDO","CONTADOR","LICENCIADO EN CONTABILIDAD","LICENCIADO",1,12,24000,3,6,12000]
[null,"313 EDUCACION EL PORVENIR","RO","CAS","RESPONSABLE DE ALMACEN",1700,17810400,"LOPEZ SALIRROSAS NOHEMI CATALINA","ESP. EN ADMINISTRACION DE NEGOCIOS",0,"TITULO SUPERIOR TECNICO",1,12,20400,3,6,10200]
[null,"313 EDUCACION EL PORVENIR","RO","CAS","ESPECIALISTA ADMINISTRATIVO I - PERSONAL",2000,18011462,"TORRES MORALES VICTOR FRANCISCO","-","-","ESTUDIOS SECUNDARIOS",0,null,null,1,6,12000]
[null,"313 EDUCACION EL PORVENIR","RO","CAS","PERSONAL DE VIGILANCIA",1150,"18154967","CABRERA TABOADA EDGAR ALEXANDER","-","-","ESTUDIOS SECUNDARIOS",1,12,13800,3,6,6900]
[null,"313 EDUCACION EL PORVENIR","RO","CAS","PERSONAL DE VIGILANCIA",1150,"47090925","GUTIERREZ SUAREZ JUDITH JANETH","-","-","ESTUDIOS SECUNDARIOS",1,12,13800,3,6,6900]
[null,"313 EDUCACION EL PORVENIR","RO","CAS","PERSONAL DE VIGILANCIA",1150,"18127535","OLIVARES RODRIGUEZ JUAN CARLOS","-","-","ESTUDIOS SECUNDARIOS",1,12,13800,3,6,6900]
[null,"313 EDUCACION EL PORVENIR","RO","CAS","PERSONAL DE VIGILANCIA",1150,"44034593","DE LA CRUZ VARAS ALBIN","-","-","ESTUDIOS SECUNDARIOS",1,12,13800,3,6,6900]
[null,"313 EDUCACION EL PORVENIR","RO","CAS","PERSONAL DE VIGILANCIA",1150,"19669388","CASTILLO NIEVES FRANCISCO REYNALDO","-","-","ESTUDIOS SECUNDARIOS",1,12,13800,3,6,6900]
[null,"313 EDUCACION EL PORVENIR","RO","CAS","ACOMPAÑANTE PEDAGOGICO PARA IIEE MULTIGRADO MONOLINGUE CASTELLANO",3600,19568684,"BENITES GUEVARA JULIO","DOCENTE","LICENCIADO EN EDUC. PRIMARIA","LICENCIADO",null,null,null,1,4,14400]
[null,"313 EDUCACION EL PORVENIR","RO","CAS","ACOMPAÑANTE PEDAGOGICO PARA IIEE MULTIGRADO MONOLINGUE CASTELLANO",3600,17944884,"TACANGA MIÑANO JUAN JULIO","DOCENTE","LICENCIADO EN EDUC. PRIMARIA","LICENCIADO",null,null,null,1,4,14400]
[null,"313 EDUCACION EL PORVENIR","RO","CAS","GESTOR CURRICULAR DE EDUCACION PRIMARIA ",4000,40514826,"SANCHEZ SOLANO CECILIA YOHANNA","DOCENTE","LICENCIADO EN EDUC. PRIMARIA","LICENCIADO",null,null,null,1,4,16000]
[null,"313 EDUCACION EL PORVENIR","RO","CAS","GESTOR CURRICULAR DE EDUCACION PRIMARIA ",4000,41274271,"COLLANTES ROBLES ELIANA VANESSA","DOCENTE","LICENCIADO EN EDUC. PRIMARIA","LICENCIADO",null,null,null,1,4,16000]
[null,"313 EDUCACION EL PORVENIR","RO","CAS","TUTOR CURRICULAR DE EDUCACION INICIAL",3400,"03642837","NAVARRO MORE IRMA","DOCENTE","LICENCIADO EN EDUC. INICIAL","LICENCIADO",null,null,null,1,4,13600]
[null,"313 EDUCACION EL PORVENIR","RO","CAS","TUTOR CURRICULAR DE EDUCACION INICIAL",3400,18114132,"VIGO COTOS JANETH DEL ROCIO","DOCENTE","LICENCIADO EN EDUC. INICIAL","LICENCIADO",null,null,null,1,4,13600]
[null,"TOTAL",null,null,null,{"$f":"SUM(F2409:F2509)","v":216000},null,null,null,null,null,null,null,{"$f":"+SUM(N2409:N2509)","v":1378700},null,null,{"$f":"+SUM(Q2409:Q2509)","v":441500}]
[null,"314 Educacion La Esperanza","RO","CAS","COORDINADOR LOCALES URBANAS",3500,"40024363","Rodriguez Vasquez Carmen Rosa","Administrador","Superior Universitario","Lic. en administración",2,10,{"$f":"+M2511*F2511","v":35000},2,5,{"$f":"+P2511*F2511","v":17500}]
[null,"314 Educacion La Esperanza","RO","CAS","RESPONSABLE LOCAL DE CALIDAD DE LA INFORMACION",3000,"41771273","Rafael Humberto Amaral Dioses","Ingeniero","Superior Universitario","Ing. de sistemas",2,5,{"$f":"+M2512*F2512","v":15000},null,null,0]
[null,"314 Educacion La Esperanza","RO","CAS","ESPECIALISTA EN CONVIVENCIA ESCOLAR",2600,"47950911","Rodriguez Martinez Diana Patricia","Sicologa","Superior Universitario","Lic. en Sicología ",2,5,13000,2,6,15600]
[null,"314 Educacion La Esperanza","RO","CAS","ESPECIALISTA EN MONITOREO DE EVALUACIONES DE ESTUDIANTES Y DOCENTES",2600,"42630302","Cipriano Flores José roberto","Administrador","Superior Universitario","Lic. en administración",1,3,7800,null,null,0]
[null,"314 Educacion La Esperanza","RO","CAS","ESPECIALISTA EN MONITOREO DE EVALUACIONES DE ESTUDIANTES Y DOCENTES",2600,"43235343","Vargas Calderón Robinson","Ingeniero","Superior Universitario","Ing. Industrial",1,2,5200,null,null,0]
[null,"314 Educacion La Esperanza","RO","CAS","ESPECIALISTA EN PATRIMONIO",2600,"47183335","Ramirez Ghiorzo Rossy Karem Fiorella","Economista","Superior Universitario","Economista",4,9,23400,null,null,0]
[null,"314 Educacion La Esperanza","RO","CAS","ESPECIALISTA EN SUPERVISION DE IIEE PRIVADAS",2600,"17804863","Robles Salazar José Walter","Abogado","Superior Universitario","Lic. en derecho",1,2,5200,2,3,7800]
[null,"314 Educacion La Esperanza","RO","CAS","ESPECIALISTA ADM. I -PERSONAL",2000,"18220959","Mantilla Gutierrez Oscarely Marollana","Ingeniero","Superior Universitario","Ing. de sistemas",2,4,8000,3,8,16000]
[null,"314 Educacion La Esperanza","RO","CAS","ESPECIALISTA ADM. I - ABASTECIMIENTO",2000,"00256038 ","Palomino Zárate Ivan Josué","Ingeniero","Superior Universitario","Ing. de sistemas",5,12,24000,null,null,0]
[null,"314 Educacion La Esperanza","RO","CAS","ESPECIALISTA ADM. I - ABASTECIMIENTO",2000,"70488587","Zamudio Zegarra Julissa Liliveth","Contador","Superior Universitario","Contador",1,1,2000,3,8,16000]
[null,"314 Educacion La Esperanza","RO","CAS","CONTADOR I",2000,"41804390","Luna Victoria Alva Luis José","Contador","Superior Universitario","Contador",5,10,20000,null,null,0]
[null,"314 Educacion La Esperanza","RO","CAS","CONTADOR I",2000,"45279416","Cosavalente Miranda Eduar Emilio","Contador","Superior Universitario","Contador",1,1,2000,null,null,0]
[null,"314 Educacion La Esperanza","RO","CAS","TESORERO I",2000,"45635345","Mendoza Amaya Elca Melissa","Contador","Superior Universitario","Contador",null,null,null,3,5,10000]
[null,"314 Educacion La Esperanza","RO","CAS","TESORERO I",2000,"40508270","Rodriguez Sanchez Alexander Walter","Contador","Superior Universitario","Contador",5,12,24000,1,4,8000]
[null,"314 Educacion La Esperanza","RO","CAS","CONTADOR I",2000,"18030105","Acuña Polo Silvia Soledad","Contador","Superior Universitario","Contador",1,1,2000,3,8,16000]
[null,"314 Educacion La Esperanza","RO","CAS","ESPECIALISTA ADM. I - PLANILLAS",2000,"72266237","De la Cruz Salirrosas Marianelli Katherine","Ingeniero","Superior Universitario","Ing. Industrial",3,6,12000,3,8,16000]
[null,"314 Educacion La Esperanza","RO","CAS","TECNICO ADMINISTRATIVO I - PERSONAL",1700,"18896907","Pretell Sanchez Luis Enrique","Matemático","Superior Universitario","Lic. en cc.ff.mm.",6,11,18700,3,8,13600]
[null,"314 Educacion La Esperanza","RO","CAS","TECNICO ADMINISTRATIVO I - ESCALAFON",1700,"43958930","Andrade Paredes Angelica Margarita","Contador","Superior Universitario","Contador",6,12,20400,3,8,13600]
[null,"314 Educacion La Esperanza","RO","CAS","ALMACEN",1700,"18027975","Montoya Infante Roger Hernan","Técnico en computación","Superior Técnico","Téc. ",6,12,20400,3,8,13600]
[null,"314 Educacion La Esperanza","RO","CAS","ABOGADO PERSONAL",2000,"40649248","Galvez Haro Jessica Roxana","Abogado","Superior Universitario","Lic. en derecho",6,12,24000,3,8,16000]
[null,"314 Educacion La Esperanza","RO","CAS","SECRETARIA DE ADMINISTRACION",1700,"43178390","Rosas Lexcequía Rosalinda Ruth","Administrador","Superior Universitario","Lic. en administración",6,12,20400,3,8,13600]
[null,"314 Educacion La Esperanza","RO","CAS","TRABAJADOR DE SERVICIO",2000,"17992744","León Camacho William Gonzalo","ninguno","Secundaria Completa","ninguno",6,12,24000,3,8,16000]
[null,"314 Educacion La Esperanza","RO","CAS","CHOFER",1700,"70924658","Rodriguez Laiza Oscar Eduardo","ninguno","Secundaria Completa","ninguno",6,12,20400,3,8,13600]
[null,"314 Educacion La Esperanza","RO","CAS","CAJA",1700,"40865689","Castro Alcantara Exhert Alberto","Ingeniero","Superior Universitario","Ing. de sistemas ",6,12,20400,3,8,13600]
[null,"314 Educacion La Esperanza","RO","CAS","ESPECIALISTA EN FINANZAS",2000,"18142661","Sanchez Cabrera Joel","Contador","Superior Universitario","Contador",2,7,14000]
[null,"314 Educacion La Esperanza","RO","CAS","ESPECIALISTA EN FINANZAS",2000,"42867154","Ponce Vasquez Oriele María","Administrador","Superior Universitario","Lic. en administración",6,12,24000,3,8,16000]
[null,"314 Educacion La Esperanza","RO","CAS","ESPECIALISTA ADMINISTRATIVO",3000,"40723532","Perez Plasencia Monica Ysabel","Administrador","Superior Universitario","Lic. en administración",null,null,null,2,5,15000]
[null,"314 Educacion La Esperanza","RO","CAS","PLANIFICADOR I",2000,"17870888","Castañeda Arana Wilian Luis","Administrador","Superior Universitario","Lic. en administración",3,6,12000,3,8,16000]
[null,"314 Educacion La Esperanza","RO","CAS","ESPECIALISTA EN RACIONALIZACION I",2000,"17904908","Quiroga Plasencia Pedro Pablo","Economista","Superior Universitario","Economista",6,12,24000,3,8,16000]
[null,"314 Educacion La Esperanza","RO","CAS","ESTADISTICO I",2000,"42757177","Ruiz Rojas Wilson Junior","Estadistico","Superior Universitario","Ing. Estadistico",6,12,24000,3,8,16000]
[null,"314 Educacion La Esperanza","RO","CAS","INGENIERO I",2000,"43571781","Orbegoso Zavala Pedro Orlando","Arquitecto","Superior Universitario","Arquitecto",6,12,24000,1,3,6000]
[null,"314 Educacion La Esperanza","RO","CAS","INGENIERO I",2000,"44368811","Fernandez Rodriguez Wilson Junior","Arquitecto","Superior Universitario","Arquitecto",null,null,null,2,5,10000]
[null,"314 Educacion La Esperanza","RO","CAS","SECRETARIA DE GESTION INSTITUCIONAL",1700,"18028101","Requena Morillo Loida Esther","téc.","Superior Técnica","Téc. ",6,12,20400,3,8,13600]
[null,"314 Educacion La Esperanza","RO","CAS","ABOGADO I",2000,"44465450","Lozada Morales Lissette Melissa","Abogado","Superior Universitario","Lic. en derecho",null,null,0,2,5,10000]
[null,"314 Educacion La Esperanza","RO","CAS","ABOGADO I",2000,"18134769","Condor Novoa Jesenia Karina","Abogado","Superior Universitario","Lic. en derecho",1,2,4000]
[null,"314 Educacion La Esperanza","RO","CAS","SECRETARIA ASESORIA JURIDICA",1700,"44834359","Rodriguez Vega Diana del Rocio","Abogado","Superior Universitario","Lic. en derecho",6,12,20400,3,8,13600]
[null,"314 Educacion La Esperanza","RO","CAS","SECRETARIA GESTION PEDAGOGICA",1700,"17981891","Diaz Llerena Deysi Rocio","Profesor","Superior Técnica","Profesora",6,12,{"$f":"+M2547*F2547","v":20400},3,8,13600]
[null,"314 Educacion La Esperanza","RO","CAS","TECNICO ADMINISTRATIVO I - ACTAS Y ARCHIVOS",1700,"47784377","Ascoy Quispitongo Jonathan Alexander","Administrador","Superior Universitario","Lic. Administrador",6,12,20400,3,8,13600]
[null,"314 Educacion La Esperanza","RO","CAS","TECNICO ADMINISTRATIVO I - TRAMITE DOCUMENTARIO",1700,"42726304","Gutierrez Perez Patricia Carolina","Téc. ","Superior Técnica","Téc. ",6,12,{"$f":"+M2549*F2549","v":20400},3,8,13600]
[null,"314 Educacion La Esperanza","RO","CAS","SECRETARIA DE DIRECCION",1700,"18011570","Lozada Bueno Liliana Ysabel","Téc. ","Superior Técnica","Téc. ",6,12,20400,3,8,13600]
[null,"314 Educacion La Esperanza","RO","CAS","ACOMPAÑANTES PEDAGOGICOS",3400,"18080551","Hilario Diestra Segundo Simon","Profesor","Superior Técnica","Profesor de Educ. Primaria",2,5,17000]
[null,"314 Educacion La Esperanza","RO","CAS","ACOMPAÑANTES PEDAGOGICOS",3400,"41096409","Chavarri Garcia Erick Wilfredo","Profesor","Superior Técnica","Profesor de Educ. Primaria",2,5,17000]
[null,"314 Educacion La Esperanza","RO","CAS","ACOMPAÑANTES PEDAGOGICOS",3400,"17939534","Meza Carrasco Dora Paulina","Profesor","Superior Técnica","Profesor de Educ. Primaria",2,5,17000]
[null,"314 Educacion La Esperanza","RO","CAS","ACOMPAÑANTES PEDAGOGICOS",3400,"18106925","Aroca Flores Teresa Elodia","Profesor","Superior Técnica","Profesor de Educ. Primaria",2,5,17000]
[null,"314 Educacion La Esperanza","RO","CAS","ACOMPAÑANTES PEDAGOGICOS",3400,"18116804","Leon Cruz Betty Ester","Profesor","Superior Técnica","Profesor de Educ. Primaria",2,5,17000]
[null,"314 Educacion La Esperanza","RO","CAS","ACOMPAÑANTES PEDAGOGICOS",3400,"19562819","Castillo Cerna Elena Flor","Profesor","Superior Técnica","Profesor de Educ. Primaria",2,5,17000]
[null,"314 Educacion La Esperanza","RO","CAS","ACOMPAÑANTES PEDAGOGICOS",3400,"19097367","Hernandez Mendoza Alindor","Profesor","Superior Técnica","Profesor de Educ. Primaria",2,5,17000]
[null,"314 Educacion La Esperanza","RO","CAS","ACOMPAÑANTES PEDAGOGICOS",3400,"18122947","Escalon Quezada Fanny Judith","Profesor","Superior Técnica","Profesor de Educ. Primaria",2,5,17000]
[null,"314 Educacion La Esperanza","RO","CAS","ACOMPAÑANTES PEDAGOGICOS",3400,"18109367","Namoc Hoyos Cecilia Rosaura","Profesor","Superior Técnica","Profesor de Educ. Primaria",2,5,17000]
[null,"314 Educacion La Esperanza","RO","CAS","ACOMPAÑANTES PEDAGOGICOS",3400,"18081413","Mercado Alvarado Rosa Maria ","Profesor","Superior Técnica","Profesor de Educ. Primaria",2,5,17000]
[null,"314 Educacion La Esperanza","RO","CAS","ACOMPAÑANTES PEDAGOGICOS",3400,"18123041","Pino Rios Lucia Otilia","Profesor","Superior Técnica","Profesor de Educ. Primaria",2,5,17000]
[null,"314 Educacion La Esperanza","RO","CAS","VIGILANTE",1150,"80181534","Armas Villar Gabriel","ninguno","Secundaria Completa","ninguno",2,9,10350,2,4,4600]
[null,"314 Educacion La Esperanza","RO","CAS","APOYO EDUCATIVO",1150,"40803907","Malca Pereda Aurelia Lizeth","Profesor","Superior Técnica","Profesor",2,9,10350]
[null,"314 Educacion La Esperanza","RO","CAS","APOYO EDUCATIVO",1150,"18146596","Alva Diaz de Pinillos Giovanna Milly","Profesor","Superior Técnica","Profesor",null,null,null,1,3,3450]
[null,"314 Educacion La Esperanza","RO","CAS","VIGILANTE",1150,"44371609","Paredes Varas Richard Lenin","Ingeniero","Superior Universitario","Ing. industrial",2,9,10350,2,7,8050]
[null,"314 Educacion La Esperanza","RO","CAS","VIGILANTE",1150,"05212720","Perez Rivas Juan Daniel","ninguno","Secundaria Completa","ninguno",2,9,10350,2,7,8050]
[null,"314 Educacion La Esperanza","RO","CAS","VIGILANTE",1150,"40872120","Vasquez Reyes Elias Samuel","ninguno","Secundaria Completa","ninguno",2,9,10350,2,7,8050]
[null,"314 Educacion La Esperanza","RO","CAS","VIGILANTE",1150,"45845723","Sangama Layseca Julio Abel","ninguno","Secundaria Completa","ninguno",null,null,null,2,3,{"$f":"+P2568*F2568","v":3450}]
[null,"314 Educacion La Esperanza","RO","CAS","COORDINADOR DE INNOVACION Y SOPORTE TECNOLOGICO",1800,"42919735","Blas Arteaga Angelica Veronica","Ingeniero","Superior Universitario","Ing. Sistemas",2,5,9000]
[null,"314 Educacion La Esperanza","RO","CAS","PSICOLOGA",2000,"18224715","Sanchez Vargas Mayra Julissa","Sicologa","Superior Universitario","Lic. en Sicología ",2,5,10000,null,null,{"$f":"+P2570*F2570","v":0}]
[null,"314 Educacion La Esperanza","RO","CAS","PSICOLOGA",2000,"45441910","Rodriguez Velasquez María Elena","Sicologa","Superior Universitario","Lic. en Sicología ",2,5,10000,2,5,{"$f":"+P2571*F2571","v":10000}]
[null,"314 Educacion La Esperanza","RO","CAS","GESTOR LOCAL INTERVENCIONES PP090",4000,"19660048","Quiñones Narvaez María Leonor","Profesor","Superior Universitario","Profesor",3,8,{"$f":"+M2572*F2572","v":32000}]
[null,"314 Educacion La Esperanza","RO","CAS","GESTOR LOCAL INTERVENCIONES PP090",4000,"27540197","Gil Chávez Napoleon","Profesor","Superior Universitario","Profesor",null,null,null,2,5,{"$f":"+P2573*F2573","v":20000}]
[null,"314 Educacion La Esperanza","RO","CAS","ABOGADO",2000,"45056677","Miranda Luzuriaga Manuel Rafael","Abogado","Superior Universitario","Abogado",null,null,null,2,5,{"$f":"+P2574*F2574","v":10000}]
[null,"314 Educacion La Esperanza","RO","PROFESOR","PROFESOR13EV01905889",2100.3000000000002,"18123157","sotelo jimenez zoila","Profesor","Superior Universitario","Profesor",null,null,null,1,6,{"$f":"+P2575*F2575","v":12601.800000000001}]
[null,"314 Educacion La Esperanza","RO","PROFESOR","PROFESOR13EV01905901",2100.3000000000002,"40828774","aguilar inca silvia lissette","Profesor","Superior Universitario","Profesor",null,null,null,1,6,{"$f":"+P2576*F2577","v":12601.800000000001}]
[null,"314 Educacion La Esperanza","RO","PROFESOR","PROFESOR13EV01905884",2100.3000000000002,"46907863","velasquez jara katherine jimena","Profesor","Superior Universitario","Profesor",null,null,null,1,6,{"$f":"P2577*F2577","v":12601.800000000001}]
[null,"314 Educacion La Esperanza","RO","PROFESOR","PROFESOR13EV01906795",2100.3000000000002,"18146056","escobedo aguirre susana maribel","Profesor","Superior Universitario","Profesor",null,null,null,1,4,{"$f":"+P2578*F2578","v":8401.2000000000007}]
[null,"314 Educacion La Esperanza","RO","PROFESOR","PROFESOR13EV01905894",2100.3000000000002,"43831585","garces valdivia georgina cecilia","Profesor","Superior Universitario","Profesor",null,null,null,1,6,12601.800000000001]
[null,"314 Educacion La Esperanza","RO","PROFESOR","PROFESOR13EV01905892",2100.3000000000002,"18169316","torres soto jessica vanessa","Profesor","Superior Universitario","Profesor",null,null,null,1,6,12601.800000000001]
[null,"314 Educacion La Esperanza","RO","PROFESOR","PROFESOR13EV01905908",2100.3000000000002,"41520265","mateo zavaleta milagros del pilar","Profesor","Superior Universitario","Profesor",null,null,null,1,6,12601.800000000001]
[null,"314 Educacion La Esperanza","RO","PROFESOR","PROFESOR13EV01905896",2100.3000000000002,"18103316","garcia de la cruz petronila virginia","Profesor","Superior Universitario","Profesor",null,null,null,1,6,12601.800000000001]
[null,"314 Educacion La Esperanza","RO","PROFESOR","PROFESOR13EV01905882",2100.3000000000002,"19259726","cruz espinoza milagros ingrid","Profesor","Superior Universitario","Profesor",null,null,null,1,6,12601.800000000001]
[null,"314 Educacion La Esperanza","RO","PROFESOR","PROFESOR13EV01905893",2100.3000000000002,"18197338","gutierrez ortiz clarisa elizabeth","Profesor","Superior Universitario","Profesor",null,null,null,1,6,12601.800000000001]
[null,"314 Educacion La Esperanza","RO","PROFESOR","PROFESOR13EV01905878",2100.3000000000002,"18214870","calderon polo paola sugey","Profesor","Superior Universitario","Profesor",null,null,null,1,6,12601.800000000001]
[null,"314 Educacion La Esperanza","RO","PROFESOR","PROFESOR13EV01905891",2100.3000000000002,"41289829","alva morgan sheyla olenka","Profesor","Superior Universitario","Profesor",null,null,null,1,6,12601.800000000001]
[null,"314 Educacion La Esperanza","RO","PROFESOR","PROFESOR13EV01906800",2100.3000000000002,"44731114","esquivel gonzales paola del pilar","Profesor","Superior Universitario","Profesor",null,null,null,1,4,8401.2000000000007]
[null,"314 Educacion La Esperanza","RO","PROFESOR","PROFESOR13PEF1901954",2100.3000000000002,"17860915","leyva guzman antero agapito","Profesor","Superior Universitario","Profesor",null,null,null,1,5,10501.5]
[null,"314 Educacion La Esperanza","RO","PROFESOR","PROFESOR13PEF1904807",1050.1500000000001,"18019690","zavaleta vasquez miriam","Profesor","Superior Universitario","Profesor",null,null,null,1,5,5250.75]
[null,"314 Educacion La Esperanza","RO","PROFESOR","PROFESOR13PEF1904803",1890.2700000000002,"18204540","esparza burgos enrique","Profesor","Superior Universitario","Profesor",null,null,null,1,5,9451.35]
[null,"314 Educacion La Esperanza","RO","PROFESOR","PROFESOR13PEF1901949",2100.3000000000002,"18224132","mas lozada henrry","Profesor","Superior Universitario","Profesor",null,null,null,1,5,10501.5]
[null,"314 Educacion La Esperanza","RO","PROFESOR","PROFESOR13PEF1904800",210.03000000000003,"18143423","llerena rodriguez janet","Profesor","Superior Universitario","Profesor",null,null,null,1,5,1050.1500000000001]
[null,"314 Educacion La Esperanza","RO","PROFESOR","PROFESOR13PEF1901950",2100.3000000000002,"44107067","solar contreras cesar hugo","Profesor","Superior Universitario","Profesor",null,null,null,1,5,10501.5]
[null,"314 Educacion La Esperanza","RO","PROFESOR","PROFESOR13PEF1904801",630.09,"43022501","pacora valverde karla ivonne","Profesor","Superior Universitario","Profesor",null,null,null,1,5,3150.4500000000003]
[null,"314 Educacion La Esperanza","RO","PROFESOR","PROFESOR13PEF1904811",420.06000000000006,"40917101","morales hinostroza marcos marcelo","Profesor","Superior Universitario","Profesor",null,null,null,1,5,2100.3000000000002]
[null,"314 Educacion La Esperanza","RO","PROFESOR","PROFESOR13PEF1901947",2100.3000000000002,"41099209","angulo solorzano victor alfonso","Profesor","Superior Universitario","Profesor",null,null,null,1,5,10501.5]
[null,"314 Educacion La Esperanza","RO","PROFESOR","PROFESOR13PEF1904798",840.12000000000012,"27909669","castañeda carrera rober wenceslao","Profesor","Superior Universitario","Profesor",null,null,null,1,5,4200.6000000000004]
[null,"314 Educacion La Esperanza","RO","PROFESOR","PROFESOR13PEF1904794",1890.2700000000002,"42012765","carhuachin valderrama segundo grosver","Profesor","Superior Universitario","Profesor",null,null,null,1,5,9451.35]
[null,"314 Educacion La Esperanza","RO","PROFESOR","PROFESOR13PEF1901944",2100.3000000000002,"40580005","ponce ganvini cesar andres","Profesor","Superior Universitario","Profesor",null,null,null,1,5,10501.5]
[null,"314 Educacion La Esperanza","RO","PROFESOR","PROFESOR13PEF1904791",1470.21,"17992435","ortiz acosta roger andres","Profesor","Superior Universitario","Profesor",null,null,null,1,5,7351.05]
[null,"314 Educacion La Esperanza","RO","PROFESOR","PROFESOR13PEF1901952",2100.3000000000002,"40685325","ignacio garcia godber","Profesor","Superior Universitario","Profesor",null,null,null,1,5,10501.5]
[null,"314 Educacion La Esperanza","RO","PROFESOR","PROFESOR13PEF1904805",1890.2700000000002,"43363284","lescano castillo rocio del pilar","Profesor","Superior Universitario","Profesor",null,null,null,1,5,9451.35]
[null,"314 Educacion La Esperanza","RO","PROFESOR","PROFESOR13PEF1901953",2100.3000000000002,"19098048","ruiz miranda percy dante","Profesor","Superior Universitario","Profesor",null,null,null,1,5,10501.5]
[null,"314 Educacion La Esperanza","RO","PROFESOR","PROFESOR13PEF1904806",840.12000000000012,"43084106","obando hernandez julio césar","Profesor","Superior Universitario","Profesor",null,null,null,1,5,4200.6000000000004]
[null,"314 Educacion La Esperanza","RO","PROFESOR","PROFESOR13PEF1901959",2100.3000000000002,"40338420","narro carrera alex milton","Profesor","Superior Universitario","Profesor",null,null,null,1,5,10501.5]
[null,"314 Educacion La Esperanza","RO","PROFESOR","PROFESOR13PEF1904813",420.06000000000006,"18224129","morales valiente ricardo william","Profesor","Superior Universitario","Profesor",null,null,null,1,5,2100.3000000000002]
[null,"314 Educacion La Esperanza","RO","PROFESOR","PROFESOR13PEF1901951",2100.3000000000002,"42978255","gutierrez burga sussy iveth","Profesor","Superior Universitario","Profesor",null,null,null,1,5,10501.5]
[null,"314 Educacion La Esperanza","RO","PROFESOR","PROFESOR13PEF1904802",210.03000000000003,"18197595","ravello ruiton roberto carlos","Profesor","Superior Universitario","Profesor",null,null,null,1,6,1260.1800000000003]
[null,"314 Educacion La Esperanza","RO","PROFESOR","PROFESOR13PEF1900454",2100.3000000000002,"18148333","fustamante reyna jorge luis","Profesor","Superior Universitario","Profesor",null,null,null,1,5,10501.5]
[null,"314 Educacion La Esperanza","RO","PROFESOR","PROFESOR13PEF1900799",2100.3000000000002,"41176534","tolentino corro josé luis","Profesor","Superior Universitario","Profesor",null,null,null,1,5,10501.5]
[null,"314 Educacion La Esperanza","RO","PROFESOR","PROFESOR13PEF1904795",1260.18,"18211744","zarate otiniano eduardo david","Profesor","Superior Universitario","Profesor",null,null,null,1,5,6300.9000000000005]
[null,"314 Educacion La Esperanza","RO","PROFESOR","PROFESOR13EV01908080",2100.3000000000002,"18226154","soriano paredes yuri marcelo","Profesor","Superior Universitario","Profesor",null,null,null,1,4,8401.2000000000007]
[null,"314 Educacion La Esperanza","RO","PROFESOR","PROFESOR13EV01909243",420.06000000000006,"18163278","alvarado montalvo celso hermes","Profesor","Superior Universitario","Profesor",null,null,null,1,4,1680.2400000000002]
[null,"314 Educacion La Esperanza","RO","PROFESOR","PROFESOR13EV01906799",2100.3000000000002,"41687971","daga bacilio quike rene","Profesor","Superior Universitario","Profesor",null,null,null,1,4,8401.2000000000007]
[null,"314 Educacion La Esperanza","RO","PROFESOR","PROFESOR13PEF1900457",2100.3000000000002,"18102113","veneros gutierrez telesforo enrique","Profesor","Superior Universitario","Profesor",null,null,null,1,5,10501.5]
[null,"314 Educacion La Esperanza","RO","PROFESOR","PROFESOR13PEF1900802",2100.3000000000002,"40112022","vera chu kristel carolina","Profesor","Superior Universitario","Profesor",null,null,null,1,5,10501.5]
[null,"314 Educacion La Esperanza","RO","PROFESOR","PROFESOR13PEF1904804",210.03000000000003,"18204540","esparza burgos enrique","Profesor","Superior Universitario","Profesor",null,null,null,1,5,1050.1500000000001]
[null,"314 Educacion La Esperanza","RO","PROFESOR","PROFESOR13PEF1900456",2100.3000000000002,"15758521","pimentel figueroa karim annabelle","Profesor","Superior Universitario","Profesor",null,null,null,1,5,10501.5]
[null,"314 Educacion La Esperanza","RO","PROFESOR","PROFESOR13PEF1900801",2100.3000000000002,"40286906","dolores nieto alfredo isidro","Profesor","Superior Universitario","Profesor",null,null,null,1,5,10501.5]
[null,"314 Educacion La Esperanza","RO","PROFESOR","PROFESOR13PEF1904797",840.12000000000012,"22090309","loo rivero jose ricardo","Profesor","Superior Universitario","Profesor",null,null,null,1,5,4200.6000000000004]
[null,"314 Educacion La Esperanza","RO","PROFESOR","PROFESOR13PEF1904792",1890.2700000000002,"18166888","fiestas sempertigue jose luis","Profesor","Superior Universitario","Profesor",null,null,null,1,5,9451.35]
[null,"314 Educacion La Esperanza","RO","PROFESOR","PROFESOR13PEF1900453",2100.3000000000002,"44870175","eustaquio briceño victor jano","Profesor","Superior Universitario","Profesor",null,null,null,1,5,10501.5]
[null,"314 Educacion La Esperanza","RO","PROFESOR","PROFESOR13PEF1900798",2100.3000000000002,"18095593","villalobos diaz cecilia feliciana","Profesor","Superior Universitario","Profesor",null,null,null,1,5,10501.5]
[null,"314 Educacion La Esperanza","RO","PROFESOR","PROFESOR13PEF1900455",2100.3000000000002,"80171909","carrasco flores jennynfercriss","Profesor","Superior Universitario","Profesor",null,null,null,1,5,10501.5]
[null,"314 Educacion La Esperanza","RO","PROFESOR","PROFESOR13PEF1900800",2100.3000000000002,"40783528","azan mestanza roldan alberto","Profesor","Superior Universitario","Profesor",null,null,null,1,5,10501.5]
[null,"314 Educacion La Esperanza","RO","PROFESOR","PROFESOR13EV01909244",1890.2700000000002,"18210424","ñique garcia arnaldo","Profesor","Superior Universitario","Profesor",null,null,null,1,4,7561.0800000000008]
[null,"314 Educacion La Esperanza","RO","PROFESOR","PROFESOR13PEF1901955",2100.3000000000002,"43025821","esquivel rodriguez omar alan","Profesor","Superior Universitario","Profesor",null,null,null,1,5,10501.5]
[null,"314 Educacion La Esperanza","RO","PROFESOR","PROFESOR13PEF1904808",420.06000000000006,"18143423","llerena rodriguez janet","Profesor","Superior Universitario","Profesor",null,null,null,1,5,2100.3000000000002]
[null,"314 Educacion La Esperanza","RO","PROFESOR","PROFESOR13PEF1901958",2100.3000000000002,"27145289","cabanillas diaz oscar antonio","Profesor","Superior Universitario","Profesor",null,null,null,1,5,10501.5]
[null,"314 Educacion La Esperanza","RO","PROFESOR","PROFESOR13PEF1904812",630.09,"17992435","ortiz acosta roger andres","Profesor","Superior Universitario","Profesor",null,null,null,1,5,3150.4500000000003]
[null,"314 Educacion La Esperanza","RO","PROFESOR","PROFESOR13PEF1901945",2100.3000000000002,"42450290","poicon hurtado segundo aurelio","Profesor","Superior Universitario","Profesor",null,null,null,1,5,10501.5]
[null,"314 Educacion La Esperanza","RO","PROFESOR","PROFESOR13PEF1904793",1890.2700000000002,"18124036","loyola sotomayor javier","Profesor","Superior Universitario","Profesor",null,null,null,1,5,9451.35]
[null,"314 Educacion La Esperanza","RO","PROFESOR","PROFESOR13PEF1901946",2100.3000000000002,"41645523","valverde loyola henry jazer","Profesor","Superior Universitario","Profesor",null,null,null,1,5,10501.5]
[null,"314 Educacion La Esperanza","RO","PROFESOR","PROFESOR13PEF1904796",1680.2400000000002,"19188302","neyra perriggo bertha patricia","Profesor","Superior Universitario","Profesor",null,null,null,1,5,8401.2000000000007]
[null,"314 Educacion La Esperanza","RO","PROFESOR","PROFESOR13PEF1901948",2100.3000000000002,"42052714","vega magan marco antonio","Profesor","Superior Universitario","Profesor",null,null,null,1,5,10501.5]
[null,"314 Educacion La Esperanza","RO","PROFESOR","PROFESOR13PEF1904799",210.03000000000003,"42012765","carhuachin valderrama segundo grosver","Profesor","Superior Universitario","Profesor",null,null,null,1,6,1260.1800000000003]
[null,"314 Educacion La Esperanza","RO","PROFESOR","PROFESOR13PEF1901943",2100.3000000000002,"41526958","osorio moreno richard antonio","Profesor","Superior Universitario","Profesor",null,null,null,1,5,10501.5]
[null,"314 Educacion La Esperanza","RO","PROFESOR","PROFESOR13PEF1904790",1680.2400000000002,"42012765","carhuachin valderrama segundo grosver","Profesor","Superior Universitario","Profesor",null,null,null,1,6,10081.440000000002]
[null,"314 Educacion La Esperanza","RO","PROFESOR","PROFESOR13PEF1901956",2100.3000000000002,"45242794","ivañez ibañez wilson eder","Profesor","Superior Universitario","Profesor",null,null,null,1,5,10501.5]
[null,"314 Educacion La Esperanza","RO","PROFESOR","PROFESOR13PEF1904809",1050.1500000000001,"44497900","luis alaya vladimir jerzy","Profesor","Superior Universitario","Profesor",null,null,null,1,5,5250.75]
[null,"314 Educacion La Esperanza","RO","PROFESOR","PROFESOR13PEF1901960",2100.3000000000002,"44751324","adrianzen leiva manuel martin","Profesor","Superior Universitario","Profesor",null,null,null,1,5,10501.5]
[null,"314 Educacion La Esperanza","RO","PROFESOR","PROFESOR13PEF1904814",420.06000000000006,"19188302","neyra perriggo bertha patricia","Profesor","Superior Universitario","Profesor",null,null,null,1,5,{"$f":"+P2642*F2642","v":2100.3000000000002}]
[null,"314 Educacion La Esperanza","RO","PROFESOR","PROFESOR13EV01911298",1260.18,"41053580","gil quezada juan carlos","Profesor","Superior Universitario","Profesor",null,null,null,1,4,5040.72]
[null,"314 Educacion La Esperanza","RO","PROFESOR","PROFESOR13EV01906416",2100.3000000000002,"42954631","zavaleta gamboa gredel vanessa","Profesor","Superior Universitario","Profesor",null,null,null,1,6,12601.800000000001]
[null,"314 Educacion La Esperanza","RO","PROFESOR","PROFESOR13PEF1901957",2100.3000000000002,"18877795","solano llanos jorge luis","Profesor","Superior Universitario","Profesor",null,null,null,1,5,10501.5]
[null,"314 Educacion La Esperanza","RO","PROFESOR","PROFESOR13PEF1904810",420.06000000000006,"18143423","llerena rodriguez janet","Profesor","Superior Universitario","Profesor",null,null,null,1,5,2100.3000000000002]
[null,"314 Educacion La Esperanza","RO","PROFESOR","PROFESOR13EV01906364",2100.3000000000002,"18160604","rodriguez cerna harol","Profesor","Superior Universitario","Profesor",null,null,null,1,6,12601.800000000001]
[null,"314 Educacion La Esperanza","RO","PROFESOR","PROFESOR13EV01909255",1470.21,"18212700","guevara lujan pedro alberto","Profesor","Superior Universitario","Profesor",null,null,null,1,5,7351.05]
[null,"314 Educacion La Esperanza","RO","PROFESOR","PROFESOR13EV01911288",1260.18,"42506758","llaro benites james julian","Profesor","Superior Universitario","Profesor",null,null,null,1,4,5040.72]
[null,"314 Educacion La Esperanza","RO","PROFESOR","PROFESOR13EV01906788",2100.3000000000002,"18029857","mattos alva rosa elena","Profesor","Superior Universitario","Profesor",null,null,null,1,4,8401.2000000000007]
[null,"314 Educacion La Esperanza","RO","PROFESOR","PROFESOR13EV01906785",2100.3000000000002,"70212211","li ynga sheyla gibelly","Profesor","Superior Universitario","Profesor",null,null,null,1,4,8401.2000000000007]
[null,"314 Educacion La Esperanza","RO","PROFESOR","PROFESOR13EV01907612",2100.3000000000002,"18114672","layza salazar liz kelly","Profesor","Superior Universitario","Profesor",null,null,null,1,4,8401.2000000000007]
[null,"314 Educacion La Esperanza","RO","PROFESOR","PROFESOR13EV01907698",2100.3000000000002,"18102436","guevara guarniz rosa amelia","Profesor","Superior Universitario","Profesor",null,null,null,1,3,6300.9000000000005]
[null,"314 Educacion La Esperanza","RO","PROFESOR","PROFESOR13EV01907777",2100.3000000000002,"45875119","reyes cornelio rosa ysabel","Profesor","Superior Universitario","Profesor",null,null,null,1,4,8401.2000000000007]
[null,"314 Educacion La Esperanza","RO","PROFESOR","PROFESOR13EV01907809",2100.3000000000002,"40738994","valderrama vasquez berica soledad","Profesor","Superior Universitario","Profesor",null,null,null,1,4,8401.2000000000007]
[null,"314 Educacion La Esperanza","RO","PROFESOR","PROFESOR13EV01907841",2100.3000000000002,"40743422","rivera segovia marlene ysabel","Profesor","Superior Universitario","Profesor",null,null,null,1,4,8401.2000000000007]
[null,"314 Educacion La Esperanza","RO","PROFESOR","PROFESOR13EV01907778",2100.3000000000002,"18123956","baltazar marquina adita flor","Profesor","Superior Universitario","Profesor",null,null,null,1,4,8401.2000000000007]
[null,"314 Educacion La Esperanza","RO","PROFESOR","PROFESOR13EV01907810",2100.3000000000002,"40191058","guzman escobedo edelmira elena","Profesor","Superior Universitario","Profesor",null,null,null,1,4,8401.2000000000007]
[null,"314 Educacion La Esperanza","RO","PROFESOR","PROFESOR13EV01907842",2100.3000000000002,"45558010","yupanqui garcía larry emerito","Profesor","Superior Universitario","Profesor",null,null,null,1,4,8401.2000000000007]
[null,"TOTAL",null,null,null,{"$f":"SUM(F2511:F2659)","v":290330.87999999925},null,null,null,null,null,null,null,{"$f":"SUM(N2511:N2659)","v":915450},null,null,{"$f":"SUM(Q2511:Q2659)","v":1222723.4099999999}]
[null,"315 EDUCACIÓN TRUJILLO NOR OESTE","RO","CAS","SECRETARIA I",1700,"63390033","AGREDA PEREZ ROSA YANET","Secretaria  ","Técnico ","Técnico ",null,12,20400,null,6,{"$f":"P2661*F2661","v":10200}]
[null,"315 EDUCACIÓN TRUJILLO NOR OESTE","RO","CAS","COORD. ADMINISTRATIVO RECURSOS EDUCATIVOS ZONA URBAN",2000,"42506573","ALBA ZEGARRA IVAN EDUARDO","Administrador","Titulado","Licenciado en Administración",1,8,16000,null,0,{"$f":"P2662*F2662","v":0}]
[null,"315 EDUCACIÓN TRUJILLO NOR OESTE","RO","CAS","TECNICO ADMIN I - CAJERO",1700,"42134305","ALVARADO RODRIGUEZ DIANA JOY","Contador","Titulado","Contador Público",null,12,20400,null,0,0]
[null,"315 EDUCACIÓN TRUJILLO NOR OESTE","RO","CAS","TESORERO I",1700,"42134305","ALVARADO RODRIGUEZ DIANA JOY","Contador","Titulado","Contador Público",null,null,null,null,6,10200]
[null,"315 EDUCACIÓN TRUJILLO NOR OESTE","RO","CAS","VIGILANTE",1150,"17971818","ARCILA GONZALEZ MARTIN AURELIO","5to. secundaria","5to. secundaria","5to. Secundaria  ",null,12,13800,null,6,6900]
[null,"315 EDUCACIÓN TRUJILLO NOR OESTE","RO","CAS","ESPECIALISTA EN PLANIFICACION I",2000,"17818590","ARIZA VELASQUEZ EDUARDO ALBERTO","Abogado/Economista","Titulado/Bachiller","Abogado/Bachiller en Ciencias Económicas",0,12,24000,null,6,12000]
[null,"315 EDUCACIÓN TRUJILLO NOR OESTE","RO","CAS","ESPECIALISTA EN PROCESOS ADMINISTRATIVOS",2600,"46863762","ARRIAGA HUAMAN DE GOMEZ ALFONSINA MARIA TERESA","Abogado","Titulado","Abogado",1,3,{"$f":"2600*2+1906.67","v":7106.67},null,6,15600]
[null,"315 EDUCACIÓN TRUJILLO NOR OESTE","RO","CAS","ESPECIALISTA ADM. I ESP. ABASTECIMIENTO",2000,40585914,"ASCATE POLO LUCY MARIVEL","Contador","Titulado","Contador Público",null,6,11066.67,null,0,0]
[null,"315 EDUCACIÓN TRUJILLO NOR OESTE","RO","CAS","SECRETARIA I (AREA PEDAGOGICA)",1700,"70272347","ASUNCION ROSAS DIANA JACQUELINE","Ingeniera","Titulada","Ingeniera de Sistemas y Computación",0,12,20400,null,6,10200]
[null,"315 EDUCACIÓN TRUJILLO NOR OESTE","RO","CAS","RESPONSABLE LOCAL DE CALIDAD DE LA INFORMACION",3000,"42370775","AVALOS GONZALEZ LUIS ENRIQUE","Ingeniero","Titulado","Ingeniero Informatico",1,8,24000,null,6,18000]
[null,"315 EDUCACIÓN TRUJILLO NOR OESTE","RO","CAS","TRABAJADOR DE SERVICIO I",1700,"17827195","AVILA GONZALES MARIA APOLONIA","primaria completa","Primaria completa","-",null,12,20400,null,6,10200]
[null,"315 EDUCACIÓN TRUJILLO NOR OESTE","RO","CAS","ACOMPAÑANTE PEDAGOGICO PARA II.EE. MULTIGRADO.MONOLINGUE CASTELLANO",3600,"19037144","BARTOLO COLLANTES MARIA TATIANA DE JESUS","Docente","Titulada","Licenciado en Educación Primaria",1,7,25200,null,0,0]
[null,"315 EDUCACIÓN TRUJILLO NOR OESTE","RO","CAS","ESPECIALISTA ADMINISTRATIVO E INSTITUCIONAL DE UGEL",2600,"45275494","BASILIO CARRASCO LADY ELIZABETH","Economista","Maestría","Magister en Gestión Publica",null,12,31200,null,6,15600]
[null,"315 EDUCACIÓN TRUJILLO NOR OESTE","RO","CAS","APOYO EDUCATIVO",1150,"19099657","BAZAN NOVOA ERICA MIRELLA","Docente","Titulada","Licenciada en Educación Primaria",0,12,13800,null,0,0]
[null,"315 EDUCACIÓN TRUJILLO NOR OESTE","RO","CAS","ACOMPAÑANTE PEDAGOGICO PARA SOPORTE PEDAGOGICO PRIMARIA",3400,"18134736","BURGOS AVALOS FLOR MERY","Docente","Doctora","Doctora en Educación",1,8,27200,null,6,20400]
[null,"315 EDUCACIÓN TRUJILLO NOR OESTE","RO","CAS","ESPECIALISTA EN ESTIMULACION TEMPRANA - ESPECIAL",2000,"18089681","CAFFO CALDERON ROSS MERY ISABEL","Docente","Titulado","Profesor de Educación Inicial",1,10,20000,null,0,0]
[null,"315 EDUCACIÓN TRUJILLO NOR OESTE","RO","CAS","ESPECIALISTA EN PERSONAL",2000,"71717671","CALDERON MIRANDA LUIS ANTHONY","Administrador","Maestría","Magister en Administración de Negocios",null,12,24000,null,6,12000]
[null,"315 EDUCACIÓN TRUJILLO NOR OESTE","RO","CAS","ESPECIALISTA ADMINISTRATIVO - PLANILLAS",2000,43974155,"CARRASCO GARCIA FREDDY FERNANDO","Contador Público Colegiado","superior","Contador Público",null,2,2266.67,null,0,0]
[null,"315 EDUCACIÓN TRUJILLO NOR OESTE","RO","CAS","ESPECIALISTA EN CONVIVENCIA ESCOLAR",2600,"41758991","CASTAÑEDA VERA MICHAEL ANDERSON","Psicologo","Titulado","Licenciado en Psicología",1,8,20800,null,6,15600]
[null,"315 EDUCACIÓN TRUJILLO NOR OESTE","RO","CAS","VIGILANTE",1150,"17891042","CASTRO BOLAÑOS JUAN GUILLERMO","Profesor de Educación Primaria","técnico ","Profesor de Educación Primaria",0,12,13800,null,6,6900]
[null,"315 EDUCACIÓN TRUJILLO NOR OESTE","RO","CAS","ESPECIALISTA EN PROCESOS ADMINISTRATIVOS",2600,"41872591","CHINCHAYAN GUILLENA ROSA ISABEL","Abogado","Titulado","Abogado",1,"3",7800,null,0,0]
[null,"315 EDUCACIÓN TRUJILLO NOR OESTE","RO","CAS","TECNICO ADMINISTRATIVO I",1700,"17825057","CORDOVA ALFARO LUIS ENRIQUE","Docente","Titulado","Licenciado en Educación Primaria",0,12,20400,null,6,10200]
[null,"315 EDUCACIÓN TRUJILLO NOR OESTE","RO","CAS","SECRETARIA DE DIRECCION",1700,"46575112","DEZA LAOS ANGGELA JEANNETT","Secretaria  ","Técnico ","Secretaria  ",null,12,20400,null,6,10200]
[null,"315 EDUCACIÓN TRUJILLO NOR OESTE","RO","CAS","ESPECIALISTA I",2000,"45603049","DEZA NUÑEZ MARIA TERESA","Arquitecta","Titulado","Arquitecta",null,12,24000,null,6,12000]
[null,"315 EDUCACIÓN TRUJILLO NOR OESTE","RO","CAS","VIGILANTE",1150,"18216119","FIGARI SALDAÑA DANNY ALEXANDER","Computación / Informática","técnico ","Técnico en Computación e Informática",0,12,13800,null,6,6900]
[null,"315 EDUCACIÓN TRUJILLO NOR OESTE","RO","CAS","PSICOLOGO",2000,"32911740","GALVEZ VILLANUEVA VIOLETA DEL ROSARIO","Psicologa","Titulada","Licenciada en Psicología",1,8,14533.33,null,0,0]
[null,"315 EDUCACIÓN TRUJILLO NOR OESTE","RO","CAS","ACOMPAÑANTE PEDAGOGICO PRIMARIA POLIDOCENTE COMPLETO",3400,"18206618","GIL JARA MANUEL ARTHUR","Docente","Maestría","Magister en Educación",1,8,27200,null,0,0]
[null,"315 EDUCACIÓN TRUJILLO NOR OESTE","RO","CAS","ABOGADA SEC. TEC. COMISION DE PROCESOS ADM DISP.",2000,"18162780","GONZALES MONTEJO CARMEN TALIA","Abogada","Maestría","Magister en Gestión Publica",null,10,20000,null,0,0]
[null,"315 EDUCACIÓN TRUJILLO NOR OESTE","RO","CAS","ESPECIALISTA EN ESTIMULACION TEMPRANA - ESPECIAL",2000,"44421439","GONZALES PASIGUAN HUMBERTO HIGIDIOH","Psicologo","Titulado","Licenciado en Psicología",1,1,1733.33,null,0,0]
[null,"315 EDUCACIÓN TRUJILLO NOR OESTE","RO","CAS","ACOMPAÑANTE PEDAGOGICO PRIMARIA POLIDOCENTE COMPLETO",3400,"06467228","GUERRA AGUIRRE ELIZABETH VICTORIA","Docente","Maestría","Magister en Gestión Publica",1,8,27200,null,0,0]
[null,"315 EDUCACIÓN TRUJILLO NOR OESTE","RO","CAS","ESTADISTICO",2000,"17900091","HONORES PEREYRA JOHNNY MARTIN","Estadista","Titulado","Licenciado en Estadistica",null,12,24000,null,6,12000]
[null,"315 EDUCACIÓN TRUJILLO NOR OESTE","RO","CAS","TECNICO ADMINISTRATIVO",1700,"18110424","HUAMANCHUMO SEGURA PATRICIA DE LOS MILAGROS","Tec. Administración Bancaria","Técnico ","Tec. Administración Bancaria",0,12,20400,null,6,10200]
[null,"315 EDUCACIÓN TRUJILLO NOR OESTE","RO","CAS","SECRETARIA I",1700,"19251271","JIMENEZ NOLE CLARA DEL PILAR","Secretaria  ","Técnico ","Secretaria Ejecutiva",null,12,20400,null,6,10200]
[null,"315 EDUCACIÓN TRUJILLO NOR OESTE","RO","CAS","TECNICO ADMIN I - PROYECTISTA DE RESOLUCIONES",1700,"70407671","JULIAN OLIVARES CARMEN VANESSA","Técnico ","Técnico ","Técnico en Contabilidad",null,12,20400,null,6,10200]
[null,"315 EDUCACIÓN TRUJILLO NOR OESTE","RO","CAS","SECRETARIA I",1700,"40711131","LARREA CARBAJULCA JULISSA JANETH","Tec. En Computación e Informática","Técnico ","Técnico en Computación e Informática",0,12,20400,null,6,10200]
[null,"315 EDUCACIÓN TRUJILLO NOR OESTE","RO","CAS","RESPONSABLE DE PLANILLAS",2000,"40504452","LUJAN MOSCOSO MIRIAM CONSUELO","Economista","Titulada","Licencia en Ciencias Económicas",1,10,20000,null,6,12000]
[null,"315 EDUCACIÓN TRUJILLO NOR OESTE","RO","CAS","ALMACENERO",1700,"17850727","MAMANI LOPEZ JOSE ALBERTO","Tec. En Mecánica de Producción","técnico ","Tec. En Mecánica de Producción",0,12,20400,null,6,10200]
[null,"315 EDUCACIÓN TRUJILLO NOR OESTE","RO","CAS","ESPECIALISTA EN FINANZAS",2000,"46839851","MARTEL ROSADO MILAGROS DELFINA","Contadora","Titulada","Contador Público",null,12,24000,null,6,12000]
[null,"315 EDUCACIÓN TRUJILLO NOR OESTE","RO","CAS","CONTADOR I",2000,"19097546","MAURICIO AGUILAR GLORIA HAYDEE","Contadora","Titulada","Contador Público",null,12,24000,null,6,12000]
[null,"315 EDUCACIÓN TRUJILLO NOR OESTE","RO","CAS","COORDINADOR DE INNOVACIÓN Y SOPORTE TECNOLÓGICO",1800,"40430704","MENDOZA LUZURIAGA FERNANDO TORIBIO","Ingeniero","Titulado","Ingeniero de Computación y Sistemas",1,8,14400,null,6,10800]
[null,"315 EDUCACIÓN TRUJILLO NOR OESTE","RO","CAS","TECNICO ADMINISTRATIVO I",1700,"18197439","MIMBELA DE LA VEGA SUSANA ELINA","Trabajadora Social","Maestría","Maestría en Educación",null,12,20400,null,6,10200]
[null,"315 EDUCACIÓN TRUJILLO NOR OESTE","RO","CAS","SECRETARIA/O",1400,"46454345","MURGA RAMIREZ CARMENCITA INOCENTA","Técnico ","técnico ","Técnico en Secretariado Ejecutivo",0,12,16800,null,6,8400]
[null,"315 EDUCACIÓN TRUJILLO NOR OESTE","RO","CAS","ACOMPAÑANTE PEDAGOGICO PARA SOPORTE PEDAGOGICO PRIMARIA",3400,"18140216","NARRO CADILLO LADY EDITH","Docente","Maestría","Maestría en Psicología Educativa",1,8,27200,null,6,20400]
[null,"315 EDUCACIÓN TRUJILLO NOR OESTE","RO","CAS","COORDINADOR DE INNOVACIÓN Y SOPORTE TECNOLÓGICO",1800,"46761651","ORTIZ PRETEL DANAE ALICIA","Informatica","Bachiller","Bachiller en Ciencias de la Computación",1,8,14400,null,0,0]
[null,"315 EDUCACIÓN TRUJILLO NOR OESTE","RO","CAS","ESPECIALISTA EN RACIONALIZACION",2000,"25519576","RAMOS CUADROS EDUARDO LUIS","Economista","Titulado","Licenciado en Economía",null,12,24000,null,6,12000]
[null,"315 EDUCACIÓN TRUJILLO NOR OESTE","RO","CAS","ACOMPAÑANTE PEDAGOGICO PARA SOPORTE PEDAGOGICO PRIMARIA",3400,"17555391","REYES SANTOYO CARLOS ALBERTO","Docente","Doctor","Doctor en Educación",1,8,27200,null,0,0]
[null,"315 EDUCACIÓN TRUJILLO NOR OESTE","RO","CAS","ACOMPAÑANTE PEDAGOGICO PRIMARIA POLIDOCENTE COMPLETO",3400,"19079654","RODRIGUEZ ZAVALA ORVAR DAVID","Docente","Titulado","Licenciado en Educación Primaria",1,8,27200,null,0,0]
[null,"315 EDUCACIÓN TRUJILLO NOR OESTE","RO","CAS","ABOGADO I",2000,"19098416","ROLDAN PEREZ JOSE ALEX EDUARDO","Abogado","Titulado","Abogado",null,12,24000,null,6,12000]
[null,"315 EDUCACIÓN TRUJILLO NOR OESTE","RO","CAS","ACOMPAÑANTE PEDAGOGICO PRIMARIA POLIDOCENTE COMPLETO",3400,"41871090","ROSSO DESPOSORIO SILVIA JANETT","Docente","Titulada","Licenciada en Educación Primaria",1,8,27200,null,0,0]
[null,"315 EDUCACIÓN TRUJILLO NOR OESTE","RO","CAS","PSICOLOGO",2000,"41212534","ALVA ALCALDE YGNACIO CONCEPCION","Psicologo","Titulado","Licenciado en Psicología",null,null,null,1,5,10000]
[null,"315 EDUCACIÓN TRUJILLO NOR OESTE","RO","CAS","COORD.ADM.Y DE RR.EE PARA ZONA URBANA",2000,"44553117","ARTEAGA MIÑANO BRISEIDA KARIN","Administrador","bachiller","Licenciado en Administración",0,null,null,1,5,10000]
[null,"315 EDUCACIÓN TRUJILLO NOR OESTE","RO","CAS","APOYO EDUCATIVO",1150,"43292663","UCEDA CASANA MELITA FIORELLA","Docente","bachiller","Licenciado en Educación Secundaria",0,null,null,1,5,5750]
[null,"315 EDUCACIÓN TRUJILLO NOR OESTE","RO","CAS","APOYO EDUCATIVO",1150,"00327061","SARANGO LUPU VIRGINIA BERZABEL","Docente","Titulada","docente del nivel secundaria",0,null,null,1,4,4600]
[null,"315 EDUCACIÓN TRUJILLO NOR OESTE","RO","CAS","COORD. DE INNOVACION Y SOPORTE TECN.",1800,"46222470","ZULUETA QUIROZ ANGEL MOISES","Ingeniero","Titulado","ingeniero de sistemas",null,null,null,1,5,9000]
[null,"315 EDUCACIÓN TRUJILLO NOR OESTE","RO","CAS","SECRETARIO TECNICO DE PROCESOS ADMINISTRATIVOS DISCIPLINARIOS",2000,"41209637","ALTUNA ASTO RICARDO MAXIMO","Abogado","Titulado","Derecho",null,null,null,1,3,6000]
[null,"315 EDUCACIÓN TRUJILLO NOR OESTE","RO","CAS","AUXILIAR DE MANTENIMIENTO",1150,"18029993","SILVA VARGAS AIXA MARIA","5to. secundaria","5to. secundaria","5to. secundaria",null,12,13800,null,6,6900]
[null,"315 EDUCACIÓN TRUJILLO NOR OESTE","RO","CAS","ANALISTA DE INFRAESTRUCTURA",2600,"47003632","CEDRON ALVAREZ FERNANDO ALFREDO","Arquitecto","Titulado","Arquitecto",null,null,null,1,5,13000]
[null,"315 EDUCACIÓN TRUJILLO NOR OESTE","RO","CAS","TECNICO ADMIN I - CAJERO",1700,"70087133","VASQUEZ CACHAY LUCY MILAGROS","Administración","Titulado","Licenciada en Administración",0,null,null,1,5,8500]
[null,"315 EDUCACIÓN TRUJILLO NOR OESTE","RO","CAS","TUTOR CURRICULAR EDUC.INICIAL",3400,"18210055","VILLAJULCA JARA ZULMA GISELA","Docente","Titulada","Licenciada en Educación Inicial",0,null,null,null,5,17000]
[null,"315 EDUCACIÓN TRUJILLO NOR OESTE","RO","CAS","ESPECIALISTA ADMINISTRATIVO E INSTITUCIONAL DE UGEL",2600,"18132007","UCEDA AGREDA NANCY JANET","Docente","Maestría","Magister en Administración de la Educación",0,12,31200,null,6,15600]
[null,"315 EDUCACIÓN TRUJILLO NOR OESTE","RO","CAS","ACOMPAÑANTE PEDAGOGICO PARA SOPORTE PEDAGOGICO PRIMARIA",3400,"18100950","VALLEJOS CABRERA OLENKA YAMILLE","Docente","Maestría","Magister en Psicología Educativa",1,8,27200,null,0,0]
[null,"315 EDUCACIÓN TRUJILLO NOR OESTE","RO","CAS","APOYO EDUCATIVO",1150,"16803520","VARGAS CHAVARRY PATTY","Docente","Titulada","Licenciada en Educación Primaria",0,12,13800,null,0,0]
[null,"315 EDUCACIÓN TRUJILLO NOR OESTE","RO","CAS","ACOMPAÑANTE PEDAGOGICO PARA SOPORTE PEDAGOGICO PRIMARIA",3400,"17943484","VEGA HILARIO ROBIN EDMUNDO","Docente","Titulado","Licenciado en Educación Primaria",1,8,27200,null,0,0]
[null,"315 EDUCACIÓN TRUJILLO NOR OESTE","RO","CAS","TRABAJADOR DE SERVICIO II",1700,"43300976","VILCA MAMANI PAULO","5to. secundaria","5to. secundaria","5to. secundaria",null,12,20400,null,6,10200]
[null,"315 EDUCACIÓN TRUJILLO NOR OESTE","RO","CAS","ESPECIALISTA EN MONITOREO DE EVALUACION DE ESTUDIANTES Y DOCENTES",2600,"42725083","VILLACORTA BAZAN ENRIQUE GONZALO","Ingeniero","Titulado","Ingeniero Industrial",null,12,31200,null,0,{"$f":"P2725*F2725","v":0}]
[null,"315 EDUCACIÓN TRUJILLO NOR OESTE","RO","CAS","TESORERO I",2000,"45471578","VITES TIMANA PATRICIA MARGARET","Economista","Titulado","Licenciada en Ciencias Económicas",0,12,24000,null,1,{"$f":"P2726*F2726","v":2000}]
[null,"315 EDUCACIÓN TRUJILLO NOR OESTE","RO","CAS","VIGILANTE",1150,"17971192","YEPEZ SANCHEZ CARLOS ABSALON","5to. secundaria","5to. secundaria","5to. secundaria",null,12,13800,null,6,{"$f":"P2727*F2727","v":6900}]
[null,"315 EDUCACIÓN TRUJILLO NOR OESTE","RO","CAS","GESTOR LOCAL DE INTERVENCIONES EN II.EE. POLIDOCENTES COMPLETAS",3500,"43504115","ZAVALETA ALMENDRADES MARILU ARELI","Contadora","Titulado","Contadora Pública",0,12,42000,null,0,{"$f":"P2728*F2728","v":0}]
[null,"TOTAL",null,null,null,{"$f":"SUBTOTAL(9,F2661:F2728)","v":144950},null,null,null,null,null,{"$f":"SUBTOTAL(9,L2661:L2728)","v":21},577,1194306.67,8,259,501350]
[null,"316 EDUCACION TRUJILLO SUR ESTE","RO","CAS","SECRETARIA AGI",1700,"19037870","AGUILAR FERNANDEZ AZUCENA","DOCENTE","SUPERIOR-UNIVERSITARIO","PROFESIONAL",12,12,{"$f":"F2730*M2730","v":20400},6,6,{"$f":"F2730*P2730","v":10200}]
[null,"316 EDUCACION TRUJILLO SUR ESTE","RO","CAS","T.A.(ESCALAFON)",1700,"43138430","ARTEAGA ZAVALETA SEFORA LUCIA","TÉCNICO","SUPERIOR-NO UNIVERSATARIO","TÉCNICO",12,12,{"$f":"F2731*M2731","v":20400},6,6,{"$f":"F2731*P2731","v":10200}]
[null,"316 EDUCACION TRUJILLO SUR ESTE","RO","CAS","ESP. (PERSONAL)",2000,"41028217","ASENCIO REBAZA ANNETTE MELISSA MELLA","ABOGADA","SUPERIOR-UNIVERSITARIO","PROFESIONAL",12,12,24000,6,6,12000]
[null,"316 EDUCACION TRUJILLO SUR ESTE","RO","CAS","T.A.(CAJA)",1700,"44929019","AQUINO RODRIGUEZ MANUEL ALEX","ADMINISTRADOR","SUPERIOR-UNIVERSITARIO","PROFESIONAL",12,12,20400,6,6,10200]
[null,"316 EDUCACION TRUJILLO SUR ESTE","RO","CAS","T.A. (ACTAS)",1700,"18140067","CABRERA PURISACA ELVIRA ROSA","LIC. EN COMUNICACIÓN","SUPERIOR-UNIVERSITARIO","PROFESIONAL",12,12,20400,6,6,10200]
[null,"316 EDUCACION TRUJILLO SUR ESTE","RO","CAS","TESORERO I",2000,"17938191","CASTILLO PESTANA ZOILA ROSA","CONTADORA","SUPERIOR-UNIVERSITARIO","PROFESIONAL",12,12,24000,6,6,12000]
[null,"316 EDUCACION TRUJILLO SUR ESTE","RO","CAS","ABOGADO I",2000,"45861495","CASTILLO TELLO RODY SMITH","ABOGADO","SUPERIOR-UNIVERSITARIO","PROFESIONAL",12,12,24000,6,6,12000]
[null,"316 EDUCACION TRUJILLO SUR ESTE","RO","CAS","ALMACENERO I",1700,"18204471","CRUZ AZAÑERO GARY MANUEL","TÉCNICO","SUPERIOR-NO UNIVERSATARIO","TÉCNICO",12,12,20400,6,6,10200]
[null,"316 EDUCACION TRUJILLO SUR ESTE","RO","CAS","ESP. EN FINANZAS I",2000,"45352936","HERRERA BARRETO YESENIA ILIANA","CONTADORA","SUPERIOR-UNIVERSITARIO","PROFESIONAL",12,12,24000,6,6,12000]
[null,"316 EDUCACION TRUJILLO SUR ESTE","RO","CAS","SECRETARIA DIREC.",1700,"46475326","HORNA CASTILLO ELVA CAROLI","TÉCNICO","SUPERIOR-NO UNIVERSATARIO","TÉCNICO",12,12,20400,6,6,10200]
[null,"316 EDUCACION TRUJILLO SUR ESTE","RO","CAS","RACIONALIZADOR I",2000,"18122473","JUAREZ CARRANZA CESAR MARIO","ECONOMISTA","SUPERIOR-UNIVERSITARIO","PROFESIONAL",12,12,24000,6,6,12000]
[null,"316 EDUCACION TRUJILLO SUR ESTE","RO","CAS","T.S (SEGURIDAD)",1700,"17893928","LEON LINARES CARLOS REYNALDO",null,"SECUNDARIA COMPLETA",null,12,12,20400,6,6,10200]
[null,"316 EDUCACION TRUJILLO SUR ESTE","RO","CAS","SECRETARIA PERSONAL",1700,"42600375","LUCIANO ROLDAN MEDALIT COYDER","TÉCNICO","SUPERIOR-NO UNIVERSATARIO","TÉCNICO",12,12,20400,6,6,10200]
[null,"316 EDUCACION TRUJILLO SUR ESTE","RO","CAS","SECRETARIA ASE-JUR",1700,"42209553","MARINO ASTO ROXANA MARIVEL","TÉCNICO","SUPERIOR-NO UNIVERSATARIO","TÉCNICO",12,12,20400,6,6,10200]
[null,"316 EDUCACION TRUJILLO SUR ESTE","RO","CAS","T.A.(TRAMITE)",1700,"18014344","MENDOZA ASMAD CESAR ANIBAL","ADMINISTRADOR","SUPERIOR-UNIVERSITARIO","BACHILLER",12,12,20400,6,6,10200]
[null,"316 EDUCACION TRUJILLO SUR ESTE","RO","CAS","ABASTECIMIENTO I",2000,"44404700","MORENO HORNA ANAHI ROXANA","ABOGADA","SUPERIOR-UNIVERSITARIO","PROFESIONAL",12,12,24000,6,6,12000]
[null,"316 EDUCACION TRUJILLO SUR ESTE","RO","CAS","CONTADOR I",1000,"44623541","OCHOA VEGA MARIA","CONTADORA","SUPERIOR-UNIVERSITARIO","PROFESIONAL",12,12,12000,6,6,6000]
[null,"316 EDUCACION TRUJILLO SUR ESTE","RO","CAS","INGENIERO I",2000,"45845055","PAREDES MURRUGARRA PRISCILA DEL ROCIO","ING. CIVIL","SUPERIOR-UNIVERSITARIO","PROFESIONAL",12,12,24000,6,6,12000]
[null,"316 EDUCACION TRUJILLO SUR ESTE","RO","CAS","ESTADISTICO I",2000,"18227111","ROSALES CASTRO KARLA YAMILLY","LIC. ESTADÍSTICA","SUPERIOR-UNIVERSITARIO","PROFESIONAL",12,12,24000,6,6,12000]
[null,"316 EDUCACION TRUJILLO SUR ESTE","RO","CAS","T.A.(PERSONAL)",1700,"42944658","ROSAS TOMAS OSMAR","TÉCNICO","SUPERIOR-NO UNIVERSATARIO","TÉCNICO",12,12,20400,6,6,10200]
[null,"316 EDUCACION TRUJILLO SUR ESTE","RO","CAS","PLANIFICADOR",2000,"16690037","TIMANA PALACIOS GIANINA MARLENE","ECONOMISTA","SUPERIOR-UNIVERSITARIO","BACHILLER",3,3,6000,6,6,12000]
[null,"316 EDUCACION TRUJILLO SUR ESTE","RO","CAS","PLANIFICADOR",2000,"18821030","ROJAS TRUJILLO NICOLAS MANUEL","NO TRABAJA","NO TRABAJA","NO TRABAJA",7,7,{"$f":"F2751*M2751","v":14000},null,null,{"$f":"F2751*P2751","v":0}]
[null,"316 EDUCACION TRUJILLO SUR ESTE","RO","CAS","SECRETARIA AGP",1700,"18100551","URQUIZO ENRIQUEZ MARIA DE LOURDES","SECRETARIA","SUPERIOR-NO UNIVERSATARIO","TÉCNICO",12,12,20400,6,6,10200]
[null,"316 EDUCACION TRUJILLO SUR ESTE","RO","CAS","PERSONAL DE SERVICIO",1700,"40406188","VILLANUEVA MORENO MILTON",null,"SECUNDARIA COMPLETA",null,12,12,20400,6,6,10200]
[null,"316 EDUCACION TRUJILLO SUR ESTE","RO","CAS","ESP. EN SUPERVISION DE II.EE PRIVADAS",2600,"41256117","SANDOVAL PEREDA CRISTINA KATLEEN","DOCENTE","SUPERIOR-UNIVERSITARIO","PROFESIONAL",null,null,0,2,2,5200]
[null,"316 EDUCACION TRUJILLO SUR ESTE","RO","CAS","ESPECIALISTA EN ALMACEN Y PTRIMONIO",2600,"47183335","RAMIREZ GHIORZO ROSSY KAREM FIORELLA","ECONOMISTA","SUPERIOR-UNIVERSITARIO","PROFESIONAL",null,null,0,2,2,5200]
[null,"316 EDUCACION TRUJILLO SUR ESTE","RO","CAS","ESPECIALISTA EN ALMACEN Y PTRIMONIO",2600,"44141391","TOLENTINO DIAZ LUCCIANA ROSA","NO TRABAJA","NO TRABAJA","NO TRABAJA",12,12,{"$f":"F2756*M2756","v":31200},null,null,{"$f":"F2756*P2756","v":0}]
[null,"316 EDUCACION TRUJILLO SUR ESTE","RO","CAS","ABOGADO DE COMISIONES",2000,"44791304","MARIÑO HEREDIA ELIZABETH KATHERINE","ABOGADA","SUPERIOR-UNIVERSITARIO","PROFESIONAL",2,2,4000,6,6,12000]
[null,"316 EDUCACION TRUJILLO SUR ESTE","RO","CAS","ESPECIALISTA EN SISTEMAS DE PLANILLAS",2000,"43215603","LUCIANO SALAZAR FRANCO EDILBERTO","ING. SISTEMA ","SUPERIOR-UNIVERSITARIO","PROFESIONAL",6,6,12000,4,4,8000]
[null,"316 EDUCACION TRUJILLO SUR ESTE","RO","CAS","VIGILANTE I",1150,"40125535","GONZALES RODRIGUEZ CRISTIAN ORLANDO","DOCENTE","SUPERIOR-UNIVERSITARIO","PROFESIONAL",12,12,13800,6,6,6900]
[null,"316 EDUCACION TRUJILLO SUR ESTE","RO","CAS","SECRETARIA",1400,"40993911","GONZALES VILLACORTA ROSA VICKY","DOCENTE","SUPERIOR-UNIVERSITARIO","PROFESIONAL",12,12,16800,2,2,2800]
[null,"316 EDUCACION TRUJILLO SUR ESTE","RO","CAS","VIGILANTE II - UGEL04TSE",1150,"18026153","CABANILLAS QUIÑONES RICARDO DYULIANO","DOCENTE","SUPERIOR-UNIVERSITARIO","PROFESIONAL",12,12,13800,6,6,6900]
[null,"316 EDUCACION TRUJILLO SUR ESTE","RO","CAS","VIGILANTE",1150,"70835122","MEDINA GONZALES JOSE LUIS","DOCENTE","SUPERIOR-UNIVERSITARIO","PROFESIONAL",12,12,13800,6,6,6900]
[null,"316 EDUCACION TRUJILLO SUR ESTE","RO","CAS","VIGILANTE",1150,"18025681","PEREZ VASQUEZ JULIO GERMAN","DOCENTE","SUPERIOR-UNIVERSITARIO","PROFESIONAL",12,12,13800,6,6,6900]
[null,"316 EDUCACION TRUJILLO SUR ESTE","RO","CAS","PISCOLOGO",2000,"41888874","NOLASCO VELEZMORO HELGA MELISSA","DOCENTE","SUPERIOR-UNIVERSITARIO","PROFESIONAL",8,8,16000,null,null,0]
[null,"316 EDUCACION TRUJILLO SUR ESTE","RO","CAS","APOYO EDUCATIVO",1150,"17883110","RUIZ SOLSOL WILMA AMERICA","DOCENTE","SUPERIOR-UNIVERSITARIO","PROFESIONAL",8,8,9200,null,null,0]
[null,"316 EDUCACION TRUJILLO SUR ESTE","RO","CAS","COORDINADOR DE INNOVACIÓN Y SOPORTE TECNOLOGICO",1800,"44536141","ESQUIVEL IBAÑEZ LIZETH MARDELY","DOCENTE","SUPERIOR-UNIVERSITARIO","PROFESIONAL",8,8,14400,null,null,0]
[null,"316 EDUCACION TRUJILLO SUR ESTE","RO","CAS","ADMINISTRATIVO Y DE RECURSOS EDUCATIVOS",2000,"43558912","GUTIERREZ CABALLERO JHONATAN ALDO","DOCENTE","SUPERIOR-UNIVERSITARIO","PROFESIONAL",8,8,16000,2,2,4000]
[null,"316 EDUCACION TRUJILLO SUR ESTE","RO","CAS","PSICOLOGA",2000,"45610372","TABRA VALVERDE KELLY","DOCENTE","SUPERIOR-UNIVERSITARIO","PROFESIONAL",null,null,0,2,2,4000]
[null,"316 EDUCACION TRUJILLO SUR ESTE","RO","CAS","COORDINADOR DE INNOVACIÓN Y SOPORTE TECNOLOGICO",1800,"17902791","REYES MOZO ARMANDO VALDEMAR","DOCENTE","SUPERIOR-UNIVERSITARIO","PROFESIONAL",null,null,0,2,2,3600]
[null,"316 EDUCACION TRUJILLO SUR ESTE","RO","CAS","APOYO EDUCATIVO",1150,"19081335","ARTEAGA HARO ALVARO","DOCENTE","SUPERIOR-UNIVERSITARIO","PROFESIONAL",null,null,0,2,2,2300]
[null,"316 EDUCACION TRUJILLO SUR ESTE","RO","CAS","ACOMPAÑANTE PEDAGOGICO PARA II.EE. MULTIGRADO MONOLINGÛE CASTELLANO",3600,"40809525","CRUZ MARIÑOS LUCY MARIBEL\n","DOCENTE","SUPERIOR-UNIVERSITARIO","PROFESIONAL",7,7,25200,null,null,0]
[null,"316 EDUCACION TRUJILLO SUR ESTE","RO","CAS","ACOMPAÑANTE PEDAGOGICO PARA II.EE. MULTIGRADO MONOLINGÛE CASTELLANO",3600,"18133028","LUIS OTINIANO RUTH NOEMI","DOCENTE","SUPERIOR-UNIVERSITARIO","PROFESIONAL",7,7,25200,null,null,0]
[null,"316 EDUCACION TRUJILLO SUR ESTE","RO","CAS","ACOMPAÑANTE PEDAGOGICO PARA II.EE. MULTIGRADO MONOLINGÛE CASTELLANO",3600,"40339487","CHAVEZ RODRIGUEZ ANA MELVA\n","DOCENTE","SUPERIOR-UNIVERSITARIO","PROFESIONAL",null,null,{"$f":"F2773*M2773","v":0},3,3,{"$f":"F2773*P2773","v":10800}]
[null,"316 EDUCACION TRUJILLO SUR ESTE","RO","CAS","ACOMPAÑANTE PEDAGOGICO PARA II.EE. MULTIGRADO MONOLINGÛE CASTELLANO",3600,"10211161","VASQUEZ LOPEZ LUZ AMELIDA\n","DOCENTE","SUPERIOR-UNIVERSITARIO","PROFESIONAL",null,null,{"$f":"F2774*M2774","v":0},3,3,{"$f":"F2774*P2774","v":10800}]
[null,"316 EDUCACION TRUJILLO SUR ESTE","RO","CAS","DOCENTES ACOMPAÑANTES POLIDOCENTES",3400,"40852013","COLLAVE MINCHOLA JUAN CARLOS","DOCENTE","SUPERIOR-UNIVERSITARIO","PROFESIONAL",7,7,{"$f":"F2775*M2775","v":23800},6,6,{"$f":"F2775*P2775","v":20400}]
[null,"316 EDUCACION TRUJILLO SUR ESTE","RO","CAS","DOCENTES ACOMPAÑANTES POLIDOCENTES",3400,"19700954","\nPEREZ MURGA EDINSON WILL","DOCENTE","SUPERIOR-UNIVERSITARIO","PROFESIONAL",7,7,{"$f":"F2776*M2776","v":23800},6,6,{"$f":"F2776*P2776","v":20400}]
[null,"316 EDUCACION TRUJILLO SUR ESTE","RO","CAS","DOCENTES ACOMPAÑANTES POLIDOCENTES",3400,"18120494","VELASQUEZ AGUILAR SABINA DEL PILAR","DOCENTE","SUPERIOR-UNIVERSITARIO","PROFESIONAL",7,7,{"$f":"F2777*M2777","v":23800},6,6,{"$f":"F2777*P2777","v":20400}]
[null,"316 EDUCACION TRUJILLO SUR ESTE","RO","CAS","RESPONSABLE DE NUCLEO DISTRITAL",2500,"18134492","RUIZ HUAMAN CESAR ALBERTO","DOCENTE","SUPERIOR-UNIVERSITARIO","PROFESIONAL",6,6,{"$f":"F2778*M2778","v":15000},null,null,{"$f":"F2778*P2778","v":0}]
[null,"316 EDUCACION TRUJILLO SUR ESTE","RO","CAS","RESPONSABLE DE NUCLEO DISTRITAL",2500,"18226079","CUEVA CHAVEZ PAOLO CESAR","DOCENTE","SUPERIOR-UNIVERSITARIO","PROFESIONAL",6,6,15000,null,null,0]
[null,"316 EDUCACION TRUJILLO SUR ESTE","RO","CAS","TUTOR CURRICULAR DE EDUCACION INICIAL",2000,"40936459","CAMPAÑA MORAN NATANAEL JOSUE","DOCENTE","SUPERIOR-UNIVERSITARIO","PROFESIONAL",3,3,6000,null,null,0]
[null,"316 EDUCACION TRUJILLO SUR ESTE","RO","CAS","TUTOR CURRICULAR DE EDUCACION INICIAL",2000,"46162533","POEMAPE ABANTO ROSA MARIA DEL CARMEN","DOCENTE","SUPERIOR-UNIVERSITARIO","PROFESIONAL",3,3,6000,3,3,6000]
[null,"316 EDUCACION TRUJILLO SUR ESTE","RO","CAS","GESTOR CURRICULAR",4000,"18018274","\nASMAT PUENTE CARMEN ELIZABETH","DOCENTE","SUPERIOR-UNIVERSITARIO","PROFESIONAL",2,2,8000,null,null,0]
[null,"316 EDUCACION TRUJILLO SUR ESTE","RO","CAS","GESTOR CURRICULAR",4000,"27081283","CULQUE ARAUJO ROSARIO ISABEL\n","DOCENTE","SUPERIOR-UNIVERSITARIO","PROFESIONAL",null,null,0,2,2,8000]
[null,"316 EDUCACION TRUJILLO SUR ESTE","RO","CAS","TUTOR CURRICULAR DE EDUCACION INICIAL",3400,41108029,"AMASIFUEN CUEVA FLOR LYLI\n","DOCENTE","SUPERIOR-UNIVERSITARIO","PROFESIONAL",null,null,{"$f":"F2784*M2784","v":0},2,2,{"$f":"F2784*P2784","v":6800}]
[null,"316 EDUCACION TRUJILLO SUR ESTE","RO","CAS","RESP. CALIDAD DE INFORMACION",3000,"18026510","GORDILLO GONZALES WILLIAM ROBERT","DOCENTE","SUPERIOR-UNIVERSITARIO","PROFESIONAL",6,6,18000,null,null,0]
[null,"316 EDUCACION TRUJILLO SUR ESTE","RO","CAS","GESTOR LOCAL DE INTERVENCIONES EN II.EE.",3500,"19664562","\nFLORES CASTRO EDUARDO JAVIER\n","DOCENTE","SUPERIOR-UNIVERSITARIO","PROFESIONAL",12,12,42000,null,null,0]
[null,"TOTAL",null,null,null,{"$f":"SUM(F2730:F2786)","v":124300},null,null,null,null,null,null,null,{"$f":"SUM(N2730:N2786)","v":895800},null,null,{"$f":"SUM(Q2730:Q2786)","v":424900}]
[null,"400 Salud La Libertad","RO","CAS","ENFERMERA",1800,"45483770","ABANTO DIAZ PAMELA NATIVIDAD ","ENFERMERA","Licenciada en Enfermería","Licenciada en Enfermería",6,8,{"$f":"M2788*F2788","v":14400},0,0,{"$f":"P2788*F2788","v":0}]
[null,"400 Salud La Libertad","RO","CAS","PSICÓLOGO",1800,"06826709","ABANTO FLORES HUGO ANTONIO","PSICÓLOGO","Psicólogo","Licenciado en Psicología",2,8,14400]
[null,"400 Salud La Libertad","RO","CAS","ENFERMERA",1650,"41570936","ABANTO GARCÍA ZULEMA SOLEDAD","ENFERMERA","Licenciada en Enfermería","Licenciada en Enfermería",1,3,4950]
[null,"400 Salud La Libertad","RO","CAS","MEDICO CIRUJANO",2800,"42710057","ABANTO MARREROS YESENIA KELY","MÉDICO","Médico","Médico Cirujano",3,12,33600,2,6,{"$f":"P2791*F2791","v":16800}]
[null,"400 Salud La Libertad","RO","CAS","TRABAJADOR DE SERVICIOS",1000,"19401190","ACOSTA ALAMO LUIS ",null,null,null,7,11,11000,null,null,0]
[null,"400 Salud La Libertad","RO","CAS","TECNICO EN FISIOTERAPIA Y REHABILITACION",1300,"40783525","ACUÑA CASTILLO YULITZA NATHALIA ","TECNICO EN FISIOTERAPIA Y REHABILITACION",0,0,7,11,14300,null,null,0]
[null,"400 Salud La Libertad","RO","CAS","PSICOLOGO",1800,"42922907","AGUILAR AGUIRRE HANS PABLO ","PSICÓLOGO","Psicólogo","Licenciado en Psicología",7,11,19800,null,null,0]
[null,"400 Salud La Libertad","RO","CAS","ENFERMERA",2700,"43806047","AGUILAR RODRIGUEZ VILMA VIOLETA ","ENFERMERA","Licenciada en Enfermería","Licenciada en Enfermería",3,12,32400,2,6,16200]
[null,"400 Salud La Libertad","RDR-S","CAS","TÉCNICO ADMINISTRATIVO",1300,"42808461","AGUIRRE ROSALES JUAN VICTOR ","TÉCNICO ADMINISTRATIVO",0,null,1,3,3900,null,null,0]
[null,"400 Salud La Libertad","RDR-S","CAS","TÉCNICO ADMINISTRATIVO",1300,"42808461","AGUIRRE ROSALES JUAN VICTOR  ",null,null,null,2,10,13000,null,null,0]
[null,"400 Salud La Libertad","RO","CAS","ENFERMERA",1800,"18198503","ALCANTARA LUJAN VICTORIA DEL CARMEN ","ENFERMERA","Licenciada en Enfermería","Licenciada en Enfermería",7,11,19800,null,null,0]
[null,"400 Salud La Libertad","RO","CAS","MÉDICO CIRUJANO",3500,"71254421","ALQUIZAR DEZA SERGIO RUBEN ","MÉDICO","Médico","Médico Cirujano",5,12,42000,2,6,21000]
[null,"400 Salud La Libertad","RO","CAS","CHOFER",1500,"18178152","ALVA AVILA EDUARDO ",null,null,null,5,12,18000,2,6,9000]
[null,"400 Salud La Libertad","RO","CAS","MÉDICO CIRUJANO",4500,"43619337","ALVARADO MUÑOZ ALAN ANTONIO ","MÉDICO","Médico","Médico Cirujano",7,12,54000,2,6,27000]
[null,"400 Salud La Libertad","RO","CAS","OBSTETRA",2500,70316592,"ALVINCO LOZANO, SACRAMENTA MICHILINA","oBSTETRA","Obstetra","Obstetra",2,12,30000,2,6,15000]
[null,"400 Salud La Libertad","RO","CAS","ENFERMERA",2500,"02632321","ANCAJIMA HERNANDEZ DE CARRANZA LUISA MARIANA ","ENFERMERA","Licenciada en Enfermería","Licenciada en Enfermería",3,12,30000,2,6,15000]
[null,"400 Salud La Libertad","RO","CAS","ENFERMERA",1800,"44394737","ANGULO GUEVARA KARIN MILAGROS ","ENFERMERA","Licenciada en Enfermería","Licenciada en Enfermería",7,9,16200,null,null,0]
[null,"400 Salud La Libertad","RO","CAS","TRABAJADORA SOCIAL",1800,41656308,"ANHUAMAN RODRIGUEZ ALBIN'S YURILEEN'S","TRABAJADORA SOCIAL","Licenciada en Trabajo Social","Licenciada en Trabajo Social",7,2,3600,null,null,0]
[null,"400 Salud La Libertad","RO","CAS","TRABAJADORA DE SERVICIOS",1200,"71590251","ANTICONA LAZARO YACELI YAJAIRA ",null,null,null,7,11,13200,null,null,0]
[null,"400 Salud La Libertad","RO","CAS","CHOFER",1300,"46025420","ANTICONA QUIPUSCOA ANTONY JHON ",null,null,null,3,12,15600,2,6,7800]
[null,"400 Salud La Libertad","RO","CAS","DIGITADOR ",1500,"43811180","AÑORGA QUEZADA LIZBET GIOVANA ",null,null,null,3,12,18000,2,3,4500]
[null,"400 Salud La Libertad","RO","CAS","OBSTETRA",2500,42291720,"AROTOMA DIAZ ELSA ","OBSTETRA","Obstetra","Obstetra",1,5,12500,null,null,0]
[null,"400 Salud La Libertad","RO","CAS","TÉCNICO ADMINISTRATIVO",1300,43235375,"ARROYO HUAMAN ROSI ARASELLY ","TÉCNICO ADMINISTRATIVO",0,null,3,12,15600,2,6,7800]
[null,"400 Salud La Libertad","RO","CAS","TECNICO MECANICO",1500,"18151688","ARROYO SANTILLAN OSCAR ALBERTO ","TECNICO MECANICO",null,null,2,12,18000,2,6,9000]
[null,"400 Salud La Libertad","RO","CAS","MEDICO REGULADOR",2800,"18131270","ATILANO URBINA ROBERTO GUSTAVO ","MÉDICO","Médico","Médico Cirujano",2,12,33600,2,6,16800]
[null,"400 Salud La Libertad","RO","CAS","ABOGADO",1650,"42660842","AVALOS RODRIGUEZ EMELI MARILI ","ABOGADO","Abogado","Abogado",1,2,3300,null,null,0]
[null,"401 Salud La Libertad","RO","CAS","ESTADISTICO",1650,18901006,"AVILA GRADOS HECTOR WILMER","ESTADISTICO",null,null,null,null,null,1,2,3300]
[null,"400 Salud La Libertad","RDR-S","CAS","TECNICO EN FARMACIA",1300,"43545035","BACILIO OTINIANO SANDRA FRANCISCA ","TECNICO EN FARMACIA",null,null,3,12,{"$f":"M2815*F2815","v":15600},2,8,10400]
[null,"400 Salud La Libertad","RDR","CAS","PERSONAL DE SERVICIOS",1300,"18858665","BACON RAMIREZ MARIA ELENA ",null,null,null,3,12,15600,2,6,7800]
[null,"400 Salud La Libertad","RO","CAS","TECNICO EN COMPUTACIÓN",1500,"47469163","BALBINA MUÑOZ REYES ","TECNICO EN COMPUTACIÓN",0,null,3,12,18000,2,6,9000]
[null,"400 Salud La Libertad","RO","CAS","TÉCNICA EN FARMACIA",1300,45299670,"BANDA CUBAS JANNE","TÉCNICA EN FARMACIA",null,null,4,11,14300,null,null,0]
[null,"400 Salud La Libertad","RO","CAS","TÉCNICO EN TELECOMUNICACIONES",1300,45548869,"BARRERA HINOSTROZA SANDRA MARISOL",null,null,null,1,2,2600,null,null,0]
[null,"400 Salud La Libertad","RO","CAS","ENFERMERA",1800,"44623518","BARRETO CHAVEZ SHIRLEY LISSETH ","ENFERMERA","Licenciada en Enfermería","Licenciada en Enfermería",7,11,19800,null,null,0]
[null,"400 Salud La Libertad","RDR","CAS","ABOGADO",1650,45508429,"BARRIENTOS CASTRO RICHARD MARTIN ","ABOGADO","Abogado","Abogado",3,12,19800,2,6,9900]
[null,"400 Salud La Libertad","RO","CAS","QUÍMICO FARMACÉUTICO",1800,"17812399","BAUTISTA CACERES ROSARIO DEL PILAR ","QUÍMICO FARMACÉUTICO","Químico Farmacéutico","Químico Farmacéutico",8,11,19800,null,null,0]
[null,"400 Salud La Libertad","RO","CAS","TRABAJADOR DE SERVICIOS",1300,"70475667","BAUTISTA REYES LUIS FERNANDO",null,null,null,3,12,15600,2,6,7800]
[null,"400 Salud La Libertad","RO","CAS","TRABAJADORA SOCIAL",1800,"45941509","BAUTISTA VALDERRAMA YUVISSA LIZETH ","TRABAJADORA SOCIAL","Licenciada en Trabajo Social","Licenciada en Trabajo Social",2,4,7200,null,null,0]
[null,"400 Salud La Libertad","RO","CAS","TRABAJADOR DE SERVICIOS",1200,"18068809","BENDEZU LOZADA LUIS ALFREDO ",null,null,null,8,11,13200,null,null,0]
[null,"400 Salud La Libertad","RO","CAS","CHOFER",1500,"42272613","BLAS CRUZ WILMER ALFONSO ",null,null,null,2,5,7500,null,null,0]
[null,"400 Salud La Libertad","RO","CAS","TECNICO EN COMPUTACIÓN",1300,"40367286","BLAS ROJAS MARIO ALFREDO ","TECNICO EN COMPUTACIÓN",0,null,6,8,10400,null,null,0]
[null,"400 Salud La Libertad","RO","CAS","PSICÓLOGO",1650,"44553114","BOBADILLA TORRES KAREM ROXANA","PSICÓLOGO","Psicólogo","Licenciado en Psicología",2,2,3300,null,null,0]
[null,"400 Salud La Libertad","RO","CAS","INGENIERO INDUSTRIAL",1650,"45604919","BOCANEGRA RIOS EVELIN ELIZABETH ","INGENIERO INDUSTRIAL","Ingeniero","Ingeniero Industrial",3,12,19800,2,6,9900]
[null,"400 Salud La Libertad","RO","CAS","ENFERMERA",1800,"42554649","BOCANEGRA SABOYA ANDREA ","ENFERMERA","Licenciada en Enfermería","Licenciada en Enfermería",2,4,7200,null,null,0]
[null,"400 Salud La Libertad","RO","CAS","INGENIERO DE SISTEMAS",1650,"43006790","BREAS JESUS ROBERTO FRANCIS","INGENIERO DE SISTEMAS","Ingeniero","Ingeniero de Sistemas",3,4,6600,1,2,3300]
[null,"400 Salud La Libertad","RO","CAS","ENFERMERA",1650,"26730854","BRIONES SAGASTEGUI LUISA MARIA MILAGROS ","ENFERMERA","Licenciada en Enfermería","Licenciada en Enfermería",3,12,19800,2,6,9900]
[null,"400 Salud La Libertad","RO","CAS","PSICOLOGA",1800,"42864139","CAJO PEREZ CARITO MARILIN ","PSICÓLOGO","Psicólogo","Licenciado en Psicología",7,11,19800,null,null,0]
[null,"400 Salud La Libertad","RO","CAS","ENFERMERA",1800,"40443588","CAJO PEREZ CARMEN DOMINGA ","ENFERMERA","Licenciada en Enfermería","Licenciada en Enfermería",7,11,19800,null,null,0]
[null,"400 Salud La Libertad","RO","CAS","MEDICO CIRUJANO",2800,"44797390","CALDERON LAU JESSICA YLENIA","MÉDICO","Médico","Médico Cirujano",2,6,16800,null,null,0]
[null,"400 Salud La Libertad","RO","CAS","CHOFER",1500,"46841733","CALDERON SANCHEZ JOSE ISAIAS ",null,null,null,3,12,18000,2,6,9000]
[null,"400 Salud La Libertad","RO","CAS","OBSTETRA",2500,"44807339","CALDERON VARELA LYNK VICTORIA ","OBSTETRA","Obstetra","Obstetra",3,12,30000,2,6,15000]
[null,"400 Salud La Libertad","RO","CAS","INGENIERO DE SISTEMAS",1650,"10584260","CALLE FIGUEROA JOSE LUIS","INGENIERO DE SISTEMAS","Ingeniero","Ingeniero de Sistemas",3,11,18150,null,null,0]
[null,"400 Salud La Libertad","RDR","CAS","MÉDICO CIRUJANO",3800,"27437569","CAMPOS CAMPOS JUAN CARLOS ","MÉDICO","Médico","Médico Cirujano",3,12,45600,2,6,22800]
[null,"400 Salud La Libertad","RO","CAS","ENFERMERA",1800,"40034893","CAMPOS MAZA JUDITH ELIZABET ","ENFERMERA","Licenciada en Enfermería","Licenciada en Enfermería",7,11,19800,null,null,0]
[null,"400 Salud La Libertad","RDR","CAS","TRABAJADOR DE SERVICIOS",1300,42425764,"CAMPOS RODRIGUEZ FRANCISCO ",null,null,null,3,12,15600,2,6,7800]
[null,"400 Salud La Libertad","RO","CAS","PSIQUIATRA",8000,"42762977","CANCHUCAJA BONARRIBA LUCIA VICTORIA ","PSIQUIATRA","Médico","Médico Psiquiatra",7,11,88000,null,null,0]
[null,"400 Salud La Libertad","RO","CAS","ABOGADA",2500,70268692,"CANTERA GARCIA DE ULLOA LINDA ISIS ","ABOGADA","Abogado","Abogado",3,12,30000,2,6,15000]
[null,"400 Salud La Libertad","RO","CAS","TECNICO EN FISIOTERAPIA Y REHABILITACION",1300,"45868603","CARDENAS ARGOMEDO DE LOPEZ JURIKA OLENKA ","TECNICO EN FISIOTERAPIA Y REHABILITACION",0,null,7,11,14300,null,null,0]
[null,"400 Salud La Libertad","RO","CAS","OBSTETRA",3000,"45813524","CARDENAS PALOMINO ROSMERY LISETTE","OBSTETRA","Obstetra","Obstetra",3,12,36000,2,6,18000]
[null,"400 Salud La Libertad","RDR","CAS","INGENIERO QUÍMICO",1650,"18022396","CARRANZA CARRASCO DIANA RAQUEL ","INGENIERO QUÍMICO","Ingeniero","Ingeniero Químico",3,12,19800,2,6,9900]
[null,"400 Salud La Libertad","RO","CAS","TÉCNICO EN ENFERMERÍA",1500,"43423168","CARRANZA MEZA LEYDEN NATALY","TÉCNICO EN ENFERMERÍA",0,null,3,12,18000,2,6,9000]
[null,"400 Salud La Libertad","RO","CAS","MEDICO CIRUJANO",5000,"42529426","CARRANZA VASQUEZ RUBEN ANTONIO","MÉDICO","Médico","Médico Cirujano",1,2,10000,null,null,0]
[null,"400 Salud La Libertad","RDR","CAS","TÉCNICO ADMINISTRATIVO",1300,"17831637","CARRILLO VASQUEZ SILVIA DEL PILAR ",0,null,null,3,12,15600,2,6,7800]
[null,"400 Salud La Libertad","RO","CAS","SECRETARIA EJECUTIVA",1300,"41499138","CARRION ZAVALA SANTOS GLORIA ","SECRETARIA EJECUTIVA",0,null,3,12,15600,2,6,7800]
[null,"400 Salud La Libertad","RO","CAS","OPERADOR",1300,"41761195","CASPITO ROJAS ADELA SANTOS ",null,null,null,3,9,11700,null,null,0]
[null,"400 Salud La Libertad","RO","CAS","MÉDICO CIRUJANO",3800,"40948642","CASTAGNOLA SANCHEZ SOFIA ELENA ","MÉDICO","Médico","Médico Cirujano",7,11,41800,null,null,0]
[null,"400 Salud La Libertad","RO","CAS","PSICOLOGO",1800,41377352,"CASTAÑEDA AVALOS MARGARITA DEL ROCIO ","PSICÓLOGO","Psicólogo","Licenciado en Psicología",7,11,19800,null,null,0]
[null,"401 Salud La Libertad","RO","CAS","MEDICO CIRUJANO",5000,40886822,"CASTAÑEDA RODRIGUEZ ALEJANDRO","MÉDICO","Médico","Médico Cirujano",null,null,null,2,2,10000]
[null,"400 Salud La Libertad","RO","CAS","CHOFER",1500,"45688767","CASTILLO ALFARO JOHNNY HAROLD ",0,null,null,3,12,{"$f":"M2855*F2855","v":18000},2,6,{"$f":"P2855*F2855","v":9000}]
[null,"400 Salud La Libertad","RO","CAS","ASISTENTE DE COMUNICACIONES",1300,"18217259","CASTILLO LAOS JOHAN ANTONIO ",null,null,null,2,7,9100,null,null,0]
[null,"400 Salud La Libertad","RO","CAS","ASISTENTE DE COMUNICACIONES",1300,"18217259","CASTILLO LAOS JOHAN ANTONIO  ",null,null,null,2,6,7800,null,null,0]
[null,"400 Salud La Libertad","RO","CAS","MÉDICO CIRUJANO",4500,"17855736","CASTILLO STOLL JOSE ORLANDO ","MÉDICO","Médico","Médico Cirujano",3,12,54000,2,6,27000]
[null,"400 Salud La Libertad","RDR","CAS","MÉDICO CIRUJANO",3800,"42726657","CASTILLO VARGAS JORGE LUIS ","MÉDICO","Médico","Médico Cirujano",3,12,45600,2,6,22800]
[null,"400 Salud La Libertad","RO","CAS","ABOGADA",1650,44623529,"CASTRO VARGAS CARLA JACKELINE","ABOGADA","Abogado",null,2,12,19800,1,2,3300]
[null,"400 Salud La Libertad","RO","CAS","ENFERMERA",1650,"43540092","CEDRON LEON YRIS YRENE ","ENFERMERA","Licenciada en Enfermería","Licenciada en Enfermería",3,12,19800,2,6,9900]
[null,"400 Salud La Libertad","RO","CAS","MÉDICO CIRUJANO",2800,"45398623","CELIS SANCHEZ MARIO ALBERTO ","MÉDICO","Médico","Médico Cirujano",3,12,33600,2,6,16800]
[null,"400 Salud La Libertad","RO","CAS","DIGITADOR",1500,"72231153","CENIZARIO ALAMO RONALD ",null,null,null,3,12,18000,2,6,9000]
[null,"400 Salud La Libertad","RO","CAS","TECNICO EN COMPUTACIÓN E INFORMÁTICA",1500,"41959337","CHACON DIAZ CHELITA MARGOT ","TECNICO EN COMPUTACIÓN E INFORMÁTICA",0,null,3,12,18000,2,6,9000]
[null,"400 Salud La Libertad","RO","CAS","ENFERMERA",1650,"41957990","CHAVARRY VELARDE VANESSA RUBY ","ENFERMERA","Licenciada en Enfermería","Licenciada en Enfermería",3,12,19800,2,6,9900]
[null,"400 Salud La Libertad","RO","CAS","OPERADOR DE  TELECOMUNICACIONES",1300,"70879654","CHAVEZ CASTILLO LUIS ALFONSO ",null,null,null,3,12,15600,2,6,7800]
[null,"400 Salud La Libertad","RO","CAS","ENFERMERA",1800,"44809675","CHAVEZ JULCA NOEMI ELIZABETH ","ENFERMERA","Licenciada en Enfermería","Licenciada en Enfermería",5,7,12600,null,null,0]
[null,"400 Salud La Libertad","RO","CAS","OBSTETRA",2500,"70785707","CHAVEZ SOPLA EHIMY KATERIN","OBSTETRA","Obstetra","Obstetra",3,12,30000,2,5,12500]
[null,"400 Salud La Libertad","RO","CAS","TRABAJADOR DE SERVICIOS",1200,"71017503","CHAVEZ YUPANQUI DAVIS ALEXANDER ",null,null,null,7,11,13200,null,null,0]
[null,"400 Salud La Libertad","RO","CAS","ENFERMERO",1650,"42454785","CHICLOTE SUELPRES CARLOS ","ENFERMERO","Licenciada en Enfermería","Licenciada en Enfermería",3,12,19800,2,6,9900]
[null,"401 Salud La Libertad","RO","CAS","ENFERMERO",1651,47240488,"CHILON IBAÑEZ ANGELICA DALIA","ENFERMERO","Licenciada en Enfermería","Licenciada en Enfermería",null,null,null,2,2,3302]
[null,"400 Salud La Libertad","RO","CAS","TÉCNICO EN ENFERMERÍA",1500,"41281470","CHILCHO LUCANO FLOR ANGELICA","TÉCNICO EN ENFERMERÍA",0,null,3,12,{"$f":"M2872*F2872","v":18000},2,6,9000]
[null,"400 Salud La Libertad","RO","CAS","OBSTETRA",2500,"46419441","CHINCHAYHUARA CAPA DORIS ","OBSTETRA","Obstetra","Obstetra",1,7,17500,null,null,0]
[null,"400 Salud La Libertad","RO","CAS","TECNICO EN LABORATORIO",1500,"47512152","CHINCHAYHUARA MORON YELSIN  ","TECNICO EN LABORATORIO",0,null,3,12,18000,2,6,9000]
[null,"400 Salud La Libertad","RO","CAS","MEDICO CIRUJANO",5000,"44841963","CHOQUEHUANCA BALTODANO NADIA PAOLA","MÉDICO","Médico","Médico Cirujano",1,4,20000,null,null,0]
[null,"400 Salud La Libertad","RO","CAS","TECNICO EN ENFERMERIA",1200,42114181,"CIEZA VIGIL LEILA MARLENI ","TECNICO EN ENFERMERIA",0,null,7,11,13200,null,null,0]
[null,"400 Salud La Libertad","RO","CAS","ENFERMERO",1650,"03501037","CIFUENTES MAURICIO LUIS ALEXANDER ","ENFERMERO","Licenciada en Enfermería","Licenciado en Enfermería",3,7,11550,null,null,0]
[null,"400 Salud La Libertad","RO","CAS","ENFERMERO",1650,"03501037","CIFUENTES MAURICIO LUIS ALEXANDER  ","ENFERMERO","Licenciada en Enfermería","Licenciado en Enfermería",3,7,11550,null,null,0]
[null,"400 Salud La Libertad","RO","CAS","TECNICO EN COMPUTACIÓN E INFORMÁTICA",1300,"18190437","CISNEROS ROJAS RENE ","TECNICO EN COMPUTACIÓN E INFORMÁTICA",0,null,3,12,15600,2,6,7800]
[null,"400 Salud La Libertad","RDR","CAS","TRABAJADOR DE SERVICIOS",1300,28065716,"COBA CHUQUILIN JUAN ",null,null,null,3,12,15600,2,6,7800]
[null,"400 Salud La Libertad","RO","CAS","MÉDICO",5000,43112476,"CORONEL RAMÍREZ JORGE ALEXANDER","MÉDICO","Médico","Médico Cirujano",2,12,60000,1,4,20000]
[null,"400 Salud La Libertad","RO","CAS","PSICOLOGO",1800,"47175887","CORONEL SANTOYO KAREM JULISSE ","PSICÓLOGO","Psicólogo","Licenciado en Psicología",6,8,14400,null,null,0]
[null,"400 Salud La Libertad","RO","CAS","ENFERMERA",1800,"45453937","CORREA GONZALES JUDITH RAQUEL ","ENFERMERA","Licenciada en Enfermería","Licenciada en Enfermería",7,11,19800,null,null,0]
[null,"400 Salud La Libertad","RO","CAS","TECNICO EN ENFERMERIA",1500,"41467641","CORREA PINO ALVARO WILLAN ","TECNICO EN ENFERMERIA",0,null,3,12,18000,2,3,4500]
[null,"400 Salud La Libertad","RO","CAS","CONTADOR",1650,"18192344","CORTIJO SANCHEZ JOHNNY ROBERT","CONTADOR","Contador","Contador Público Colegiado",3,12,19800,2,5,8250]
[null,"400 Salud La Libertad","RO","CAS","SECRETARIA",1300,"42154650","CRIBILLEROS PLASENCIA MAYRA IDANIA ","SECRETARIA",null,null,3,12,15600,2,4,5200]
[null,"400 Salud La Libertad","RO","CAS","PSICÓLOGO",1800,"18167364","CRUZ CARLIN JOSE LUIS","PSICÓLOGO","Psicólogo","Licenciado en Psicología",7,11,19800,null,null,0]
[null,"400 Salud La Libertad","RO","CAS","PSICÓLOGO",1650,"42806983","CRUZ CASTILLO GEILY JUDITH","PSICÓLOGO","Psicólogo","Licenciado en Psicología",7,11,18150,null,null,0]
[null,"400 Salud La Libertad","RO","CAS","CONTADOR",1650,"44384553","CRUZ ODAR JULIO ENRIQUE ","CONTADOR","Contador","Contador Público Colegiado",3,12,19800,2,5,8250]
[null,"400 Salud La Libertad","RO","CAS","TRABAJADORA SOCIAL",1800,"41078482","CRUZ SEGURA MARIANA IRA ","TRABAJADORA SOCIAL","Licenciada en Trabajo Social","Licenciada en Trabajo Social",6,8,14400,2,6,10800]
[null,"400 Salud La Libertad","RO","CAS","ESTADISTICO",1650,"40551987","CUADROS CERIN EDWIN ARMANDO ","ESTADISTICO","Ingeniero","Ingeniero Estadístico",3,12,19800,2,6,9900]
[null,"400 Salud La Libertad","RO","CAS","MÉDICO CIRUJANO",3800,"44850554","DAZA PALACIOS JOSE RICARDO ","MÉDICO","Médico","Médico Cirujano",6,9,34200,6,6,22800]
[null,"400 Salud La Libertad","RO","CAS","ENFERMERA",2500,"44347799","DE LA CRUZ MACHAY KELLY LISET","ENFERMERA","Licenciada en Enfermería","Licenciada en Enfermería",3,12,30000,2,6,15000]
[null,"400 Salud La Libertad","RO","CAS","ABOGADO",1650,"18141022","DELGADO INOSTROZA EDILBERTO  ","ABOGADO","Abogado","Abogado",2,7,11550,null,null,0]
[null,"400 Salud La Libertad","RO","CAS","ABOGADO",1650,"18141022","DELGADO INOSTROZA EDILBERTO   ","ABOGADO","Abogado","Abogado",null,null,0,2,6,9900]
[null,"401 Salud La Libertad","RO","CAS","ENFERMERA",1650,41034493,"DIAZ CORONEL CARMEN","ENFERMERA","Licenciada en Enfermería","Licenciada en Enfermería",null,null,null,2,6,9900]
[null,"400 Salud La Libertad","RDR","CAS","ENFERMERA",1650,"43581285","DIAZ ESTEVES ROSA ANGELA","ENFERMERA","Licenciada en Enfermería","Licenciada en Enfermería",3,12,{"$f":"M2897*F2897","v":19800},2,6,9900]
[null,"400 Salud La Libertad","RO","CAS","ANTROPOLOGO",1650,"18138091","DIAZ HUACACOLQUI MIGUEL ARTURO ","ANTROPOLOGO","Antropólogo","Licenciado en Antropología",3,12,19800,2,6,9900]
[null,"400 Salud La Libertad","RO","CAS","ADMINISTRADOR",1650,"01288816","DIAZ PECHE EMILIO NAPOLEON ","ADMINISTRADOR","Administración","Licenciado en Administración",3,12,19800,2,3,4950]
[null,"400 Salud La Libertad","RO","CAS","ODONTOLOGO",2500,"44589619","DIAZ PERALTA JOSE LUIS ERNESTO ","ODONTOLOGO",null,"Cirujano Dentista",1,3,7500,null,null,0]
[null,"400 Salud La Libertad","RO","CAS","ENFERMERA",1800,"09533403","DIAZ RAMIREZ JESSY MARIBEL ","ENFERMERA","Licenciada en Enfermería","Licenciada en Enfermería",7,11,19800,null,null,0]
[null,"400 Salud La Libertad","RO","CAS","ENFERMERA",1650,"47191691","DIAZ SALINAS ROCIO ELIZABETH","ENFERMERA","Licenciada en Enfermería","Licenciada en Enfermería",3,12,19800,2,6,9900]
[null,"400 Salud La Libertad","RO","CAS","ENFERMERA",1650,"45718178","DIONICIO ESQUIVEL SHIRLEY  CATHERINE ","ENFERMERA","Licenciada en Enfermería","Licenciada en Enfermería",3,12,19800,2,6,9900]
[null,"400 Salud La Libertad","RO","CAS","TECNICO EN ENFERMERIA",1500,"71233166","DOMINGUEZ VILLANUEVA DANY YAMALI ","TECNICO EN ENFERMERIA",0,null,2,12,18000,2,3,4500]
[null,"400 Salud La Libertad","RO","CAS","ENFERMERA",2700,"46298797","ECHEVERRIA DE LA CRUZ YULI ","ENFERMERA","Licenciada en Enfermería","Licenciada en Enfermería",3,12,32400,2,6,16200]
[null,"400 Salud La Libertad","RO","CAS","PSICOLOGO",1800,"45224372","ENRIQUEZ JOTA KATERYNE GUIBELL ","PSICÓLOGO","Psicólogo","Licenciado en Psicología",5,11,19800,null,null,0]
[null,"400 Salud La Libertad","RO","CAS","PSICOLOGO",1800,"44057697","ESCOBEDO RODRIGUEZ SHEYLA LAURA ","PSICÓLOGO","Psicólogo","Licenciado en Psicología",8,11,19800,null,null,0]
[null,"400 Salud La Libertad","RO","CAS","INGENIERO DE SISTEMAS",1900,"70392335","ESCOBEDO VELASQUEZ LUIS JAVIER ","INGENIERO DE SISTEMAS","Ingeniero","Ingeniero de Sistemas",6,12,22800,5,6,11400]
[null,"400 Salud La Libertad","RO","CAS","INGENIERO ELECTRONICO",1650,"42792518","ESLAVA ALZAMORA HUGO ALFREDO ","INGENIERO ELECTRONICO","Ingeniero","Ingeniero Electróinco",3,12,19800,2,6,9900]
[null,"400 Salud La Libertad","RO","CAS","TECNICO EN COMPUTACIÓN",1500,"41397873","ESPINO AVILA JUAN JAVIER  ","TECNICO EN COMPUTACIÓN",0,null,3,12,18000,2,6,9000]
[null,"400 Salud La Libertad","RO","CAS","ENFERMERA",1650,"46977445","ESPINOZA BORJA SABY MARYLING","ENFERMERA","Licenciada en Enfermería","Licenciada en Enfermería",6,12,19800,5,6,9900]
[null,"400 Salud La Libertad","RO","CAS","TECNICO EN FISIOTERAPIA Y REHABILITACION",1300,"17814305","FARFAN MAROCHO ILDA ","TECNICO EN FISIOTERAPIA Y REHABILITACION",0,null,7,11,14300,null,null,0]
[null,"400 Salud La Libertad","RO","CAS","ENFERMERA",1650,46896224,"FARRO GOICOCHEA MADAI DEL MILAGRO","ENFERMERA","Licenciada en Enfermería","Licenciada en Enfermería",1,2,3300,null,null,0]
[null,"400 Salud La Libertad","RO","CAS","PSICOLOGO",1900,"42686457","FERNANDEZ VASQUEZ BERTHA EVELINA","PSICÓLOGO","Psicólogo","Licenciado en Psicología",3,12,22800,2,6,11400]
[null,"400 Salud La Libertad","RO","CAS","BIÓLOGO",2500,"42222329","FIESTAS GUARNIZ YANNITZA GUADALUPE ","BIÓLOGO","Biólogo","Biólogo",3,12,30000,2,3,7500]
[null,"400 Salud La Libertad","RDR","CAS","QUÍMICO FARMACÉUTICO",1650,"18143139","FIGUEROA DIAZ ADELA YESENIA","QUÍMICO FARMACÉUTICO","Químico Farmacéutico","Químico Farmacéutico",3,12,19800,2,6,9900]
[null,"400 Salud La Libertad","RO","CAS","TECNICO EN ENFERMERIA",1500,46563718,"FLORES ALVARADO KEREN EUMICE ","TECNICO EN ENFERMERIA",0,null,3,12,18000,2,6,9000]
[null,"400 Salud La Libertad","RO","CAS","TECNICO EN FARMACIA",1500,"70249648","FLORES GAMEZ ANALY YACORI ","TECNICO EN FARMACIA",null,null,3,12,18000,2,6,9000]
[null,"400 Salud La Libertad","RO","CAS","ENFERMERA",2500,"43576848","FLORES MEZA LIZBETH OLIVIA ","ENFERMERA","Licenciada en Enfermería","Licenciada en Enfermería",3,12,30000,2,6,{"$f":"P2919*F2919","v":15000}]
[null,"400 Salud La Libertad","RDR-S","CAS","QUÍMICO FARMACÉUTICO",1650,"43778287","FLORES RONDO ROGER EDINSON ","QUÍMICO FARMACÉUTICO","Químico Farmacéutico","Químico Farmacéutico",3,12,19800,2,6,9900]
[null,"400 Salud La Libertad","RO","CAS","MÉDICO CIRUJANO",4500,48731586,"FLORIAN GOMEZ GERARDO CARLOS ALBERTO ","MÉDICO","Médico","Médico Cirujano",4,12,54000,3,6,27000]
[null,"400 Salud La Libertad","RDR","CAS","TÉCNICO ADMINISTRATIVO",1300,"42228774","GALLARDO SALDAÑA ENRIQUE JAVIER ","TÉCNICO ADMINISTRATIVO",0,null,3,12,15600,2,6,7800]
[null,"400 Salud La Libertad","RO","CAS","BIÓLOGO MICROBIÓLOGO",2500,"70260455","GARCIA CASTILLO HERNAN RICARDO","BIÓLOGO MICROBIÓLOGO","Biólogo","Biólogo Microbiólogo",3,12,30000,2,3,7500]
[null,"400 Salud La Libertad","RO","CAS","TÉCNICO ADMINISTRATIVO",1300,"45824921","GARCIA CERNA NANCY JANETH ","TÉCNICO ADMINISTRATIVO",0,null,3,12,15600,2,6,7800]
[null,"400 Salud La Libertad","RO","CAS","CHOFER",1500,"18200639","GARCIA JUAREZ JUAN ANTONIO ",null,null,null,3,12,18000,2,6,9000]
[null,"400 Salud La Libertad","RO","CAS","PILOTO DE AMBULANCIA",1500,44556657,"GASPAR AGUILAR MILTON",null,null,null,2,12,18000,2,6,9000]
[null,"400 Salud La Libertad","RO","CAS","ENFERMERA",1800,"46214536","GOICOCHEA MAURICIO YANET LISSET ","ENFERMERA","Licenciada en Enfermería","Licenciada en Enfermería",7,11,19800,null,null,0]
[null,"400 Salud La Libertad","RO","CAS","PSICOLOGO",1800,40844999,"GOMEZ CALDAS DEYSI NOEMI ","PSICÓLOGO","Psicólogo","Licenciado en Psicología",7,11,19800,null,null,0]
[null,"401 Salud La Libertad","RO","CAS","OBSTETRA",2700,46643526,"GOMEZ GUADALUPE KAREN STEPHANIE","OBSTETRA","Obstetra","Obstetra",null,null,null,1,2,5400]
[null,"400 Salud La Libertad","RO","CAS","TECNICO EN FARMACIA",1300,"18076857","GONZALES LUJAN EBERT YONEL ","TECNICO EN FARMACIA",null,null,6,8,{"$f":"M2930*F2930","v":10400},null,null,0]
[null,"400 Salud La Libertad","RO","CAS","TECNICO EN ENFERMERIA",1200,"19100521","GONZALEZ AGUILAR FELICITA RICARDINA ","TECNICO EN ENFERMERIA",0,null,6,8,9600,null,null,0]
[null,"400 Salud La Libertad","RO","CAS","PSICOLOGO",1800,"18140331","GRACEY PUESCAS MARIANELLA BEATRIZ ","PSICÓLOGO","Psicólogo","Licenciado en Psicología",7,11,19800,null,null,0]
[null,"400 Salud La Libertad","RO","CAS","OBSTETRA",2500,"70153344","GRACIAN TRONCOS NATHALIE ANNETE","OBSTETRA","Obstetra","Obstetra",1,2,5000,null,null,0]
[null,"400 Salud La Libertad","RO","CAS","ENFERMERA",2500,46156632,"GUERRA RUIZ LILIANA JANETH ","ENFERMERA","Licenciada en Enfermería","Licenciada en Enfermería",1,2,5000,null,null,0]
[null,"400 Salud La Libertad","RO","CAS","TRABAJADOR DE SERVICIOS",1300,"41504124","GUTIERREZ CASTILLO JOSE LUIS ",null,null,null,1,2,2600,null,null,0]
[null,"400 Salud La Libertad","RO","CAS","PSICÓLOGO",1650,"09676455","GUTIERREZ CHAVEZ ROGER JAVIER","PSICÓLOGO","Psicólogo","Licenciado en Psicología",1,3,4950,null,null,0]
[null,"400 Salud La Libertad","RO","CAS","AUXILIAR ADMINISTRATIVO",1300,"41339393","GUTIERREZ HOYOS EVELYN ",null,null,null,3,12,15600,2,6,7800]
[null,"400 Salud La Libertad","RO","CAS","TECNICO EN FISIOTERAPIA Y REHABILITACION",1300,18082650,"GUTIERREZ MATTA YVY AZUCENA ","TECNICO EN FISIOTERAPIA Y REHABILITACION",0,null,3,10,13000,null,null,0]
[null,"400 Salud La Libertad","RO","CAS","AUXILIAR ADMINISTRATIVO",1300,45784906,"GUZMAN AGUILAR RAY HERMAN ",null,null,null,3,12,15600,2,6,7800]
[null,"400 Salud La Libertad","RO","CAS","OBSTETRA",2500,"44858899","GUZMAN SUAREZ ROSA MIREYA ","OBSTETRA","Obstetra","Obstetra",1,6,15000,null,null,0]
[null,"400 Salud La Libertad","RO","CAS","TECNICO EN ENFERMERIA",1900,"71199867","HERRERA SILVA FREDDY MICHAEL ","TECNICO EN ENFERMERIA",null,null,3,12,22800,2,8,15200]
[null,"400 Salud La Libertad","RDR","CAS","ABOGADA",1650,"42868638","HUAMAN CACERES CARLA INGRID ","ABOGADA","Abogado","Abogado",1,4,6600,null,null,0]
[null,"400 Salud La Libertad","RO","CAS","PSICOLOGO",1900,"41458534","HUAMAN CUBAS HECTOR LEIBNIZ","PSICÓLOGO","Psicólogo","Licenciado en Psicología",5,11,20900,null,null,0]
[null,"400 Salud La Libertad","RDR-S","CAS","QUÍMICO FARMACÉUTICO",1650,"40695757","ILQUIMICHE SALVADOR FANY ELIZABETH ","QUÍMICO FARMACÉUTICO","Químico Farmacéutico","Químico Farmacéutico",3,12,19800,2,6,9900]
[null,"400 Salud La Libertad","RO","CAS","TECNICO EN ENFERMERIA",1500,"72091266","INGA LOPEZ DENIS GEINER ","TECNICO EN ENFERMERIA",0,null,3,12,18000,2,6,9000]
[null,"400 Salud La Libertad","RO","CAS","TECNICO EN ENFERMERIA",1500,25773581,"IPARRAGUIRRE FLORINDEZ MARIA EDILA ","TECNICO EN ENFERMERIA",0,null,1,5,7500,null,null,0]
[null,"400 Salud La Libertad","RO","CAS","TECNICO EN FARMACIA",1300,"45711919","IPARRAGUIRRE GIRON ALEJANDRO ROMAN ","TECNICO EN FARMACIA",null,null,7,11,14300,null,null,0]
[null,"400 Salud La Libertad","RO","CAS","OBSTETRA",2500,"40699854","JANAMPA VALLADARES HERMELINDA LOURDES ","OBSTETRA","Obstetra","Obstetra",3,12,30000,2,6,15000]
[null,"400 Salud La Libertad","RO","CAS","TRABAJADOR DE SERVICIOS",1300,"46957926","JARA LETURIA RONALD JAVIER ",null,null,null,3,12,15600,2,6,7800]
[null,"400 Salud La Libertad","RO","CAS","OBSTETRA",2500,"03882547","JULIAN YACILA ALEJANDRO DANIEL ","OBSTETRA","Obstetra","Obstetra",3,12,30000,2,6,15000]
[null,"400 Salud La Libertad","RDR-S","CAS","AUXILIAR EN ALMACEN",1300,"18155882","KREDERDT AVALOS WILLIAN BRIYYAM ",null,null,null,3,12,15600,2,6,7800]
[null,"400 Salud La Libertad","RO","CAS","TECNICO EN FARMACIA",1300,"47500687","LATOCHE CONTRERAS EYLI ","TECNICO EN FARMACIA",null,null,7,11,14300,null,null,0]
[null,"400 Salud La Libertad","RO","CAS","INGENIERO ESTADISTICO",1650,"41998500","LAYZA BENITES LUCIA MARIBEL ","INGENIERO ESTADISTICO","Ingeniero","Ingeniero Estadístico",3,12,19800,2,6,9900]
[null,"400 Salud La Libertad","RO","CAS","ABOGADA",1650,"43067355","LEDESMA CORTIJO MARIA LEONOR ","ABOGADA","Abogado","Abogado",3,12,19800,2,6,9900]
[null,"400 Salud La Libertad","RO","CAS","TÉCNICO ADMINISTRATIVO",1834,47514152,"LEON ARANA ESTHEFANY JHOSSELY",null,null,null,1,9,16506,null,null,0]
[null,"400 Salud La Libertad","RO","CAS","TRABAJADOR DE SERVICIOS",1300,"41639324","LETURIA CHIQUEZ WILLIAM ANTONIO ",null,null,null,3,12,15600,2,6,7800]
[null,"400 Salud La Libertad","RO","CAS","MÉDICO",5000,46808091,"LEZAMA HUARIPATA EVELYN GABRIELA","MÉDICO","Médico","Médico Cirujano",2,12,60000,1,5,25000]
[null,"400 Salud La Libertad","RO","CAS","ENFERMERA",1650,"43824337","LOBATON IPANAQUE LELIA MILAGROS ","ENFERMERA","Licenciada en Enfermería","Licenciada en Enfermería",6,12,19800,5,6,9900]
[null,"400 Salud La Libertad","RO","CAS","TÉCNICA EN ENFERMERIA",1500,72641437,"LOPEZ ARTEAGA HERCELIZ KELLY","TÉCNICA EN ENFERMERIA",0,null,2,12,18000,2,6,9000]
[null,"400 Salud La Libertad","RO","CAS","TRABAJADOR DE SERVICIOS",1500,"41900522","LOPEZ HERAS SANTOS FRANCISCO ",null,null,null,3,12,18000,2,6,9000]
[null,"401 Salud La Libertad","RO","CAS","TECNICO EN ENFERMERIA",1500,42369289,"LOPEZ MENDOZA SARA ISABEL","TECNICO EN ENFERMERIA",0,null,null,null,null,1,2,3000]
[null,"400 Salud La Libertad","RO","CAS","TÉCNICO EN COMPUTACIÓN",1300,"43883976","LOPEZ TORRES DERA YSABEL","TÉCNICO EN COMPUTACIÓN",0,null,6,8,{"$f":"M2962*F2962","v":10400},null,null,0]
[null,"400 Salud La Libertad","RO","CAS","TECNICO EN ENFERMERIA",1500,"40201813","LOZADA ECHEVERRIA ELVA SILVIA ","TECNICO EN ENFERMERIA",0,null,3,12,18000,2,6,9000]
[null,"400 Salud La Libertad","RO","CAS","DIGITADOR",1500,"71230060","LOZANO CARLOS DANE JAVIER ",null,null,null,3,12,18000,2,6,9000]
[null,"400 Salud La Libertad","RO","CAS","TECNICO EN ENFERMERIA",1500,"47534925","LUGO DELGADO MILY REYNA ","TECNICO EN ENFERMERIA",0,null,3,12,18000,2,6,9000]
[null,"400 Salud La Libertad","RO","CAS","CHOFER - AMBULANCIA",1300,"41697041","MAGUIÑA ACUÑA JHON ALEX ",null,null,null,3,12,15600,2,6,7800]
[null,"400 Salud La Libertad","RO","CAS","PSICOLOGO",1900,"41397878","MALABRIGO VELASQUEZ LYLA SOLEDAD ","PSICÓLOGO","Psicólogo","Licenciado en Psicología",3,12,22800,2,6,11400]
[null,"400 Salud La Libertad","RO","CAS","ENFERMERA",2700,70457883,"MANTILLA ALAYO RAYSSA XIMENA","ENFERMERA","Licenciada en Enfermería","Licenciada en Enfermería",2,12,32400,1,1,2700]
[null,"400 Salud La Libertad","RDR","CAS","TECNICO EN ENFERMERIA",1300,"18029947","MANTILLA VASQUEZ ROXANA MARIBEL ","TECNICO EN ENFERMERIA",0,null,3,12,15600,2,6,7800]
[null,"400 Salud La Libertad","RO","CAS","CHOFER - MOTO",1300,18074060,"MARINO BOCANEGRA JORGE ENRIQUE ",null,null,null,3,12,15600,2,6,7800]
[null,"400 Salud La Libertad","RO","CAS","BIÓLOGA",2689,44850529,"MARIÑOS MELÓN NILDA JACOBITA","BIÓLOGO","Biólogo","Biólogo",1,2,5378,null,null,0]
[null,"401 Salud La Libertad","RO","CAS","MEDICO CIRUJANO",5000,41434543,"MARTINEZ ALCALDE BERNARDO","MÉDICO","Médico","Medico Cirujano",null,null,null,1,2,10000]
[null,"400 Salud La Libertad","RO","CAS","OBSTETRA",2500,"42353906","MAZA VIERA MARIA CAROLINA ","OBSTETRA","Obstetra","Obstetra",3,12,{"$f":"M2973*F2973","v":30000},1,1,2500]
[null,"400 Salud La Libertad","RO","CAS","DIGITADOR",1500,"73529594","MEDINA LOPEZ ROBERTO RONALD",null,null,null,3,12,18000,2,6,9000]
[null,"400 Salud La Libertad","RO","CAS","ENFERMERA",1800,"43643810","MEDINA PLASENCIA JHANNISE FIORELLA ","ENFERMERA","Licenciada en Enfermería","Licenciada en Enfermería",7,11,19800,null,null,0]
[null,"400 Salud La Libertad","RO","CAS","TECNICO EN FISIOTERAPIA Y REHABILITACION",1300,"46624880","MEDINA RIVADENEIRA HILDA LISETH ","TECNICO EN FISIOTERAPIA Y REHABILITACION",0,null,6,11,14300,null,null,0]
[null,"400 Salud La Libertad","RO","CAS","TÉCNICO EN ENFERMERÍA",1500,"44589367","MEDINA ZAVALETA MIRLA BANESSA","TÉCNICO EN ENFERMERÍA",0,null,3,12,18000,2,6,9000]
[null,"400 Salud La Libertad","RO","CAS","ODONTOLOGA",2500,45901344,"MEJÍA SÁNCHEZ GISSEL VERÓNICA","ODONTOLOGO",null,"Cirujano Dentista",2,12,30000,1,2,5000]
[null,"400 Salud La Libertad","RO","CAS","BIÓLOGO",2500,"41780400","MEJIA TRINIDAD VICTOR RAUL  ","BIÓLOGO","Biólogo","Biólogo",3,12,30000,2,6,15000]
[null,"400 Salud La Libertad","RO","CAS","PSICÓLOGO",1800,43915935,"MELENDEZ BUSTAMANTE ERICK JOEL","PSICÓLOGO","Psicólogo","Licenciado en Psicología",3,9,16200,null,null,0]
[null,"400 Salud La Libertad","RO","CAS","TECNICO EN LABORATORIO",1300,"43659750","MENDOCILLA PINEDA LAURA ","TECNICO EN LABORATORIO",0,null,3,12,15600,2,6,7800]
[null,"400 Salud La Libertad","RO","CAS","ENFERMERA",1800,"41381478","MENDOCILLA PINEDA SARA ","ENFERMERA","Licenciada en Enfermería","Licenciada en Enfermería",5,8,14400,5,6,10800]
[null,"400 Salud La Libertad","RO","CAS","TECNICO EN COMPUTACIÓN",1500,"42045732","MENDOZA CAMACHO IRMA JULIA ","TECNICO EN COMPUTACIÓN",0,null,6,12,18000,5,6,{"$f":"P2983*F2983","v":9000}]
[null,"400 Salud La Libertad","RDR","CAS","ENFERMERA",1650,"70618942","MENDOZA LAIZA RUT ELIZABETH","ENFERMERA","Licenciada en Enfermería","Licenciada en Enfermería",3,12,19800,2,6,9900]
[null,"400 Salud La Libertad","RO","CAS","ENFERMERA",1800,"45740002","MENDOZA RUIZ CRISTINA YSABEL ","ENFERMERA","Licenciada en Enfermería","Licenciada en Enfermería",6,8,14400,5,6,10800]
[null,"400 Salud La Libertad","RO","CAS","ENFERMERA",3000,"42228769","MENDOZA TANTA REYDA ","ENFERMERA","Licenciada en Enfermería","Licenciada en Enfermería",6,12,36000,5,6,18000]
[null,"400 Salud La Libertad","RO","CAS","OBSTETRA",2700,46991599,"MERCEDES CANO MARITZA YANET","OBSTETRA","Obstetra","Obstetra",2,12,32400,1,1,2700]
[null,"400 Salud La Libertad","RO","CAS","PSICOLOGO",1800,40844998,"MERINO MEDINA CECILIA LUCIA ","PSICÓLOGO","Psicólogo","Licenciado en Psicología",6,9,16200,null,null,0]
[null,"400 Salud La Libertad","RO","CAS","PSICOLOGO",1900,"41845355","MESTAS VEGA FRANCK JHONATAN ","PSICÓLOGO","Psicólogo","Licenciado en Psicología",2,7,13300,null,null,0]
[null,"400 Salud La Libertad","RO","CAS","TECNICO EN ENFERMERIA",1500,"42006935","MEZA MENDIETA GROILANDA ELIZABETH ","TECNICO EN ENFERMERIA",0,null,2,8,12000,null,null,0]
[null,"400 Salud La Libertad","RO","CAS","SECRETARIA",1300,"42088881","MIRANDA BENITES LILIANA JACKELINE ","SECRETARIA",null,null,2,12,15600,1,6,7800]
[null,"400 Salud La Libertad","RO","CAS","TÉCNICO EN ENFERMERÍA",1834,42562652,"MOLINA RAMIREZ DE ALCANTARA OLENKA DOLORES","TECNICO EN ENFERMERIA",0,null,1,8,14672,null,null,0]
[null,"400 Salud La Libertad","RO","CAS","CHOFER",1500,"47342072","MONTERO BARRENA HULIMER ",null,null,null,3,12,18000,2,6,9000]
[null,"400 Salud La Libertad","RO","CAS","PSICOLOGO",1800,"42910089","MORALES ALAYO CARLOS JHONATAN ","PSICÓLOGO","Psicólogo","Licenciado en Psicología",5,7,12600,null,null,0]
[null,"400 Salud La Libertad","RO","CAS","ENFERMERA",2500,43932707,"MORALES ARTEAGA LILIAN IRLANDIA","ENFERMERA","Licenciada en Enfermería","Licenciada en Enfermería",1,2,5000,null,null,0]
[null,"400 Salud La Libertad","RO","CAS","OBSTETRA",2500,"46181172","MORALES JUAREZ CARMEN FLOR","OBSTETRA","Obstetra","Obstetra",3,12,30000,2,6,15000]
[null,"400 Salud La Libertad","RO","CAS","NUTRICIONISTA",2689,40821384,"MORENO CARRANZA JUDITH LORENA","NUTRICIONISTA","Nutricionista","Licenciado en Nutrición",1,2,5378,null,null,0]
[null,"400 Salud La Libertad","RO","CAS","OBSTETRA",2500,"42957099","MORILLO GENOVEZ TANIA YANET ","OBSTETRA","Obstetra","Obstetra",3,12,30000,2,6,15000]
[null,"400 Salud La Libertad","RO","CAS","ENFERMERA",2700,"46679008","MORILLO GIL ESTHER ANELLY ","ENFERMERA","Licenciada en Enfermería","Licenciada en Enfermería",2,8,21600,null,null,0]
[null,"400 Salud La Libertad","RO","CAS","ENFERMERA",2700,"46679008","MORILLO GIL ESTHER ANELLY  ","ENFERMERA","Licenciada en Enfermería","Licenciada en Enfermería",1,2,5400,null,null,0]
[null,"400 Salud La Libertad","RO","CAS","PSICÓLOGA",1800,45930212,"MOYA MANTILLA VIGNI MAGALY","PSICÓLOGO","Psicólogo","Licenciado en Psicología",2,9,16200,null,null,0]
[null,"400 Salud La Libertad","RO","CAS","PSIQUIATRA",8000,"41825436","MUÑOZ ARTEAGA DE QUEZADA ELIZABETH CAROLINA ","PSIQUIATRA","Médico","Médico Psiquiatra",5,7,56000,null,null,0]
[null,"400 Salud La Libertad","RO","CAS","ABOGADA",2500,"80336570","MUÑOZ CENTURION LAURA FANNY ","ABOGADA","Abogado","Abogado",2,8,20000,null,null,0]
[null,"400 Salud La Libertad","RO","CAS","PSICÓLOGO",1800,"45816585","MUÑOZ ESCOBEDO DEYSI PAMELA","PSICÓLOGO","Psicólogo","Licenciado en Psicología",7,11,19800,null,null,0]
[null,"400 Salud La Libertad","RO","CAS","MÉDICO",5000,46141616,"MUÑOZ TORRES IVONNE KATHERINE","MÉDICO","Médico","Médico Cirujano",3,12,60000,2,6,30000]
[null,"400 Salud La Libertad","RO","CAS","PSICOLOGO",1800,"43305673","MURILLO MANTILLA DAVID FERNANDO ","PSICÓLOGO","Psicólogo","Licenciado en Psicología",4,11,19800,null,null,0]
[null,"400 Salud La Libertad","RO","CAS","TECNICO EN FISIOTERAPIA Y REHABILITACION",1300,"46902304","NARRO QUEYPO FLOR MERLY ","TECNICO EN FISIOTERAPIA Y REHABILITACION",0,null,7,11,14300,null,null,0]
[null,"400 Salud La Libertad","RO","CAS","CHOFER - AMBULANCIA",1300,"18903236","NARVAEZ LOZANO WALTER SAUL ",null,null,null,3,12,15600,2,6,7800]
[null,"400 Salud La Libertad","RO","CAS","OBSTETRA",1150,"18861583","NARVAEZ URBINA GILDA DEL PILAR ","OBSTETRA","Obstetra","Obstetra",3,12,13800,null,null,0]
[null,"400 Salud La Libertad","RDR","CAS","AUXILIAR ADMINISTRATIVO",1300,"18084641","NAVARRO SEMPERTIGUE ANAYANSI ",null,null,null,3,12,15600,2,6,7800]
[null,"400 Salud La Libertad","RO","CAS","OBSTETRA",2700,47535053,"NEIRA GUERRERO, ELEYDA YANET","OBSTETRA","Obstetra","Obstetra",1,11,29700,null,null,0]
[null,"400 Salud La Libertad","RO","CAS","TECNICO EN FARMACIA",1300,"19092446","NEYRA MOZO ANITA ","TECNICO EN FARMACIA",null,null,7,12,15600,6,6,7800]
[null,"400 Salud La Libertad","RDR","CAS","SECRETARIA",1300,"18124081","NEYRA TRINIDAD JUANA ELIZABETH ","SECRETARIA",null,null,3,12,15600,2,6,7800]
[null,"400 Salud La Libertad","RO","CAS","CHOFER",1500,"26954262","NIQUIN ALVARADO ANGEL JESUS ",null,null,null,3,12,18000,2,6,9000]
[null,"400 Salud La Libertad","RO","CAS","ENFERMERO",2500,"47490223","NOLAZCO BAZAN ERICK JUNIOR","ENFERMERO","Licenciada en Enfermería","Licenciado en Enfermería",3,12,30000,2,6,15000]
[null,"400 Salud La Libertad","RDR","CAS","ESPECIALISTA ADMINISTRATIVO",1800,"40503734","NOVOA VEGA MARLENE ","CONTADOR","Contador","Contador Público Colegiado",6,12,21600,5,6,10800]
[null,"400 Salud La Libertad","RO","CAS","AUXILIAR ADMINISTRATIVO",1300,40613878,"NUÑEZ CUEVA LILIAN DEL ROSARIO ",null,null,null,3,12,15600,2,6,7800]
[null,"400 Salud La Libertad","RDR","CAS","AUXILIAR EN ALMACEN",1300,"18148096","NUÑEZ SANCHEZ JOSE ",null,null,null,3,12,15600,2,6,7800]
[null,"400 Salud La Libertad","RO","CAS","OPERADOR DE RADIO",1300,43100552,"OBESO CHAVEZ DAVID JOSEPH ",null,null,null,3,12,15600,2,6,7800]
[null,"400 Salud La Libertad","RO","CAS","TECNICO EN ENFERMERIA",1500,"47446055","OLORTIGA MALDONADO MARINA ELVA ","TECNICO EN ENFERMERIA",0,null,3,12,18000,2,6,9000]
[null,"400 Salud La Libertad","RO","CAS","TECNICO EN FISIOTERAPIA Y REHABILITACION",1300,"45503811","ORDINOLA  OTERO JULIO CESAR ","TECNICO EN FISIOTERAPIA Y REHABILITACION",0,null,6,9,11700,null,null,0]
[null,"400 Salud La Libertad","RO","CAS","CHOFER ",1300,"43054154","ORELLANO ESPINOLA ALEXANDER NOE ",null,null,null,3,12,15600,2,6,7800]
[null,"400 Salud La Libertad","RO","CAS","TECNICO EN ENFERMERIA",1500,"46905455","OTINIANO ARMAS VALENTIN CIRILO ","TECNICO EN ENFERMERIA",0,null,3,12,18000,2,6,9000]
[null,"400 Salud La Libertad","RO","CAS","PSICOLOGO",1800,"42743386","OTOYA MENDOZA EDILFONSA SOLEDAD ","PSICÓLOGO","Psicólogo","Licenciado en Psicología",6,12,21600,6,6,10800]
[null,"400 Salud La Libertad","RO","CAS","PSICOLOGO",1800,"41252751","PACHECO CERNA TOMACITA YSABEL ","PSICÓLOGO","Psicólogo","Licenciado en Psicología",6,8,14400,null,null,0]
[null,"400 Salud La Libertad","RO","CAS","CHOFER",1500,"19411009","PALACIOS LOPEZ CELSO VICTOR ",null,null,null,3,12,18000,2,6,9000]
[null,"400 Salud La Libertad","RO","CAS","TÉCNICO ADMINISTRATIVO",1300,18229980,"PALOMINO BARRETO MARGOT SOLEDAD ","TÉCNICO ADMINISTRATIVO",0,null,1,2,2600,null,null,0]
[null,"400 Salud La Libertad","RDR","CAS","ABOGADA",2000,45007365,"PAREDES DÍAZ ANA MARÍA","ABOGADA","Abogado",null,2,12,24000,1,2,4000]
[null,"400 Salud La Libertad","RO","CAS","PSICOLOGO",1800,"46004746","PAREDES ESTACIO MILAGROS ANTONIA ","PSICÓLOGO","Psicólogo","Licenciado en Psicología",7,11,19800,null,null,0]
[null,"400 Salud La Libertad","RO","CAS","ENFERMERA",1650,43483753,"PAREDES JARA ANA LUCILA ","ENFERMERA","Licenciada en Enfermería","Licenciada en Enfermería",3,12,19800,2,6,9900]
[null,"400 Salud La Libertad","RO","CAS","ENFERMERA",2500,"45049637","PAREDES LIZANA KARINA MAGALI","ENFERMERA","Licenciada en Enfermería","Licenciada en Enfermería",2,7,17500,null,null,0]
[null,"400 Salud La Libertad","RO","CAS","ENFERMERA",1800,"45844706","PARRAMO GUERRERO GENISES LIZETH ","ENFERMERA","Licenciada en Enfermería","Licenciada en Enfermería",1,1,1800,null,null,0]
[null,"400 Salud La Libertad","RO","CAS","TÉCNICO EN ENFERMERÍA",1500,"44337987","PECHE CULQUE VIKY MILAGROS","TÉCNICO EN ENFERMERÍA",0,null,3,12,18000,2,6,9000]
[null,"400 Salud La Libertad","RO","CAS","TECNICO EN ENFERMERIA",1900,"43573355","PECHE FLORINDEZ JOSE SOLANO ","TECNICO EN ENFERMERIA",0,null,3,12,22800,2,6,11400]
[null,"400 Salud La Libertad","RO","CAS","TECNICO EN ENFERMERIA",1500,"18982063","PECHE VERGARAY MARISOL ","TECNICO EN ENFERMERIA",0,null,3,12,18000,2,6,9000]
[null,"400 Salud La Libertad","RO","CAS","PSICÓLOGO",1650,"41639551","PEÑA QUINTANILLA JOSE ANTONIO ","PSICÓLOGO","Psicólogo","Licenciado en Psicología",2,7,11550,null,null,0]
[null,"400 Salud La Libertad","RO","CAS","ESTADISTICO",1650,"18161683","PEREDA GUANILO VICTOR IVAN ","ESTADISTICO","Ingeniero","Ingeniero Estadístico",3,12,{"$f":"M3037*F3037","v":19800},2,6,9900]
[null,"400 Salud La Libertad","RO","CAS","DESPACHADORA",1650,"45088994","PEREDA VASQUEZ NORKA FIORELLA ",null,null,null,3,12,19800,2,6,9900]
[null,"400 Salud La Libertad","RO","CAS","PSICÓLOGO",1650,"45487983","PICHON AGUILAR DIANA BRISEIDA","PSICÓLOGO","Psicólogo","Licenciado en Psicología",6,11,18150,null,null,0]
[null,"400 Salud La Libertad","RO","CAS","PSICÓLOGO",1650,"44327535","PINEDA ABAD SORAYA STEPHANIE","PSICÓLOGO","Psicólogo","Licenciado en Psicología",6,12,19800,2,4,6600]
[null,"400 Salud La Libertad","RO","CAS","ENFERMERA",1650,"43600034","PINILLOS CASTILLO FIORELLA GERALDINE ","ENFERMERA","Licenciada en Enfermería","Licenciada en Enfermería",3,12,19800,2,6,9900]
[null,"400 Salud La Libertad","RO","CAS","TÉCNICO EN TELECOMUNICACIONES",1300,46733719,"PINO FLORES KATERIN AMALIA",null,null,null,1,2,2600,null,null,0]
[null,"400 Salud La Libertad","RO","CAS","TECNICO EN ENFERMERIA",1500,"71239353","PINO MORENO ZAIL BILLY ","TECNICO EN ENFERMERIA",0,null,3,12,18000,2,6,9000]
[null,"400 Salud La Libertad","RO","CAS","CHOFER - AMBULANCIA",1500,"18898378","PLASENCIA MARIÑOS CESAR MEDARDO ",null,null,null,3,12,18000,2,6,9000]
[null,"400 Salud La Libertad","RO","CAS","ENFERMERA",1800,"17822026","POMA GALVEZ YLIANA DEL ROCIO ","ENFERMERA","Licenciada en Enfermería","Licenciada en Enfermería",7,11,19800,null,null,0]
[null,"400 Salud La Libertad","RO","CAS","CHOFER",1300,"40181630","PONCE AGUILAR LUIS ALBERTO ",null,null,null,3,12,15600,2,6,7800]
[null,"400 Salud La Libertad","RO","CAS","TRABAJADORA DE SERVICIOS",1200,"18086621","PORTAL SANCHEZ  MARDELI ROCIO DEL PILAR ",null,null,null,7,11,13200,null,null,{"$f":"P3047*F3047","v":0}]
[null,"400 Salud La Libertad","RO","CAS","PSICOLOGA",1800,"40568318","PORTILLA MONTOYA YSELA SOLEDAD ","PSICÓLOGO","Psicólogo","Licenciado en Psicología",7,11,19800,null,null,0]
[null,"400 Salud La Libertad","RO","CAS","CHOFER",1500,"80605414","PRIETO CHÁVEZ JOHN WILLIAMS ",null,null,null,3,12,18000,2,6,9000]
[null,"400 Salud La Libertad","RO","CAS","TECNICO EN COMPUTACIÓN",1300,"18165895","PULIDO TORRES ISELA DAYANA ","TECNICO EN COMPUTACIÓN",0,null,1,1,1300,null,null,0]
[null,"400 Salud La Libertad","RO","CAS","OBSTETRA",2500,"47544223","QUEREVALU REFORME FIORELLA YADIRA","OBSTETRA","Obstetra","Obstetra",3,12,30000,2,6,15000]
[null,"400 Salud La Libertad","RO","CAS","TECNICO EN ENFERMERIA",1500,"44176212","QUIJANO REYES JUAN ","TECNICO EN ENFERMERIA",0,null,3,12,18000,2,6,9000]
[null,"400 Salud La Libertad","RO","CAS","PSICOLOGO",1800,"45894045","QUIPUZCOA ALAYO FRANCISCO PAUL ","PSICÓLOGO","Psicólogo","Licenciado en Psicología",7,12,21600,6,6,10800]
[null,"400 Salud La Libertad","RO","CAS","MEDICO CIRUJANO",5000,"43419806","RAMIREZ OBESO CARLOS RAUL","MÉDICO","Médico","Médico Cirujano",2,6,30000]
[null,"400 Salud La Libertad","RDR","CAS","ABOGADO",1650,"18161763","RAMOS CORDOVA MADELINA ADELAIDA ","ABOGADO","Abogado","Abogado",3,12,19800,2,6,{"$f":"P3055*F3055","v":9900}]
[null,"400 Salud La Libertad","RO","CAS","ENFERMERA",2500,"02893458","RAMOS OROZCO DEYSSI CRUZ","ENFERMERA","Licenciada en Enfermería","Licenciada en Enfermería",3,12,30000,2,6,15000]
[null,"400 Salud La Libertad","RDR","CAS","AUXILIAR ADMINISTRATIVO",1300,"42748650","RAMOS PAREDES ADOLFO SALOMON ",null,null,null,3,12,15600,2,6,7800]
[null,"400 Salud La Libertad","RO","CAS","TECNICO EN ENFERMERIA",1200,"18213175","RAMOS TOCAS MARTHA ","TECNICO EN ENFERMERIA",0,null,7,11,13200,null,null,0]
[null,"400 Salud La Libertad","RO","CAS","MEDICO CIRUJANO",5000,"44552313","REBAZA AZAÑERO ALEJANDRO SERVAT","MÉDICO","Médico","Médico Cirujano",2,7,35000,null,null,0]
[null,"400 Salud La Libertad","RO","CAS","ENFERMERA",1800,"45119575","REBAZA GAMARRA ANALY LICETH ","ENFERMERA","Licenciada en Enfermería","Licenciada en Enfermería",6,8,14400,null,null,0]
[null,"400 Salud La Libertad","RO","CAS","TRABAJADOR DE SERVICIOS",1000,"18982062","RENGIFO CHIGUALA JOSE JESUS ",null,null,null,3,12,12000,2,6,6000]
[null,"400 Salud La Libertad","RO","CAS","AUXILIAR INFORMATICO",1300,"18106890","RENQUIFO SILVA CARLOS ANTONIO ","AUXILIAR INFORMATICO",null,null,3,12,15600,2,6,7800]
[null,"400 Salud La Libertad","RO","CAS","ENFERMERA",1800,45646237,"REYES VALENCIA SHEYLA MARISELLA","ENFERMERA","Licenciada en Enfermería","Licenciada en Enfermería",3,11,19800,null,null,0]
[null,"400 Salud La Libertad","RO","CAS","CHOFER",1300,"46142279","RIVAS CASTAÑEDA DIEGO ALONSO GABRIEL ",null,null,null,3,12,15600,2,6,7800]
[null,"400 Salud La Libertad","RDR","CAS","TECNICO EN COMPUTACIÓN E INFORMÁTICA",850,"42336026","RODRIGUEZ BUITRON PAUL IVAN ","TECNICO EN COMPUTACIÓN E INFORMÁTICA",0,null,3,12,10200,2,6,5100]
[null,"400 Salud La Libertad","RO","CAS","TECNICO EN FISIOTERAPIA Y REHABILITACION",1300,"47337102","RODRIGUEZ CAMACHO TANIA AMARILIS ","TECNICO EN FISIOTERAPIA Y REHABILITACION",0,null,7,11,14300,null,null,0]
[null,"400 Salud La Libertad","RO","CAS","TÉCNICO EN ENFERMERÍA",1500,"43310524","RODRIGUEZ CASTRO AURELICIA AVISAC","TÉCNICO EN ENFERMERÍA",null,null,3,12,18000,2,6,9000]
[null,"400 Salud La Libertad","RO","CAS","MÉDICO CIRUJANO",2800,"40315903","RODRIGUEZ FLORES MIGUEL ANGEL ","MÉDICO","Médico","Médico Cirujano",3,12,33600,2,6,16800]
[null,"400 Salud La Libertad","RO","CAS","MÉDICO CIRUJANO",2800,"41379836","RODRIGUEZ FLORIAN MANUEL GUILLERMO ","MÉDICO","Médico","Médico Cirujano",3,12,33600,2,6,16800]
[null,"400 Salud La Libertad","RO","CAS","MÉDICO CIRUJANO",2800,"45074677","RODRIGUEZ LORA HOPE MARINO ","MÉDICO","Médico","Médico Cirujano",3,12,33600,2,3,8400]
[null,"400 Salud La Libertad","RO","CAS","OBSTETRA",2500,"41234911","RODRIGUEZ MURRUGARRA MANUELITA DEL ROSARIO ","OBSTETRA","Obstetra","Obstetra",3,12,30000,2,6,15000]
[null,"400 Salud La Libertad","RDR-S","CAS","QUÍMICO FARMACÉUTICO",1000,"17882599","RODRIGUEZ PIÑA MARIA SUSANA ","QUÍMICO FARMACÉUTICO","Químico Farmacéutico","Químico Farmacéutico",3,12,12000,2,6,6000]
[null,"400 Salud La Libertad","RO","CAS","OBSTETRA",2500,"44089362","RODRIGUEZ TAMAYO ALEYDA YULIZA","OBSTETRA","Obstetra","Obstetra",3,12,30000,2,6,15000]
[null,"400 Salud La Libertad","RO","CAS","ENFERMERA",2500,"46739620","ROJAS CABRERA FIORELLA JEANETT ","ENFERMERA","Licenciada en Enfermería","Licenciada en Enfermería",2,8,20000,null,null,0]
[null,"400 Salud La Libertad","RO","CAS","PILOTO DE AMBULANCIA",1500,43001865,"ROJAS MUÑOZ JOEL",null,null,null,1,2,3000,null,null,0]
[null,"400 Salud La Libertad","RO","CAS","INGENIERO INDUSTRIAL",1650,40479920,"ROJAS VEJARANO KAREN NOELIA ","INGENIERO INDUSTRIAL","Ingeniero","Ingeniero Industrial",3,12,19800,2,6,9900]
[null,"400 Salud La Libertad","RO","CAS","OBSTETRA",2500,"42608461","ROMERO DE LA CRUZ JACKELINE JESUS","OBSTETRA","Obstetra","Obstetra",6,12,30000,5,6,15000]
[null,"400 Salud La Libertad","RDR","CAS","PILOTO DE AMBULANCIA",1500,41218828,"ROMERO RODRIGUEZ CRISTHIAN DAVID",null,null,null,1,2,3000,null,null,0]
[null,"400 Salud La Libertad","RO","CAS","SECRETARIA EJECUTIVA",1300,"45471872","ROMERO RODRIGUEZ HEFITA JUANA ","SECRETARIA EJECUTIVA",0,null,3,12,15600,2,6,7800]
[null,"400 Salud La Libertad","RO","CAS","ODONTOLOGO",2700,"45277763","ROQUE REYES ROSVIL ","ODONTOLOGO",null,"Cirujano Dentista",3,12,32400,2,6,16200]
[null,"400 Salud La Libertad","RO","CAS","ENFERMERO ",2500,"43351869","ROSALES INFANTES ROBERTO ANTONIO ","ENFERMERO ","Licenciada en Enfermería","Licenciado en Enfermería",3,12,30000,2,6,15000]
[null,"400 Salud La Libertad","RO","CAS","ENFERMERA",1650,46636565,"ROSALES MARREROS MILAGROS YANETH ","ENFERMERA","Licenciada en Enfermería","Licenciada en Enfermería",3,12,19800,2,6,9900]
[null,"400 Salud La Libertad","RO","CAS","CHOFER",1500,"44302966","ROSALES VALDIVIEZO MARTIN DOMINGO ",null,null,null,3,12,18000,2,6,9000]
[null,"400 Salud La Libertad","RO","CAS","MÉDICO CIRUJANO",4500,"70826280","ROSAS PONCE LUCIA LILETTE ","MÉDICO","Médico","Médico Cirujano",3,12,54000,2,6,27000]
[null,"400 Salud La Libertad","RO","CAS","DESPACHADORA",1650,"42910139","ROSILLO AZABACHE CECILIA DEL PILAR ",null,null,null,3,12,19800,2,6,9900]
[null,"400 Salud La Libertad","RO","CAS","ENFERMERA",2689,45957745,"RUBIO NARRO LINDA JHOANA","ENFERMERA","Licenciada en Enfermería","Licenciada en Enfermería",2,12,32268,1,2,5378]
[null,"400 Salud La Libertad","RO","CAS","ENFERMERA",2500,"47454332","RUBIO ZAVALETA ANGGIE","ENFERMERA","Licenciada en Enfermería","Licenciada en Enfermería",3,12,30000,2,6,15000]
[null,"400 Salud La Libertad","RO","CAS","ENFERMERA",2500,"42534645","RUIZ ALONZO ANA JUDITH ","ENFERMERA","Licenciada en Enfermería","Licenciada en Enfermería",2,7,17500,null,null,0]
[null,"400 Salud La Libertad","RO","CAS","TECNICO EN FISIOTERAPIA Y REHABILITACIÓN",1300,"47374837","RUIZ CABRERA JESENIA NOEMI","TECNICO EN FISIOTERAPIA Y REHABILITACIÓN",0,null,7,11,14300,null,null,0]
[null,"400 Salud La Libertad","RO","CAS","SECRETARIA",1300,"70376583","RUIZ CHAVEZ DANILLY KELIN ","SECRETARIA",null,null,3,12,15600,2,6,7800]
[null,"400 Salud La Libertad","RO","CAS","INGENIERO DE SISTEMAS",1650,"41774902","SAAVEDRA PRESCOTT JOSE RICARDO","INGENIERO DE SISTEMAS","Ingeniero","Ingeniero de Sistemas",3,12,19800,2,6,9900]
[null,"400 Salud La Libertad","RO","CAS","ENFERMERA",1650,"46297203","SALAZAR QUISPE ROCIO CATHERINE ","ENFERMERA","Licenciada en Enfermería","Licenciada en Enfermería",3,12,19800,2,6,9900]
[null,"400 Salud La Libertad","RDR","CAS","ABOGADA",2000,"45444981","SALDAÑA LEIVA MARIANELLA JEANETTE GUADALUPE ","ABOGADA","Abogado","Abogado",3,12,24000,2,6,12000]
[null,"400 Salud La Libertad","RO","CAS","TECNICO EN ENFERMERIA",1500,44396085,"SALINAS FLORES MILAGROS ","TECNICO EN ENFERMERIA",0,null,3,12,18000,2,6,9000]
[null,"400 Salud La Libertad","RO","CAS","ENFERMERA",2500,45175359,"SALIRROSAS SALAZAR MATILDE","ENFERMERA","Licenciada en Enfermería","Licenciada en Enfermería",3,12,30000,2,6,15000]
[null,"400 Salud La Libertad","RO","CAS","SECRETARIA EJECUTIVA",1300,"40396789","SALVADOR ARANA DE FUCHIKAMI MELISSA JACKELINE ","SECRETARIA EJECUTIVA",0,null,3,12,15600,2,6,7800]
[null,"400 Salud La Libertad","RO","CAS","CONTADOR",1650,42436336,"SALVATIERRA CONTRERAS GERSON LELIS ","CONTADOR","Contador","Contador Público Colegiado",1,4,6600,null,null,0]
[null,"400 Salud La Libertad","RO","CAS","ENFERMERA",2500,"46205175","SANCHEZ BALLENA JANNY JESSICA","ENFERMERA","Licenciada en Enfermería","Licenciada en Enfermería",3,12,30000,2,6,15000]
[null,"400 Salud La Libertad","RO","CAS","ENFERMERA",1800,"44736847","SANCHEZ BUSTAMANTE CARMEN RITA ","ENFERMERA","Licenciada en Enfermería","Licenciada en Enfermería",7,11,19800,null,null,0]
[null,"400 Salud La Libertad","RDR-S","CAS","AUXILIAR EN ALMACEN",1300,"18199508","SANCHEZ JAUREGUI JAVIER ANTONIO ",null,null,null,3,12,15600,2,6,7800]
[null,"400 Salud La Libertad","RO","CAS","OBSTETRA",2500,"45540530","SANCHEZ NAVARRO KARLA NATHALI","OBSTETRA","Obstetra","Obstetra",1,2,{"$f":"M3101*F3101","v":5000},null,null,0]
[null,"400 Salud La Libertad","RO","CAS","PSIQUIATRA",8000,"40464447","SANCHEZ RIVERA HUGO MARTIN ","PSIQUIATRA","Médico","Médico Psiquiatra",7,11,88000,null,null,0]
[null,"400 Salud La Libertad","RO","CAS","BIÓLOGO MICROBIÓLOGO",1650,"45031616","SANDOVAL MOYA DIANA ELVIRA","BIÓLOGO MICROBIÓLOGO","Biólogo","Biólogo Microbiólogo",3,12,19800,2,6,9900]
[null,"400 Salud La Libertad","RO","CAS","ENFERMERA",3000,"42396720","SANDOVAL TANDAYPAN LUCI ","ENFERMERA","Licenciada en Enfermería","Licenciada en Enfermería",3,12,36000,2,6,18000]
[null,"400 Salud La Libertad","RO","CAS","TÉCNICO EN ENFERMERÍA",1500,46355795,"SANTIAGO MEZA NELIDA ALICIA ","TÉCNICO EN ENFERMERÍA",null,null,3,12,18000,2,6,9000]
[null,"400 Salud La Libertad","RO","CAS","PSICÓLOGO",1650,"44098219","SARAVIA ANGULO BLANCA JULISSA","PSICÓLOGO","Psicólogo","Licenciado en Psicología",1,1,1650,1,1,1650]
[null,"400 Salud La Libertad","RO","CAS","TECNICO EN ENFERMERIA",1200,"40140662","SEBASTIAN REYES NIDIA ELESTINA ","TECNICO EN ENFERMERIA",0,null,7,11,13200,6,6,7200]
[null,"400 Salud La Libertad","RO","CAS","PSIQUIATRA",8000,"40820497","SERRANO GARCIA MARCO ORLANDO ","PSIQUIATRA","Médico","Médico Psiquiatra",7,11,88000,6,6,48000]
[null,"400 Salud La Libertad","RO","CAS","TECNICO EN FARMACIA",1500,"47269913","SEVILLANO FRANCO NERY MARISOL ","TECNICO EN FARMACIA",null,null,3,12,18000,2,6,9000]
[null,"400 Salud La Libertad","RO","CAS","TRABAJADORA DE SERVICIOS",1000,"45827713","SEVILLANO SALDAÑA ELVA MILY ",null,null,null,3,12,12000,2,6,6000]
[null,"400 Salud La Libertad","RO","CAS","TECNICO EN CONTABILIDAD",1500,"43479065","SICCHA BRICEÑO RONAL CONFESOR ","TECNICO EN CONTABILIDAD",0,null,3,12,18000,null,null,0]
[null,"400 Salud La Libertad","RO","CAS","ASISTENTE ADMINISTRATIVO",1300,"18117097","SIFUENTES NICACIO LUZ HAYDE ",null,"Bachiller en Contabilidad",0,3,12,15600,2,6,7800]
[null,"400 Salud La Libertad","RO","CAS","TRABAJADORA SOCIAL",1800,"44639569","SILVA ARANA PATRICIA DEL CARMEN ","TRABAJADORA SOCIAL","Licenciada en Trabajo Social","Licenciada en Trabajo Social",7,11,19800,null,null,0]
[null,"400 Salud La Libertad","RDR","CAS","SECRETARIA",1300,"42934820","SIMON BARRETO YULY VILMA ","SECRETARIA",null,null,3,12,15600,2,6,7800]
[null,"400 Salud La Libertad","RDR","CAS","ENFERMERA",1650,"46812000","SOLANO VILLANUEVA IRIS GIOVANNA ","ENFERMERA","Licenciada en Enfermería","Licenciada en Enfermería",3,12,19800,2,6,9900]
[null,"400 Salud La Libertad","RO","CAS","CIRUJANO DENTISTA",2700,"03883324","SULLON MOLINA MIRCKO ","CIRUJANO DENTISTA","Odontólogo","Cirujano Dentista",3,12,32400,2,6,16200]
[null,"400 Salud La Libertad","RO","CAS","ESPECIALISTA EN PROYECTOS DE INVERSIÓN",2000,"45835042","TEJADA CACERES MARIELA DEL PILAR","ADMINISTRADOR","Administración","Licenciado en Administración",3,12,24000,2,6,12000]
[null,"400 Salud La Libertad","RO","CAS","TRABAJADORA SOCIAL",1800,"17861596","TELLO JIMENEZ NANCY DEL PILAR ","TRABAJADORA SOCIAL","Licenciada en Trabajo Social","Licenciada en Trabajo Social",7,12,21600,6,6,10800]
[null,"400 Salud La Libertad","RO","CAS","TÉCNICO EN LABORATORIO",2097,42687652,"TERAN ROJAS YONY ALEXANDER","TECNICO EN LABORATORIO",0,null,1,2,4194,null,null,{"$f":"P3119*F3119","v":0}]
[null,"400 Salud La Libertad","RO","CAS","ENFERMERA",1650,"42947016","TERAN VELASQUEZ ROSA JOHARY ","ENFERMERA","Licenciada en Enfermería","Licenciada en Enfermería",3,12,19800,2,6,9900]
[null,"400 Salud La Libertad","RO","CAS","PSICÓLOGA",2500,45798607,"TIRADO VEGA ELSA MELISSA","PSICÓLOGO","Psicólogo","Licenciado en Psicología",2,12,30000,2,6,15000]
[null,"400 Salud La Libertad","RO","CAS","PSICOLOGO",2500,"44096986","TREJO MAURICIO LUIS CARLOS ","PSICOLOGO","Psicólogo","Licenciado en Psicología",1,4,10000,null,null,0]
[null,"400 Salud La Libertad","RO","CAS","TRABAJADOR DE SERVICIOS",1000,"18983415","ULLILEN CASTAÑEDA MELECIO ",null,null,null,3,12,12000,2,6,6000]
[null,"400 Salud La Libertad","RO","CAS","CHOFER",1500,"44330178","ULLOA SILVA HERNAN  ",null,null,null,3,12,18000,2,6,9000]
[null,"400 Salud La Libertad","RO","CAS","ENFERMERA",1650,"45471325","URQUIZO CESPEDES MARIA JUANA ","ENFERMERA","Licenciada en Enfermería","Licenciada en Enfermería",1,5,8250,null,null,0]
[null,"400 Salud La Libertad","RO","CAS","DESPACHADOR",1650,"80208766","VALENCIA AVILA GERMAN VIDAL ",null,null,null,3,12,19800,2,6,9900]
[null,"400 Salud La Libertad","RO","CAS","MÉDICO CIRUJANO",4500,42666899,"VALENCIA RAMOS ALBERTO ","MÉDICO","Médico","Médico Cirujano",3,12,54000,2,6,27000]
[null,"400 Salud La Libertad","RO","CAS","TECNICO EN ENFERMERIA",2000,"42774422","VALVERDE BENITES IRMA MARILU ","TECNICO EN ENFERMERIA",0,null,3,12,24000,2,6,12000]
[null,"401 Salud La Libertad","RO","CAS","TECNICO EN ENFERMERIA",1500,43264404,"VALVERDE CARRANZA MARIA","TECNICO EN ENFERMERIA",0,null,null,null,null,1,2,3000]
[null,"400 Salud La Libertad","RO","CAS","INGENIERO  MECANICO",2500,"80310817","VARGAS CARRERA CARLOS RICARDO ","INGENIERO  MECANICO","Ingeniero","Ingeniero Mecánico",3,12,{"$f":"M3130*F3130","v":30000},2,6,15000]
[null,"400 Salud La Libertad","RO","CAS","INGENIERO DE SISTEMAS",2500,"43721596","VASQUEZ CASTRO KARLA ","INGENIERO DE SISTEMAS","Ingeniero","Ingeniero de Sistemas",3,12,30000,2,6,15000]
[null,"400 Salud La Libertad","RO","CAS","CONTADOR",1650,"18110192","VASQUEZ LORA JESICA ELIZABETH ","CONTADOR","Contador","Contador Público Colegiado",3,12,19800,2,6,9900]
[null,"400 Salud La Libertad","RO","CAS","CHOFER - AMBULANCIA",1300,"17858727","VASQUEZ REYES WALTER ABADO ",null,null,null,3,12,15600,2,6,7800]
[null,"400 Salud La Libertad","RO","CAS","MEDICO AUDITOR",6000,"70380570","VASQUEZ RODRIGUEZ DAVID ERASMO","MÉDICO","Médico","Médico Cirujano",1,6,36000,null,null,0]
[null,"400 Salud La Libertad","RO","CAS","MEDICO CIRUJANO",2800,"41185940","VASQUEZ TIRADO LUCY DEL ROSARIO","MÉDICO","Médico","Médico Cirujano",6,12,33600,5,6,16800]
[null,"400 Salud La Libertad","RO","CAS","CIRUJANO DENTISTA",2700,"47265356","VEGA DELGADO JESSICA EDITH","CIRUJANO DENTISTA","Odontólogo","Cirujano Dentista",3,12,32400,2,6,16200]
[null,"400 Salud La Libertad","RO","CAS","ENFERMERA",1650,"45283729","VELASCO  HUIVIN ELSA JHULIANA ","ENFERMERA","Licenciada en Enfermería","Licenciada en Enfermería",3,12,19800,2,6,9900]
[null,"400 Salud La Libertad","RO","CAS","PSICOLOGO",1800,"45236447","VELASQUEZ MAGO KARINA ELIZABETH ","PSICOLOGO","Psicólogo","Licenciado en Psicología",4,11,19800,4,6,10800]
[null,"400 Salud La Libertad","RO","CAS","TÉCNICO EN SOPORTE INFORMÁTICO",1300,70340584,"VELASQUEZ SANCHEZ IRVING WILLIAM",null,null,null,2,8,10400,2,6,7800]
[null,"400 Salud La Libertad","RO","CAS","ENFERMERA",2500,"45796360","VELEZMORO RIOS AZUCENA VIOLETA ","ENFERMERA","Licenciada en Enfermería","Licenciada en Enfermería",3,12,30000,2,6,15000]
[null,"401 Salud La Libertad","RO","CAS","BIOLOGO",2500,"43380567","VENEGAS DEL CASTILLO ALAN MITCHEL","BIÓLOGO MICROBIÓLOGO","Biólogo","Biólogo Microbiólogo",null,null,null,1,2,5000]
[null,"400 Salud La Libertad","RDR","CAS","QUÍMICO FARMACEUTICO",2000,18222503,"VENEROS ZAVALETA DARWIN JOEL","QUÍMICO FARMACÉUTICO","Químico Farmacéutico","Químico Farmacéutico",1,2,{"$f":"M3142*F3142","v":4000},null,null,0]
[null,"401 Salud La Libertad","RDR","CAS","TECNICO EN CONTABILIDAD",1500,47124064,"VERA FLORES YESENIA MARITZA","TECNICO EN CONTABILIDAD",0,null,null,null,null,1,2,3000]
[null,"400 Salud La Libertad","RO","CAS","ENFERMERO",1800,"45340521","VERA SALDAÑA JANTZEN ADRIANO ","ENFERMERO","Licenciada en Enfermería","Licenciado en Enfermería",6,7,{"$f":"M3144*F3144","v":12600},null,null,0]
[null,"400 Salud La Libertad","RDR","CAS","QUÍMICO FARMACÉUTICO",2500,"17942857","VERA VALDERRAMA JULIA ELOISA ","QUÍMICO FARMACÉUTICO","Químico Farmacéutico","Químico Farmacéutico",3,12,30000,2,6,15000]
[null,"400 Salud La Libertad","RO","CAS","CHOFER",1500,"19428277","VIERA CARRERA FERNANDO ",null,null,null,3,12,18000,2,6,9000]
[null,"400 Salud La Libertad","RO","CAS","ESTADISTICO",1650,"40009642","VILLACORTA ESTEVES MILAGRO DEL PILAR ","ESTADISTICO","Ingeniero","Ingeniero Estadístico",3,12,19800,1,1,1650]
[null,"400 Salud La Libertad","RO","CAS","ENFERMERA",1650,"70570417","VILLAJULCA RODRIGUEZ JULY LIZET","ENFERMERA","Licenciada en Enfermería","Licenciada en Enfermería",3,12,19800,2,3,4950]
[null,"400 Salud La Libertad","RO","CAS","TECNICO EN COMPUTACIÓN",1300,43141441,"VILLANUEVA LEON SERGIO ANSELMO ","TECNICO EN COMPUTACIÓN",0,null,1,2,2600,null,null,0]
[null,"401 Salud La Libertad","RO","CAS","OBSTETRA",2500,48080489,"VILLANUEVA MEDINA KETTHY YOHANA","OBSTETRA","Obstetra","Obstetra"]
[null,"400 Salud La Libertad","RO","CAS","TÉCNICO EN ENFERMERÍA",1500,"43179738","VILLANUEVA VELASQUEZ MARIA ","TÉCNICO EN ENFERMERÍA",0,null,3,12,{"$f":"M3151*F3151","v":18000},2,6,{"$f":"P3151*F3151","v":9000}]
[null,"400 Salud La Libertad","RO","CAS","TÉCNICO ADMINISTRATIVO",1300,18176796,"VILLAVICENCIO PALACIOS DARINKA SHIRLEY ","TÉCNICO ADMINISTRATIVO",0,null,3,12,15600,2,6,7800]
[null,"400 Salud La Libertad","RO","CAS","ENFERMERA",2500,"43668428","VIZCONDE CARMEN SILVANA ANDREA ","ENFERMERA","Licenciada en Enfermería","Licenciada en Enfermería",3,12,30000,2,6,15000]
[null,"400 Salud La Libertad","RDR","CAS","AUXILIAR ADMINISTRATIVO",1300,"41638265","YOVERA GONZALES JOSE ALEXANDER ",null,null,null,3,12,15600,2,6,7800]
[null,"400 Salud La Libertad","RO","CAS","TÉCNICO EN LABORATORIO",1300,"47819622","YPARRAGUIRRE CHANDUVI FATIMA BRISSETTE","TÉCNICO EN LABORATORIO",0,null,3,12,15600,2,6,7800]
[null,"400 Salud La Libertad","RDR","CAS","SECRETARIA",1300,"45942286","YUPANQUI NARVAEZ KARLA LILIANA ","SECRETARIA",null,null,3,12,15600,2,6,7800]
[null,"400 Salud La Libertad","RO","CAS","MEDICO CIRUJANO",2800,"41008159","ZAMBRANO MAYA WILLIAM ROBERTO","MÉDICO","Médico","Médico Cirujano",3,12,33600,2,6,16800]
[null,"400 Salud La Libertad","RO","CAS","ENFERMERA",1800,"44745070","ZAVALETA BLAS CEILI NATALI ","ENFERMERA","Licenciada en Enfermería","Licenciada en Enfermería",7,11,19800,null,null,0]
[null,"400 Salud La Libertad","RO","CAS","PSICOLOGA",1800,"40590903","ZAVALETA FERRER MAGALI MILENA ","PSICOLOGA","Psicólogo","Licenciado en Psicología",7,11,19800,null,null,0]
[null,"400 Salud La Libertad","RDR-S","CAS","AUXILIAR ADMINISTRATIVO",1300,"18186585","ZAVALETA MORA DIEGO ANTONIO ",null,null,null,3,12,15600,2,6,7800]
[null,"400 Salud La Libertad","RO","CAS","ENFERMERA",1650,"45471324","ZAVALETA OTINIANO ROSA MARIA","ENFERMERA","Licenciada en Enfermería","Licenciada en Enfermería"]
[null,"400 Salud La Libertad","RO","CAS","TRABAJADOR DE SERVICIOS",1200,"47958917","ZEGARRA MEDINA CARLOS ENRIQUE ",null,null,null,7,11,{"$f":"M3162*F3162","v":13200},null,null,{"$f":"P3162*F3162","v":0}]
[null,"400 Salud La Libertad","RO","CAS","DIGITADOR ",1500,"41556063","ZELADA CABRERA LELY ROXANA ",null,null,null,3,12,{"$f":"M3163*F3163","v":18000},2,6,{"$f":"P3163*F3163","v":9000}]
[null,"400 Salud La Libertad","RO","CAS","TECNICO EN ENFERMERIA",1500,"46114513","ZELADA ESCUADRA LUIS ANTONIO ","TECNICO EN ENFERMERIA",0,null,2,12,{"$f":"M3164*F3164","v":18000},2,6,{"$f":"P3164*F3164","v":9000}]
[null,"400 Salud La Libertad","RO","CAS","MÉDICO CIRUJANO",3800,40989180,"ZEVALLOS PEREZ ALVARO MARTIN ","MÉDICO","Médico","Médico Cirujano",7,11,{"$f":"M3165*F3165","v":41800},null,null,{"$f":"P3165*F3165","v":0}]
[null,"TOTAL",null,null,null,{"$f":"SUM(F2788:F3165)","v":748033},null,null,null,null,null,null,null,{"$f":"SUM(N2788:N3165)","v":7304046},null,null,{"$f":"SUM(Q2788:Q3165)","v":2558380}]
[null,"401 Instituto Regional de Oftalmología","RO","CAS","ASISTENTE ADMINISTRATIVO",1500,19062614,"ALVAREZ LINARES MARLON ENRIQUE","INGENIERO INDUSTRIAL","SUPERIOR UNIVERSITARIO","BACHILLER EN INGENIERIA INDUSTRIAL",3,12,{"$f":"1500*M3167","v":18000},1,6,{"$f":"1500*P3167","v":9000}]
[null,"401 Instituto Regional de Oftalmología","RO","CAS","TECNICO EN ENFERMERIA",1200,"43190427","ARANA NARRO JOVANITA EMERITA","TECNICO EN ENFERMERIA","SUPERIOR TÉCNICA","TECNICO EN ENFERMERIA",3,12,{"$f":"M3168*1200","v":14400},3,6,{"$f":"1200*P3168","v":7200}]
[null,"401 Instituto Regional de Oftalmología","RO","CAS","MEDICO AUDITOR",4500,43096356,"ARCE MERCEDES CARMEN TERESA","MEDICO AUDITOR","SUPERIOR","MEDICO CIRUJANO",3,12,{"$f":"4500*M3169","v":54000},1,6,{"$f":"4500*P3169","v":27000}]
[null,"401 Instituto Regional de Oftalmología","RO","CAS","TECNICO EN ENFERMERIA",1200,42762102,"CARDENAS MALCA LUCIA ANGELICA","TECNICO EN ENFERMERIA","SUPERIOR TÉCNICA","TECNICO EN ENFERMERIA",3,12,{"$f":"1200*M3170","v":14400},1,6,{"$f":"1200*P3170","v":7200}]
[null,"401 Instituto Regional de Oftalmología","RO","CAS","ESPECIALISTA ADMINISTRATIVO",1600,16070423,"CARLOS BARBARAN MARTHA LUISA","ADMINISTRADOR","SUPERIOR","ADMINISTRADOR",3,12,{"$f":"1600*M3171","v":19200},1,6,{"$f":"1600*P3171","v":9600}]
[null,"401 Instituto Regional de Oftalmología","RO","CAS","MEDICO OFTALMOLOGO",5500,41760964,"DE LA CRUZ AMADOR EDY WILFREDO","MEDICO CIRUJANO","SUPERIOR","MEDICO CIRUJANO",3,12,{"$f":"5500*M3172","v":66000},1,6,{"$f":"5500*P3172","v":33000}]
[null,"401 Instituto Regional de Oftalmología","RO","CAS","DIGITADOR(A)",1200,16224597,"FARRO GAMARRA JOHNNY ALDO",null,"SECUNDARIA COMPLETA","DIGITADOR",3,12,{"$f":"1200*M3173","v":14400},1,6,{"$f":"1200*P3173","v":7200}]
[null,"401 Instituto Regional de Oftalmología","RO","CAS","DIGITADOR(A)",1200,42640079,"FLORES MONZON VERONICA NOEMI","TRABAJADORA SOCIAL","SUPERIOR ","DIGITADOR",3,12,{"$f":"1200*M3174","v":14400},1,6,{"$f":"1200*P3174","v":7200}]
[null,"401 Instituto Regional de Oftalmología","RO","CAS","ASISTENTE ADMINISTRATIVO",2000,"41137640","FLORES RUIZ OMAR JAIRO","PROFESOR","LICENCIADO","PROFESOR",3,12,{"$f":"2000*M3175","v":24000},1,6,{"$f":"2000*P3175","v":12000}]
[null,"401 Instituto Regional de Oftalmología","RO","CAS","ESPECIALISTA EN PROCESOS LOGIS",2500,"40252440","MARCOS URTEAGA GINA HELEN","CONTADOR","SUPERIOR ","CONTADOR",3,12,{"$f":"2500*M3174","v":30000},2,6,{"$f":"2500*P3174","v":15000}]
[null,"401 Instituto Regional de Oftalmología","RO","CAS","TECNICO EN ENFERMERIA",1200,"47020256","MONZON RODRIGUEZ ESPERANZA MILEIDY","TECNICO EN ENFERMERIA","SUPERIOR TÉCNICA","TECNICO EN ENFERMERIA",3,12,{"$f":"1200*M3177","v":14400},3,6,{"$f":"1200*P3177","v":7200}]
[null,"401 Instituto Regional de Oftalmología","RO","CAS","TECNICO EN ENFERMERIA",1200,"44213999","NINAQUISPE MEZA FLOR YOVANA","TECNICO EN ENFERMERIA","SUPERIOR TÉCNICA","TECNICO EN ENFERMERIA",3,12,{"$f":"1200*M3178","v":14400},1,6,{"$f":"1200*P3178","v":7200}]
[null,"401 Instituto Regional de Oftalmología","RO","CAS","TRABAJADOR DE SERVICIO",1100,60160710,"OBLEA MEDINA WILIAM OMAR",null,"SECUNDARIA COMPLETA","TRABAJADOR DE SERVICIOS","-","-","-",3,6,{"$f":"1100*P3179","v":6600}]
[null,"401 Instituto Regional de Oftalmología","RO","CAS","QUIMICO FARMACEUTICO",2000,32962995,"PELAEZ GARCIA FLOR DE MARIA","QUIMICO FARMACEUTICO","SUPERIOR","QUIMICO FARMACEUTICO",2,5,{"$f":"2000*M3180","v":10000},3,6,{"$f":"2000*P3180","v":12000}]
[null,"401 Instituto Regional de Oftalmología","RO","CAS","ESPECIALISTA EN GESTION EN SALUD",6000,43346632,"PEREZ BALLENA GABRIEL ANDRES","MEDICO","SUPERIOR","MEDICO CIRUJANO","-","-","-",3,6,{"$f":"6000*P3181","v":36000}]
[null,"401 Instituto Regional de Oftalmología","RO","CAS","TECNICO EN ENFERMERIA",1200,16104267,"PEREZ QUEZADA LIDIA ESTHER","TECNICO EN ENFERMERIA","SUPERIOR TÉCNICA","TECNICO EN ENFERMERIA",3,12,{"$f":"1200*M3182","v":14400},3,6,{"$f":"1200*P3182","v":7200}]
[null,"401 Instituto Regional de Oftalmología","RO","CAS","TECNICO EN ENFERMERIA",1200,"46090246","SILVA GAMARRA ROSARIO FABIOLA","TECNICO EN FARMACIA","SUPERIOR TÉCNICA","TECNICO EN FARMACIA",3,12,{"$f":"1200*M3183","v":14400},3,6,{"$f":"1200*P3183","v":7200}]
[null,"401 Instituto Regional de Oftalmología","RO","CAS","RECEPCIONISTA",1200,44565054,"VASQUEZ PEREZ MARCO ANTONIO","TECNICO EN COMPUTACION E INFORMATICA","SUPERIOR TECNICO","TECNICO EN COMPUTACION E INFORMATICA","-","-","-",3,6,{"$f":"1200*P3184","v":7200}]
[null,"401 Instituto Regional de Oftalmología","RO","CAS","TECNICO EN ENFERMERIA",1200,16196673,"VASQUEZ CASTAÑEDA MARIA DEL SOCORRO","TECNICO EN ENFERMERIA","SUPERIOR TÉCNICA","TECNICO EN ENFERMERIA",3,12,{"$f":"1200*M3185","v":14400},3,6,{"$f":"1200*P3185","v":7200}]
[null,"401 Instituto Regional de Oftalmología","RO","CAS","ASISTENTE ADMINISTRATIVO",1200,731069136,"VASQUEZ CERDAN MILAGROS DEL CARMEN","INGENIERA INDUSTRIAL","SUPERIOR","INGENIERA INDUSTRIAL","-","-","-",1,2,{"$f":"+P3184*1200","v":7200}]
[null,"401 Instituto Regional de Oftalmología","RO","CAS","MEDICO ANESTESIOLOGO",5500,16190251,"VASQUEZ GUTIERREZ ALEJANDRO MARK","MEDICO CIRUJANO","SUPERIOR","MEDICO CIRUJANO",3,12,{"$f":"5500*M3187","v":66000},1,6,{"$f":"5500*P3187","v":33000}]
[null,"401 Instituto Regional de Oftalmología","RO","CAS","DIGITADOR(A)",1200,41042326,"ZUÑIGA DELGADO DE VARGAS PATRICIA ROSA"," ESTUDIANTE EN PSICOLOGIA","SUPERIOR INCOMPLETA","ESTUDIANTE",3,12,{"$f":"1200*M3188","v":14400},1,4,{"$f":"1200*P3188","v":4800}]
[null,"401 Instituto Regional de Oftalmología","RO","CAS","TRABAJADOR DE SERVICIO",1100,47479566,"GARCIA CASTAÑEDA ALFREDO ANTONIO","TRABAJADOR DE SERVICIOS","SECUNDARIA COMPLETA","TRABAJADOR DE SEVICIOS","-","-","-",3,6,{"$f":"1100*P3189","v":6600}]
[null,"401 Instituto Regional de Oftalmología","RO","CAS","ESPECIALISTA ADMINISTRATIVO",2000,16196726,"KAISER LOMPARTE SILKE","ESPECIALISTA ADMINISTRATIVO","SUPERIOR","INGENIERA DE SISTEMAS","-","-","-",3,6,{"$f":"2000*P3190","v":12000}]
[null,"401 Instituto Regional de Oftalmología","RO","CAS","TECNICO ADMINISTRATIVO",1200,19237545,"LAMAS RIOS CECILIA ELIZABETH","TECNICO EN COMPUTACION E INFORMATICA","SUPERIOR TECNICO","TECNICO EN COMPUTACION E INFORMATICA","-","-","-",3,6,{"$f":"1200*P3191","v":7200}]
[null,"401 Instituto Regional de Oftalmología","RO","CAS","ASISTENTE ADMINISTRATIVO",1500,43642641,"PAYANO HERRERA DIEGO FERNANDO","BACHILLER EN INGENERIA DE SISTEMAS","SUPERIOR","ASISTENTE ADMINISTRATIVO","-","-","-",3,6,{"$f":"1500*P3192","v":9000}]
[null,"401 Instituto Regional de Oftalmología","RO","CAS","MEDICO AUDITOR",5000,41341697,"ROALCABA HORNA ALEX EDUARDO","MEDICO CIRUJANO","SUPERIOR","MEDICO CIRUJANO","-","-","-",3,6,{"$f":"5000*P3193","v":30000}]
[null,"401 Instituto Regional de Oftalmología","RO","CAS","TECNICO ADMINISTRATIVO",1200,17630471,"SALAZAR TAMAY MARTHA GRACIELA","TECNICO EN MERCADOTECNIA","SUPERIOR TÉCNICA","TECNICO ADMINISTRATIVO","-","-","-",3,6,{"$f":"1200*P3194","v":7200}]
[null,"401 Instituto Regional de Oftalmología","RO","CAS","TECNICO ADMINISTRATIVO",1200,43116423,"SOTERO MENDOZA DE HUAMAN MIXI YASMIN","TECNICO EN COMPUTACION E INFORMATICA","SUPERIOR TECNICO","TECNICO EN COMPUTACION E INFORMATICA","-","-","-",3,6,{"$f":"1200*P3195","v":7200}]
[null,"401 Instituto Regional de Oftalmología","RO","CAS","ENFERMERA(O)",2000,47155702,"TAM GONZALEZ RUBY LIZETH","ENFERMERA(O)","SUPERIOR","ENFERMERA(O)","-","-","-",2,4,{"$f":"2000*P3194","v":12000}]
[null,"401 Instituto Regional de Oftalmología","RDR","CAS","MEDICO CARDIOLOGO",5500,3666276,"ADRIANZEN REYES JESUS REHXI","MEDICO CIRUJANO","SUPERIOR","MEDICO CIRUJANO",3,12,66000,1,6,{"$f":"5500*P3197","v":33000}]
[null,"401 Instituto Regional de Oftalmología","RDR","CAS","SECRETARIA",1200,"41591065","AGUILAR LOPEZ MARISOL","PROFESORA","LICENCIADO","PROFESORA",3,12,14400,5,6,{"$f":"1200*P3198","v":7200}]
[null,"401 Instituto Regional de Oftalmología","RDR","CAS","ABOGADO(A)",2500,"41091445","AGUIRRE CABALLERO MARINA DEL PILAR","ABOGADO","SUPERIOR","ABOGADO",2,6,15000,"-","-","-"]
[null,"401 Instituto Regional de Oftalmología","RDR","CAS","CHOFER",1200,16124556,"ALIAGA REYES JUAN CARLOS",null,"SECUNDARIA COMPLETA","CHOFER",3,12,{"$f":"M3200*1200","v":14400},2,6,{"$f":"P3200*1200","v":7200}]
[null,"401 Instituto Regional de Oftalmología","RDR","CAS","TÉCNICO EN FARMACIA",1200,45265534,"ALVA ALVA MERLY ROCIO","TÉCNICO EN FARMACIA","SUPERIOR TÉCNICA","TECNICO EN FARMACIA","-","-","-",1,2,{"$f":"1200*P3201","v":2400}]
[null,"401 Instituto Regional de Oftalmología","RDR","CAS","TECNICO EN ENFERMERIA",1200,"40165433","ALVARADO GIL VERONICA PATRICIA","TECNICO EN ENFERMERIA","TECNICO","TECNICO EN ENFERMERIA",3,12,{"$f":"M3202*1200","v":14400},1,6,7200]
[null,"401 Instituto Regional de Oftalmología","RDR","CAS","TECNICO MECANICO",1200,16213557,"ARENAS LIZARRAGA CARLOS EDUARDO","TECNICO MECÁNICO","SUPERIOR TÉCNICA","TECNICO MECÁNICO",3,12,{"$f":"1200*M3203","v":14400},3,6,7200]
[null,"401 Instituto Regional de Oftalmología","RDR","CAS","ASISTENTE ADMINISTRATIVO",1500,43460033,"ARRIAGA RAZURI DANIEL RICARDO","ASISTENTE ADMINISTRATIVO","SUPERIOR","CONTADOR","-","-","-",3,6,7200]
[null,"401 Instituto Regional de Oftalmología","RDR","CAS","TECNICO ADMINISTRATIVO",1200,70245143,"ARROYO ANHUAMAN FRANCISCO ALBERTO","INGENIERO DE SISTEMAS","SUPERIOR INCOMPLETO","ESTUDIANTE DE INGENIERIA DE SISTEMAS",2,5,{"$f":"1200*M3205","v":6000},1,6,7200]
[null,"401 Instituto Regional de Oftalmología","RDR","CAS","TECNICO EN ENFERMERIA",1200,44155167,"ASMAT CAMPOS KARLA KARYN PAOLA","TECNICO EN ENFERMERIA","SUPERIOR TÉCNICA","TECNICO EN ENFERMERIA",2,5,null,1,6,{"$f":"1200*P3204","v":7200}]
[null,"401 Instituto Regional de Oftalmología","RDR","CAS","SECRETARIO/RECEPCIONISTA",1200,19323702,"BALLENA PAREDES WILLIAM MARTIN","TECNICO EN COMPUTACION E INFORMATICA","SUPERIOR TÉCNICA","TECNICO EN COMPUTACION E INFORMATICA",2,5,{"$f":"1200*M3207","v":6000},3,6,7200]
[null,"401 Instituto Regional de Oftalmología","RDR","CAS","TECNICO EN FARMACIA",1200,45969403,"BERNAL ACOSTA ANA MARIBEL","TECNICO EN FARMACIA","SUPERIOR TÉCNICA","TECNICO EN FARMACIA","-","-","-",1,2,2400]
[null,"401 Instituto Regional de Oftalmología","RDR","CAS","SECRETARIA",1200,73760033,"BOCANEGRA BUENO DIANA CAROLINA","SECRETARIA","SUPERIOR TÉCNICA","SECRETARIA",3,12,{"$f":"1200*M3209","v":14400},1,6,7200]
[null,"401 Instituto Regional de Oftalmología","RDR","CAS","ASISTENTE ADMINISTRATIVO",1500,40604763,"BRICEÑO CORONEL KARIM LIZETT","CONTADOR","SUPERIOR","CONTADOR",3,12,{"$f":"1500*M3210","v":18000},1,6,{"$f":"1500*P3210","v":9000}]
[null,"401 Instituto Regional de Oftalmología","RDR","CAS","AUXILIAR DE MANTENIMIENTO",1100,"42549236","BUSTAMANTE RAMOS MARIA FLOR",null,"SECUNDARIA COMPLETA","TRABAJADOR DE SERVICIOS",6,12,{"$f":"1200*M3211","v":14400},3,6,{"$f":"1200*P3211","v":7200}]
[null,"401 Instituto Regional de Oftalmología","RDR","CAS","SECRETARIA",1200,16011960,"CABEL PALOMINO MILLY MARINA","SECRETARIA","SUPERIOR TÉCNICA","SECRETARIA",3,12,{"$f":"1200*M3212","v":14400},1,6,{"$f":"1200*P3212","v":7200}]
[null,"401 Instituto Regional de Oftalmología","RDR","CAS","CAJERO",1200,"43212719","CARBAJAL DE LA CRUZ MIJAIL IVAN","TECNICO MECANICO ","SUPERIOR TÉCNICA","TECNICO MECANICO ",3,12,{"$f":"1200*M3213","v":14400},"-","-","-"]
[null,"401 Instituto Regional de Oftalmología","RDR","CAS","AUXILIAR ADMINISTRATIVO",1500,"43212719","CARBAJAL DE LA CRUZ MIJAIL IVAN","ESTUDIANTE DE CONTABILIDAD","SUPERIOR TÉCNICA","ESTUDIANTE DE CONTABILIDAD","-","-","-",3,6,{"$f":"1500*P3214","v":9000}]
[null,"401 Instituto Regional de Oftalmología","RDR","CAS","ASISTENTE ADMINISTRATIVO",1500,40459560,"CARBAJAL TUPAC ELEANA MILAGROS","CONTADOR","SUPERIOR UNIVERSITARIO","BACHILLER EN CIENCIAS ECONOMICAS",3,12,{"$f":"1500*M3215","v":18000},1,6,{"$f":"1500*P3215","v":9000}]
[null,"401 Instituto Regional de Oftalmología","RDR","CAS","ASISTENTE ADMINISTRATIVO",1600,40636566,"CASTAÑEDA LEON YENY","CONTADOR","SUPERIOR ","CONTADOR",3,12,null,1,6,{"$f":"1600*P3214","v":9600}]
[null,"401 Instituto Regional de Oftalmología","RDR","CAS","ESPECIALISTA ADMINISTRATIVO",1600,72046136,"CASTILLO CARRASCO MARIANA KAREN LIZBETH","CONTADOR","SUPERIOR ","CONTADOR",3,12,{"$f":"1600*M3217","v":19200},1,6,{"$f":"1600*P3217","v":9600}]
[null,"401 Instituto Regional de Oftalmología","RDR","CAS","MEDICO OFTALMOLOGO",5500,45094275,"CASTRO AGUILAR SUSSAN TATIANA","MEDICO CIRUJANO","SUPERIOR","MEDICO CIRUJANO",2,5,{"$f":"5500*M3218","v":27500},1,6,{"$f":"5500*P3218","v":33000}]
[null,"401 Instituto Regional de Oftalmología","RDR","CAS","TECNICO EN ENFERMERIA",1200,16206244,"CHAPILLIQUEN QUEVEDO LEYDIANA LYSBETH","TECNICO EN ENFERMERIA ","SUPERIOR TÉCNICA","TECNICO EN ENFERMERIA",2,3,{"$f":"1200*M3219","v":3600},1,6,{"$f":"1200*P3219","v":7200}]
[null,"401 Instituto Regional de Oftalmología","RDR","CAS","AUXILIAR DE MANTENIMIENTO",1100,72964005,"CHAVEZ FLORES JAVIER JESUS",null,"SECUNDARIA COMPLETA","TRABAJADOR DE SEVICIOS",6,12,{"$f":"1100*M3220","v":13200},3,6,{"$f":"1100*P3220","v":6600}]
[null,"401 Instituto Regional de Oftalmología","RDR","CAS","TECNICO ESPECIALIZADO",1200,41649371,"CONDORI CABRERA YAVELIA MIRIAM","QUIMICO FARMACEUTICO","SUPERIOR","QUIMICO FARMACEUTICO",3,12,{"$f":"1200*M3221","v":14400},1,6,{"$f":"1200*O3221","v":1200}]
[null,"401 Instituto Regional de Oftalmología","RDR","CAS","ENFERMERA(O)",2000,16131435,"CONTRERAS BOCANEGRA CLAUDIA ALICIA","ENFERMERA(O)","SUPERIOR","ENFERMERA(O)","-","-","-",3,6,{"$f":"2000*P3222","v":12000}]
[null,"401 Instituto Regional de Oftalmología","RDR","CAS","ESPECIALISTA EN SISTEMA DE INF",2000,43656652,"CONTRERAS MIRANDA ROCKY LUIS","INGENIERO DE SISTEMAS","SUPERIOR","INGENIERO DE SISTEMAS",3,12,{"$f":"2000*M3223","v":24000},1,6,{"$f":"2000*P3223","v":12000}]
[null,"401 Instituto Regional de Oftalmología","RDR","CAS","INGENIERO ELECTRONICO",3000,"45154945","CORCIO BURGOS CHRISTIAN JOEL","INGENIERO ELECTRONICO","SUPERIOR","INGENIERO ELECTRONICO",3,12,{"$f":"3000*M3224","v":36000},1,6,{"$f":"3000*P3224","v":18000}]
[null,"401 Instituto Regional de Oftalmología","RDR","CAS","TECNICO EN FARMACIA",1200,"45202743","CORTIJO ZAVALETA ROSARIO DEL CARMEN","TECNICO EN FARMACIA","SUPERIOR TÉCNICA","TECNICO EN FARMACIA",3,12,{"$f":"1200*M3225","v":14400},1,6,{"$f":"1200*P3225","v":7200}]
[null,"401 Instituto Regional de Oftalmología","RDR","CAS","SECRETARIA",1200,17667653,"CUBA SANCHEZ MARIA ESTHER","SECRETARIA","SUPERIOR TÉCNICA","SECRETARIA",3,12,{"$f":"1200*M3224","v":14400},1,6,{"$f":"1200*P3224","v":7200}]
[null,"401 Instituto Regional de Oftalmología","RDR","CAS","ASISTENTE ADMINISTRATIVO",1500,41409267,"DE LA ROSA CARRANZA FELIPE SANTTIAGO","ECONOMISTA","SUPERIOR UNIVERSITARIO","BACHILLER EN CIENCIAS ECONOMICAS",2,5,{"$f":"1500*M3227","v":7500},1,6,{"$f":"1500*P3227","v":9000}]
[null,"401 Instituto Regional de Oftalmología","RDR","CAS","CONTADOR PUBLICO",2000,"19096599","DEL CASTILLO VILLACORTA LADY MARGOT","CONTADOR","SUPERIOR ","CONTADOR",3,12,{"$f":"2000*M3228","v":24000},1,6,{"$f":"2000*P3228","v":12000}]
[null,"401 Instituto Regional de Oftalmología","RDR","CAS","MEDICO OFTALMOLOGO",5500,"45503901","DIAZ MENDOZA JERSON JOAO","MEDICO CIRUJANO","SUPERIOR","MEDICO CIRUJANO",3,12,{"$f":"5500*M3229","v":66000},1,6,{"$f":"5500*P3229","v":33000}]
[null,"401 Instituto Regional de Oftalmología","RDR","CAS","TECNICO EN COMPUTACION E INFOR",1200,41655636,"DIAZ VASQUEZ MARIA CLAUDIA","INGENIERO INDUSTRIAL","SUPERIOR UNIVERSITARIO","BACHILLER EN INGENIERIA INDUSTRIAL",3,12,{"$f":"1200*M3230","v":14400},1,6,{"$f":"1200*P3230","v":7200}]
[null,"401 Instituto Regional de Oftalmología","RDR","CAS","MEDICO OFTALMOLOGO",5500,40755132,"ESCOBEDO SOLIS EDUARDO FRANCISCO","MEDICO CIRUJANO","SUPERIOR","MEDICO CIRUJANO",2,5,{"$f":"5500*M3231","v":27500},3,6,{"$f":"5500*P3231","v":33000}]
[null,"401 Instituto Regional de Oftalmología","RDR","CAS","ASISTENTE ADMINISTRATIVO",1200,"46127424","ESPINOLA ARIAS ERIKA JHOANI","TECNICO EN ADMINISTRACION","SUPERIOR TÉCNICA","TECNICO EN ADMINISTRACION",3,12,{"$f":"1200*M3232","v":14400},1,6,{"$f":"1200*P3232","v":7200}]
[null,"401 Instituto Regional de Oftalmología","RDR","CAS","AUXILIAR DE ARCHIVO",1100,44206769,"FELIPE PASCUAL HERMAN OLMEDO","PROFESOR","LICENCIADO","PROFESOR",1,3,3300,"-","-","-"]
[null,"401 Instituto Regional de Oftalmología","RDR","CAS","TECNICO EN ENFERMERIA",1200,70567991,"GARCIA DIESTRA RIXSI ROXIANA","TECNICO EN ENFERMERIA","SUPIEROR TECNICO","TECNICO EN ENFERMERIA","-","-","-",3,6,{"$f":"1200*P3234","v":7200}]
[null,"401 Instituto Regional de Oftalmología","RDR","CAS","ALMACENERO",1600,40360490,"GARCIA FLORES ROBERTO CARLOS","CONTADOR","SUPERIOR ","CONTADOR",3,12,{"$f":"1600*M3235","v":19200},1,6,{"$f":"1600*P3235","v":9600}]
[null,"401 Instituto Regional de Oftalmología","RDR","CAS","CONTADOR PUBLICO",1600,"40276723","GIL VEGA ROXANA MILAGRO","CONTADOR","SUPERIOR ","CONTADOR",3,12,null,1,6,{"$f":"1600*P3234","v":9600}]
[null,"401 Instituto Regional de Oftalmología","RDR","CAS","ESPECIALISTA EN MANTENIMIENTO",2500,16161153,"GONZALES VASQUEZ RENE EDMUNDO","ESPECIALISTA EN MANTENIMIENTO","SUPERIOR ","INGENIERO ELECTRONICO","-","-","-",1,2,{"$f":"2500*P3237","v":5000}]
[null,"401 Instituto Regional de Oftalmología","RDR","CAS","TECNICO EN ENFERMERIA",1200,71770926,"HARO CASTILLO NORMA MARISOL","TECNICO EN ENFERMERIA","SUPERIOR TÉCNICA","TECNICO EN ENFERMERIA","-","-","-",4,6,{"$f":"1200*P3218","v":7200}]
[null,"401 Instituto Regional de Oftalmología","RDR","CAS","ESPECIALISTA EN PRESUPUESTO",3500,"46101423","HERRERA DOMINGUEZ ALEY ALE","ADMINISTRADOR","SUPERIOR ","ADMINISTRADOR",3,6,26000,"-","-","-"]
[null,"401 Instituto Regional de Oftalmología","RDR","CAS","QUIMICO FARMACEUTICO",2000,46246740,"HERRERA RODRIGUEZ NIXSON GHERSY","QUIMICO FARMACEUTICO","SUPERIOR","QUIMICO FARMACEUTICO","-","-","-",1,2,{"$f":"1200*P3220","v":7200}]
[null,"401 Instituto Regional de Oftalmología","RDR","CAS","SECRETARIA",1200,19062361,"HIDALGO MURRIETA CELI RUT","ADMINISTRADOR","SUPERIOR INCOMPLETA","ADMINISTRADOR",2,6,7200,"-","-","-"]
[null,"401 Instituto Regional de Oftalmología","RDR","CAS","TECNICO ELECTRICISTA",2500,"42762016","HUEDA ZAVALETA OSCAR ANTONIO","INGENIERO ELECTRONICO","SUPERIOR","INGENIERO ELECTRONICO",3,12,null,1,3,{"$f":"2500*P3222","v":15000}]
[null,"401 Instituto Regional de Oftalmología","RDR","CAS","ASISTENTE ADMINISTRATIVO",2000,"46467323","JARA VASQUEZ ESTEBAN DANIEL","CONTADOR","SUPERIOR ","CONTADOR",3,12,{"$f":"2000*M3223","v":24000},1,6,{"$f":"2000*P3223","v":12000}]
[null,"401 Instituto Regional de Oftalmología","RDR","CAS","SECRETARIA",1200,70693463,"LAVADO DE LA CRUZ SANTOS ROMELIA","SECRETARIA EJECUTIVA","SUPERIOR TÉCNICA","SECRETARIA EJECUTIVA",3,12,{"$f":"1200*M3224","v":14400},1,6,{"$f":"1200*P3224","v":7200}]
[null,"401 Instituto Regional de Oftalmología","RDR","CAS","SECRETARIA",1200,16605953,"LLONTOP SIESQUEN LILY VICTORIA","TECNICO EN COMPUTACIÓN E INFORMATICA","SUPERIOR TÉCNICA","TECNICO EN COMPUTACIÓN E INFORMATICA",3,12,{"$f":"1200*M3225","v":14400},1,6,{"$f":"1200*P3225","v":7200}]
[null,"401 Instituto Regional de Oftalmología","RDR","CAS","QUIMICO FARMACEUTICO",2000,16150402,"LOYOLA MARQUEZADO PATRICIA JUANITA","QUIMICO FARMACEUTICO","SUPERIOR ","QUIMICO FARMACEUTICO",3,12,{"$f":"2000*M3224","v":24000},"-","-","-"]
[null,"401 Instituto Regional de Oftalmología","RDR","CAS","AUXILIAR DE MANTENIMIENTO",1200,16164039,"LOZANO SALAZAR JOSE MANUEL",null,"SECUNDARIA COMPLETA","TRABAJADOR DE SERVICIOS",5,12,{"$f":"1200*M3227","v":6000},1,6,{"$f":"1200*P3227","v":7200}]
[null,"401 Instituto Regional de Oftalmología","RDR","CAS","ASISTENTE ADMINISTRATIVO",1500,42216009,"LUNA SIFUENTES KARINA NOEMI","ADMINISTRADOR","SUPERIOR ","ADMINISTRADOR",2,5,{"$f":"1500*M3248","v":7500},1,6,{"$f":"1500*P3248","v":9000}]
[null,"401 Instituto Regional de Oftalmología","RDR","CAS","MEDICO OFTALMOLOGO",6000,17675224,"MANRIQUE GANOZA ALBERTO HERMAS","MEDICO CIRUJANO","SUPERIOR","MEDICO CIRUJANO",3,12,{"$f":"6000*M3249","v":72000},1,6,{"$f":"6000*P3249","v":36000}]
[null,"401 Instituto Regional de Oftalmología","RDR","CAS","MEDICO OFTALMOLOGO",5500,43304316,"MANRIQUE MESIAS MARTHA MARIA","MEDICO CIRUJANO","SUPERIOR","MEDICO CIRUJANO",3,12,{"$f":"5500*M3250","v":66000},1,6,{"$f":"5500*P3250","v":33000}]
[null,"401 Instituto Regional de Oftalmología","RDR","CAS","TECNICO EN ENFERMERIA",1200,71492266,"MARIN CERNA DIANA ELIZABHET","TECNICO EN ENFERMERIA","SUPERIOR TÉCNICA","TECNICO EN ENFERMERIA",3,12,{"$f":"1200*M3251","v":14400},"-","-","-"]
[null,"401 Instituto Regional de Oftalmología","RDR","CAS","ASISTENTE ADMINISTRATIVO",1200,16196606,"MARIN VASQUEZ ETEL YUDI","CONTADOR","SUPERIOR ","CONTADOR",3,12,{"$f":"1200*M3252","v":14400},1,6,{"$f":"1200*P3252","v":7200}]
[null,"401 Instituto Regional de Oftalmología","RDR","CAS","TECNICO EN ENFERMERIA",1200,"46419766","MARQUINA RUIZ JAIRA ESTHER","TECNICO EN ENFERMERIA","SUPERIOR TÉCNICA","TECNICO EN ENFERMERIA",3,12,{"$f":"1200*M3253","v":14400},3,6,{"$f":"1200*P3253","v":7200}]
[null,"401 Instituto Regional de Oftalmología","RDR","CAS","TECNICO EN FARMACIA",1200,46120913,"MARTINEZ REQUEJO LILIANA","TECNICO EN FARMACIA","SUPERIOR TÉCNICA","TECNICO EN FARMACIA",2,5,{"$f":"1200*M3254","v":6000},3,6,{"$f":"1200*P3254","v":7200}]
[null,"401 Instituto Regional de Oftalmología","RDR","CAS","ENFERMERA(O)",2000,"42371019","MAURICIO ACEVEDO JUANA JESUS","ENFERMERA","SUPERIOR","ENFERMERA",3,12,{"$f":"2000*M3255","v":24000},2,6,{"$f":"2000*P3255","v":12000}]
[null,"401 Instituto Regional de Oftalmología","RDR","CAS","ENFERMERA(O)",2000,41410353,"MORALES CASTILLO DINA KARIN","ENFERMERA(O)","SUPERIOR TÉCNICA","ENFERMERA(O)","-","-","-",3,6,{"$f":"2000*P3254","v":12000}]
[null,"401 Instituto Regional de Oftalmología","RDR","CAS","ENFERMERA(O)",2000,45949771,"NEIRA ROMERO WILMAR","ENFERMERO","SUPERIOR","ENFERMERO",2,5,{"$f":"2000*M3257","v":10000},2,6,{"$f":"2000*P3257","v":12000}]
[null,"401 Instituto Regional de Oftalmología","RDR","CAS","SECRETARIA",1200,44649764,"OCAS VIGO MAGALY ERILYD","ADMINISTRADOR","SUPERIOR","ADMINISTRADOR",3,7,{"$f":"1200*M3258","v":8400},"-","-","-"]
[null,"401 Instituto Regional de Oftalmología","RDR","CAS","ASISTENTE ADMINISTRATIVO",1500,44649764,"OCAS VIGO MAGALY ERILYD","ADMINISTRADOR","SUPERIOR","ADMINISTRADOR",2,5,{"$f":"1500*M3259","v":7500},3,6,{"$f":"1500*P3259","v":9000}]
[null,"401 Instituto Regional de Oftalmología","RDR","CAS","INGENIERO DE SISTEMAS",1500,"71265902","PAZ PORRAS MAURO EDUARDO","INGENIERO DE SISTEMAS","SUPERIOR","INGENIERO DE SISTEMAS",3,12,{"$f":"1500*M3260","v":18000},1,6,{"$f":"1500*P3260","v":9000}]
[null,"401 Instituto Regional de Oftalmología","RDR","CAS","ENFERMERA(O)",2000,40766567,"PINEDA MARIN AURIA VANESSA","ENFERMERA","SUPERIOR","ENFERMERA",3,12,{"$f":"2000*M3261","v":24000},5,6,{"$f":"2000*P3261","v":12000}]
[null,"401 Instituto Regional de Oftalmología","RDR","CAS","MEDICO",5500,16196097,"PREVOST RUIZ MANUEL","MEDICO CIRUJANO","SUPERIOR","MEDICO CIRUJANO",2,5,27500,"-","-","-"]
[null,"401 Instituto Regional de Oftalmología","RDR","CAS","MEDICO OFTALMOLOGO",5500,"42647014","RAMOS CHAMBILLA CARLOS RUBEN","MEDICO CIRUJANO","SUPERIOR","MEDICO CIRUJANO",3,12,{"$f":"5500*M3263","v":66000},1,6,{"$f":"5500*P3263","v":33000}]
[null,"401 Instituto Regional de Oftalmología","RDR","CAS","AUXILIAR DE ARCHIVO",1200,"40725575","REYES CORDOVA MANUEL ALEJANDRO","PROFESOR","SUPERIOR TÉCNICA","PROFESOR",3,12,{"$f":"1200*M3264","v":14400},1,6,{"$f":"1200*P3264","v":7200}]
[null,"401 Instituto Regional de Oftalmología","RDR","CAS","TECNICO EN ENFERMERIA",1200,42696236,"RIVADENEYRA BURGOS ZAYRA ANGELICA","TECNICO EN ENFERMERIA","SUPERIOR TÉCNICA","TECNICO EN ENFERMERIA",2,5,1200,3,6,{"$f":"1200*P3265","v":7200}]
[null,"401 Instituto Regional de Oftalmología","RDR","CAS","DIGITADOR(A)",1200,"45114392","RODRIGUEZ ABARCA ROSA JANNET","ADMINISTRADOR","SUPERIOR INCOMPLETA","DIGITADOR",3,12,{"$f":"1200*M3264","v":14400},1,6,{"$f":"1200*P3264","v":7200}]
[null,"401 Instituto Regional de Oftalmología","RDR","CAS","TECNICO EN ENFERMERIA",1200,70536907,"RODRIGUEZ CONTRERAS JENNA LUCIA","TECNICO EN ENFERMERIA","SUPERIOR TÉCNICA","TECNICO EN ENFERMERIA",2,5,{"$f":"1200*M3267","v":6000},3,6,{"$f":"1200*P3267","v":7200}]
[null,"401 Instituto Regional de Oftalmología","RDR","CAS","TECNICO COMPUTACION  INFORMATI",1200,16196546,"RODRIGUEZ MERCEDES PAULO CESAR","TECNICO EN COMPUTACION E INFORMATICA","SUPERIOR TÉCNICA","TECNICO ADMINISTRATIVO",3,12,{"$f":"1200*M3268","v":14400},1,6,{"$f":"1200*P3268","v":7200}]
[null,"401 Instituto Regional de Oftalmología","RDR","CAS","ESPECIALISTA ADMINISTRATIVO",2000,16169761,"RODRIGUEZ SAAVEDRA FANY","CONTADOR","SUPERIOR ","CONTADOR",3,12,{"$f":"2000*M3269","v":24000},3,6,{"$f":"2000*P3269","v":12000}]
[null,"401 Instituto Regional de Oftalmología","RDR","CAS","DIGITADOR(A)",1200,44626526,"RODRIGUEZ VILLENA CRISTHIAN EDWIN","TECNICO EN COMPUTACION E INFORMATICA","SUPERIOR TÉCNICA","DIGITADOR",3,12,{"$f":"1200*M3270","v":14400},1,6,{"$f":"1200*P3270","v":7200}]
[null,"401 Instituto Regional de Oftalmología","RDR","CAS","MEDICO ANESTESIOLOGO",5500,40620029,"ROJAS ALVARADO CARMEN NIKE","MEDICO CIRUJANO","SUPERIOR","MEDICO CIRUJANO",2,5,{"$f":"5500*M3271","v":27500},1,6,{"$f":"5500*P3271","v":33000}]
[null,"401 Instituto Regional de Oftalmología","RDR","CAS","ENFERMERA(O)",2000,44656616,"ROMERO MIÑANO FLOR DE MARIA","ENFERMERA","SUPERIOR","ENFERMERA",3,12,{"$f":"2000*M3272","v":24000},1,6,{"$f":"2000*P3272","v":12000}]
[null,"401 Instituto Regional de Oftalmología","RDR","CAS","TECNICO EN COMPUTACION E INFOR",1200,"43690079","RUIZ AMARANTO LUZ ANGELICA","TECNICO EN COMPUTACION E INFORMATICA","SUPERIOR TÉCNICA","TECNICO ADMINISTRATIVO",3,12,{"$f":"1200*M3273","v":14400},1,6,{"$f":"1200*P3273","v":7200}]
[null,"401 Instituto Regional de Oftalmología","RDR","CAS","AUXILIAR DE MANTENIMIENTO",1100,"44365037","SAAVEDRA BRIONES JOSE CAMILO",null,"SECUNDARIA COMPLETA","TRABAJADOR DE SERVICIOS",5,12,{"$f":"1100*M3274","v":13200},2,6,{"$f":"1100*P3274","v":6600}]
[null,"401 Instituto Regional de Oftalmología","RDR","CAS","TECNICO EN FARMACIA",1200,47091191,"SANTA CRUZ ESPINOZA JOSE NORBERTO","BACHILLER EN FARMACIA","SUPERIOR","BACHILLER EN FARMACIA",1,3,{"$f":"1200*M3275","v":3600},2,4,{"$f":"1200*P3275","v":4800}]
[null,"401 Instituto Regional de Oftalmología","RDR","CAS","AUXILIAR DE ENFERMERIA",1200,17630471,"SALAZAR TAMAY MARTHA GRACIELA","TECNICO EN MERCADOTECNIA","SUPERIOR TÉCNICA","AUXILIAR ASISTENCIAL",3,12,{"$f":"1200*M3274","v":14400},"-","-","-"]
[null,"401 Instituto Regional de Oftalmología","RDR","CAS","TECNICO EN FARMACIA",1200,47327735,"SALVADOR JULIAN RILER MILSER","TECNICO EN FARMACIA","SUPERIOR TÉCNICA","TECNICO EN FARMACIA",2,5,{"$f":"1200*M3277","v":6000},3,6,{"$f":"1200*P3277","v":7200}]
[null,"401 Instituto Regional de Oftalmología","RDR","CAS","AUXILIAR DE MANTENIMIENTO",1100,16106370,"SANCHEZ PEREZ VICTOR JULIO",null,"SECUNDARIA COMPLETA","TRABAJADOR DE SERVICIOS",6,12,{"$f":"1100*M3278","v":13200},3,6,{"$f":"1200*P3278","v":7200}]
[null,"401 Instituto Regional de Oftalmología","RDR","CAS","AUXILIAR DE MANTENIMIENTO",1100,"41930527","SANCHEZ QUIPUSCO DENNIS JARDY",null,"SECUNDARIA COMPLETA","TRABAJADOR DE SERVICIOS",4,5,6600,"-","-","-"]
[null,"401 Instituto Regional de Oftalmología","RDR","CAS","AUXILIAR DE MANTENIMIENTO",1100,27696113,"SARMIENTO HUATANGARE ARTURO",null,"SECUNDARIA COMPLETA","TRABAJADOR DE SERVICIOS",6,12,{"$f":"1100*M3280","v":13200},3,6,{"$f":"1100*P3280","v":6600}]
[null,"401 Instituto Regional de Oftalmología","RDR","CAS","ESPECIALISTA ADMINISTRATIVO",3500,27696113,"SEMINARIO  PAREDES GUSTAVO ","INGENIERO INDUSTRIAL","SUPERIOR","INGENIERO INDUSTRIAL","-","-","-",1,1,{"$f":"3500*P3281","v":3500}]
[null,"401 Instituto Regional de Oftalmología","RDR","CAS","QUIMICO FARMACEUTICO",2000,40362193,"SILVA VELASQUEZ JOHANA MARIANELA","QUIMICO FARMACEUTICO","SUPERIOR","QUIMICO FARMACEUTICO",2,5,{"$f":"2000*M3282","v":10000},3,6,{"$f":"2000*P3282","v":12000}]
[null,"401 Instituto Regional de Oftalmología","RDR","CAS","ENFERMERA(O)",2000,44776435,"SOSAYA CARRERA DANIELA MILAGROS","ENFERMERA(O)","SUPERIOR","ENFERMERA(O)",3,12,{"$f":"2000*M3283","v":24000},"-","-","-"]
[null,"401 Instituto Regional de Oftalmología","RDR","CAS","TECNICO EN FARMACIA",1200,60636561,"TORRES SOLIS JESUS ALEJANDRO","TECNICO EN FARMACIA","SUPERIOR TÉCNICA","TECNICO EN FARMACIA",3,12,{"$f":"1200*M3284","v":14400},3,3,{"$f":"1200*P3284","v":3600}]
[null,"401 Instituto Regional de Oftalmología","RDR","CAS","TECNICO EN ENFERMERIA",1200,43965651,"TUCTO SILVA DE TRUJILLO MARIA IRENE","TECNICO EN ENFERMERIA","SUPERIOR TÉCNICA","TECNICO EN ENFERMERIA",3,12,{"$f":"1200*M3285","v":14400},1,6,{"$f":"1200*P3285","v":7200}]
[null,"401 Instituto Regional de Oftalmología","RDR","CAS","AUXILIAR DE MANTENIMIENTO",1100,60239767,"UCEDA PISFIL JOHN WALTER",null,"SECUNDARIA COMPLETA","TRABAJADOR DE SERVICIOS",6,12,{"$f":"1100*M3284","v":13200},3,6,{"$f":"1200*P3284","v":3600}]
[null,"401 Instituto Regional de Oftalmología","RDR","CAS","ESPECIALISTA ADMINISTRATIVO",1600,"47530422","VALDERRAMA GARCIA DARNELLY ESTHEFANI","ADMINISTRADOR","SUPERIOR","ADMINISTRADOR",4,12,{"$f":"1600*M3287","v":19200},3,6,{"$f":"1600*P3287","v":9600}]
[null,"401 Instituto Regional de Oftalmología","RDR","CAS","DIGITADOR(A)",1200,16153030,"VALDIVIA JARA JOSE LUIS","ABOGADO","SUPERIOR INCOMPLETO","DIGITADOR",3,12,{"$f":"1200*M3288","v":14400},1,6,{"$f":"1200*P3288","v":7200}]
[null,"401 Instituto Regional de Oftalmología","RDR","CAS","TECNICO EN ENFERMERIA",1200,16101754,"VALVERDE LLAURE JUANA FRANCISCA","TECNICO EN ENFERMERIA","SUPERIOR TÉCNICA","TECNICO EN ENFERMERIA",3,12,{"$f":"1200*M3289","v":14400},3,6,{"$f":"1200*P3289","v":7200}]
[null,"401 Instituto Regional de Oftalmología","RDR","CAS","ENFERMERA(O)",2000,16207724,"VASCONES PORTILLA DE CHAVARRY GIOVANNA PAOLA","ENFERMERA","SUPERIOR","ENFERMERA",3,12,{"$f":"2000*M3290","v":24000},"-","-","-"]
[null,"401 Instituto Regional de Oftalmología","RDR","CAS","QUIMICO FARMACEUTICO",1500,16149467,"VASQUEZ ALVAREZ MILAGRITOS DEL ROSARIO","QUIMICO FARMACEUTICO","SUPERIOR","QUIMICO FARMACEUTICO",3,12,{"$f":"1500*M3291","v":18000},5,6,{"$f":"1500*P3291","v":9000}]
[null,"401 Instituto Regional de Oftalmología","RDR","CAS","MEDICO OFTALMOLOGO",5500,"40044592","VEGA CENTENO LIMA OSCAR ALBERTO","MEDICO CIRUJANO","SUPERIOR","MEDICO CIRUJANO",3,6,{"$f":"5500*M3292","v":33000},"-","-","-"]
[null,"401 Instituto Regional de Oftalmología","RDR","CAS","TECNICO ELECTRONICO",1200,17634039,"VELARDE HURTADO PEDRO ALBERTO","TECNICO ELECTRICISTA","SUPERIOR TÉCNICA","TECNICO ELECTRICISTA",3,12,{"$f":"1200*M3293","v":14400},2,6,{"$f":"1200*P3293","v":7200}]
[null,"401 Instituto Regional de Oftalmología","RDR","CAS","ESPECIALISTA ADMINISTRATIVO",4000,16199116,"VELARDE VELARDE CRISTINA ELIZABETH","CONTADOR","SUPERIOR ","CONTADOR",3,12,{"$f":"4000*M3294","v":48000},1,6,{"$f":"4000*P3294","v":24000}]
[null,"401 Instituto Regional de Oftalmología","RDR","CAS","ENFERMERA(O)",2000,"46421322","VIDAL GUEVARA FLOR ARELIZ","ENFERMERA","SUPERIOR","ENFERMERA",3,12,{"$f":"2000*M3295","v":24000},3,6,{"$f":"2000*P3295","v":12000}]
[null,"401 Instituto Regional de Oftalmología","RDR","CAS","ASISTENTE ADMINISTRATIVO INFOR",1200,"45545663","VIGO CORREA CRISTIAN MANUEL","INGENIERO DE SISTEMAS","SUPERIOR","INGENIERO DE SISTEMAS",3,12,{"$f":"1500*M3294","v":18000},1,6,{"$f":"1500*P3294","v":9000}]
[null,"401 Instituto Regional de Oftalmología","RDR","CAS","SECRETARIA",1200,45961069,"VILCA ORTEGA KREISSY ESTHER","SECRETARIA","SUPERIOR TÉCNICA","SECRETARIA",3,12,{"$f":"1200*M3297","v":14400},1,6,{"$f":"1200*P3297","v":7200}]
[null,"401 Instituto Regional de Oftalmología","RDR","CAS","RECEPCIONISTA",1200,16647005,"VILLALOBOS VASQUEZ ROSARIO DEL PILAR","OBSTETRA","SUPERIOR","SECRETARIA",3,12,{"$f":"1200*M3298","v":14400},1,6,{"$f":"1200*P3298","v":7200}]
[null,"401 Instituto Regional de Oftalmología","RDR","CAS","TECNICO EN ENFERMERIA",1200,"47223626","VILLANUEVA RUBIO MILLY","TECNICO EN ENFERMERIA","SUPERIOR TÉCNICA","TECNICO EN ENFERMERIA",3,12,{"$f":"1200*M3299","v":14400},3,6,{"$f":"1200*P3299","v":7200}]
[null,"401 Instituto Regional de Oftalmología","RDR","CAS","RECEPCIONISTA",1200,"70000259","VILLARREAL CABALLERO LUCERO CAROLINA"," ESTUDIANTE EN PSICOLOGIA","SUPERIOR INCOMPLETA","ESTUDIANTE",1,3,3600,"-","-","-"]
[null,"401 Instituto Regional de Oftalmología","RDR","CAS","TECNICO EN ENFERMERIA",1200,"46003190","VILLEGAS SALDARRIAGA CINDY SELENY","TECNICO EN ENFERMERIA","SUPERIOR TÉCNICA","TECNICO EN ENFERMERIA",3,12,{"$f":"1200*M3301","v":14400},1,6,{"$f":"1200*P3301","v":7200}]
[null,"401 Instituto Regional de Oftalmología","RDR","CAS","TECNICO EN COMPUTACION E INFOR",1200,"44242315","ZAMBRANO CRESPIN LADY LAURA","TECNICO EN COMPUTACION E INFORMATICA","SUPERIOR TÉCNICA","TECNICO EN COMPUTACION E INFORMATICA",3,9,{"$f":"1200*M3302","v":10800},"-","-","-"]
[null,"Total",null,null,null,{"$f":"SUM(F3167:F3302)","v":262300},null,null,null,null,null,null,null,{"$f":"SUM(N3167:N3302)","v":2114800},null,null,{"$f":"SUM(Q3167:Q3302)","v":1314100}]
[null,"402 SALUD NORTE ASCOPE","RO ","CAS","MEDICO AUDITOR",3500,18128498,"ROJAS VERGARA LUZ DEL CARMEN","MEDICO AUDITOR","BACHILLER","MEDICO AUDITOR",1,8,{"$f":"+M3304*F3304","v":28000}]
[null,"402 SALUD NORTE ASCOPE","RO","CAS","MEDICO AUDITOR",4000,18128498,"ROJAS VERGARA LUZ DEL CARMEN","MEDICO AUDITOR","BACHILLER","MEDICO AUDITOR",1,4,{"$f":"+M3305*F3305","v":16000},1,6,{"$f":"+F3305*P3305","v":24000}]
[null,"402 SALUD NORTE ASCOPE","RO","CAS","MEDICO AUDITOR",3500,18132272,"CANTERA CHAVEZ RAUL FERNANDO","MEDICO AUDITOR","BACHILLER","MEDICO AUDITOR",1,8,{"$f":"+M3306*F3306","v":28000}]
[null,"402 SALUD NORTE ASCOPE","RO","CAS","MEDICO AUDITOR",4000,18132272,"CANTERA CHAVEZ RAUL FERNANDO","MEDICO AUDITOR","BACHILLER","MEDICO AUDITOR",1,4,16000,1,6,{"$f":"+F3307*P3307","v":24000}]
[null,"402 SALUD NORTE ASCOPE","RO","CAS","DIGITADOR",1180,26610913,"REBAZA ZARATE AMPARO DEL SOCORRO","DIGITADOR","NINGUNO","COMPUTACIÓN",1,12,14160,1,6,7080]
[null,"402 SALUD NORTE ASCOPE","RO","CAS","DIGITADOR",1000,46890400,"GARCIA VALLE CLEMENTE JUNIORS","DIGITADOR","NINGUNO","COMPUTACIÓN",1,12,12000,1,6,6000]
[null,"402 SALUD NORTE ASCOPE","RO","CAS","TEC.COMPUTACION",1000,18108786,"GARCÍA SAENZ JORGE JUAN","TEC.COMPUTACION","NINGUNO","COMPUTACIÓN",1,12,12000,1,6,6000]
[null,"402 SALUD NORTE ASCOPE","RO","CAS","TEC.ENFERMERÍA",1000,41061441,"LEON SAAVEDRA LUIS ENRIQUE","TEC.ENFERMERÍA","NINGUNO","TEC.ENFERMERÍA",1,12,12000,1,6,6000]
[null,"402 SALUD NORTE ASCOPE","RO","CAS","DIGITADOR",1000,42199862,"ROMERO BALTODANO ROSA ANGELITA","DIGITADOR","NINGUNO","COMPUTACIÓN",1,12,12000,1,6,6000]
[null,"402 SALUD NORTE ASCOPE","RO","CAS","DIGITADOR",1000,18212032,"SANDOVAL CARRANZA ROBERT WILLIAMS","DIGITADOR","NINGUNO","COMPUTACIÓN",1,12,12000,1,6,6000]
[null,"402 SALUD NORTE ASCOPE","RO","CAS","DIGITADOR",1000,41463595,"SEMINARIO ALBAN ROGER OSWALDO","DIGITADOR","NINGUNO","COMPUTACIÓN",1,12,12000,1,6,6000]
[null,"402 SALUD NORTE ASCOPE","RO","CAS","TEC.COMPUTACION",1000,19097082,"QUIROZ VERA CARLOS ALBERTO","TEC.COMPUTACION","NINGUNO","COMPUTACIÓN",1,8,{"$f":"+M3315*F3315","v":8000}]
[null,"402 SALUD NORTE ASCOPE","RO","CAS","TEC.ADMIISTRATIVO",1300,19097082,"QUIROZ VERA CARLOS ALBERTO",{"$f":"+E3316","v":"TEC.ADMIISTRATIVO"},"NINGUNO","COMPUTACIÓN",1,4,{"$f":"+M3316*F3316","v":5200},1,6,{"$f":"+F3316*P3316","v":7800}]
[null,"402 SALUD NORTE ASCOPE","RDR","CAS","M.INTERNISTA",4000,40205602,"ZAVALETA ALAYA PETTERSON","M.INTERNISTA","BACHILLER","M.INTERNISTA",1,8,{"$f":"+F3317*M3317","v":32000}]
[null,"402 SALUD NORTE ASCOPE","RDR","CAS","M.INTERNISTA",5000,40205602,"ZAVALETA ALAYA PETTERSON","M.INTERNISTA","BACHILLER","M.INTERNISTA",1,4,{"$f":"+F3318*M3318","v":20000},1,6,{"$f":"+F3318*P3318","v":30000}]
[null,"402 SALUD NORTE ASCOPE","RDR","CAS","M.EMERGENCIOLOGO",3600,45199644,"CASTRO PINEDO LUCÍA","M.EMERGENCIOLOGO","BACHILLER","M.EMERGENCIOLOGO",1,8,{"$f":"+F3319*M3319","v":28800}]
[null,"402 SALUD NORTE ASCOPE","RDR","CAS","M.EMERGENCIOLOGO",5000,45199644,"CASTRO PINEDO LUCÍA","M.EMERGENCIOLOGO","BACHILLER","M.EMERGENCIOLOGO",1,4,20000,1,6,{"$f":"+F3320*P3320","v":30000}]
[null,"402 SALUD NORTE ASCOPE","RDR","CAS","ENFERMERA",1600,43033434,"CRUZ HERNANDEZ LOURDES MIRELLA","LIC.ENFERMERIA","BACHILLER","LIC.ENFERMERIA",1,12,19200,1,6,9600]
[null,"402 SALUD NORTE ASCOPE","RDR","CAS","ENFERMERA",1600,43217265,"MAQUI DIAZ DIANA SANDRA","LIC.ENFERMERIA","BACHILLER","LIC.ENFERMERIA",1,12,19200,1,6,9600]
[null,"402 SALUD NORTE ASCOPE","RDR","CAS","ENFERMERA",1600,45754959,"LLONTOP CAVERO ADELA DEL PILAR","LIC.ENFERMERIA","BACHILLER","LIC.ENFERMERIA",1,12,19200,1,6,9600]
[null,"402 SALUD NORTE ASCOPE","RDR","CAS","ENFERMERA",1600,43731510,"VITON VASQUEZ NANCY GIOVANY","LIC.ENFERMERIA","BACHILLER","LIC.ENFERMERIA",1,12,19200,1,6,9600]
[null,"402 SALUD NORTE ASCOPE","RDR","CAS","ENFERMERA",1600,45908665,"DEL PINO INUMA ROXANA PATRICIA","LIC.ENFERMERIA","BACHILLER","LIC.ENFERMERIA",1,12,19200,1,6,9600]
[null,"402 SALUD NORTE ASCOPE","RDR","CAS","TEC. FARMACIA",1000,46245545,"ESQUIVEL MENEZ LENIN EDAR",{"$f":"+E3326","v":"TEC. FARMACIA"},"BACHILLER","NINGUNO",1,12,12000,1,6,6000]
[null,"402 SALUD NORTE ASCOPE","RDR","CAS","ING.DE SISTEMAS",1805,40456619,"ANDONAIRE FLORES JOSE MARTIN","ING.DE SISTEMAS","BACHILLER","ING.DE SISTEMAS",1,8,14440]
[null,"402 SALUD NORTE ASCOPE","RO","CAS","ING.DE SISTEMAS",2500,40456619,"ANDONAIRE FLORES JOSE MARTIN","ING.DE SISTEMAS","BACHILLER","ING.DE SISTEMAS",1,4,10000,1,6,{"$f":"+F3328*P3328","v":15000}]
[null,"402 SALUD NORTE ASCOPE","RDR","CAS","ASIST.ADM.",1805,46937643,"BLAS ALVARADO JENNY","LIC.ADMINISTRACIÓN","BACHILLER","LIC.ADMINISTRACIÓN",1,12,21660,1,6,10830]
[null,"402 SALUD NORTE ASCOPE","RDR","CAS","TEC.ENFERMERÍA",1200,19257455,"VARAS ALAYO ROSEMARY PATRICIA","TEC.ENFERMERÍA","NINGUNO","TEC.ENFERMERÍA",1,12,14400,1,6,7200]
[null,"402 SALUD NORTE ASCOPE","RDR","CAS","TEC.FARMACIA",1000,45478907,"CASTILLO RODRIGUEZ MANUEL ALEXANDER","TEC.FARMACIA","NINGUNO","TEC.FARMACIA",1,12,12000,1,6,6000]
[null,"402 SALUD NORTE ASCOPE","RDR","CAS","TEC.FARMACIA",1000,43375006,"SANDOVAL BRICEÑO JOEL JOSUE","TEC.FARMACIA","NINGUNO","TEC.FARMACIA",1,12,12000,1,6,6000]
[null,"402 SALUD NORTE ASCOPE","RDR","CAS","TEC.FARMACIA",1000,46795993,"RODRIGUEZ VACA URIAS LEVÍ","TEC.FARMACIA","NINGUNO","TEC.FARMACIA",1,12,12000,1,6,6000]
[null,"402 SALUD NORTE ASCOPE","RDR","CAS","T.DE SERVICIO",1000,70538575,"GAMBOA VEGA RANDY IBRAHIM","NINGUNA","NINGUNO","NINGUNO",1,12,12000,1,6,6000]
[null,"402 SALUD NORTE ASCOPE","RDR","CAS","T.DE SERVICIO",1000,"*00927266","VELA SABOYA JAVIER","NINGUNA","NINGUNO","NINGUNA",1,12,12000,1,6,6000]
[null,"402 SALUD NORTE ASCOPE","RDR","CAS","AUX.DE NUTRICIÓN",1000,45754959,"AURAZO GARCIA MARIANA CECIBEL","NINGUNA","NINGUNO","NINGUNA",1,12,12000,1,6,6000]
[null,"402 SALUD NORTE ASCOPE","RDR","CAS","AUX.DE NUTRICIÓN",1000,40001979,"RODRIGUEZ PASCUAL ROSA LIDIA","NINGUNA","NINGUNO","NINGUNA",1,12,12000,1,6,6000]
[null,"402 SALUD NORTE ASCOPE","RDR","CAS","AUX.ASISTENCIAL",1000,80612440,"SALAZAR GUZMAN HUGO ALBERTINO","NINGUNA","NINGUNO","NINGUNA",1,12,12000,1,6,6000]
[null,"402 SALUD NORTE ASCOPE","RDR","CAS","MEDICO INTERNISTA",3600,40948002,"PEÑA QUISPE CAMILO FLORENTINO","MEDICO INTERNISTA","BACHILLER","MEDICO INTERNISTA",1,12,43200,1,6,21600]
[null,"402 SALUD NORTE ASCOPE","RDR","CAS","MEDICO CIRUGIA G.",3500,41433382,"ESPINOZA LLERENA ROBERTO JOSE MANUEL","MEDICO CIRUGIA G.","BACHILLER","MEDICO CIRUGIA G.",1,8,28000]
[null,"402 SALUD NORTE ASCOPE","RDR","CAS","MEDICO CIRUGIA G.",5000,41433382,"ESPINOZA LLERENA ROBERTO JOSE MANUEL","MEDICO CIRUGIA G.","BACHILLER","MEDICO CIRUGIA G.",1,4,20000,1,6,{"$f":"+F3341*P3341","v":30000}]
[null,"402 SALUD NORTE ASCOPE","RDR","CAS","LIC.ENFERMERIA",1300,44649452,"TORRES GARCIA GRECIA PAOLA","LIC.ENFERMERIA","BACHILLER","LIC.ENFERMERIA",1,12,15600,1,6,{"$f":"+F3342*P3342","v":7800}]
[null,"402 SALUD NORTE ASCOPE","RDR","CAS","LIC.ENFERMERIA",1300,70515360,"MENDEZ MERINO PAOLA","LIC.ENFERMERIA","BACHILLER","LIC.ENFERMERIA",1,12,15600,1,6,{"$f":"+F3343*P3343","v":7800}]
[null,"402 SALUD NORTE ASCOPE","RDR","CAS","Q.FARMACEUTICO",1200,60836275,"SANCHEZ VALVERDE ELVIS JOEL","Q.FARMACEUTICO","BACHILLER","Q.FARMACEUTICO",1,8,9600]
[null,"402 SALUD NORTE ASCOPE","RDR","CAS","Q.FARMACEUTICO",1800,60836275,"SANCHEZ VALVERDE ELVIS JOEL","Q.FARMACEUTICO","BACHILLER","Q.FARMACEUTICO",1,4,7200,1,6,{"$f":"+F3345*P3345","v":10800}]
[null,"402 SALUD NORTE ASCOPE","RDR","CAS","ING.DE SISTEMAS",1500,41911652,"MARTELL CRUZ WILLIAM ALEXANDER","ING.DE SISTEMAS","BACHILLER","ING.DE SISTEMAS",1,12,18000,1,6,{"$f":"+F3346*P3346","v":9000}]
[null,"402 SALUD NORTE ASCOPE","RDR","CAS","SECRETARIA",1000,"40232075","ALVAREZ TORIBIO, Roxana Karin","SECRETARIA","NINGUNO","SECRETARIA",1,12,12000,1,6,{"$f":"+F3347*P3347","v":6000}]
[null,"402 SALUD NORTE ASCOPE","RDR","CAS","T.DE SERVICIO",850,"07384302","ANGEL PEÑA PEDRO SIMEON","T.DE SERVICIO","NINGUNO","T.DE SERVICIO",1,12,10200,1,6,5100]
[null,"402 SALUD NORTE ASCOPE","RDR","CAS","M.INTERNISTA",3500,18217970,"AQUINO SALVERREDY REGINA ","M.INTERNISTA","BACHILLER","M.INTERNISTA",1,12,42000,1,6,21000]
[null,"402 SALUD NORTE ASCOPE","RDR","CAS","AUX.SIST.ADM.",850,"17891774","BARRETO VILCHEZ SILVIA YSABEL","AUX.SIST.ADM.","NINGUNO","AUX.SIST.ADM.",1,12,10200,1,6,5100]
[null,"402 SALUD NORTE ASCOPE","RDR","CAS","AUX.RAYOS X",850,"18162901","BUSTAMANTE PINEDO,Celina","AUX.RAYOS X","NINGUNO","AUX.RAYOS X",1,12,10200,1,6,5100]
[null,"402 SALUD NORTE ASCOPE","RDR","CAS","T.ENFERMERIA",1000,41922347,"CERQUIN TELLO VICTOR DANIEL","T.ENFERMERIA","NINGUNO","T.ENFERMERIA",1,12,12000,1,6,6000]
[null,"402 SALUD NORTE ASCOPE","RDR","CAS","AUX.RAYOS X",850,"44061381","FLORES VEGA HENRY GERAL","AUX.RAYOS X","NINGUNO","AUX.RAYOS X",1,12,10200,1,6,5100]
[null,"402 SALUD NORTE ASCOPE","RDR","CAS","TEC.FARMACIA",1000,"46321264","GONZALES TELLO ROSA YSABEL","TEC.FARMACIA","NINGUNO","TEC.FARMACIA",1,12,12000,1,6,6000]
[null,"402 SALUD NORTE ASCOPE","RDR","CAS","SECRETARIA",1000,18166954,"HIUGUAY CIEZA JUANA GUISSELA","SECRETARIA","NINGUNO","SECRETARIA",1,12,12000,1,6,6000]
[null,"402 SALUD NORTE ASCOPE","RDR","CAS","T.DE SERVICIO",850,"18093712","HUAMAN ALTAMIRANO CARMEN DEL PILAR","T.DE SERVICIO","NINGUNO","T.DE SERVICIO",1,12,10200,1,6,5100]
[null,"402 SALUD NORTE ASCOPE","RDR","CAS","ING.DE SISTEMAS",1300,"18198728","KAISER LOMPARTE SILKE","ING.DE SISTEMAS","BACHILLER","ING.DE SISTEMAS",1,12,15600]
[null,"402 SALUD NORTE ASCOPE","RDR","CAS","Q.FARMACEUTICO",1300,"41916580","MARREROS HERRERA KETI YUDIT","Q.FARMACEUTICO","BACHILLER","Q.FARMACEUTICO",1,8,10400]
[null,"402 SALUD NORTE ASCOPE","RDR","CAS","Q.FARMACEUTICO",1800,"41916580","MARREROS HERRERA KETI YUDIT","Q.FARMACEUTICO","BACHILLER","Q.FARMACEUTICO",1,4,7200,1,6,{"$f":"+F3359*P3359","v":10800}]
[null,"402 SALUD NORTE ASCOPE","RDR","CAS","SECRETARIA",1000,"18123225","MENDIBURU PEREZ Nancy Juana","SECRETARIA","NINGUNO","SECRETARIA",1,12,12000,1,6,{"$f":"+F3360*P3360","v":6000}]
[null,"402 SALUD NORTE ASCOPE","RDR","CAS","DIGITADOR",1000,"18104081","NICOLINI BELTRAN GUIDO HUMBERTO","DIGITADOR","NINGUNO","DIGITADOR",1,12,12000,1,6,{"$f":"+F3361*P3361","v":6000}]
[null,"402 SALUD NORTE ASCOPE","RDR","CAS","ING.ZOOTECNISTA",1300,"16504357","NUÑEZ GALVEZ MARISOL","ING.ZOOTECNISTA","BACHILLER","ING.ZOOTECNISTA",1,12,15600,1,6,7800]
[null,"402 SALUD NORTE ASCOPE","RDR","CAS","T.DE SERVICIO",850,"10786136","ROBLES RUIZ MARIANO SEGUNDO","T.DE SERVICIO","NINGUNO","T.DE SERVICIO",1,12,10200,1,6,5100]
[null,"402 SALUD NORTE ASCOPE","RDR","CAS","T.DE SERVICIO",850,"17976892","RODRIGUEZ VALDIVIA MARITZA ANA MARIA","T.DE SERVICIO","NINGUNO","T.DE SERVICIO",1,12,10200,1,6,5100]
[null,"402 SALUD NORTE ASCOPE","RDR","CAS","TEC.COMPUTACION",1000,"70020771","SEMINARIO ALVAN CARLOS ENRIQUE","TEC.COMPUTACION","NINGUNO","TEC.COMPUTACION",1,12,12000,1,6,6000]
[null,"402 SALUD NORTE ASCOPE","RDR","CAS","TEC.ELECTRONICO",1881,"18068482","VARGAS CARRERA JERZY","TEC.ELECTRONICO","NINGUNO","TEC.ELECTRONICO",1,12,22572,1,6,11286]
[null,"402 SALUD NORTE ASCOPE","RO","CAS","ENFERMERA",1300,44508002,"ZAPATA MEDINA LILA SELFA","ENFERMERA","BACHILLER","ENFERMERA",1,12,15600,1,6,7800]
[null,"402 SALUD NORTE ASCOPE","RO","CAS","TÉC.EN ENFERMERÍA",900,43033932,"ALVARADO VARAS NELDA MARILU","TÉC.EN ENFERMERÍA","NINGUNO","TÉC.EN ENFERMERÍA",1,12,10800,1,6,5400]
[null,"402 SALUD NORTE ASCOPE","RO","CAS","DIGITADORA",900,72876402,"AVALOS HURTADO RUTH MILAGROS","DIGITADORA","NINGUNO","DIGITADORA",1,12,10800,1,6,5400]
[null,"402 SALUD NORTE ASCOPE","RO","CAS","TÉC.EN ENFERMERÍA",900,42476977,"CHAVARRY BARRANTES FLOR EXILDA ","TÉC.EN ENFERMERÍA","NINGUNO","TÉC.EN ENFERMERÍA",1,12,10800,1,6,5400]
[null,"402 SALUD NORTE ASCOPE","RO","CAS","TEC. EN COMPUTACION.",1000,"41348962","CRUZ VILLANUEVA JAIME","TEC. EN COMPUTACION.","NINGUNO","TEC. EN COMPUTACION.",1,12,12000,1,6,6000]
[null,"402 SALUD NORTE ASCOPE","RO","CAS","ENFERMERA",1200,148071706,"CRUZ ZAPATA ELIANA SALOMÉ","ENFERMERA","BACHILLER","ENFERMERA",1,12,14400,1,6,7200]
[null,"402 SALUD NORTE ASCOPE","RO","CAS","TEC.Fisioterapia y R.",900,18226358,"CUBA MC PHERSON JORGE ISACC","TEC.Fisioterapia y R.","NINGUNO","TEC.Fisioterapia y R.",1,12,10800,1,6,5400]
[null,"402 SALUD NORTE ASCOPE","RO","CAS","SECRETARIA",1000,"18161823","DELGADO GALVEZ SILVIA JANETT","SECRETARIA","NINGUNO","SECRETARIA",1,12,12000,1,6,6000]
[null,"402 SALUD NORTE ASCOPE","RO","CAS","ENFERMERA",1200,18196528,"GARCIA LEON VERONICA KARIM","ENFERMERA","BACHILLER","ENFERMERA",1,12,14400,1,6,7200]
[null,"402 SALUD NORTE ASCOPE","RO","CAS","RELACIONISTA PUBLICO",1300,"18203621","GARCIA VARAS PABLO MOISES","RELACIONISTA PUBLICO","BACHILLER","RELACIONISTA PUBLICO",1,12,15600,1,6,7800]
[null,"402 SALUD NORTE ASCOPE","RO","CAS","ENFERMERA",1200,44519497,"GUEVARA AURICH LIZET CAROLINA","ENFERMERA","BACHILLER","ENFERMERA",1,12,14400,1,6,7200]
[null,"402 SALUD NORTE ASCOPE","RO","CAS","ENFERMERA",1200,44919380,"GUTIERREZ TAMAYO ROSA YANIRA","ENFERMERA","BACHILLER","ENFERMERA",1,8,9600,null,null,0]
[null,"402 SALUD NORTE ASCOPE","RDR","CAS","ENFERMERA",1800,44919380,"GUTIERREZ TAMAYO ROSA YANIRA","ENFERMERA","BACHILLER","ENFERMERA",1,4,7200,1,6,{"$f":"+F3379*P3379","v":10800}]
[null,"402 SALUD NORTE ASCOPE","RO","CAS","CONTADOR PUBLICO",1300,"40713439","HARO ESPINOLA MIRIAN EMILIA","CONTADOR PUBLICO","NINGUNO","CONTADOR PUBLICO",1,12,15600,1,6,{"$f":"+F3380*P3380","v":7800}]
[null,"402 SALUD NORTE ASCOPE","RO","CAS","TEC.ENFER.",900,18204530,"HERNANDEZ SEVILLA NELY","TEC.ENFER.","NINGUNO","TEC.ENFER.",1,12,10800,1,6,{"$f":"+F3381*P3381","v":5400}]
[null,"402 SALUD NORTE ASCOPE","RO","CAS","MEDICO",3400,18217126,"JIMENEZ GARAY ELARD IVERO","MEDICO","BACHILLER","MEDICO",1,12,40800,1,6,{"$f":"+F3382*P3382","v":20400}]
[null,"402 SALUD NORTE ASCOPE","RO","CAS","TÉC.EN ENFERMERÍA",900,41648198,"LAVADO MEZA MARÍA ESTELA","TÉC.EN ENFERMERÍA","NINGUNO","TÉC.EN ENFERMERÍA",1,8,{"$f":"+F3383*M3383","v":7200}]
[null,"402 SALUD NORTE ASCOPE","RO","CAS","ENFERMERA",1200,50024967,"LEON ALAYO MELBA LOURDES","ENFERMERA","BACHILLER","ENFERMERA",1,12,14400,1,6,{"$f":"+F3384*P3384","v":7200}]
[null,"402 SALUD NORTE ASCOPE","RO","CAS","DIGITADORA",900,"17888716","LINARES CAMONES  MARIA","DIGITADORA","NINGUNO","DIGITADORA",1,12,10800,1,6,{"$f":"+F3385*P3385","v":5400}]
[null,"402 SALUD NORTE ASCOPE","RO","CAS","MEDICO",3400,41311059,"LINARES TAPIA EDWARD AUGUSTO","MEDICO","BACHILLER","MEDICO",1,8,27200]
[null,"402 SALUD NORTE ASCOPE","RO","CAS","TEC. EN ENFERMERIA",900,42266324,"MEDINA ARROYO TANIA MERLY","TEC. EN ENFERMERIA","NINGUNO","TEC. EN ENFERMERIA",1,12,10800,1,6,{"$f":"+F3387*P3387","v":5400}]
[null,"402 SALUD NORTE ASCOPE","RO","CAS","ENFERMERA",1200,70842921,"MENDO VASQUEZ SANDRA LISSET","ENFERMERA","BACHILLER","ENFERMERA",1,12,14400,1,6,7200]
[null,"402 SALUD NORTE ASCOPE","RO","CAS","ENFERMERA",1200,46113200,"MENDOZA BLAS ZULLY JANNETH","ENFERMERA","BACHILLER","ENFERMERA",1,12,14400,1,6,7200]
[null,"402 SALUD NORTE ASCOPE","RO","CAS","ENFERMERA",1200,42203282,"MORENO RODRIGUEZ MARIA ISABEL","ENFERMERA","BACHILLER","ENFERMERA",1,12,14400,1,6,7200]
[null,"402 SALUD NORTE ASCOPE","RO","CAS","TÉC.EN ENFERMERÍA",900,46795845,"NARVAEZ RODRIGUEZ KELY ROSELY","TÉC.EN ENFERMERÍA","NINGUNO","TÉC.EN ENFERMERÍA",1,12,10800,1,6,5400]
[null,"402 SALUD NORTE ASCOPE","RO","CAS","OPERADOR PAD",1000,"41187851","NICOLINI BELTRAN LUIS ALBERTO","OPERADOR PAD","NINGUNO","OPERADOR PAD",1,12,12000,1,6,6000]
[null,"402 SALUD NORTE ASCOPE","RO","CAS","ENFERMERA",1200,40809259,"ÑIQUE SOTO ANA MARIA DEL PILAR","ENFERMERA","BACHILLER","ENFERMERA",1,12,14400,1,6,7200]
[null,"402 SALUD NORTE ASCOPE","RO","CAS","TEC. EN COMPUTACION",1000,"17971190","PAREDES OCARES JUANA ISABEL","TEC. EN COMPUTACION","NINGUNO","TEC. EN COMPUTACION",1,12,12000,1,6,6000]
[null,"402 SALUD NORTE ASCOPE","RO","CAS","TÉC.EN ENFERMERÍA",900,45719969,"RAMIREZ HUAMAN ZAIDA JANNET ","TÉC.EN ENFERMERÍA","NINGUNO","TÉC.EN ENFERMERÍA",1,12,10800,1,6,5400]
[null,"402 SALUD NORTE ASCOPE","RO","CAS","TÉC, EN  COMPUTACIÓN",1000,40384499,"RIMARAHIN SANCHEZ EDWIN","TÉC, EN  COMPUTACIÓN","NINGUNO","TÉC, EN  COMPUTACIÓN",1,12,12000,1,6,6000]
[null,"402 SALUD NORTE ASCOPE","RO","CAS","ENFERMERA",1200,41931701,"RODRIGUEZ MENDOZA PAOLA MARICELY","ENFERMERA","BACHILLER","ENFERMERA",1,12,14400,1,6,7200]
[null,"402 SALUD NORTE ASCOPE","RO","CAS","TECNICO EN COMPUTACION",900,"44645217","SALAZAR MUÑOZ GEOVANY","TECNICO EN COMPUTACION","NINGUNO","TECNICO EN COMPUTACION",1,12,10800,1,6,5400]
[null,"402 SALUD NORTE ASCOPE","RO","CAS","PSICÓLOGO",1200,41840788,"SANCHEZ MEDINA EDWARDS ERICSSON","PSICÓLOGO","BACHILLER","PSICÓLOGO",1,12,14400,1,6,7200]
[null,"402 SALUD NORTE ASCOPE","RO","CAS","ENFERMERA",1200,44512780,"SANCHEZ VALVERDE JACKELINE ELIZABETH","ENFERMERA","BACHILLER","ENFERMERA",1,12,14400,1,6,7200]
[null,"402 SALUD NORTE ASCOPE","RO","CAS","ENFERMERA",1200,44833717,"SANDOVAL RODRIGUEZ MILAGROS ZELIDETH","ENFERMERA","BACHILLER","ENFERMERA",1,12,14400,1,6,7200]
[null,"402 SALUD NORTE ASCOPE","RO","CAS","TEC. EN COMPUTACION.",1000,"42934531","SHUPINGAHUA SOTO ALAN","TEC. EN COMPUTACION.","NINGUNO","TEC. EN COMPUTACION.",1,12,12000,1,6,6000]
[null,"402 SALUD NORTE ASCOPE","RO","CAS","ENFERMERA",1200,45653375,"URQUIAGA VARGAS TANIA MARGARITA","ENFERMERA","BACHILLER","ENFERMERA",1,12,14400,1,6,7200]
[null,"402 SALUD NORTE ASCOPE","RO","CAS","ENFERMERA",1200,58611677,"VALDIVIA GAMARRA GLORIA JANETH","ENFERMERA","BACHILLER","ENFERMERA",1,12,14400,1,6,7200]
[null,"402 SALUD NORTE ASCOPE","RO","CAS","TEC.ENFER.",900,18143173,"VEGA MORALES FREDA MARINA","TEC.ENFER.","NINGUNO","TEC.ENFER.",1,12,10800,1,6,5400]
[null,"402 SALUD NORTE ASCOPE","RO","CAS","ENFERMERA",1200,43677359,"VILLENA VILLA OBDULIA DORA","ENFERMERA","BACHILLER","ENFERMERA",1,12,14400,1,6,7200]
[null,"402 SALUD NORTE ASCOPE","RO","CAS","ENFERMERA",1200,41074271,"ZEGARRA BELTRAN KAREN JUDITH","ENFERMERA","BACHILLER","ENFERMERA",1,12,14400,1,6,7200]
[null,"402 SALUD NORTE ASCOPE","RO","CAS","MEDICO INTERNISTA",3400,41140605,"LOYOLA DÍAZ JORGE ALEJANDRO","MEDICO INTERNISTA","BACHILLER","MEDICO INTERNISTA",1,8,27200]
[null,"402 SALUD NORTE ASCOPE","RDR","CAS","MEDICO INTERNISTA",5000,41140605,"LOYOLA DÍAZ JORGE ALEJANDRO","MEDICO INTERNISTA","BACHILLER","MEDICO INTERNISTA",1,4,20000,1,6,{"$f":"+F3409*P3409","v":30000}]
[null,"402 SALUD NORTE ASCOPE","RO","CAS","TECNOLOGO M.",1200,17856098,"GARCIA VILLACORTA ALAN","TECNOLOGO M.","BACHILLER","TECNOLOGO M.",1,12,14400,1,6,7200]
[null,"402 SALUD NORTE ASCOPE","RO","CAS","Enfermera",1200,40937628,"AGUILAR CRUZ LISSET YULIANA","Enfermera","BACHILLER","LIC.ENFERMERIA",1,12,14400,1,6,7200]
[null,"402 SALUD NORTE ASCOPE","RO","CAS","ENFERMERA",1200,43100742,"CASTRO GUTIERREZ MAYRA ELIZABETH","ENFERMERA","BACHILLER","LIC.ENFERMERIA",1,12,14400,1,6,7200]
[null,"402 SALUD NORTE ASCOPE","RO","CAS","ENFERMERA",1200,43251007,"COBIAN BECERRA YESSICA","ENFERMERA","BACHILLER","LIC.ENFERMERIA",1,12,14400,1,6,7200]
[null,"402 SALUD NORTE ASCOPE","RO","CAS","ENFERMERA",1200,46009044,"MENDOZA FABIAN  KAREN LISSET","ENFERMERA","BACHILLER","LIC.ENFERMERIA",1,12,14400,1,6,7200]
[null,"402 SALUD NORTE ASCOPE","RO","CAS","ENFERMERA",1200,44126207,"RAMIREZ BARDALES SORAYA EMPERATRIZ","ENFERMERA","BACHILLER","LIC.ENFERMERIA",1,7,8400]
[null,"402 SALUD NORTE ASCOPE","RO","CAS","ENFERMERA",1200,46582541,"SANTA CRUZ LEIVA JANINA","ENFERMERA","BACHILLER","LIC.ENFERMERIA",1,12,14400,1,6,{"$f":"+F3416*P3416","v":7200}]
[null,"402 SALUD NORTE ASCOPE","RO","CAS","ENFERMERA",1200,45553387,"VALVERDE MENDEZ LAURA INES ","ENFERMERA","BACHILLER","LIC.ENFERMERIA",1,12,14400,1,6,7200]
[null,"402 SALUD NORTE ASCOPE","RO","CAS","ENFERMERA",1200,46526820,"VELA PAIRAZAMAN JAHAYRA CAROLINA","ENFERMERA","BACHILLER","LIC.ENFERMERIA",1,12,14400,1,6,7200]
[null,"402 SALUD NORTE ASCOPE","RO","CAS","ENFERMERA",1200,42584729,"VENTURA CAVA IVONNE","ENFERMERA","BACHILLER","LIC.ENFERMERIA",1,12,14400,1,6,7200]
[null,"402 SALUD NORTE ASCOPE","RO","CAS","ENFERMERA",1200,40476232,"ZAVALETA LUJAN MARIELA ESTHER","ENFERMERA","BACHILLER","LIC.ENFERMERIA",1,12,14400,1,6,7200]
[null,"402 SALUD NORTE ASCOPE","RO","CAS","PSICÓLOGO",1200,19082309,"INOSTROZA GARCIA JOSE GUILLERMO","PSICÓLOGO","BACHILLER","PSICÓLOGO",1,12,{"$f":"+F3421*M3421","v":14400},1,6,7200]
[null,"402 SALUD NORTE ASCOPE","RO","CAS","T. SOCIAL",1200,18000662,"CORREA PEREZ AURORA EMILIA","T. SOCIAL","BACHILLER","T. SOCIAL",1,12,{"$f":"+F3422*M3422","v":14400},1,6,7200]
[null,"402 SALUD NORTE ASCOPE","RO","CAS","T.SOCIAL",1200,17856098,"FERRER ESCOBEDO ESPERANZA","T.SOCIAL","BACHILLER","T.SOCIAL",1,12,14400,1,6,7200]
[null,"402 SALUD NORTE ASCOPE","RO","CAS","Tecnico en Enfermeria",900,41888553,"ALFARO ENRIQUEZ IRMA NELLY","Tecnico en Enfermeria","NINGUNO","Tecnico en Enfermeria",1,8,7200]
[null,"402 SALUD NORTE ASCOPE","RO","CAS","Tecnico en Enfermeria",1300,41888553,"ALFARO ENRIQUEZ IRMA NELLY","Tecnico en Enfermeria","NINGUNO","Tecnico en Enfermeria",1,4,5200,1,6,{"$f":"+F3425*P3425","v":7800}]
[null,"402 SALUD NORTE ASCOPE","RO","CAS","Tecnico en Enfermeria",1300,44281995,"BENITES PAJARES ESTHER","Tecnico en Enfermeria","NINGUNO","Tecnico en Enfermeria",1,3,3900]
[null,"402 SALUD NORTE ASCOPE","RO","CAS","Téc.en Enfermería",900,41085693,"NICACIO ULLOA ROCÍO RAQUEL","Téc.en Enfermería","NINGUNO","Téc.en Enfermería",1,12,10800,1,6,{"$f":"+F3427*P3427","v":5400}]
[null,"402 SALUD NORTE ASCOPE","RDR","CAS","M. NEUROCIRUJANO",5000,18130003,"AZABACHE DIAZ CARLOS ENRIQUE",{"$f":"+E3428","v":"M. NEUROCIRUJANO"},"BACHILLER",{"$f":"+I3428","v":"M. NEUROCIRUJANO"},1,3,15000,1,3,15000]
[null,"402 SALUD NORTE ASCOPE","RDR","CAS","M. NEUROLOGO",5000,41927861,"GOMEZ ABANTO PATRICIA DALILA",{"$f":"+E3429","v":"M. NEUROLOGO"},"BACHILLER",{"$f":"+I3429","v":"M. NEUROLOGO"},1,3,15000,1,3,15000]
[null,"402 SALUD NORTE ASCOPE","RDR","CAS","M. REUMATOLOGO",5000,41876729,"LEIVA RODRIGUEZ CARLOS EDUARDO",{"$f":"+E3430","v":"M. REUMATOLOGO"},"BACHILLER",{"$f":"+I3430","v":"M. REUMATOLOGO"},1,3,15000,1,3,15000]
[null,"402 SALUD NORTE ASCOPE","RDR","CAS","M. ANESTESIOLOGA",5000,41695018,"SOLORZANO SANCHEZ ALEJANDRA ANTONIETA",{"$f":"+E3431","v":"M. ANESTESIOLOGA"},"BACHILLER",{"$f":"+I3431","v":"M. ANESTESIOLOGA"},1,3,15000,1,6,30000]
[null,"402 SALUD NORTE ASCOPE","RDR","CAS","ENFERMERA",1800,45094849,"DIAZ GUANILO VERONICA ANGELICA",{"$f":"+E3432","v":"ENFERMERA"},"BACHILLER",{"$f":"+I3432","v":"ENFERMERA"},1,3,5400,1,3,5400]
[null,"402 SALUD NORTE ASCOPE","RDR","CAS","ENFERMERA",1800,45115407,"CRUZ ROMERO ROSY MAGDALENA",{"$f":"+E3433","v":"ENFERMERA"},"BACHILLER",{"$f":"+I3433","v":"ENFERMERA"},1,3,5400,1,3,5400]
[null,"402 SALUD NORTE ASCOPE","RDR","CAS","TEC. ADMINISTRATIVO ",1300,40498079,"FERNANDES AGUILAR FLORISA CONSUELO","TEC. ADMINISTRATIVO","NINGUNO","TEC. ADMINISTRATIVO",1,3,3900,1,6,7800]
[null,"402 SALUD NORTE ASCOPE","RDR","CAS","TEC. ADMINISTRATIVO ",1300,40555124,"CRUZ  LLATAS JAVIER ALEJANDRO","TEC. ADMINISTRATIVO ","NINGUNO","TEC. ADMINISTRATIVO ",1,3,3900,1,3,3900]
[null,"402 SALUD NORTE ASCOPE","RDR","CAS","QUIMICO FARMACEUTICO",1800,42690416,"DIAZ GUANILO JULIO GAVIER","QUIMICO FARMACEUTICO","BACHILLER","QUIMICO FARMACEUTICO",1,3,5400,1,6,10800]
[null,"402 SALUD NORTE ASCOPE","RDR","CAS","QUIMICO FARMACEUTICO",1800,40294123,"HURTADO ALAVARADO NERY LUZ","QUIMICO FARMACEUTICO","BACHILLER","QUIMICO FARMACEUTICO",1,3,5400,1,6,10800]
[null,"402 SALUD NORTE ASCOPE","RDR","CAS","QUIMICO FARMACEUTICO",1800,43929181,"FERNANDEZ VARGAS VANESSA IVON","QUIMICO FARMACEUTICO","BACHILLER","QUIMICO FARMACEUTICO",1,3,5400,1,6,10800]
[null,"402 SALUD NORTE ASCOPE","RDR","CAS","TEC. FARMACIA",1300,77054415,"CASTILLO PLASCENCIA  UDELIA PETRONILA","TEC. FARMACIA","NINGUNO","TEC. FARMACIA",1,3,3900,1,6,7800]
[null,"402 SALUD NORTE ASCOPE","RDR","CAS","TEC. FARMACIA",1300,46094004,"MENA RUIZ MERCEDES","TEC. FARMACIA","NINGUNO","TEC. FARMACIA",1,3,3900,1,6,7800]
[null,"402 SALUD NORTE ASCOPE","RDR","CAS","TEC. FARMACIA",1300,41352096,"PEDRAZA ALTAMIRANO ROGER REY ","TEC. FARMACIA","NINGUNO","TEC. FARMACIA",1,3,3900,1,6,7800]
[null,"402 SALUD NORTE ASCOPE","RO","CAS","TEC. REHABILITADOR",1300,42864083,"ORDINOLA OTERO CLAUDIA","TEC. REHABILITADOR","NINGUNO","TEC. REHABILITADOR",1,3,3900,1,6,7800]
[null,"402 SALUD NORTE ASCOPE","RDR","CAS","TEC. ADMINISTRATIVO ",1300,70998049,"GUEVARA POCLIN MELISSA YOCELIN","TEC. ADMINISTRATIVO ","NINGUNO","TEC. ADMINISTRATIVO ",1,3,3900,1,3,3900]
[null,"402 SALUD NORTE ASCOPE","RDR","CAS","TEC. ESTADISTICA",1300,18133837,"BALTODANO LAVADO BETTY MERCEDES","TEC. ESTADISTICA","NINGUNO","TEC. ESTADISTICA",1,3,3900,1,6,7800]
[null,"402 SALUD NORTE ASCOPE","RDR","CAS","AUX. ADMINISTRATIVO",1000,43571511,"ARENAS PORTILLA ANA MARIA","AUX. ADMINISTRATIVO","NINGUNO","AUX. ADMINISTRATIVO",1,3,3000,1,3,3000]
[null,"402 SALUD NORTE ASCOPE","RDR","CAS","TEC. EN SERVICIO SOCIAL",1300,18130977,"IBAÑEZ LOPEZ PATRICIA SORAYA","TEC. EN SERVICIO SOCIAL","NINGUNO","TEC. EN SERVICIO SOCIAL",1,3,3900,1,3,3900]
[null,"402 SALUD NORTE ASCOPE","RO","CAS","M. PEDIATRA",5000,43576828,"REYES CARRANZA CRISTIAN PIERRE","M. PEDIATRA","BACHILLER","M. PEDIATRA",1,3,15000,1,6,30000]
[null,"402 SALUD NORTE ASCOPE","RO","CAS","M. PEDIATRA",5000,45335212,"ARRASCO CASTRO KARLA PATRICIA","M. PEDIATRA","BACHILLER","M. PEDIATRA",1,3,15000,1,6,30000]
[null,"402 SALUD NORTE ASCOPE","RO","CAS","M.PEDIATRA",5000,43607417,"DELGADO TORRES CYNTHIA STEPHANIE","M.PEDIATRA","BACHILLER","M.PEDIATRA",1,3,15000,1,6,30000]
[null,"402 SALUD NORTE ASCOPE","RO","CAS","ENFERMERA",1800,45200131,"SILVA VEJARANO  PATRICIA GISELA","ENFERMERA","BACHILLER","ENFERMERA",1,3,5400,1,6,10800]
[null,"402 SALUD NORTE ASCOPE","RO","CAS","ENFERMERA",1800,47189061,"RODRIGUEZ TITO MARYURI ESTEFANIE","ENFERMERA","BACHILLER","ENFERMERA",1,3,5400,1,3,5400]
[null,"402 SALUD NORTE ASCOPE","RO","CAS","ENFERMERA",1800,70842917,"MENDO  VASQUEZ JUANCARLOS","ENFERMERA","BACHILLER","ENFERMERA",1,3,5400,1,4,7200]
[null,"402 SALUD NORTE ASCOPE","RO","CAS","ENFERMERA",1800,70296847,"CHERO ARGE ROBERTO BRANDER","ENFERMERA","BACHILLER","ENFERMERA",1,3,5400,1,6,10800]
[null,"402 SALUD NORTE ASCOPE","RO","CAS","ESPECIALISTA ADMINISTRATIVO",1800,41572725,"GONMZALES LEON MARIZA ALEJANDRINA","ESPECIALISTA ADMINISTRATIVO","BACHILLER","ESPECIALISTA ADMINISTRATIVO",1,3,5400,1,6,10800]
[null,"402 SALUD NORTE ASCOPE","RO","CAS","M . NEUMOLOGO",5025,70113635,"RUIZ CABALLERO DIANA CECILIA","M . NEUMOLOGO","BACHILLER","M . NEUMOLOGO",1,3,15075,1,6,30150]
[null,"402 SALUD NORTE ASCOPE","RO","CAS","TEC. ENFERMERIA",1834,18858721,"ZANGAY TORRES ROBINSON","TEC. ENFERMERIA","NINGUNO","TEC. ENFERMERIA",1,3,5502,1,6,11004]
[null,"402 SALUD NORTE ASCOPE","RO","CAS","TEC. LABORATPORIO",2097,46746369,"CABANILLAS SOILVA FRANK EDGAR","TEC. LABORATPORIO","NINGUNO","TEC. LABORATPORIO",1,3,6291,1,6,12582]
[null,"402 SALUD NORTE ASCOPE","RO","CAS",{"$f":"+E3451","v":"ENFERMERA"},2689,45784722,"CASTRO HURTADO JOANA LIZZET","ENFERMERA","BACHILLER","ENFERMERA",1,3,8067,1,6,16134]
[null,"402 SALUD NORTE ASCOPE","RO","CAS","TEC. ENFERMERIA",1300,41843433,"ROSAS GURRIONERO JOSEFINA ROXANA","TEC. ENFERMERIA",{"$f":"+J3457","v":"NINGUNO"},"TEC. ENFERMERIA",1,3,3900,1,6,7800]
[null,"402 SALUD NORTE ASCOPE","RDR","CAS","ESPECIALISTA ADMINISTRATIVO",1800,44384530,"CASTAÑEDA ALFARO ANA VICENTA","ESPECIALISTA ADMINISTRATIVO","BACHILLER","ESPECIALISTA ADMINISTRATIVO",1,3,5400,1,6,10800]
[null,"402 SALUD NORTE ASCOPE","RDR","CAS","TEC. LABORATPORIO",1300,47342760,"ESPINOZA QUIPAN DENNIS ANDRE","TEC. LABORATPORIO",{"$f":"+J3459","v":"NINGUNO"},"TEC. LABORATPORIO",1,3,3900,1,3,3900]
[null,"TOTAL",null,null,null,{"$f":"SUM(F3304:F3461)","v":270666},null,null,null,null,null,null,null,{"$f":"SUM(N3304:N3461)","v":2053767},null,null,{"$f":"SUM(Q3304:Q3461)","v":1318566}]
[null,"403 SALUD TRUJILLO SUR OESTE","RO","CAS","DIGITADOR(A)",1100,"41008335","ACHATA RODRIGUEZ CRISTINA MILUZKA","SECRETARIA","Técnico superior completo","SECRETARIA",1,12,15113.4,4,6,4420.3]
[null,"403 SALUD TRUJILLO SUR OESTE","RO","CAS","TECNICO EN LABORATORIO",1100,47437919,"ABRAMONTE SOSA JHON PAIL","TECNICO LABORATORISTA","Técnico superior completo","TECNICO LABORATORISTA",0,0,0,1,4,4735.03]
[null,"403 SALUD TRUJILLO SUR OESTE","RDR","CAS","TECNICO EN COMPUTACION",1100,"18132152","AGUILAR GARCIA MIRIAN YSABEL","TECNICO EN COMPUTACION E INFORMATICA/EN COMPUTADORAS","Técnico superior completo","TECNICA EN COMPUTACION E INFORMATICA",1,12,15292.800000000001,4,6,7194]
[null,"403 SALUD TRUJILLO SUR OESTE","RO","CAS","TECNICO EN ENFERMERIA",1100,"76957615","ALFARO LAIZA LENIN DARWIN","TECNICO EN ENFERMERIA","Técnico superior completo","TECNICO EN ENFERMERIA",1,4,5894,0,0,0]
[null,"403 SALUD TRUJILLO SUR OESTE","RDR","CAS","QUIMICO FARMACEUTICO",1300,"18206978","ALZA LANDEO GUSTAVO FERNANDO","QUIMICO FARMACEUTICO","Superior completo","QUIMICO FARMACEUTICO",1,12,17513.400000000001,4,6,8480.4]
[null,"403 SALUD TRUJILLO SUR OESTE","RDR","CAS","TECNICO EN ENFERMERIA",1100,"41886695","AMASIFUEN RENGIFO JARMIN","TECNICO EN ENFERMERIA","Técnico superior completo","TECNICO EN ENFERMERIA",1,12,15292.800000000001,4,6,6984]
[null,"403 SALUD TRUJILLO SUR OESTE","RO","CAS","ENFERMERA(O)",1300,"43820745","ARCE ESCOBAR LISBETH","ENFERMERA(O)","Superior completo","LICENCIADA EN ENFERMERIA",1,12,17513.400000000001,0,0,0]
[null,"403 SALUD TRUJILLO SUR OESTE","RO","CAS","ENFERMERA(O)",1300,"46122947","ARISTA MONTES MARIA DE LOS ANGELES","ENFERMERA(O)","Superior completo","LICENCIADA EN ENFERMERIA",1,12,17692.8,4,6,7180.4]
[null,"403 SALUD TRUJILLO SUR OESTE","RDR","CAS","ENFERMERA(O)",1300,"43331745","ARTEAGA REYES GLADYS CRISTINA","ENFERMERA(O)","Superior completo","LICENCIADA EN ENFERMERIA",1,12,16610.25,4,6,8480.4]
[null,"403 SALUD TRUJILLO SUR OESTE","RO","CAS","ARTESANO",1100,"42829527","AZABACHE CARPIO CESAR MANUEL","* SIN PROFESIÓN NI CARRERA TÉCNICA","Secundaria completa","NO CUENTA CON TITULO",1,12,15113.4,4,6,7194]
[null,"403 SALUD TRUJILLO SUR OESTE","RDR","CAS","ENFERMERA(O)",1300,"41606547","BACILIO PEREZ DIANA ARACELI","ENFERMERA(O)","Superior completo","LICENCIADA EN ENFERMERIA",1,11,17692.8,4,6,8480.4]
[null,"403 SALUD TRUJILLO SUR OESTE","RO","CAS","TECNICO EN ENFERMERIA",1100,"44567406","BALLARDO ARCE CARMEN MARILIN",{"$f":"VLOOKUP(G3474:G3484,'[3]reporte_padron_nominal-7'!$AC$1090:$AV$1242,20,FALSE)","v":"TECNICO EN ENFERMERIA"},"Técnico superior completo","TECNICO EN ENFERMERIA",1,2,2439.8000000000002,0,0,0]
[null,"403 SALUD TRUJILLO SUR OESTE","RO","CAS","TECNICO EN LABORATORIO",1100,"18143217","BENAVIDES FERNANDEZ NELLY DEL CARMEN","TECNICO LABORATORISTA","Técnico superior completo","TECNICO LABORATORISTA",1,12,14620.5,4,6,7194]
[null,"403 SALUD TRUJILLO SUR OESTE","RDR","CAS","AUXILIAR DE NUTRICION",1000,"18188978","BENITES GONZALES ROCIO DEL PILAR","* SIN PROFESIÓN NI CARRERA TÉCNICA","Secundaria completa","NO CUENTA CON TITULO",1,12,14092.800000000001,0,0,0]
[null,"403 SALUD TRUJILLO SUR OESTE","RDR","CAS","ARTESANO",1100,"18201107","BOZZETA SANCHEZ JERICO GIOVANNI","* SIN PROFESIÓN NI CARRERA TÉCNICA","Secundaria completa","NO CUENTA CON TITULO",1,12,15180.75,4,6,6812.05]
[null,"403 SALUD TRUJILLO SUR OESTE","RDR","CAS","TRABAJADOR DE SERVICIO",1000,"46839844","BROCCA PADILLA DIEGO LUIS ENRIQUE","* SIN PROFESIÓN NI CARRERA TÉCNICA","Secundaria completa","NO CUENTA CON TITULO",1,12,14092.800000000001,4,6,6527.6]
[null,"403 SALUD TRUJILLO SUR OESTE","RO","CAS","DIGITADOR(A)",1100,"70886319","BURGOS GARCIA ABEL DEL CARMEN","INGENIERO SISTEMAS INFORMATICOS","Superior completo","INGENIERO DE SISTEMAS",1,12,14620.5,4,6,7194]
[null,"403 SALUD TRUJILLO SUR OESTE","RO","CAS","TECNICO EN ENFERMERIA",1100,"45537642","CARDENAS JARA LOURDES NOELIA","TECNICO EN ENFERMERIA","Técnico superior completo","TECNICO EN ENFERMERIA",1,2,3776.5,2,4,4670.3]
[null,"403 SALUD TRUJILLO SUR OESTE","RO","CAS","TECNICO EN ENFERMERIA",1100,"42511732","CARRANZA ALCANTARA SILVIA MILAGROS","TECNICO EN ENFERMERIA","Técnico superior completo","TECNICO EN ENFERMERIA",1,12,14534.48,4,6,7194]
[null,"403 SALUD TRUJILLO SUR OESTE","RO","CAS","MEDICO",4000,"44188377","CARRANZA LEON SANTIAGO SEBASTIAN","MEDICO CIRUJANO","Superior completo","MEDICO CIRUJANO",1,6,25944,4,6,24680.400000000001]
[null,"403 SALUD TRUJILLO SUR OESTE","RO","CAS","ENFERMERA(O)",1300,"43926064","CASAMAYOR VILCA DIANA DEYCI","ENFERMERA(O)","Superior completo","LICENCIADA EN ENFERMERIA",1,12,17692.8,4,6,8480.4]
[null,"403 SALUD TRUJILLO SUR OESTE","RO","CAS","ENFERMERA(O)",1300,45862232,"CASTAÑEDA OTOYA BETSSY PAOLA","ENFERMERA(O)","Superior completo","LICENCIADA EN ENFERMERIA",1,2,3715.4,0,0,0]
[null,"403 SALUD TRUJILLO SUR OESTE","RO","CAS","DIGITADOR(A)",1100,"44879576","CASTAÑEDA OTOYA RUTH GIOVANNA","INGENIERO SISTEMAS INFORMATICOS","Superior completo","INGENIERA DE SISTEMAS",1,12,15270,4,6,7194]
[null,"403 SALUD TRUJILLO SUR OESTE","RDR","CAS","TECNICO EN LABORATORIO",1100,"17844201","CASTILLO DIESTRA JAIME ALEJANDRO","TECNICO LABORATORISTA","Técnico superior completo","TECNICO LABORATORISTA",1,12,15113.4,4,6,7194]
[null,"403 SALUD TRUJILLO SUR OESTE","RO","CAS","TECNICO ADMINISTRATIVO",1100,"44933047","CASTILLO TEJADA SAYRA STEFANI","TECNICO ADMINISTRADOR","Técnico superior completo","TECNICO EN ADMINISTRACION",1,12,15292.800000000001,4,6,7194]
[null,"403 SALUD TRUJILLO SUR OESTE","RDR","CAS","AUXILIAR DE NUTRICION",1000,"18159456","CASTILLO TEJADA XEOSMARA YENDA","* SIN PROFESIÓN NI CARRERA TÉCNICA","Secundaria completa","NO CUENTA CON TITULO",1,12,13980.75,4,6,6540]
[null,"403 SALUD TRUJILLO SUR OESTE","RO","CAS","ENFERMERA(O)",1300,"45909632","CASTRO FERNANDEZ GABRIELA NOELI","ENFERMERA(O)","Superior completo","LICENCIADA EN ENFERMERIA",1,12,17513.400000000001,4,6,8480.4]
[null,"403 SALUD TRUJILLO SUR OESTE","RDR","CAS","ABOGADO(A)",1300,"18085370","CASTRO RODRIGUEZ JOSE ALFREDO","ABOGADO","Superior completo","ABOGADO",1,12,17692.8,4,6,8480.4]
[null,"403 SALUD TRUJILLO SUR OESTE","RDR","CAS","AUXILIAR DE NUTRICION",1000,"19669302","CASTRO VALDERRAMA DORIAN SISINIA","* SIN PROFESIÓN NI CARRERA TÉCNICA","Secundaria completa","NO CUENTA CON TITULO",1,12,13913.4,4,6,6540]
[null,"403 SALUD TRUJILLO SUR OESTE","RDR","CAS","ESPECIALISTA ADMINISTRATIVO",1300,"44536090","CERNA ZAVALA INGRID ELIZABETH","INGENIERO SISTEMAS ","Superior completo","INGENIERO DE SISTEMAS",1,1,2713.4,4,6,8480.4]
[null,"403 SALUD TRUJILLO SUR OESTE","RO","CAS","ENFERMERA(O)",1300,"46601584","CHACON SANCHEZ EVELYN LISSETH","ENFERMERA(O)","Superior completo","LICENCIADA EN ENFERMERIA",1,2,4092.7999999999997,4,6,8480.4]
[null,"403 SALUD TRUJILLO SUR OESTE","RO","CAS","ENFERMERA(O)",1300,"45844676","CHAVARRI TRONCOSO YESSICA KATHERINE","ENFERMERA(O)","Superior completo","LICENCIADA EN ENFERMERIA",1,12,17513.400000000001,4,6,8480.4]
[null,"403 SALUD TRUJILLO SUR OESTE","RO","CAS","TECNICO EN ENFERMERIA",1100,"42711659","CHAVARRY ORTIZ RAFAEL JUNIOR","TECNICO EN ENFERMERIA","Técnico superior completo","TECNICO EN ENFERMERIA",1,12,15270,0,0,0]
[null,"403 SALUD TRUJILLO SUR OESTE","RO","CAS","MEDICO",5025,"48058077","CHAVEZ BAZAN TANIA HOMAIRA","MEDICO CIRUJANO","Superior completo","MEDICO CIRUJANO",1,6,32367.449999999997,1,6,30830.400000000001]
[null,"403 SALUD TRUJILLO SUR OESTE","RO","CAS","OBSTETRIZ",1300,"18011769","CHAVEZ DOMINGUEZ ADOILA DOMITILA","OBSTETRA","Superior completo","LICENCIADA EN OBSTETRICIA",1,12,17692.8,0,0,0]
[null,"403 SALUD TRUJILLO SUR OESTE","RO","CAS","TECNICO EN COMPUTACION",1100,"10732487","CHUMBE GALARZA JUAN ARMANDO","TECNICO EN COMPUTACION E INFORMATICA/EN COMPUTADORAS","Técnico superior completo","TECNICO EN COMPUTACION E INFORMATICA",1,12,15600.6,4,6,7194]
[null,"403 SALUD TRUJILLO SUR OESTE","RO","CAS","MEDICO",5025,"43125766","COLUNCHE NARVAEZ CESAR AUGUSTO",{"$f":"VLOOKUP(G3499:G3509,'[3]reporte_padron_nominal-7'!$AC$1090:$AV$1242,20,FALSE)","v":"MEDICO CIRUJANO"},"Superior completo","MEDICO CIRUJANO",1,2,11642.800000000001,0,0,0]
[null,"403 SALUD TRUJILLO SUR OESTE","RO","CAS","MEDICO",4000,"18152203","CONTRERAS PISFIL ROMULO ALEXANDER","MEDICO CIRUJANO","Superior completo","MEDICO CIRUJANO",1,6,27833.599999999999,1,3,12340.2]
[null,"403 SALUD TRUJILLO SUR OESTE","RDR","CAS","ESPECIALISTA ADMINISTRATIVO",1300,"40854194","CRUZ CASTILLO JORGE LUIS","ADMINISTRADOR","Superior completo","LICENCIADO EN ADMINISTRACION",1,12,17692.8,4,6,8480.4]
[null,"403 SALUD TRUJILLO SUR OESTE","RO","CAS","TECNICO ADMINISTRATIVO",1100,"45886926","CRUZ LAZARO CHRISTIAN LARK","CONTADOR PUBLICO","Superior completo","CONTADOR PUBLICO",1,6,7697.7,4,6,7194]
[null,"403 SALUD TRUJILLO SUR OESTE","RO","CAS","ENFERMERA(O)",1300,"45656020","CUBAS LLAXACONDOR HERMINIA ROSITA","ENFERMERA(O)","Superior completo","LICENCIADA EN ENFERMERIA",1,12,18000.599999999999,4,6,8480.4]
[null,"403 SALUD TRUJILLO SUR OESTE","RO","CAS","ENFERMERA(O)",1300,"23988247","CUMPA NOA ZENAYDA",{"$f":"VLOOKUP(G3504:G3514,'[3]reporte_padron_nominal-7'!$AC$1090:$AV$1242,20,FALSE)","v":"ENFERMERA(O)"},"Superior completo","LICENCIADA EN ENFERMERIA",1,2,4092.7999999999997,0,0,0]
[null,"403 SALUD TRUJILLO SUR OESTE","RDR","CAS","ENFERMERA(O)",1300,"46829867","DE LA CRUZ BRICEÑO DILMA ELIZABETH","ENFERMERA(O)","Superior completo","LICENCIADA EN ENFERMERIA",1,11,17692.8,4,6,8480.4]
[null,"403 SALUD TRUJILLO SUR OESTE","RDR","CAS","TECNICO EN ENFERMERIA",1100,"41716167","DELGADO TAPIA WILMER SIMON","TECNICO EN ENFERMERIA","Técnico superior completo","TECNICO EN ENFERMERIA",1,12,15270,null,2,1573]
[null,"403 SALUD TRUJILLO SUR OESTE","RDR","CAS","CONTADOR PUBLICO",1300,"41453923","DESCALZI RODRIGUEZ ROSA INES","CONTADOR PUBLICO","Superior completo","CONTADOR PUBLICO",1,12,16919.400000000001,4,6,8480.4]
[null,"403 SALUD TRUJILLO SUR OESTE","RDR","CAS","TECNICO ADMINISTRATIVO",1100,"41967558","DIAZ ALVAREZ CRISTIAN GIUSEPPI","ADMINISTRADOR","Superior completo","LICENCIADO EN ADMINISTRACION",1,12,15600.6,4,6,7194]
[null,"403 SALUD TRUJILLO SUR OESTE","RO","CAS","ENFERMERA(O)",1300,"46145814","DIAZ ANICETO SEGUNDO YSAAC","ENFERMERA(O)","Superior completo","LICENCIADO EN ENFERMERIA",1,12,16807.57,4,6,8480.4]
[null,"403 SALUD TRUJILLO SUR OESTE","RO","CAS","OBSTETRIZ",1300,"19254055","DURAND VILELA DELIA SOLEDAD DEL SOCORRO","OBSTETRA","Superior completo","LICENCIADA EN OBSTETRICIA",1,12,17513.400000000001,0,0,0]
[null,"403 SALUD TRUJILLO SUR OESTE","RO","CAS","TECNICO EN COMPUTACION",1100,"19256840","DURAND VILELA GONZALO","TECNICO EN COMPUTACION E INFORMATICA/EN COMPUTADORAS","Técnico superior completo","TECNICO EN COMPUTACION E INFORMATICA",1,12,14039.8,4,6,7194]
[null,"403 SALUD TRUJILLO SUR OESTE","RO","CAS","ENFERMERA(O)",1300,"40233866","ECHEGARAY ORTEGA CONSUELO DEL PILAR","ENFERMERA(O)","Superior completo","LICENCIADA EN ENFERMERIA",1,12,17513.400000000001,0,0,0]
[null,"403 SALUD TRUJILLO SUR OESTE","RDR","CAS","AUXILIAR ADMINISTRATIVO",1000,"18182506","ESPINOZA SIGUENZA CARMEN ROSA","TECNICO ADMINISTRADOR","Técnico superior completo","TECNICO EN ADMINISTRACION",1,12,13913.4,4,6,6540]
[null,"403 SALUD TRUJILLO SUR OESTE","RO","CAS","ENFERMERA(O)",1300,"42857889","FERNANDEZ TABOADA ELIZABETH","ENFERMERA(O)","Superior completo","LICENCIADA EN ENFERMERIA",1,12,17468.7,4,6,8480.4]
[null,"403 SALUD TRUJILLO SUR OESTE","RO","CAS","BIOLOGO(A)",2689,"42754084","GALARRETA ARIAS JESSICA MERCEDES","BIOLOGO","Superior completo","BIOLOGO",1,6,17928.560000000001,0,0,0]
[null,"403 SALUD TRUJILLO SUR OESTE","RDR","CAS","ESPECIALISTA ADMINISTRATIVO",1300,"18205408","GARCIA AGUILAR GABRIELA JUDITH","CONTADOR PUBLICO","Superior completo","CONTADOR PUBLICO",1,12,17692.8,4,6,8480.4]
[null,"403 SALUD TRUJILLO SUR OESTE","RO","CAS","ENFERMERA(O)",1300,"16790552","GARCIA CORDOVA NELLY","ENFERMERA(O)","Superior completo","LICENCIADA EN ENFERMERIA",1,7,12217.5,4,6,8480.4]
[null,"403 SALUD TRUJILLO SUR OESTE","RO","CAS","ENFERMERA(O)",1300,"45891341","GARCIA CORREA CLAUDIA CAROLINA","ENFERMERA(O)","Superior completo","LICENCIADA EN ENFERMERIA",1,4,6813.4,4,6,8480.4]
[null,"403 SALUD TRUJILLO SUR OESTE","RDR","CAS","BIOLOGO(A)",1300,"41260199","GIL RUIZ BIRMANIA HOLANDA","BIOLOGO","Superior completo","BIOLOGO",1,12,17692.8,4,6,8480.4]
[null,"403 SALUD TRUJILLO SUR OESTE","RO","CAS","ENFERMERA(O)",1300,"42512176","GONZA AGUILERA SEGUNDO MARTIN","ENFERMERA(O)","Superior completo","LICENCIADO EN ENFERMERIA",1,12,17513.400000000001,4,6,8480.4]
[null,"403 SALUD TRUJILLO SUR OESTE","RO","CAS","TECNICO OPERADOR DE EQUIPOS ME",1100,"43657866","GUERRERO NEIRA LUZ MARIA","TECNOLOGO MEDICO RADIOLOGIA","Superior completo","TECNOLOGO MEDICO RADIOLOGIA",1,12,14994,4,6,7194]
[null,"403 SALUD TRUJILLO SUR OESTE","RO","CAS","DIGITADOR(A)",1100,"18196461","GUEVARA VALVERDE JULIO CESAR","TECNICO ADMINISTRADOR","Técnico superior completo","TECNICO EN ADMINISTRACION",1,12,15113.4,4,6,7194]
[null,"403 SALUD TRUJILLO SUR OESTE","RO","CAS","DIGITADOR(A)",1100,"41277670","GUTIERREZ AVILA YENNY YUDITH","SECRETARIA","Superior completo","SECRETARIA",1,12,15113.4,4,6,7194]
[null,"403 SALUD TRUJILLO SUR OESTE","RO","CAS","MEDICO",4000,"40233215","GUTIERREZ FLORES JUAN ARTURO","MEDICO CIRUJANO","Superior completo","MEDICO CIRUJANO",1,12,50400.6,4,6,24680.400000000001]
[null,"403 SALUD TRUJILLO SUR OESTE","RO","CAS","TECNICO EN ENFERMERIA",1100,"71770926","HARO CASTILLO NORMA MARISOL","TECNICO EN ENFERMERIA","Técnico superior completo","TECNICO EN ENFERMERIA",1,2,3692.7999999999997,0,0,0]
[null,"403 SALUD TRUJILLO SUR OESTE","RO","CAS","ENFERMERA(O)",1300,"45520441","HERNANDEZ BACA NARDA CAROLINA JEN","ENFERMERA(O)","Superior completo","LICENCIADA EN ENFERMERIA",1,11,17692.8,0,0,0]
[null,"403 SALUD TRUJILLO SUR OESTE","RO","CAS","TECNICO EN ENFERMERIA",1100,"46325048","HORNA CARRASCO LESLIE GIANINA","TECNICO EN ENFERMERIA","Técnico superior completo","TECNICO EN ENFERMERIA",1,1,2592.7999999999997,0,0,0]
[null,"403 SALUD TRUJILLO SUR OESTE","RO","CAS","SECRETARIA",1100,"43920742","INCA DIESTRA JESSICA JACKELIN","SECRETARIA","Técnico superior completo","SECRETARIA",1,12,15292.800000000001,4,6,7194]
[null,"403 SALUD TRUJILLO SUR OESTE","RDR","CAS","ENFERMERA(O)",1300,"45228296","INCA MELENDEZ MARIELA MEDALIT","ENFERMERA(O)","Superior completo","LICENCIADA EN ENFERMERIA",1,11,17692.8,4,6,8480.4]
[null,"403 SALUD TRUJILLO SUR OESTE","RO","CAS","ENFERMERA(O)",1300,"47325525","INGUIL CHAVARRI MARYURI YSAMAR",{"$f":"VLOOKUP(G3530:G3540,'[3]reporte_padron_nominal-7'!$AC$1090:$AV$1242,20,FALSE)","v":"ENFERMERA(O)"},"Superior completo","LICENCIADA EN ENFERMERIA",1,2,4092.7999999999997,null,6,8090.4]
[null,"403 SALUD TRUJILLO SUR OESTE","RO","CAS","PSICOLOGO(A)",1300,"32925287","JAVIER LY LUISA YSABEL","PSICOLOGO","Superior completo","LICENCIADA EN PSICOLOGIA",1,12,17692.8,0,0,0]
[null,"403 SALUD TRUJILLO SUR OESTE","RO","CAS","TECNICO EN ENFERMERIA",1100,"45254111","JORDAN LEON LIDIA","TECNICO EN ENFERMERIA","Técnico superior completo","TECNICO EN ENFERMERIA",1,12,15292.800000000001,0,0,0]
[null,"403 SALUD TRUJILLO SUR OESTE","RO","CAS","TECNICO ADMINISTRATIVO",1100,"41494486","JULCA DIAZ LINDLEY PEDRO","INGENIERO SISTEMAS INFORMATICOS","Superior completo","INGENIERO DE SISTEMAS",1,12,14717.4,4,6,7194]
[null,"403 SALUD TRUJILLO SUR OESTE","RO","CAS","ENFERMERA(O)",1300,"44436329","LAIZA CUEVA ZOILA ELIZABETH","ENFERMERA(O)","Superior completo","LICENCIADA EN ENFERMERIA",1,12,17513.400000000001,4,6,8480.4]
[null,"403 SALUD TRUJILLO SUR OESTE","RO","CAS","MEDICO",4000,"18158115","LEAL RODRIGUEZ LESLIE CAROL","MEDICO CIRUJANO","Superior completo","MEDICO CIRUJANO",1,12,49913.4,4,6,24680.400000000001]
[null,"403 SALUD TRUJILLO SUR OESTE","RDR","CAS","SECRETARIA",1100,"43429731","LECA ARANA ROSA MERCEDES","SECRETARIA EJECUTIVA","Técnico superior completo","SECRETARIA EJECUTIVA",1,12,15600.6,4,6,7194]
[null,"403 SALUD TRUJILLO SUR OESTE","RO","CAS","TECNICO EN ENFERMERIA",1100,"18200904","LEIVA CALDERON GISELLA ROXANA","TECNICO EN ENFERMERIA","Técnico superior completo","TECNICO EN ENFERMERIA",1,12,15292.800000000001,0,0,0]
[null,"403 SALUD TRUJILLO SUR OESTE","RO","CAS","TECNICO EN LABORATORIO",1100,"42665067","LINIAN EVANGELISTA MIKE","TECNICO LABORATORISTA","Técnico superior completo","TECNICO LABORATORISTA",1,10,11613.4,0,0,0]
[null,"403 SALUD TRUJILLO SUR OESTE","RO","CAS","ENFERMERA(O)",1300,"41091429","LLERENA OTINIANO MARIA ISABEL","ENFERMERA(O)","Superior completo","LICENCIADA EN ENFERMERIA",1,12,17513.400000000001,4,6,8480.4]
[null,"403 SALUD TRUJILLO SUR OESTE","RDR","CAS","ESPECIALISTA ADMINISTRATIVO",1300,"18113703","LOPEZ GAMARRA ALIDA MERCEDES","ADMINISTRADOR","Superior completo","LICENCIADA EN ADMINISTRACION",1,12,17692.8,4,6,8480.4]
[null,"403 SALUD TRUJILLO SUR OESTE","RO","CAS","ENFERMERA(O)",1300,"42894535","LOPEZ LIHON ROXANA","ENFERMERA(O)","Superior completo","LICENCIADA EN ENFERMERIA",1,12,16473.5,4,6,8480.4]
[null,"403 SALUD TRUJILLO SUR OESTE","RDR","CAS","ESPECIALISTA ADMINISTRATIVO",1300,"40447086","MANTILLA LAGUNA ROSA LIDIA","ADMINISTRADOR","Superior completo","LICENCIADA EN ADMINISTRACION",1,12,17468.7,4,6,8480.4]
[null,"403 SALUD TRUJILLO SUR OESTE","RO","CAS","OBSTETRIZ",1300,"40220105","MARQUINA VILLALOBOS JACQUELINE ISABEL","OBSTETRA","Superior completo","LICENCIADA EN OBSTETRICIA",1,12,17513.400000000001,0,0,0]
[null,"403 SALUD TRUJILLO SUR OESTE","RDR","CAS","ESPECIALISTA ADMINISTRATIVO",1300,"43390550","MEDEROS MONTERO CINTHIA IVONNE","ADMINISTRADOR","Superior completo","LICENCIADA EN ADMINISTRACION",1,12,17468.7,4,6,7101.7199999999993]
[null,"403 SALUD TRUJILLO SUR OESTE","RO","CAS","TECNICO ADMINISTRATIVO",1100,"43346849","MELENDEZ JARA LUIS ANANIAS","ADMINISTRADOR","Superior completo","LICENCIADO EN ADMINISTRACION",1,12,14039.8,4,6,7194]
[null,"403 SALUD TRUJILLO SUR OESTE","RO","CAS","ENFERMERA(O)",1300,"47385845","MENDEZ IBAÑEZ YUNEYRI EDITH","ENFERMERA(O)","Superior completo","LICENCIADA EN ENFERMERIA",1,12,17776.5,4,6,8480.4]
[null,"403 SALUD TRUJILLO SUR OESTE","RO","CAS","ENFERMERA(O)",1300,"18859530","MENDOZA BRIONES ANA MARIA","ENFERMERA(O)","Superior completo","LICENCIADA EN ENFERMERIA",1,12,17513.400000000001,4,6,8480.4]
[null,"403 SALUD TRUJILLO SUR OESTE","RDR","CAS","TECNICO EN COMPUTACION",1100,"70661178","MENDOZA PIZARRO OLIVER EDDI","TECNICO EN COMPUTACION E INFORMATICA/EN COMPUTADORAS","Técnico superior completo","TECNICO EN COMPUTACION E INFORMATICA",1,12,15113.4,4,6,7194]
[null,"403 SALUD TRUJILLO SUR OESTE","RO","CAS","MEDICO",4000,"45236486","MOYA CARRANZA JULISSA CATHERINE","MEDICO","Superior completo","MEDICO ",1,1,5313.4,0,0,0]
[null,"403 SALUD TRUJILLO SUR OESTE","RO","CAS","ENFERMERA(O)",1300,"18225460","MUDARRA ABANTO JILL CORINNE","ENFERMERA(O)","Superior completo","LICENCIADA EN ENFERMERIA",1,1,2792.7999999999997,0,0,0]
[null,"403 SALUD TRUJILLO SUR OESTE","RO","CAS","TECNICO EN COMPUTACION",1100,"41087808","MUÑOZ SANTISTEBAN CRISTIAN MANUEL","TECNICO ADMINISTRADOR","Técnico superior completo","TECNICO EN ADMINISTRACION",1,12,15292.800000000001,4,6,7194]
[null,"403 SALUD TRUJILLO SUR OESTE","RO","CAS","TRABAJADOR DE SERVICIO",1000,"18019394","MURRUGARRA CASTRO JOSE LUIS","* SIN PROFESIÓN NI CARRERA TÉCNICA","Secundaria completa","NO CUENTA CON TITULO",1,12,13010.25,4,6,6222]
[null,"403 SALUD TRUJILLO SUR OESTE","RO","CAS","TECNICO EN NUTRICION",1100,"18162748","NARRO SOLANO PILAR DEL CARMEN","TECNICO EN COCINA","Estudiante",null,1,12,14732.550000000001,4,6,7194]
[null,"403 SALUD TRUJILLO SUR OESTE","RO","CAS","ENFERMERA(O)",1300,"46685511","OLIVERA OLIVERA SILVIA ARMINDA","ENFERMERA(O)","Superior completo","LICENCIADA EN ENFERMERIA",1,12,17692.8,4,6,8480.4]
[null,"403 SALUD TRUJILLO SUR OESTE","RO","CAS","TECNICO EN COMPUTACION",1100,"41666193","ORBEGOSO PONCE DE JARA GLENDA JOHANY","TECNICO EN COMPUTACION E INFORMATICA/EN COMPUTADORAS","Técnico superior completo","TECNICA EN COMPUTACION E INFORMATICA",1,12,14615.71,4,6,7194]
[null,"403 SALUD TRUJILLO SUR OESTE","RO","CAS","ENFERMERA(O)",1300,"44125190","ORREGO SERNAQUE DELIA CAROLINA","ENFERMERA(O)","Superior completo","LICENCIADA EN ENFERMERIA",1,12,17692.8,0,0,0]
[null,"403 SALUD TRUJILLO SUR OESTE","RO","CAS","ENFERMERA(O)",1300,"44161690","PAMPA ESPINOZA MARIA CAROLINA","ENFERMERA(O)","Superior completo","LICENCIADA EN ENFERMERIA",1,12,17394,4,6,8480.4]
[null,"403 SALUD TRUJILLO SUR OESTE","RO","CAS","ENFERMERA(O)",1300,"44224678","PAREDES QUEZADA DE CARBAJAL LIZETH MADELEINE","ENFERMERA(O)","Superior completo","LICENCIADA EN ENFERMERIA",1,12,17692.8,4,6,8480.4]
[null,"403 SALUD TRUJILLO SUR OESTE","RO","CAS","DIGITADOR(A)",1100,"18897582","PAREDES VILLALOBOS CARLOS ENRIQUE","TECNICO ADMINISTRADOR","Técnico superior completo","TECNICO EN ADMINISTRACION",1,12,15113.4,4,6,7194]
[null,"403 SALUD TRUJILLO SUR OESTE","RDR","CAS","QUIMICO FARMACEUTICO",1300,"41598033","PELAEZ ESQUERRE CARLOS ALBERTO","QUIMICO FARMACEUTICO","Superior completo","QUIMICO FARMACEUTICO",1,11,17692.8,4,6,8480.4]
[null,"403 SALUD TRUJILLO SUR OESTE","RO","CAS","DIGITADOR(A)",1100,"18168597","PEREDA SANCHEZ BELGICA LORENA","TECNICO ADMINISTRADOR","Técnico superior completo","TECNICO EN ADMINISTRACION",1,12,15292.800000000001,4,6,6391.74]
[null,"403 SALUD TRUJILLO SUR OESTE","RO","CAS","TECNICO EN COMPUTACION",1100,"41519243","PEREZ ARENAZA LISSETH FIORELA","INGENIERO SISTEMAS INFORMATICOS","Superior completo","INGENIERA DE SISTEMAS",1,12,15113.4,4,6,6371]
[null,"403 SALUD TRUJILLO SUR OESTE","RO","CAS","TECNICO EN ENFERMERIA",1100,"45608415","PEREZ BUSTAMANTE AMELIA LILIANA","TECNICO EN ENFERMERIA","Técnico superior completo","TECNICO EN ENFERMERIA",1,2,3692.7999999999997,0,0,0]
[null,"403 SALUD TRUJILLO SUR OESTE","RO","CAS","TECNICO ADMINISTRATIVO",1100,"44764363","PEREZ RODRIGUEZ KATIA FIORELLA","TECNICO ADMINISTRADOR","Técnico superior completo","TECNICO EN ADMINISTRACION",1,12,14915.4,4,6,7194]
[null,"403 SALUD TRUJILLO SUR OESTE","RO","CAS","TECNICO EN LABORATORIO",1100,"42134207","POLO CASTILLO VERONICA LISSETH","TECNICO EN LABORATORIO","Técnico superior completo","TECNICO LABORATORISTA",1,1,2368.6999999999998,4,6,7194]
[null,"403 SALUD TRUJILLO SUR OESTE","RO","CAS","TECNICO EN LABORATORIO",2097,"44999315","POLO TACANGA ROSA LUZ","BIOLOGO","Superior completo","BIOLOGO",1,4,8961.5,1,6,13262.4]
[null,"403 SALUD TRUJILLO SUR OESTE","RO","CAS","ENFERMERA(O)",1300,"42038244","PORRAS LIZA KARINA","ENFERMERA(O)","Superior completo","LICENCIADA EN ENFERMERIA",1,1,2792.7999999999997,0,0,0]
[null,"403 SALUD TRUJILLO SUR OESTE","RO","CAS","MEDICO ANESTESIOLOGO",4000,"45540483","QUISPE LEIVA VANESSA NATALIE","MEDICO CIRUJANO","Superior completo","MEDICO CIRUJANO",1,12,49199.5,4,6,24680.400000000001]
[null,"403 SALUD TRUJILLO SUR OESTE","RO","CAS","TECNICO ADMINISTRATIVO",1100,"47831815","RAMIREZ NARVAEZ DIANA CAROLINA","ADMINISTRADOR","Superior completo","LICENCIADA EN ADMINISTRACION",1,7,9576.6,4,6,7194]
[null,"403 SALUD TRUJILLO SUR OESTE","RO","CAS","TECNICO EN ENFERMERIA",1100,"44287048","RAMOS CAMPOS DEISY JOBANA","TECNICO EN ENFERMERIA","Técnico superior completo","TECNICO EN ENFERMERIA",1,1,2228.3000000000002,0,0,0]
[null,"403 SALUD TRUJILLO SUR OESTE","RO","CAS","ENFERMERA(O)",1300,"43808222","REBAZA TORO CECILIA CAROLINA","ENFERMERA(O)","Superior completo","LICENCIADA EN ENFERMERIA",1,12,16615.019999999997,4,6,8480.4]
[null,"403 SALUD TRUJILLO SUR OESTE","RO","CAS","ENFERMERA(O)",1300,"40342170","REYES ARANDA KARINA IVONNE","ENFERMERA(O)","Superior completo","LICENCIADA EN ENFERMERIA",1,12,17513.400000000001,4,6,8480.4]
[null,"403 SALUD TRUJILLO SUR OESTE","RO","CAS","ENFERMERA(O)",1300,"45992242","ROBLES HUAMANQUISPE CINDY NABILA","ENFERMERA(O)","Superior completo","LICENCIADA EN ENFERMERIA",1,12,17692.8,0,0,0]
[null,"403 SALUD TRUJILLO SUR OESTE","RO","CAS","MEDICO",4000,"70652500","ROCHA RIOFRIO ANA LUCIA","MEDICO CIRUJANO","Superior completo","MEDICO CIRUJANO",1,12,49637.55,4,6,24680.400000000001]
[null,"403 SALUD TRUJILLO SUR OESTE","RO","CAS","MEDICO",4000,"42498095","RODRIGUEZ AGUILAR CINTHYA YSABEL","MEDICO CIRUJANO","Superior completo","MEDICO CIRUJANO",1,6,27479,4,6,24680.400000000001]
[null,"403 SALUD TRUJILLO SUR OESTE","RO","CAS","ENFERMERA(O)",1300,"42172766","RODRIGUEZ MARQUINA KAREN MARITA","ENFERMERA(O)","Superior completo","LICENCIADA EN ENFERMERIA",1,4,6992.8,0,0,0]
[null,"403 SALUD TRUJILLO SUR OESTE","RO","CAS","ENFERMERA(O)",1300,"44820605","RODRIGUEZ QUEZADA ROSA YSABEL","ENFERMERA(O)","Superior completo","LICENCIADA EN ENFERMERIA",1,12,16473.5,4,6,8480.4]
[null,"403 SALUD TRUJILLO SUR OESTE","RO","CAS","PSICOLOGO(A)",1300,"41891340","RODRIGUEZ TABOADA JOHANA CRISTINA","PSICOLOGO","Superior completo","LICENCIADA EN PSICOLOGIA",1,12,17394,0,0,0]
[null,"403 SALUD TRUJILLO SUR OESTE","RO","CAS","ENFERMERA(O)",1300,"18214860","RODRIGUEZ VARGAS EDITH CAROLINA","ENFERMERA(O)","Superior completo","LICENCIADA EN ENFERMERIA",1,12,17692.8,0,0,0]
[null,"403 SALUD TRUJILLO SUR OESTE","RO","CAS","MEDICO",4000,"40628477","RODRIGUEZ VILLALOBOS HECTOR COLBERT","MEDICO CIRUJANO","Superior completo","MEDICO CIRUJANO",1,12,50092.799999999996,4,6,24680.400000000001]
[null,"403 SALUD TRUJILLO SUR OESTE","RO","CAS","ENFERMERA(O)",1300,"44387943","ROJAS AMAYA ROSARIO ELIZABET","ENFERMERA(O)","Superior completo","LICENCIADA EN ENFERMERIA",1,12,17394,4,6,6273.23]
[null,"403 SALUD TRUJILLO SUR OESTE","RO","CAS","MEDICO",4000,"26630100","ROJAS VERA JORGE ENRIQUE","MEDICO CIRUJANO","Superior completo","MEDICO CIRUJANO",1,12,49913.4,4,6,24680.400000000001]
[null,"403 SALUD TRUJILLO SUR OESTE","RO","CAS","TRABAJADORA SOCIAL",1300,"42127231","RONDO GAVIDIA SILVIA GEORGINA","TRABAJADOR(A) SOCIAL","Superior completo","LICENCIADA EN TRABAJO SOCIAL",1,12,17513.400000000001,4,6,8480.4]
[null,"403 SALUD TRUJILLO SUR OESTE","RDR","CAS","TECNICO EN MANTENIMIENTO EQUIP",1100,"44656114","ROSARIO LLACTAHUACCHA ALAN GABRIEL","TECNICO EN MANTENIMIENTO","Técnico superior completo",null,1,12,14915.4,4,6,7194]
[null,"403 SALUD TRUJILLO SUR OESTE","RO","CAS","ENFERMERA(O)",1300,"18098074","RUBIO CARRANZA NANCY","ENFERMERA(O)","Superior completo","LICENCIADA EN ENFERMERIA",1,12,16473.5,4,6,8480.4]
[null,"403 SALUD TRUJILLO SUR OESTE","RO","CAS","TECNICO ADMINISTRATIVO",1100,"45560813","RUBIO CARRANZA ROSANI ELIZABET","TECNICO ADMINISTRADOR","Técnico superior completo","TECNICO EN ADMINISTRACION",1,12,15292.800000000001,4,6,7194]
[null,"403 SALUD TRUJILLO SUR OESTE","RO","CAS","TECNICO EN LABORATORIO",1100,"46437598","RUBIO ROJAS KARLA PAOLA","TECNICO LABORATORISTA","Técnico superior completo","TECNICO LABORATORISTA",1,12,14740.25,4,6,6141.67]
[null,"403 SALUD TRUJILLO SUR OESTE","RO","CAS","ENFERMERA(O)",1300,"45204381","SALAZAR SALDAÑA SEIRI ERIC","ENFERMERA(O)","Superior completo","LICENCIADA EN ENFERMERIA",1,12,17513.400000000001,4,6,8480.4]
[null,"403 SALUD TRUJILLO SUR OESTE","RO","CAS","TECNICO ADMINISTRATIVO",1100,"42975085","SALDAÑA RODRIGUEZ SALLY","TECNICO ADMINISTRADOR","Técnico superior completo","TECNICO EN ADMINISTRACION",1,12,14039.8,4,6,7194]
[null,"403 SALUD TRUJILLO SUR OESTE","RDR","CAS","ESPECIALISTA ADMINISTRATIVO",1300,"43152229","SALGADO ROJAS CYNTHIA MARIEGRACE","INGENIERO SISTEMAS INFORMATICOS","Superior completo","INGENIERA DE SISTEMAS",1,12,16213.4,0,0,0]
[null,"403 SALUD TRUJILLO SUR OESTE","RDR","CAS","CONTADOR PUBLICO",1300,"17862211","SANCHEZ GALVEZ JEFFERSON MAXIMO","CONTADOR PUBLICO","Superior completo","CONTADOR PUBLICO",1,12,17394,4,6,8046.4]
[null,"403 SALUD TRUJILLO SUR OESTE","RO","CAS","TECNICO ADMINISTRATIVO",1100,"40819460","SANCHEZ GORDILLO CARLOS HUMBERTO","TECNICO ADMINISTRADOR","Técnico superior completo","TECNICO EN ADMINISTRACION",1,12,15113.4,4,6,7194]
[null,"403 SALUD TRUJILLO SUR OESTE","RO","CAS","MEDICO",4000,"41894721","SANCHEZ LANDERS MANUEL MARIO ANIBAL","MEDICO CIRUJANO","Superior completo","MEDICO CIRUJANO",1,12,49794,4,6,24680.400000000001]
[null,"403 SALUD TRUJILLO SUR OESTE","RDR","CAS","TECNICO EN LABORATORIO",1100,"48044039","SANDOVAL CUEVA LUZ ELENA","TECNICO LABORATORISTA","Técnico superior completo","TECNICO LABORATORISTA",1,12,15270,4,6,7194]
[null,"403 SALUD TRUJILLO SUR OESTE","RO","CAS","ENFERMERA(O)",1300,"41787577","SANDOVAL GUTIERREZ MILAGROS DEL PILAR","ENFERMERA(O)","Superior completo","LICENCIADA EN ENFERMERIA",1,12,16439.8,0,0,0]
[null,"403 SALUD TRUJILLO SUR OESTE","RO","CAS","ENFERMERA(O)",2689,"46712296","SANTOS ESCOBEDO PERLA SOLEDAD","ENFERMERA(O)","Superior completo","LICENCIADA EN ENFERMERIA",1,1,3957.7,0,0,0]
[null,"403 SALUD TRUJILLO SUR OESTE","RO","CAS","TECNICO EN COMPUTACION",1100,"17863986","SUAREZ SALINAS JULIA ISABEL","TECNICO EN COMPUTACION E INFORMATICA/EN COMPUTADORAS","Técnico superior completo","TECNICA EN COMPUTACION E INFORMATICA",1,12,15113.4,4,6,5388.3]
[null,"403 SALUD TRUJILLO SUR OESTE","RO","CAS","TECNICO EN ENFERMERIA",1834,"46602650","TAMAYO CARRANZA DIANA MICAELA","TECNICO EN ENFERMERIA","Técnico superior completo","TECNICO EN ENFERMERIA",1,6,12857.7,1,6,11684.4]
[null,"403 SALUD TRUJILLO SUR OESTE","RO","CAS","MEDICO",4000,"18175899","TRUJILLO TORRES OMER EZEQUIEL","MEDICO CIRUJANO","Superior completo","MEDICO CIRUJANO",1,12,46400.6,4,6,24680.400000000001]
[null,"403 SALUD TRUJILLO SUR OESTE","RDR","CAS","ESPECIALISTA ADMINISTRATIVO",1300,"41917993","ULLOA BROCCA EVELYN GISELA","CONTADOR PUBLICO","Superior completo","CONTADOR PUBLICO",1,6,10155.800000000001,4,6,8480.4]
[null,"403 SALUD TRUJILLO SUR OESTE","RO","CAS","ENFERMERA(O)",1300,"42204878","URCOS TAMARA JESICA","ENFERMERA(O)","Superior completo","LICENCIADA EN ENFERMERIA",1,12,17513.400000000001,4,6,8480.4]
[null,"403 SALUD TRUJILLO SUR OESTE","RO","CAS","ENFERMERA(O)",1300,"45495986","URIARTE FERNANDEZ ROSA ELVIRA","ENFERMERA(O)","Superior completo","LICENCIADA EN ENFERMERIA",1,11,17692.8,0,0,0]
[null,"403 SALUD TRUJILLO SUR OESTE","RO","CAS","ENFERMERA(O)",1300,"42526325","URTECHO MAGUIÑA SHIRLEY KATERINE","ENFERMERA(O)","Superior completo","LICENCIADA EN ENFERMERIA",1,12,16517.7,0,0,0]
[null,"403 SALUD TRUJILLO SUR OESTE","RDR","CAS","AUDITOR(A)",1300,"18134316","VALVERDE CARO ELVA YSABEL","CONTADOR PUBLICO","Superior completo","CONTADOR PUBLICO",1,6,9999.2000000000007,null,2,1892.23]
[null,"403 SALUD TRUJILLO SUR OESTE","RO","CAS","TECNICO EN ENFERMERIA",1100,"18155806","VALVERDE REYNA ESMERALDA ELIZABETH",{"$f":"VLOOKUP(G3605:G3615,'[3]reporte_padron_nominal-7'!$AC$1090:$AV$1242,20,FALSE)","v":"TECNICO EN ENFERMERIA"},"Técnico superior completo","TECNICO EN ENFERMERIA",1,2,3513.4,0,0,0]
[null,"403 SALUD TRUJILLO SUR OESTE","RO","CAS","ENFERMERA(O)",1300,"72385668","VARGAS FIGUEROA MARIA SOLEDAD","ENFERMERA(O)","Superior completo","LICENCIADA EN ENFERMERIA",1,12,16317.2,0,0,0]
[null,"403 SALUD TRUJILLO SUR OESTE","RO","CAS","TECNICO ADMINISTRATIVO",1100,"41053593","VASQUEZ NIETO SABINA MARGOT","TECNICO ADMINISTRADOR","Técnico superior completo","TECNICO EN ADMINISTRACION",1,12,13978.24,4,6,7194]
[null,"403 SALUD TRUJILLO SUR OESTE","RO","CAS","ENFERMERA(O)",1300,"71030524","VASQUEZ RAFAEL ROXANA LISSETH","ENFERMERA(O)","Superior completo","LICENCIADA EN ENFERMERIA",1,4,5633.56,4,6,8480.4]
[null,"403 SALUD TRUJILLO SUR OESTE","RO","CAS","TECNICO EN ENFERMERIA",1100,"44052054","VERA ESQUIVEL JOVANI SANTOS","TECNICO EN ENFERMERIA","Técnico superior completo","TECNICO EN ENFERMERIA",1,1,1217.2,0,0,0]
[null,"403 SALUD TRUJILLO SUR OESTE","RDR","CAS","ENFERMERA(O)",1300,"44834347","VILCHEZ CARRILLO SUSY RAQUEL","ENFERMERA(O)","Superior completo","LICENCIADA EN ENFERMERIA",1,12,16333.56,4,6,8480.4]
[null,"403 SALUD TRUJILLO SUR OESTE","RO","CAS","TECNICO EN ENFERMERIA",1100,"45199669","VILLALOBOS FERNANDEZ NELSON","TECNICO EN ENFERMERIA","Técnico superior completo","TECNICO EN ENFERMERIA",1,12,14210.25,0,0,0]
[null,"403 SALUD TRUJILLO SUR OESTE","RO","CAS","ENFERMERA(O)",1300,"45355519","VILLALOBOS VARGAS JOHANA FIORELLA","ENFERMERA(O)","Superior completo","LICENCIADA EN ENFERMERIA",1,12,16356.21,4,6,8480.4]
[null,"403 SALUD TRUJILLO SUR OESTE","RO","CAS","DIGITADOR(A)",1100,"42484069","VILLANUEVA SANCHEZ KATHERINE LUZ","TECNICO EN COMPUTACION E INFORMATICA/EN COMPUTADORAS","Técnico superior completo","TECNICA EN COMPUTACION E INFORMATICA",1,12,13936.75,4,6,7194]
[null,"403 SALUD TRUJILLO SUR OESTE","RDR","CAS","AUXILIAR ADMINISTRATIVO",1000,"40322051","VILLANUEVA SANCHEZ MARILU JESUS","SECRETARIA","Técnico superior completo","SECRETARIA",1,12,14241,4,6,6540]
[null,"403 SALUD TRUJILLO SUR OESTE","RO","CAS","TECNICO EN ENFERMERIA",1100,"40290528","VILLAVICENCIO ESQUIVEL DE NOVOA AZUCENA MARGA","TECNICO EN ENFERMERIA","Técnico superior completo","TECNICO EN ENFERMERIA",1,1,1217.2,0,0,0]
[null,"403 SALUD TRUJILLO SUR OESTE","RO","CAS","ENFERMERA(O)",1300,"70143168","YUI FLORES LUISA CECILIA","ENFERMERA(O)","Superior completo","LICENCIADA EN ENFERMERIA",1,12,16317.2,0,0,0]
[null,"403 SALUD TRUJILLO SUR OESTE","RO","CAS","TECNICO EN ENFERMERIA",1100,"18175173","ZAVALETA RODRIGUEZ ANTONIA FLORENCIA","TECNICO EN ENFERMERIA","Técnico superior completo","TECNICO EN ENFERMERIA",1,12,13917.2,4,6,7194]
[null,"403 SALUD TRUJILLO SUR OESTE","RDR","CAS","ESPECIALISTA ADMINISTRATIVO",1300,"45520188","ZERPA CHAVEZ CLAUDIA CAROLINA","ADMINISTRADOR","Superior completo","LICENCIADA EN ADMINISTRACION",1,6,8920.5,0,0,0]
[null,"403 SALUD TRUJILLO SUR OESTE","RO","CAS","ENFERMERA(O)",2689,"18140973","ZEGARRA DOMINGUEZ ROSA AMELIA","ENFERMERA(O)","Superior completo","LICENCIADA EN ENFERMERIA",1,6,15556.439999999999,1,6,16814.400000000001]
[null,"403 SALUD TRUJILLO SUR OESTE","RO","CAS","ENFERMERA(O)",1300,"43952881","ESCOBEDO ALCANTARA LISSETTE YESSENIA","ENFERMERA(O)","Superior completo","LICENCIADA EN ENFERMERIA",0,1,357.03,0,0,0]
[null,"403 SALUD TRUJILLO SUR OESTE","RO","CAS","ENFERMERA(O)",1300,"40103294","FERNANDEZ REYES SANDRA ARACELY","ENFERMERA(O)","Superior completo","LICENCIADA EN ENFERMERIA",0,1,519.53,0,0,0]
[null,"403 SALUD TRUJILLO SUR OESTE","RO","CAS","ENFERMERA(O)",1300,"47316565","MARIN CAMPOS ETHEL IVONNE","ENFERMERA(O)","Superior completo","LICENCIADA EN ENFERMERIA",0,1,1269.01,0,0,0]
[null,"403 SALUD TRUJILLO SUR OESTE","RO","CAS","ENFERMERA(O)",1300,"45315140","MIRANDA ARQUEROS NADIA DEL CARMEN","ENFERMERA(O)","Superior completo","LICENCIADA EN ENFERMERIA",0,1,357.03,0,0,0]
[null,"403 SALUD TRUJILLO SUR OESTE","RDR","CAS","AUDITOR(A)",1300,"41508130","CABRERA VERGARA CYNTIA KARINA","AUDITOR(A)","Superior completo","LICENCIADO EN CONTABILIDAD",0,1,1436.75,0,0,0]
[null,"403 SALUD TRUJILLO SUR OESTE","RDR","CAS","ENFERMERA(O)",1300,"70362349","CARHUACHIN CABRERA YOSELIN ELIZBETH","ENFERMERA(O)","Superior completo","LICENCIADA EN ENFERMERIA",1,2,1573.5,0,0,0]
[null,"403 SALUD TRUJILLO SUR OESTE","RDR","CAS","TECNICO EN LABORATORIO",1100,"40568072","REYES MIRANDA MARGOT VICTORIA","TECNICO EN LABORATORIO","Técnico superior completo","TECNICO LABORATORISTA",0,1,1219.9000000000001,0,0,0]
[null,"403 SALUD TRUJILLO SUR OESTE","RO","CAS","ENFERMERA(O)",1300,"44991999","RODRIGUEZ CABALLERO MARIA ANGELICA","ENFERMERA(O)","Superior completo","LICENCIADA EN ENFERMERIA",0,1,430.3,0,0,0]
[null,"403 SALUD TRUJILLO SUR OESTE","RDR","CAS","ENFERMERA(O)",1300,"43136156","ROMAN RAMOS ROSA MARIA","ENFERMERA(O)","Superior completo","LICENCIADA EN ENFERMERIA",0,1,430.3,0,0,0]
[null,"403 SALUD TRUJILLO SUR OESTE","RO","CAS","TECNICO EN ENFERMERIA",1100,"41668483","VENTURA SANDOVAL RENATA ISABEL","TECNICO EN ENFERMERIA","Técnico superior completo","TECNICO EN ENFERMERIA",0,1,403.77,0,0,0]
[null,"403 SALUD TRUJILLO SUR OESTE","RO","CAS","ENFERMERA(O)",1300,"42898711","VILLALOBOS BURGOS MARY AMELIA","ENFERMERA(O)","Superior completo","LICENCIADA EN ENFERMERIA",1,8,11794,0,0,0]
[null,"403 SALUD TRUJILLO SUR OESTE","RDR","CAS","CONTADOR PUBLICO",1300,"06590802","PECHE SORIANO MIRIAM YOLANDA","CONTADOR PUBLICO","Superior completo","LICENCIADO EN CONTABILIDAD",0,1,1436.75,0,0,0]
[null,"403 SALUD TRUJILLO SUR OESTE","RO","CAS","ENFERMERA(O)",1300,"45663598","SALAZAR NACARINO YOVANA MARGARITA","ENFERMERA(O)","Superior completo","LICENCIADA EN ENFERMERIA",0,1,1394.81,0,0,0]
[null,"TOTAL",null,null,null,{"$f":"SUM(F3463:F3632)","v":252048},null,null,null,null,null,null,null,{"$f":"SUM(N3463:N3632)","v":2514191.63},null,null,{"$f":"SUM(Q3463:Q3632)","v":1079164.370000001}]
[null,"404 RED SALUD CHEPEN","RO","CAS","ENFERMERA(O)",2689,"46133715","ACUÑA ZELADA JUAN CARLOS","LCENCIADO EN ENFERMERIA","TITULADO ","PROFESIONAL","N°069","5 MESES Y 15 DIAS",14789.5,"N°069",4,{"$f":"2689*4","v":10756}]
[null,"404 RED SALUD CHEPEN","RO","CAS","MEDICO NEUMOLOGO",5025,"40385679","ALFARO CORRO INGRID JANETH","MEDICO CIRUJANO","TITULADA","PROFESIONAL","N ° 123","5 MESES Y 15 DIAS",27637.5]
[null,"404 RED SALUD CHEPEN","RO","CAS","TECNICO COMPUTACION  INFORMATI",1200,"40966551","ALVA HUANGAL BERNARDO","TECNICO COMPUTACION  E INFORMATICA",0,"TECNICO","N ° 003, 062","12 MESES",{"$f":"1200*12","v":14400},"N°001",6,{"$f":"1200*6","v":7200}]
[null,"404 RED SALUD CHEPEN","RO","CAS","ENFERMERA(O)",2689,"46136163","ALVITES ALTAMIRANO KETTY YAHAIRA","LICENCIADA EN ENFERMERIA","TITULADA","PROFESIONAL"," N° 124","5 MESES Y 15 DIAS",14789.5,"N°070",5,{"$f":"2689*5","v":13445}]
[null,"404 RED SALUD CHEPEN","RO","CAS","TRABAJADOR DE SERVICIO",1200,"19249869","ALVITRES MENDOZA ALIS MARTHA","TECNICO EN ENFERMERIA",0,"TECNICO","N° 004, 063","12 MESES ",14400,"N°002",6,{"$f":"1200*6","v":7200}]
[null,"404 RED SALUD CHEPEN","RO","CAS","ENFERMERA(O)",1500,"43703043","AMAYA PAIRAZAMAN YULIANA ELIZABETH","LICENCIADA EN ENFERMERIA","TITULADA","PROFESIONAL","´N° 005, 064","12 MESES",{"$f":"1500*12","v":18000}]
[null,"404 RED SALUD CHEPEN","RO","CAS","TRABAJADOR DE SERVICIO",930,"19322379","ANTICONA RAZURI SEGUNDO JORGE",0,null,"CAPACITACION OCUPACIONAL","N°006, 065","12 MESES",{"$f":"930*12","v":11160},"N°003",6,{"$f":"930*6","v":5580}]
[null,"404 RED SALUD CHEPEN","RO","CAS","BIOLOGO(A)",1500,"41973367","ANTINORI CASTRO ROXANA MARIBEL","BIOLOGO MICROBIOLOGO","TITULADA ","PROFESIONAL","N° 007, 066","12 MESES",{"$f":"1500*12","v":18000},"N°004",6,{"$f":"1500*6","v":9000}]
[null,"404 RED SALUD CHEPEN","RO","CAS","AUXILIAR ADMINISTRATIVO",930,"44526467","ARANDA ABANTO KELLY LESBITH",0,null,"CAPACITACION OCUPACIONAL","N°008, 067","12 MESES",{"$f":"930*12","v":11160},"N°005",6,{"$f":"930*6","v":5580}]
[null,"404 RED SALUD CHEPEN","RO","CAS","MEDICO CIRUJANO",3000,"45844700","BALLENA MONCADA ERICK GIANFRANCO","MEDICO CIRUJANO","TITULADO","PROFESIONAL","N° 009, 068","12 MESES",{"$f":"3000*12","v":36000},"N°006",6,{"$f":"3000*6","v":18000}]
[null,"404 RED SALUD CHEPEN","RO","CAS","TECNICO EN ENFERMERIA",930,"19331182","BECERRA BARDALES PAULO JAVIER","TECNICO EN ENFERMERIA",null,"TECNICO","N°010,069","12 MESES",{"$f":"930*12","v":11160}]
[null,"404 RED SALUD CHEPEN","RO","CAS","ENFERMERA(O)",1500,"44079837","BECERRA CRUZADO MADELEINE ISABEL","LICENCIADA EN ENFERMERIA","TITULADA","PROFESIONAL","N° 011, 070","12 MESES",{"$f":"1500*12","v":18000},"N°007",6,{"$f":"1500*6","v":9000}]
[null,"404 RED SALUD CHEPEN","RO","CAS","TRABAJADOR DE SERVICIO",1000,"42272613","BLAS CRUZ WILMER ALFONSO",0,null,"CAPACITACION OCUPACIONAL","N° 0060","7 MESES Y 10 DIAS",7333,"N°008",6,{"$f":"1000*6","v":6000}]
[null,"404 RED SALUD CHEPEN","RO","CAS","DIGITADOR(A)",1200,"41486268","BRUNO CERVERA CARLOS MIGUEL","PROFESOR DE COMPUTACION E INFORMATICA","TITULADO","TECNICO","N° 0012, 071","12 MESES",{"$f":"1200*12","v":14400},"Nº S/N",2,{"$f":"1200*2","v":2400}]
[null,"404 RED SALUD CHEPEN","RO","CAS","DIGITADOR(A)",1200,"70227156","BRUNO CERVERA SHEYLA ESTHER","INGENIERO DE SISTEMAS","TITULADA","PROFESIONAL","N° 0013, 072","12 MESES",{"$f":"1200*12","v":14400}]
[null,"404 RED SALUD CHEPEN","RO","CAS","TECNICO EN LABORATORIO",2097,"76453186","BURGA BAZAN YANINA ELIZABETH","TECNICO EN LABORATORIO CLINICO",0,"TECNICO","N°131","5 MESES Y 15 DIAS",11533,"N°071",5,{"$f":"2097*5","v":10485}]
[null,"404 RED SALUD CHEPEN","RO","CAS","ENFERMERA(O)",2689,"44758552","CACERES SUAREZ SARA JUDIT","LICENCIADA EN ENFERMERIA","TITULADA","PROFESIONAL","N°149","1 MES",2689,"N°063",1,1500]
[null,"404 RED SALUD CHEPEN","RO","CAS","OBSTETRA",1500,"18213879","CAMPOS LAZARO JORGE ADOLFO","LICENCIADA EN OBSTETRICIA","TITULADO","PROFESIONAL","N°0014, 073","12 MESES",{"$f":"1500*12","v":18000},"N°010",6,{"$f":"1500*6","v":9000}]
[null,"404 RED SALUD CHEPEN","RO","CAS","TRABAJADOR DE SERVICIO",930,"19243053","CASTAÑEDA BARRANTES OSCAR AGOBERTO",0,0,"CAPACITACION OCUPACIONAL","N°015, 074","12 MESES",{"$f":"930*12","v":11160},"Nº S/N",6,{"$f":"930*6","v":5580}]
[null,"404 RED SALUD CHEPEN","RO","CAS","DIGITADOR(A)",1200,"47185829","CENTURION PEREZ ROMER JEFFERSSON","INGENIERIA DE SISTEMAS E INFORMATICA","BACHILLER","PROFESIONAL","N°016","6 MESES",{"$f":"1200*6","v":7200},"N°012",6,{"$f":"1200*6","v":7200}]
[null,"404 RED SALUD CHEPEN","RO","CAS","OBSTETRIZ",1500,"41372720","CHAIGUAQUE TOLEDO AURORA INES","LICENCIADA EN OBSTETRICIA","TITULADA","PROFESIONAL","N°139","1 MES",1500]
[null,"404 RED SALUD CHEPEN","RO","CAS","TECNICO EN ENFERMERIA",1834,"40552706","CHANCAFE RAMIREZ MARITA DEL PILAR","TECNICO EN ENFERMERIA",0,"TECNICO","N° 129","5 MESES Y 15 DIAS",10089,"N° 073",5,{"$f":"1834*5","v":9170}]
[null,"404 RED SALUD CHEPEN","RO","CAS","TECNICO EN ENFERMERIA",1200,"47932992","CHAVARRIA VASQUEZ YARISA MARIEL","TECNICO EN ENFERMERIA",0,"TECNICO","N°146","1 MES",1200,"N°061",6,{"$f":"1200*6","v":7200}]
[null,"404 RED SALUD CHEPEN","RO","CAS","TECNICO EN ENFERMERIA",1200,"19337150","CHAVARRY NUÑEZ ESSY DEL PILAR","TECNICO EN ENFERMERIA",0,"TECNICO","N°017,076","12 MESES",{"$f":"1200*12","v":14400},"N°016",6,{"$f":"1200*6","v":7200}]
[null,"404 RED SALUD CHEPEN","RO","CAS","SECRETARIA",930,19320713,"CORONADO SANCHEZ MARLENY ELIZABETH","SECRETARIA EJECUTIVA",0,"TECNICO","N°0018, 077","12 MESES",{"$f":"930*12","v":11160},"N°013",6,{"$f":"930*6","v":5580}]
[null,"404 RED SALUD CHEPEN","RO","CAS","PSICOLOGO(A)",2077,"47175887","CORONEL SANTOYO KAREM JULISSE","LICENCIADA EN PSICOLOGIA","TITULADA","PROFESIONAL","N°132","3 MESES Y 24 DIAS",7892.6,"N°054",4,{"$f":"2077*4","v":8308}]
[null,"404 RED SALUD CHEPEN","RO","CAS","BIOLOGO(A)",2689,"19337764","CORREA FLORES LUZ ELENA","BIOLOGO MICROBIOLOGO","TITULADA","PROFESIONAL","N° 128","5 MESES Y 15 DIAS",27637.5,"N°072",5,{"$f":"2689*5","v":13445}]
[null,"404 RED SALUD CHEPEN","RO","CAS","TRABAJADOR DE SERVICIO",930,"43461406","CRUZADO MALCA GLORIA EVITA",0,null,"CAPACITACION OCUPACIONAL","N°0018, 078","12 MESES",{"$f":"930*12","v":11160},"N°014",6,{"$f":"930*6","v":5580}]
[null,"404 RED SALUD CHEPEN","RO","CAS","TRABAJADOR DE SERVICIO",1000,"46773968","CUBAS GUEVARA ERICK PAUL","TECNICO COMPUTACION E INFORMATICA",0,"TECNICO","N°0059","7 MESES Y 10 DIAS",6820,"N°015",6,{"$f":"1000*6","v":6000}]
[null,"404 RED SALUD CHEPEN","RO","CAS","TRABAJADOR DE SERVICIO",930,"47657935","DELGADO ALVITRES OSCAR TEODORO","TECNICO COMPUTACION E INFORMATICA",0,"TECNICO","N°0020, 079","12 MESES",{"$f":"930*12","v":11160},"N°017",6,{"$f":"930*6","v":5580}]
[null,"404 RED SALUD CHEPEN","RO","CAS","ENFERMERA(O)",1500,"71960682","DELGADO GALVEZ FLOR KATHERINE","LICENCIADA EN ENFERMERIA","TITULADA","PROFESIONAL","N°021,080","12 MESES",{"$f":"1500*12","v":18000},"N°018",6,{"$f":"1500*6","v":9000}]
[null,"404 RED SALUD CHEPEN","RO","CAS","MEDICO CIRUJANO",3500,"45481439","DURAND VASQUEZ MARIA DEL CARMEN ANDALUCES","MEDICO CIRUJANO","TITULADA","PROFESIONAL","Nº S/N","01 MES",3500]
[null,"404 RED SALUD CHEPEN","RO","CAS","TRABAJADOR DE SERVICIO",930,"19204966","ENEQUE EFIO PEDRO",null,null,"CAPACITACION OCUPACIONAL","N°0023, 081","12 MESES",{"$f":"930*12","v":11160},"Nº S/N",6,{"$f":"930*6","v":5580}]
[null,"404 RED SALUD CHEPEN","RO","CAS","OBSTETRIZ",1500,"40796320","ESPINOZA TRUJILLO KELLY KARINA","LICENCIADA EN OBSTETRICIA","TITULADA","PROFESIONAL","N° 140","01 MES",1500,"N°059",4,{"$f":"1500*4","v":6000}]
[null,"404 RED SALUD CHEPEN","RO","CAS","DIGITADOR(A)",1200,"16751234","FERNANDEZ BACA JORGE ERNESTO","TECNICO COMPUTACION E  INFORMATICA",0,"TECNICO","N°121","6 MESES",{"$f":"1200*12","v":14400},"N°020",6,{"$f":"1200*6","v":7200}]
[null,"404 RED SALUD CHEPEN","RO","CAS","PSICOLOGO(A)",2689,"40509387","FERNANDEZ CARBONEL JOHANNA LILIANA","LICENCIADA EN PSICOLOGIA","TITULADA","PROFESIONAL","N° 127, ","5 MESES Y  15 DIAS",27637.5,"N° 074",5,{"$f":"+F3669*5","v":13445}]
[null,"404 RED SALUD CHEPEN","RO","CAS","TERAPISTA",1200,"43754232","FLORES CASTRO LISBETH MARIELY","TERAPISTA",null,"TECNICO","N° 0053, 109","12 MESES",{"$f":"1200*12","v":14400},"Nº S/N",6,{"$f":"1200*6","v":7200}]
[null,"404 RED SALUD CHEPEN","RO","CAS","TECNOLOGO MEDICO",2500,"10354102","GALVEZ ABANTO GENARO TOMAS","LICENCIADO EN TECNOLOGIA MEDICA","TITULADO","PROFESIONAL","N° 117","6 MESES",{"$f":"2500*6","v":15000},"N°064",1,2500]
[null,"404 RED SALUD CHEPEN","RO","CAS","OBSTETRA",1500,"40249140","GARCIA CALDERON MARITA ARLITA","LICENCIADA EN OBSTETRICIA","TITULADA","PROFESIONAL","N°025,082","12 MESES",{"$f":"1500*12","v":18000}]
[null,"404 RED SALUD CHEPEN","RO","CAS","TECNICO EN ENFERMERIA",1834,"71836356","GIL VASQUEZ FIORELLA MARISOL","TECNICO EN ENFERMERIA",0,"TECNICO","N°130","5 MESES Y 15 DIAS",{"$f":"1834*5.5","v":10087},"N°076",5,{"$f":"1834*5","v":9170}]
[null,"404 RED SALUD CHEPEN","RO","CAS","NUTRICIONISTA",2689,"41872596","GONZALES ALVAREZ VERONICA JUDITH","LICENCIADA EN NUTRICION","TITULADA","PROFESIONAL","N° 126","5 MESES Y 15 DIAS",27637.5,"N°075",5,{"$f":"2689*5","v":13445}]
[null,"404 RED SALUD CHEPEN","RO","CAS","MEDICO CIRUJANO",3000,"43220588","GONZALEZ DIAZ ALBERTO FRANKLIN GIONATHAN","MEDICO CIRUJANO","TITULADO","PROFESIONAL","N°115","6 MESES",{"$f":"3000*6","v":18000},"N°022",6,18000]
[null,"404 RED SALUD CHEPEN","RO","CAS","ARTESANO",850,"19327162","HERNANDEZ CASTAÑEDA SEGUNDO NICASIO",0,0,"CAPACITACION OCUPACIONAL","N°0026","12 MESES",{"$f":"850*12","v":10200},"N°023",6,{"$f":"930*6","v":5580}]
[null,"404 RED SALUD CHEPEN","RO","CAS","DIGITADOR(A)",1200,"72130734","HUANGAL ROMERO LUZ VERONICA","TECNICA EN CONTABILIDAD ",0,"TECNICO","N°120","6 MESES",{"$f":"1200*6","v":7200},"N°024",6,{"$f":"1200*6","v":7200}]
[null,"404 RED SALUD CHEPEN","RO","CAS","TECNICO COMPUTACION  INFORMATI",1200,"40262539","JARAMILLO MEJIA DE MALCA VICTORIA VERONICA","TECNICO COMPUTACION E  INFORMATICA",0,"TECNICO","N°0027, 084","12 MESES",{"$f":"1200*12","v":14400},"N°025",6,{"$f":"1200*6","v":7200}]
[null,"404 RED SALUD CHEPEN","RO","CAS","INGENIERO ESTADISTICO",1500,"41257259","JORGE VELARDE MARIA DE LOS ANGELES","INGENIERO ESTADISTICO","TITULADA","PROFESIONAL","N°0028,085","12 MESES",{"$f":"1500*12","v":18000},"N°026",6,{"$f":"1500*6","v":9000}]
[null,"404 RED SALUD CHEPEN","RO","CAS","INGENIERO DE SISTEMAS",1500,"19337559","LLICAN PAUCAR JORGE ANTONIO","INGENIERO DE COMPUTACION Y SISTEMAS","TITULADO","PROFESIONAL","N°0029, 086","12 MESES",{"$f":"1500*12","v":18000},"N°027",6,{"$f":"1500*6","v":9000}]
[null,"404 RED SALUD CHEPEN","RO","CAS","ENFERMERA(O)",1500,"43929218","MALCA VALERA GISELLA MILUSKA","LICENCIADA EN ENFERMERIA","TITULADA","PROFESIONAL","N° 116","6 MESES",{"$f":"1500*6","v":9000},"N°028",6,{"$f":"1500*6","v":9000}]
[null,"404 RED SALUD CHEPEN","RO","CAS","TECNICO COMPUTACION  INFORMATI",1200,"44758788","MENDOZA COTRINA ORFELINDA","TECNICO COMPUTACION E  INFORMATICA",0,"TECNICO","N°0030, 087","12 MESES",{"$f":"1200*12","v":14400},"N°029",6,{"$f":"1200*6","v":7200}]
[null,"404 RED SALUD CHEPEN","RO","CAS","TECNICO EN ENFERMERIA",1200,"70227160","MONDRAGON CHAVARRY YURICO YOSELY","TECNICO EN ENFERMERIA",0,"TECNICO","N° 144","1 MES",1200,"N°062",6,{"$f":"1200*6","v":7200}]
[null,"404 RED SALUD CHEPEN","RO","CAS","DIGITADOR(A)",1200,"46216297","MORALES BALDERA ERIKA JANETH","TECNICO COMPUTACION E  INFORMATICA",0,"TECNICO","N°061","12 MESES",{"$f":"1200*12","v":14400},"Nº S/N",6,{"$f":"1200*6","v":7200}]
[null,"404 RED SALUD CHEPEN","RO","CAS","TECNICO EN ENFERMERIA",930,"43713775","MUÑOZ MOSTACERO DENISSE JUDITH","TECNICO EN ENFERMERIA",0,"TECNICO","N°031, 088","12 MESES",{"$f":"930*12","v":11160},"Nº S/N",6,{"$f":"930*6","v":5580}]
[null,"404 RED SALUD CHEPEN","RO","CAS","DIGITADOR(A)",1200,"41512813","NUÑEZ VASQUEZ LAURA ESTELA","TECNICO COMPUTACION E  INFORMATICA",0,"TECNICO","N032, 089","12 MESES",{"$f":"1200*12","v":14400},"N°032",6,{"$f":"1200*6","v":7200}]
[null,"404 RED SALUD CHEPEN","RO","CAS","MEDICO CIRUJANO",3500,"47166052","PAICO AZCARATE CHRISTIAN PETER","MEDICO CIRUJANO",0,"PROFESIONAL","N°136","1 MES",3500]
[null,"404 RED SALUD CHEPEN","RO","CAS","TECNICO COMPUTACION  INFORMATI",930,"19336486","PARIHUAMAN CAUCHA SANTOS LIDA","TECNICO COMPUTACION E  INFORMATICA",0,"TECNICO","N°033,090","12 MESES",{"$f":"930*12","v":11160},"N°033",6,{"$f":"930*6","v":5580}]
[null,"404 RED SALUD CHEPEN","RO","CAS","ENFERMERA(O)",2077,"45844706","PARRAMO GUERRERO GENISES LIZETH","LICENCIADA EN ENFERMERIA","TITULADA","PROFESIONAL","N° 133","3 MESES Y 26 DIAS",8031,"N° 055",2,{"$f":"2077*2","v":4154}]
[null,"404 RED SALUD CHEPEN","RO","CAS","TECNICO EN LABORATORIO",1200,"75722299","PEREZ COSCOL GARY LENIN","TECNICO EN LABORATORIO",0,"TECNICO","N°0034,091","12 MESES",{"$f":"1200*12","v":14400},"N°034",6,{"$f":"1200*6","v":7200}]
[null,"404 RED SALUD CHEPEN","RO","CAS","TECNICO EN LABORATORIO",1200,"42877891","PEREZ PEREZ TANIA SUGEY","TECNICO EN LABORATORIO CLINICO",0,"TECNICO","N° 0035, 092","12 MESES",{"$f":"1200*12","v":14400},"N°035",6,{"$f":"1200*6","v":7200}]
[null,"404 RED SALUD CHEPEN","RO","CAS","ENFERMERA(O)",1500,"42816529","PISFIL CUMPA ERIKA ELVIA","LICENCIADA EN ENFERMERIA","TITULADA","PROFESIONAL","N° 141","1 MES",1500,"N°057",6,{"$f":"1500*6","v":9000}]
[null,"404 RED SALUD CHEPEN","RO","CAS","ENFERMERA(O)",1500,"41429388","QUIROZ RAMIREZ ANA VERONICA","LICENCIADA EN ENFERMERIA","TITULADA","PROFESIONAL","N°0036, 093","12 MESES",{"$f":"1200*12","v":14400},"N°036",6,{"$f":"1500*6","v":9000}]
[null,"404 RED SALUD CHEPEN","RO","CAS","ENFERMERA(O)",1500,"40607729","QUISPE NUÑEZ JHAZEL JANNET","LICENCIADA EN ENFERMERIA","TITULADA","PROFESIONAL","N°142 ","1 MES",1500]
[null,"404 RED SALUD CHEPEN","RO","CAS","MEDICO CIRUJANO",3500,"47607314","RAMIREZ GAVIDIA DIAMER JUBALDO","MEDICO CIRUJANO","TUTULADO ","PROFESIONAL","N°138","1 MES",3500,"Nº S/N",6,{"$f":"3500*6","v":21000}]
[null,"404 RED SALUD CHEPEN","RO","CAS","ADMINISTRADOR(A)",3000,"41257332","RAMIREZ RIOS JAN CARLOS","LICENCIADO EN ADMINISTRACION","TITULADO","PROFESIONAL","N°147","1 MES",3000,"Nº S/N",2,6000]
[null,"404 RED SALUD CHEPEN","RO","CAS","TRABAJADOR DE SERVICIO",930,"19217612","RIOS DIAZ LIDIA MARINA",0,null,"CAPACITACION OCUPACIONAL","N°037, 094","12 MESES",11160,"N°037",6,{"$f":"930*6","v":5580}]
[null,"404 RED SALUD CHEPEN","RO","CAS","TECNICO COMPUTACION  INFORMATI",1200,"44840917","RIVAS CRUZADO KENY MARLO","TECNICO COMPUTACION  INFORMATI",0,"TECNICO","N°0038,095","12 MESES",{"$f":"930*12","v":11160},"N°038",6,{"$f":"1200*6","v":7200}]
[null,"404 RED SALUD CHEPEN","RO","CAS","TRABAJADOR DE SERVICIO",930,"43631619","RIVASPLATA MELENDEZ JERSON OMAR","TECNICO EN ELECTRONICA",0,"TECNICO","N°0056, 112","12 MESES",{"$f":"930*12","v":11160},"N°039",6,{"$f":"930*6","v":5580}]
[null,"404 RED SALUD CHEPEN","RO","CAS","MEDICO CIRUJANO",5000,"46145962","RODRIGUEZ ABANTO NILS ERICSON","MEDICO CIRUJANO","TITULADO","PROFESIONAL","N° 134","1 MES",5000]
[null,"404 RED SALUD CHEPEN","RO","CAS","OBSTETRA",1500,"18161085","SAAVEDRA VITTERI MILAGRO TRINIDAD","LICENCIADA EN OBSTETRICIA","TITULADA","PROFESIONAL","N°118","12 MESES",{"$f":"1500*12","v":18000},"N°040",6,{"$f":"1500*6","v":9000}]
[null,"404 RED SALUD CHEPEN","RO","CAS","OBSTETRA",1500,"45572027","SAMAME RODRIGUEZ ROSA SANTOS","LICENCIADA EN OBSTETRICIA","TITULADA","PROFESIONAL","N° 0039, 096","12 MESES",{"$f":"1500*12","v":18000}]
[null,"404 RED SALUD CHEPEN","RO","CAS","TRABAJADOR DE SERVICIO",930,"41871855","SANCHEZ RODAS HOWARD YVAN",0,null,"CAPACITACION OCUPACIONAL","Nº 057, 113","12 MESES",{"$f":"930*12","v":11160},"N°041",6,{"$f":"930*6","v":5580}]
[null,"404 RED SALUD CHEPEN","RO","CAS","ENFERMERA(O)",1500,"19259740","SUAREZ JONDE CICELI ANABEL","LICENCIADA EN ENFERMERIA","TITULADA","PROFESIONAL","N° 0040, 097","12 MESES",{"$f":"1500*12","v":18000},"Nº S/N",6,{"$f":"1500*6","v":9000}]
[null,"404 RED SALUD CHEPEN","RO","CAS","TRABAJADOR DE SERVICIO",850,"19206680","SUAREZ MALCA JORGE HUMBERTO",0,null,"CAPACITACION OCUPACIONAL","N°0041,098","12 MESES",{"$f":"850*12","v":10200},"N°043",6,{"$f":"930*6","v":5580}]
[null,"404 RED SALUD CHEPEN","RO","CAS","DIGITADOR(A)",1200,"19251118","TERAN BUSTAMANTE JUAN CARLOS","TECNICO EN CONTABILIDAD",0,"TECNICO","N°0042","12 MESES",{"$f":"1200*12","v":14400},"N°044",6,{"$f":"1200*6","v":7200}]
[null,"404 RED SALUD CHEPEN","RO","CAS","MEDICO AUDITOR",3000,"07186902","TORRES DIAZ JORGE","MEDICO CIRUJANO","TITULADO","PROFESIONAL","N°100","6 MESES ",{"$f":"3000*6","v":18000},"N°045",6,{"$f":"3500*6","v":21000}]
[null,"404 RED SALUD CHEPEN","RO","CAS","DIGITADOR(A)",1200,"70228882","TUCTO HUAMAN MARIELA BEATRIZ","CIENCIS ECONOMICAS","BACHILLER","PROFESIONAL","N°119","6 MESES",{"$f":"1200*6","v":7200},"N°046",6,{"$f":"1200*6","v":7200}]
[null,"404 RED SALUD CHEPEN","RO","CAS","ENFERMERA(O)",1500,"70408757","UBILLUS BARDALES KAREN YESSENIA","LICENCIADA EN ENFERMERIA","TITULADA","PROFESIONAL","N°044,101","12 MESES",{"$f":"1500*12","v":18000},"N°047",6,{"$f":"1500*6","v":9000}]
[null,"404 RED SALUD CHEPEN","RO","CAS","ODONTOLOGO(A)",1500,"46746376","UGAZ DELGADO RUBBY SAUDI","CIRUJANO DENTISTA","TITULADA","PROFESIONAL","N°045, 102","12 MESES",{"$f":"1500*12","v":18000},"N°048",6,{"$f":"1500*6","v":9000}]
[null,"404 RED SALUD CHEPEN","RO","CAS","TECNICO EN ENFERMERIA",1500,"19323769","URBINA CUEVA ROCIO DEL PILAR","TECNICO EN ENFERMERIA",0,"TECNICO","N°145","1 MES",1200]
[null,"404 RED SALUD CHEPEN","RO","CAS","DIGITADOR(A)",1200,"19337412","VALDIVIA MUNDACA CARLOS ARMANDO","TECNICO EN CONTABILIDAD",0,"TECNICO","N°0046, 103","12 MESES",{"$f":"1200*12","v":14400},"N°049",6,{"$f":"1200*6","v":7200}]
[null,"404 RED SALUD CHEPEN","RO","CAS","MEDICO CIRUJANO",3500,"72795467","VARAS BACA JOSE LUIS","MEDICO CIRUJANO","TITULADO","PROFESIONAL","N°137","1 MES",3500,"N°060",1,3500]
[null,"404 RED SALUD CHEPEN","RO","CAS","DIGITADOR(A)",1200,"46782625","VASQUEZ AGUILAR LEYKEN ESTEFANNY","ECONOMISTA CON MENCION EN FINANZAS","TITULADA","PROFESIONAL","N°122","6 MESES",{"$f":"1200*6","v":7200},"Nº S/N",2,{"$f":"1200*2","v":2400}]
[null,"404 RED SALUD CHEPEN","RO","CAS","ENFERMERA(O)",1500,"46828291","VASQUEZ NUÑEZ MARITHA ISABEL","LICENCIADA EN ENFERMERIA","TITULADA","PROFESIONAL","N°143","1 MES",1500]
[null,"404 RED SALUD CHEPEN","RO","CAS","MEDICO CIRUJANO",5025,"43400754","VEGA CRUZ LUIS MIGUEL","MEDICO CIRUJANO","TITULADO","PROFESIONAL","N°150","1 MES",5025]
[null,"404 RED SALUD CHEPEN","RO","CAS","CHOFER",1200,"70664785","VERA ROMERO VICTOR PAUL",0,null,"CAPACITACION OCUPACIONAL","N!148","1 MES",1200,"N°058",2,{"$f":"1200*2","v":2400}]
[null,"404 RED SALUD CHEPEN","RO","CAS","TRABAJADOR DE SERVICIO",930,"41446085","VILCA ROCHA LUIS EDUARDO","TECNICO EN MECANICA AUTOMOTRIZ",0,"TECNICO","N°047, 104","12 MESES",{"$f":"930*12","v":11160},"N°051",6,{"$f":"930*6","v":5580}]
[null,"404 RED SALUD CHEPEN","RO","CAS","TECNICO EN ADMINISTRACION",1200,"42170094","VILCHEZ CASTAÑEDA MARCO ARTURO","LICENCIADO EN ADMINISTRACION","TITULADO","PROFESIONAL","N°048,105","12 MESES",{"$f":"1200*12","v":14400},"N°052",6,{"$f":"1200*6","v":7200}]
[null,"404 RED SALUD CHEPEN","RO","CAS","DIGITADOR(A)",1200,"47969714","ZANINI DELGADO LEONARDO","TECNICO COMPUTACION E INFORMATICA",0,"TECNICO","N°049,106","12 MESES",{"$f":"1200*12","v":14400},"N°053",6,{"$f":"1200*6","v":7200}]
[null,"404 RED SALUD CHEPEN","RDR","CAS","TECNICO EN FARMACIA",1100,"47113719","CHAVEZ SALAS REYNA ELIZABETH","TECNICO EN FARMACIA",0,"TECNICO","N°0058","7 MESES Y 10 DIAS",8065,"N°068",6,6000]
[null,"404 RED SALUD CHEPEN","RDR","CAS","TECNICO EN FARMACIA",1000,"47489419","COLLANTES VASQUEZ NILDA ESPERANZA","TECNICO EN FARMACIA",0,"TECNICO","N°051, 107","12 MESES",{"$f":"1000*12","v":12000},"N°065",6,{"$f":"1000*6","v":6000}]
[null,"404 RED SALUD CHEPEN","RDR","CAS","TRABAJADOR DE SERVICIO",930,"19328069","COSCOL CASTILLO RAUL ROLANDO","TECNICA EN FARMACIA",0,"TECNICO","N°0052, 108","12 MESES",11160,"N°066",6,{"$f":"930*6","v":5580}]
[null,"404 RED SALUD CHEPEN","RDR","CAS","TECNICO EN FARMACIA",1000,"47460233","PEREZ TANTALEAN ALEX JUNIOR","TECNICO EN FARMACIA",0,"TECNICO","N°054,110","12 MESES",{"$f":"930*12","v":11160},"Nº S/N",4,{"$f":"930*4","v":3720}]
[null,"404 RED SALUD CHEPEN","RDR","CAS","QUIMICO FARMACEUTICO",1500,"41491868","RABANAL NEIRA ENRIQUE","QUIMICO FARMACEUTICO","TITULADO","PROFESIONAL","N° 0055, 111","12 MESES",{"$f":"1500*12","v":18000}]
[null,"TOTAL",null,null,null,{"$f":"SUM(F3634:F3725)","v":153353},null,null,null,null,null,null,null,{"$f":"SUM(N3634:N3725)","v":1110113.6000000001},null,null,{"$f":"SUM(Q3634:Q3725)","v":595723}]
[null,"405 SALUD PACASMAYO","RO","CAS","ADMINISTRADOR DE REDES",3000,"43471691","PADILLA OLANO RODOLFO RAYMUNDO","ADMINISTRADOR DE REDES","SUPERIOR- UNIVERSITARIO","TITULO PROFESIONAL",4,12,{"$f":"F3727*12","v":36000},1,6,{"$f":"F3727*6","v":18000}]
[null,"405 SALUD PACASMAYO","RO","CAS","ARTESANO",930,"45872965","AMAYA SALDAÑA CARLOS CESAR","ARTESANO","SECUNDARIA COMPLETA","-",4,12,{"$f":"F3728*12","v":11160},1,6,{"$f":"F3728*6","v":5580}]
[null,"405 SALUD PACASMAYO","RO","CAS","ARTESANO",930,"19337985","BRIONES CALDERON MANUEL EDUARDO","ARTESANO","SECUNDARIA COMPLETA","-",4,12,11160,1,6,5580]
[null,"405 SALUD PACASMAYO","RO","CAS","ARTESANO",930,"19192560","CORREA ESCOBAR ARTURO PEDRO","ARTESANO","SECUNDARIA COMPLETA","-",4,12,11160,1,6,5580]
[null,"405 SALUD PACASMAYO","RO","CAS","ARTESANO",930,"19325401","RODAS CUBAS EULOGIO GILMER","ARTESANO","SECUNDARIA COMPLETA","-",4,12,11160,1,6,5580]
[null,"405 SALUD PACASMAYO","RO","CAS","ASESOR LEGAL",2500,"19251867","MORA RIVASPLATA WANDER DOLIMBRAN","ASESOR LEGAL","SUPERIOR- UNIVERSITARIO","TITULO PROFESIONAL",4,12,30000,1,6,15000]
[null,"405 SALUD PACASMAYO","RO","CAS","ASISTENTE ADMINISTRATIVO",1500,"47583353","RODAS CERDAN MILY GABRIELA","ASISTENTE ADMINISTRATIVO","SECUNDARIA COMPLETA","-",4,12,18000,1,6,9000]
[null,"405 SALUD PACASMAYO","RO","CAS","AUXILIAR EN MANTENIMIENTO",930,"27166961","NINATANTA ORTIZ JUAN CARLOS","AUXILIAR EN MANTENIMIENTO","SECUNDARIA COMPLETA","-",4,12,11160,1,6,5580]
[null,"405 SALUD PACASMAYO","RO","CAS","BIOLOGO(A)",2689,"45909142","ALVA GUZMAN BRENDA CAROLINA","BIOLOGO(A)","SUPERIOR- UNIVERSITARIO","TITULO PROFESIONAL",4,12,32268,1,6,16134]
[null,"405 SALUD PACASMAYO","RO","CAS","BIOLOGO(A)",1500,"42266299","VILLENA CRUZ DIANE JACQUELINE","BIOLOGO(A)","SUPERIOR- UNIVERSITARIO","TITULO PROFESIONAL",4,12,18000,1,6,9000]
[null,"405 SALUD PACASMAYO","RO","CAS","CHOFER",930,"45962912","MUÑOZ ASENCIO GEINER","CHOFER","SECUNDARIA COMPLETA","-",4,12,11160,1,6,5580]
[null,"405 SALUD PACASMAYO","RO","CAS","CHOFER",930,"43267506","VASQUEZ CHAVARRY RULY SEBASTIAN","CHOFER","SECUNDARIA COMPLETA","-",4,12,11160,1,6,5580]
[null,"405 SALUD PACASMAYO","RO","CAS","CHOFER",930,"45060541","CABOS SALDAÑA JHON MARTIN","CHOFER","SECUNDARIA COMPLETA","-",4,12,11160,1,6,5580]
[null,"405 SALUD PACASMAYO","RO","CAS","DIGITADOR DE AFILIACION SIS",1000,"44438877","AYAY CHAVARRY BLANCA FLOR","DIGITADOR DE AFILIACION SIS","SUPERIOR- TECNICO","TITULO TECNICO",4,12,12000,1,6,6000]
[null,"405 SALUD PACASMAYO","RO","CAS","DIGITADOR DE AFILIACION SIS",1000,"19260908","COTRINA GRADOS MARIA ISABEL","DIGITADOR DE AFILIACION SIS","SUPERIOR- TECNICO","TITULO TECNICO",4,12,12000,1,6,6000]
[null,"405 SALUD PACASMAYO","RO","CAS","DIGITADOR DE AFILIACION SIS",1000,"72438144","DIAZ COBA MARILYANS ROSSANA","DIGITADOR DE AFILIACION SIS","SUPERIOR- TECNICO","TITULO TECNICO",4,12,12000,1,6,6000]
[null,"405 SALUD PACASMAYO","RO","CAS","DIGITADOR DE AFILIACION SIS",1000,"45827228","JAUREGUI TERRONES JUAN MANUEL","DIGITADOR DE AFILIACION SIS","SUPERIOR- TECNICO","TITULO TECNICO",4,12,12000,1,6,6000]
[null,"405 SALUD PACASMAYO","RO","CAS","DIGITADOR DE AFILIACION SIS",1000,"40813522","LEIVA VASQUEZ JOAN NICOLAS","DIGITADOR DE AFILIACION SIS","SUPERIOR- TECNICO","TITULO TECNICO",4,12,12000,1,6,6000]
[null,"405 SALUD PACASMAYO","RO","CAS","DIGITADOR DE AFILIACION SIS",1000,"44875520","LOPEZ TORRES JESSICA KARINA","DIGITADOR DE AFILIACION SIS","SUPERIOR- TECNICO","TITULO TECNICO",4,12,12000,1,6,6000]
[null,"405 SALUD PACASMAYO","RO","CAS","DIGITADOR DE AFILIACION SIS",1000,"45660214","LOZANO PORTAL TEODORO ELMERIS","DIGITADOR DE AFILIACION SIS","SUPERIOR- TECNICO","TITULO TECNICO",4,12,12000,1,6,6000]
[null,"405 SALUD PACASMAYO","RO","CAS","DIGITADOR DE AFILIACION SIS",1000,"47398613","ÑAÑO MARTINEZ VICTOR MAURI","DIGITADOR DE AFILIACION SIS","SUPERIOR- TECNICO","TITULO TECNICO",4,12,12000,1,6,6000]
[null,"405 SALUD PACASMAYO","RO","CAS","DIGITADOR DE AFILIACION SIS",1000,"40536129","ORBEZO RAMIREZ CHRISTIAN BAUDELIO","DIGITADOR DE AFILIACION SIS","SUPERIOR- TECNICO","TITULO TECNICO",4,12,12000,1,6,6000]
[null,"405 SALUD PACASMAYO","RO","CAS","DIGITADOR DE AFILIACION SIS",1000,"45388084","RODRIGUEZ DELGADO ZAIDA JULISSA","DIGITADOR DE AFILIACION SIS","SUPERIOR- TECNICO","TITULO TECNICO",4,12,12000,1,6,6000]
[null,"405 SALUD PACASMAYO","RO","CAS","DIGITADOR DE AFILIACION SIS",1000,"45453928","RODRIGUEZ GRADOS CLAUDIA KATHERYNE","DIGITADOR DE AFILIACION SIS","SUPERIOR- TECNICO","TITULO TECNICO",4,12,12000,1,6,6000]
[null,"405 SALUD PACASMAYO","RO","CAS","DIGITADOR DE AFILIACION SIS",930,"70224323","TERAN GRADOS KAREN MELARY","DIGITADOR DE AFILIACION SIS","SUPERIOR- TECNICO","TITULO TECNICO",4,12,11160,1,6,5580]
[null,"405 SALUD PACASMAYO","RO","CAS","DIGITADOR DE AFILIACION SIS",1000,"19188588","VERTIZ MORALES JUAN CARLOS","DIGITADOR DE AFILIACION SIS","SUPERIOR- TECNICO","TITULO TECNICO",4,12,12000,1,6,6000]
[null,"405 SALUD PACASMAYO","RO","CAS","DIGITADOR(A)",930,"41712237","LEYVA BRUNO EDWIN OMAR","DIGITADOR(A)","SUPERIOR- TECNICO","TITULO TECNICO",4,12,11160,1,6,5580]
[null,"405 SALUD PACASMAYO","RO","CAS","DIGITADOR(A)",930,"76967443","LOPEZ GOMEZ TATIANA LISBETH","DIGITADOR(A)","SUPERIOR- TECNICO","TITULO TECNICO",4,12,11160,1,6,5580]
[null,"405 SALUD PACASMAYO","RO","CAS","DIGITADOR(A)",930,"47583740","PALOMINO ROJAS YESSICA MELISSA","DIGITADOR(A)","SUPERIOR- TECNICO","TITULO TECNICO",4,12,11160,1,6,5580]
[null,"405 SALUD PACASMAYO","RO","CAS","DIGITADOR(A)",930,"42703907","SENMACHE LOPEZ LUIS ALBERTO","DIGITADOR(A)","SUPERIOR- TECNICO","TITULO TECNICO",4,12,11160,1,6,5580]
[null,"405 SALUD PACASMAYO","RO","CAS","ENFERMERA(O)",1500,"45023369","ALVA CHUQUILIN DE VASQUEZ ANGELA DRYEDI","ENFERMERA(O)","SUPERIOR- UNIVERSITARIO","TITULO PROFESIONAL",4,12,18000,1,6,9000]
[null,"405 SALUD PACASMAYO","RO","CAS","ENFERMERA(O)",1500,"47185803","ARIAS RIVERA MIRIAM CECILIA","ENFERMERA(O)","SUPERIOR- UNIVERSITARIO","TITULO PROFESIONAL",4,12,18000,1,6,9000]
[null,"405 SALUD PACASMAYO","RO","CAS","ENFERMERA(O)",1500,"45029317","ARRELUCEA CHINGAY ROSA POLONIA","ENFERMERA(O)","SUPERIOR- UNIVERSITARIO","TITULO PROFESIONAL",4,12,18000,1,6,9000]
[null,"405 SALUD PACASMAYO","RO","CAS","ENFERMERA(O)",1500,"71924995","CELIS SOBERON ANA GABRIELA","ENFERMERA(O)","SUPERIOR- UNIVERSITARIO","TITULO PROFESIONAL",4,12,18000,1,6,9000]
[null,"405 SALUD PACASMAYO","RO","CAS","ENFERMERA(O)",1500,"45030132","COCHAS NUÑEZ MARTIN ARTURO FELIX","ENFERMERA(O)","SUPERIOR- UNIVERSITARIO","TITULO PROFESIONAL",4,12,18000,1,6,9000]
[null,"405 SALUD PACASMAYO","RO","CAS","ENFERMERA(O)",2689,"47122018","ESCOBAR ZAMORA ROCIO DEL PILAR","ENFERMERA(O)","SUPERIOR- UNIVERSITARIO","TITULO PROFESIONAL",4,12,32268,1,6,16134]
[null,"405 SALUD PACASMAYO","RO","CAS","ENFERMERA(O)",1500,"44133499","ESPINAQUE DE LA CRUZ RUBI CHANEL","ENFERMERA(O)","SUPERIOR- UNIVERSITARIO","TITULO PROFESIONAL",4,12,18000,1,6,9000]
[null,"405 SALUD PACASMAYO","RO","CAS","ENFERMERA(O)",1500,"41147597","HERRERA CHOLAN MARIA ROXANA","ENFERMERA(O)","SUPERIOR- UNIVERSITARIO","TITULO PROFESIONAL",4,12,18000,1,6,9000]
[null,"405 SALUD PACASMAYO","RO","CAS","ENFERMERA(O)",1500,"45839855","ISLA AMAYA ZULMA ANALI","ENFERMERA(O)","SUPERIOR- UNIVERSITARIO","TITULO PROFESIONAL",4,12,18000,1,6,9000]
[null,"405 SALUD PACASMAYO","RO","CAS","ENFERMERA(O)",1500,"46682482","MACHUCA JAVIER CARMEN MILAGROS","ENFERMERA(O)","SUPERIOR- UNIVERSITARIO","TITULO PROFESIONAL",4,12,18000,1,6,9000]
[null,"405 SALUD PACASMAYO","RO","CAS","ENFERMERA(O)",1500,"44477518","NORIEGA PALACIOS ERIKA GISELA","ENFERMERA(O)","SUPERIOR- UNIVERSITARIO","TITULO PROFESIONAL",4,12,18000,1,6,9000]
[null,"405 SALUD PACASMAYO","RO","CAS","ENFERMERA(O)",1500,"45872962","PORTILLA CUZCO YULIANA VANESA","ENFERMERA(O)","SUPERIOR- UNIVERSITARIO","TITULO PROFESIONAL",4,12,18000,1,6,9000]
[null,"405 SALUD PACASMAYO","RO","CAS","ENFERMERA(O)",1500,"71238548","REAÑO URBINA JUANA CELINA","ENFERMERA(O)","SUPERIOR- UNIVERSITARIO","TITULO PROFESIONAL",4,12,18000,1,6,9000]
[null,"405 SALUD PACASMAYO","RO","CAS","ENFERMERA(O)",1500,"61242503","SANTOLALLA JAVIER ROSITA DEL PILAR","ENFERMERA(O)","SUPERIOR- UNIVERSITARIO","TITULO PROFESIONAL",4,12,18000,1,6,9000]
[null,"405 SALUD PACASMAYO","RO","CAS","ENFERMERA(O)",1500,"44444637","TELLO ALCANTARA LESLY NOHELI","ENFERMERA(O)","SUPERIOR- UNIVERSITARIO","TITULO PROFESIONAL",4,12,18000,1,6,9000]
[null,"405 SALUD PACASMAYO","RO","CAS","ENFERMERA(O)",1500,"45635047","VELASQUEZ GUANILO ZUMILDA LADY ALICIA","ENFERMERA(O)","SUPERIOR- UNIVERSITARIO","TITULO PROFESIONAL",4,12,18000,1,6,9000]
[null,"405 SALUD PACASMAYO","RO","CAS","ENFERMERA(O)",1500,"44654363","ZAMORA GOMEZ YULIANA MARIBEL","ENFERMERA(O)","SUPERIOR- UNIVERSITARIO","TITULO PROFESIONAL",4,12,18000,1,6,9000]
[null,"405 SALUD PACASMAYO","RO","CAS","ENFERMERA(O)",2689,"45030124","ZUÑE SILVA LUIS VLADIMIR","ENFERMERA(O)","SUPERIOR- UNIVERSITARIO","TITULO PROFESIONAL",4,12,32268,1,6,16134]
[null,"405 SALUD PACASMAYO","RO","CAS","ESPECIALISTA EN LOGISTICA",2300,"43664071","JIMENEZ BRIONES MARCO ANTONIO","ESPECIALISTA EN LOGISTICA","SUPERIOR- UNIVERSITARIO","TITULO PROFESIONAL",4,12,27600,1,6,13800]
[null,"405 SALUD PACASMAYO","RO","CAS","MEDICO",5500,"47267076","ARIAS SANCHEZ MILAGROS ELVIRA","MEDICO","SUPERIOR- UNIVERSITARIO","TITULO PROFESIONAL",4,12,66000,1,6,33000]
[null,"405 SALUD PACASMAYO","RO","CAS","MEDICO",3000,"41622089","CACERES NUÑEZ CECILIA JUDITH","MEDICO","SUPERIOR- UNIVERSITARIO","TITULO PROFESIONAL",4,12,36000,1,6,18000]
[null,"405 SALUD PACASMAYO","RO","CAS","MEDICO",3000,"44841963","CHOQUEHUANCA BALTODANO NADIA PAOLA","MEDICO","SUPERIOR- UNIVERSITARIO","TITULO PROFESIONAL",4,12,36000,1,6,18000]
[null,"405 SALUD PACASMAYO","RO","CAS","MEDICO",3000,"45610357","ESCOBAR PAIRAZAMAN PATRICIA ISABEL","MEDICO","SUPERIOR- UNIVERSITARIO","TITULO PROFESIONAL",4,12,36000,1,6,18000]
[null,"405 SALUD PACASMAYO","RO","CAS","MEDICO",3000,"46311433","RIOS SANCHEZ EVELYN FRANCHESCA","MEDICO","SUPERIOR- UNIVERSITARIO","TITULO PROFESIONAL",4,12,36000,1,6,18000]
[null,"405 SALUD PACASMAYO","RO","CAS","MEDICO",5025,"42681215","SALAZAR VALLEJO IVONNE DEL PILAR","MEDICO","SUPERIOR- UNIVERSITARIO","TITULO PROFESIONAL",4,12,60300,1,6,30150]
[null,"405 SALUD PACASMAYO","RO","CAS","NUTRICIONISTA",1500,"03862126","ACHA CASTILLO NATALIA","NUTRICIONISTA","SUPERIOR- UNIVERSITARIO","TITULO PROFESIONAL",4,12,18000,1,6,9000]
[null,"405 SALUD PACASMAYO","RO","CAS","OBSTETRIZ",1500,"16593569","CABELLO ÑASCO JOSE EMERSON","OBSTETRIZ","SUPERIOR- UNIVERSITARIO","TITULO PROFESIONAL",4,12,18000,1,6,9000]
[null,"405 SALUD PACASMAYO","RO","CAS","OBSTETRIZ",1500,"19334068","GAMARRA HERNANDEZ LENNY ESTHER","OBSTETRIZ","SUPERIOR- UNIVERSITARIO","TITULO PROFESIONAL",4,12,18000,1,6,9000]
[null,"405 SALUD PACASMAYO","RO","CAS","OBSTETRIZ",1500,"45228415","HUAMAN AMAYA JESUS MANUEL","OBSTETRIZ","SUPERIOR- UNIVERSITARIO","TITULO PROFESIONAL",4,12,18000,1,6,9000]
[null,"405 SALUD PACASMAYO","RO","CAS","OBSTETRIZ",1500,"44582152","MARREROS SANDOVAL ARACELIC EDELMIRA","OBSTETRIZ","SUPERIOR- UNIVERSITARIO","TITULO PROFESIONAL",4,12,18000,1,6,9000]
[null,"405 SALUD PACASMAYO","RO","CAS","OBSTETRIZ",1500,"42865125","PANTA CHAPOÑAN ERIKA ESTHER","OBSTETRIZ","SUPERIOR- UNIVERSITARIO","TITULO PROFESIONAL",4,12,18000,1,6,9000]
[null,"405 SALUD PACASMAYO","RO","CAS","OBSTETRIZ",1500,"40721264","TERRONES CANO VERONICA EYLEEN","OBSTETRIZ","SUPERIOR- UNIVERSITARIO","TITULO PROFESIONAL",4,12,18000,1,6,9000]
[null,"405 SALUD PACASMAYO","RO","CAS","ODONTOLOGO(A)",1500,"10155987","CHOMBA SUAREZ DOMITILA","ODONTOLOGO(A)","SUPERIOR- UNIVERSITARIO","TITULO PROFESIONAL",4,12,18000,1,6,9000]
[null,"405 SALUD PACASMAYO","RO","CAS","PSICOLOGO(A)",1500,"41933063","COTRINA CISNEROS EVELYN HITARINA","PSICOLOGO(A)","SUPERIOR- UNIVERSITARIO","TITULO PROFESIONAL",4,12,18000,1,6,9000]
[null,"405 SALUD PACASMAYO","RO","CAS","QUIMICO FARMACEUTICO",1500,"26608467","CASTAÑEDA ABANTO AMPARITO LUCILA","QUIMICO FARMACEUTICO","SUPERIOR- UNIVERSITARIO","TITULO PROFESIONAL",4,12,18000,1,6,9000]
[null,"405 SALUD PACASMAYO","RDR","CAS","QUIMICO FARMACEUTICO",1500,"44704837","MARQUINA CASTELLANOS CINTHIA ELENA","QUIMICO FARMACEUTICO","SUPERIOR- UNIVERSITARIO","TITULO PROFESIONAL",4,12,{"$f":"F3792*12","v":18000},1,6,{"$f":"F3792*6","v":9000}]
[null,"405 SALUD PACASMAYO","RO","CAS","SECRETARIA",1200,"41883990","OCAÑA RAMIREZ JUDITH KAROL","SECRETARIA","SUPERIOR- TECNICO","TITULO TECNICO",4,12,14400,1,6,7200]
[null,"405 SALUD PACASMAYO","RO","CAS","TECNICO ADMINISTRATIVO",1200,"73767155","ASCOY CERNA LOREN LALESKA","TECNICO ADMINISTRATIVO","SUPERIOR- TECNICO","TITULO TECNICO",4,12,14400,1,6,7200]
[null,"405 SALUD PACASMAYO","RO","CAS","TECNICO ADMINISTRATIVO",930,"41698776","MONTERO CERDAN VIOLETA MARIBEL","TECNICO ADMINISTRATIVO","SUPERIOR- TECNICO","TITULO TECNICO",4,12,11160,1,6,5580]
[null,"405 SALUD PACASMAYO","RO","CAS","TECNICO ADMINISTRATIVO",930,"19260470","PAREDES MEDINA LUIS ENRIQUE","TECNICO ADMINISTRATIVO","SUPERIOR- TECNICO","TITULO TECNICO",4,12,11160,1,6,5580]
[null,"405 SALUD PACASMAYO","RO","CAS","TECNICO ADMINISTRATIVO",930,"41254027","QUISPE ROMERO LUZ JUBETH","TECNICO ADMINISTRATIVO","SUPERIOR- TECNICO","TITULO TECNICO",4,12,11160,1,6,5580]
[null,"405 SALUD PACASMAYO","RO","CAS","TECNICO ADMINISTRATIVO",930,"19257187","SILVA ALTAMIRANO JESSICA VERONICA","TECNICO ADMINISTRATIVO","SUPERIOR- TECNICO","TITULO TECNICO",4,12,11160,1,6,5580]
[null,"405 SALUD PACASMAYO","RO","CAS","TECNICO COMPUTACION  INFORMATI",930,"46442269","CASTAÑEDA VARGAS JOSE RAUL","TECNICO COMPUTACION  INFORMATI","SUPERIOR- TECNICO","TITULO TECNICO",4,12,11160,1,6,5580]
[null,"405 SALUD PACASMAYO","RO","CAS","TECNICO COMPUTACION  INFORMATI",930,"41934333","GUZMAN ESPINOZA DENNENSSI PAULINA","TECNICO COMPUTACION  INFORMATI","SUPERIOR- TECNICO","TITULO TECNICO",4,12,11160,1,6,5580]
[null,"405 SALUD PACASMAYO","RO","CAS","TECNICO COMPUTACION  INFORMATI",930,"40248850","LARA FERNANDEZ MELINA MILAGROS","TECNICO COMPUTACION  INFORMATI","SUPERIOR- TECNICO","TITULO TECNICO",4,12,11160,1,6,5580]
[null,"405 SALUD PACASMAYO","RO","CAS","TECNICO COMPUTACION  INFORMATI",930,"41540112","PILCO GURBILLON JOHANA YVON","TECNICO COMPUTACION  INFORMATI","SUPERIOR- TECNICO","TITULO TECNICO",4,12,11160,1,6,5580]
[null,"405 SALUD PACASMAYO","RO","CAS","TECNICO COMPUTACION  INFORMATI",930,"44526482","QUIROZ CUBAS LEONARD PAUL","TECNICO COMPUTACION  INFORMATI","SUPERIOR- TECNICO","TITULO TECNICO",4,12,11160,1,6,5580]
[null,"405 SALUD PACASMAYO","RO","CAS","TECNICO COMPUTACION  INFORMATI",1000,"43573176","VERA COTRINA BLANCA PERLA","TECNICO COMPUTACION  INFORMATI","SUPERIOR- TECNICO","TITULO TECNICO",4,12,12000,1,6,6000]
[null,"405 SALUD PACASMAYO","RO","CAS","TECNICO CONTABLE",1000,"19180656","JAVIER CHIRINOS EDUARDO TEOFILO","TECNICO CONTABLE","SUPERIOR- TECNICO","TITULO TECNICO",4,12,12000,1,6,6000]
[null,"405 SALUD PACASMAYO","RO","CAS","TECNICO CONTABLE",1000,"42448574","ROMERO MARIÑAS JACKELINE ELIZABETH","TECNICO CONTABLE","SUPERIOR- TECNICO","TITULO TECNICO",4,12,12000,1,6,6000]
[null,"405 SALUD PACASMAYO","RO","CAS","TECNICO EN ENFERMERIA",930,"19249158","ARIAS NOMBERTO JESSICA EDITH","TECNICO EN ENFERMERIA","SUPERIOR- TECNICO","TITULO TECNICO",4,12,11160,1,6,5580]
[null,"405 SALUD PACASMAYO","RO","CAS","TECNICO EN ENFERMERIA",930,"42689580","AZCARATE HUANGAL LUCILA MARIBEL","TECNICO EN ENFERMERIA","SUPERIOR- TECNICO","TITULO TECNICO",4,12,11160,1,6,5580]
[null,"405 SALUD PACASMAYO","RO","CAS","TECNICO EN ENFERMERIA",930,"77429773","CABOS CASQUIN DAMARIS ANABEL","TECNICO EN ENFERMERIA","SUPERIOR- TECNICO","TITULO TECNICO",4,12,11160,1,6,5580]
[null,"405 SALUD PACASMAYO","RO","CAS","TECNICO EN ENFERMERIA",930,"19331705","CALDERON TAPIA DORIS ISABEL","TECNICO EN ENFERMERIA","SUPERIOR- TECNICO","TITULO TECNICO",4,12,11160,1,6,5580]
[null,"405 SALUD PACASMAYO","RO","CAS","TECNICO EN ENFERMERIA",930,"41622074","CASTILLO ALAMA DIANA LORENA","TECNICO EN ENFERMERIA","SUPERIOR- TECNICO","TITULO TECNICO",4,12,11160,1,6,5580]
[null,"405 SALUD PACASMAYO","RO","CAS","TECNICO EN ENFERMERIA",930,"19256509","DE LA CRUZ ROMAN OSCAR CARLOS","TECNICO EN ENFERMERIA","SUPERIOR- TECNICO","TITULO TECNICO",4,12,11160,1,6,5580]
[null,"405 SALUD PACASMAYO","RO","CAS","TECNICO EN ENFERMERIA",930,"19250574","ESTEVES ESPINOZA NELLY VIOLETA","TECNICO EN ENFERMERIA","SUPERIOR- TECNICO","TITULO TECNICO",4,12,11160,1,6,5580]
[null,"405 SALUD PACASMAYO","RO","CAS","TECNICO EN ENFERMERIA",930,"19221657","HERNANDEZ MONTENEGRO SONIA MARILU","TECNICO EN ENFERMERIA","SUPERIOR- TECNICO","TITULO TECNICO",4,12,11160,1,6,5580]
[null,"405 SALUD PACASMAYO","RO","CAS","TECNICO EN ENFERMERIA",930,"40423845","MAYTA VARGAS DE VASQUEZ LIDIA FLOR","TECNICO EN ENFERMERIA","SUPERIOR- TECNICO","TITULO TECNICO",4,12,11160,1,6,5580]
[null,"405 SALUD PACASMAYO","RO","CAS","TECNICO EN ENFERMERIA",930,"19258553","PEÑA CASTAÑEDA MARIA DEL PILAR","TECNICO EN ENFERMERIA","SUPERIOR- TECNICO","TITULO TECNICO",4,12,11160,1,6,5580]
[null,"405 SALUD PACASMAYO","RO","CAS","TECNICO EN ENFERMERIA",1834,"42384666","RUIZ JIMENEZ VERONICA","TECNICO EN ENFERMERIA","SUPERIOR- TECNICO","TITULO TECNICO",4,12,22008,1,6,11004]
[null,"405 SALUD PACASMAYO","RO","CAS","TECNICO EN ENFERMERIA",1834,"18122915","SANCHEZ RODRIGUEZ ERICA SARELA","TECNICO EN ENFERMERIA","SUPERIOR- TECNICO","TITULO TECNICO",4,12,22008,1,6,11004]
[null,"405 SALUD PACASMAYO","RO","CAS","TECNICO EN ENFERMERIA",930,"40990681","TELLO COTRINA SEGUNDO DEMETRIO","TECNICO EN ENFERMERIA","SUPERIOR- TECNICO","TITULO TECNICO",4,12,11160,1,6,5580]
[null,"405 SALUD PACASMAYO","RO","CAS","TECNICO EN ENFERMERIA",930,"41662853","TORRES PADILLA LUCY ESMIT","TECNICO EN ENFERMERIA","SUPERIOR- TECNICO","TITULO TECNICO",4,12,11160,1,6,5580]
[null,"405 SALUD PACASMAYO","RO","CAS","TECNICO EN ENFERMERIA",930,"19256494","URBINA NORIEGA INGRID MARILIN","TECNICO EN ENFERMERIA","SUPERIOR- TECNICO","TITULO TECNICO",4,12,11160,1,6,5580]
[null,"405 SALUD PACASMAYO","RO","CAS","TECNICO EN ENFERMERIA",930,"19238583","VILCHEZ DIAZ HELGA DEL ROCIO","TECNICO EN ENFERMERIA","SUPERIOR- TECNICO","TITULO TECNICO",4,12,11160,1,6,5580]
[null,"405 SALUD PACASMAYO","RO","CAS","TECNICO EN LABORATORIO",930,"44145555","CHAPOÑAN VENTURA MARIA ROSARIO","TECNICO EN LABORATORIO","SUPERIOR- TECNICO","TITULO TECNICO",4,12,11160,1,6,5580]
[null,"405 SALUD PACASMAYO","RO","CAS","TECNICO EN LABORATORIO",930,"19251908","GIL CRUZADO BEATRIZ LEONOR","TECNICO EN LABORATORIO","SUPERIOR- TECNICO","TITULO TECNICO",4,12,11160,1,6,5580]
[null,"405 SALUD PACASMAYO","RO","CAS","TECNICO EN LABORATORIO",930,"19261376","MUÑOZ ACHA EVELYN LETICIA","TECNICO EN LABORATORIO","SUPERIOR- TECNICO","TITULO TECNICO",4,12,11160,1,6,5580]
[null,"405 SALUD PACASMAYO","RO","CAS","TECNOLOGO MEDICO",930,"47780338","CALLA VILCHEZ FREYSER NICK","TECNOLOGO MEDICO","SUPERIOR- TECNICO","TITULO TECNICO",4,12,11160,1,6,5580]
[null,"405 SALUD PACASMAYO","RO","CAS","TRABAJADOR DE SERVICIO",930,"19220739","ABANTO ROMERO JOSE MARIO","TRABAJADOR DE SERVICIO","SECUNDARIA COMPLETA","-",4,12,11160,1,6,5580]
[null,"405 SALUD PACASMAYO","RO","CAS","TRABAJADOR DE SERVICIO",930,"19261626","CHAVEZ VERA YALY ALEX","TRABAJADOR DE SERVICIO","SECUNDARIA COMPLETA","-",4,12,11160,1,6,5580]
[null,"405 SALUD PACASMAYO","RO","CAS","TRABAJADOR DE SERVICIO",930,"19246878","CORREA QUIROZ JOSE DEL CARMEN","TRABAJADOR DE SERVICIO","SECUNDARIA COMPLETA","-",4,12,11160,1,6,5580]
[null,"405 SALUD PACASMAYO","RO","CAS","TRABAJADOR DE SERVICIO",930,"19223931","DIAZ ESCOBAR ALEIDA ANABEL","TRABAJADOR DE SERVICIO","SECUNDARIA COMPLETA","-",4,12,11160,1,6,5580]
[null,"405 SALUD PACASMAYO","RO","CAS","TRABAJADOR DE SERVICIO",930,"19250389","FRIAS PAREDES DOMINGO DEMETRIO","TRABAJADOR DE SERVICIO","SECUNDARIA COMPLETA","-",4,12,11160,1,6,5580]
[null,"405 SALUD PACASMAYO","RO","CAS","TRABAJADOR DE SERVICIO",930,"19249357","GARCIA ZELADA LUIS ROLANDO","TRABAJADOR DE SERVICIO","SECUNDARIA COMPLETA","-",4,12,11160,1,6,5580]
[null,"405 SALUD PACASMAYO","RO","CAS","TRABAJADOR DE SERVICIO",930,"46563535","IBAÑEZ RIOS DENNIS PAUL","TRABAJADOR DE SERVICIO","SECUNDARIA COMPLETA","-",4,12,11160,1,6,5580]
[null,"405 SALUD PACASMAYO","RO","CAS","TRABAJADOR DE SERVICIO",930,"44055315","JUARES RIOS DIANA FIORELLA","TRABAJADOR DE SERVICIO","SECUNDARIA COMPLETA","-",4,12,11160,1,6,5580]
[null,"405 SALUD PACASMAYO","RO","CAS","TRABAJADOR DE SERVICIO",930,"19336673","MENDOZA MUÑOZ ALDO VIRGILIO","TRABAJADOR DE SERVICIO","SECUNDARIA COMPLETA","-",4,12,11160,1,6,5580]
[null,"405 SALUD PACASMAYO","RO","CAS","TRABAJADOR DE SERVICIO",930,"41305293","MUNENAKA BURGOS JAIME MANUEL","TRABAJADOR DE SERVICIO","SECUNDARIA COMPLETA","-",4,12,11160,1,6,5580]
[null,"405 SALUD PACASMAYO","RO","CAS","TRABAJADOR DE SERVICIO",930,"47633247","NUÑEZ HUAMAN JHONNY BALDOMERO","TRABAJADOR DE SERVICIO","SECUNDARIA COMPLETA","-",4,12,11160,1,6,5580]
[null,"405 SALUD PACASMAYO","RO","CAS","TRABAJADOR DE SERVICIO",930,"40068184","PASAPERA VASQUEZ RICHARD LARRY","TRABAJADOR DE SERVICIO","SECUNDARIA COMPLETA","-",4,12,11160,1,6,5580]
[null,"405 SALUD PACASMAYO","RO","CAS","TRABAJADOR DE SERVICIO",930,"19212481","QUIÑE CERNA JUAN RICARDO","TRABAJADOR DE SERVICIO","SECUNDARIA COMPLETA","-",4,12,11160,1,6,5580]
[null,"405 SALUD PACASMAYO","RO","CAS","TRABAJADOR DE SERVICIO",930,"48804968","ZELADA VENTURA LISSET KATHERINE","TRABAJADOR DE SERVICIO","SECUNDARIA COMPLETA","-",4,12,11160,1,6,5580]
[null,"TOTAL",null,null,null,{"$f":"SUM(F3727:F3840)","v":153180},null,null,null,null,null,null,null,{"$f":"SUM(N3727:N3840)","v":1838160},null,null,{"$f":"SUM(Q3727:Q3840)","v":919080}]
[null,"406 SALUD SANCHEZ CARRION","RO","CAS","TECNICO EN ENFERMERIA",1013.7,"46872999","ALONZO GERVACIO MAIRA JERAMEEL ","TECNICO EN ENFERMERIA","TECNICO","Titulo Tecnico",3,12,{"$f":"F3842*12","v":12164.400000000001},2,6,{"$f":"F3842*6","v":6082.2000000000007}]
[null,"406 SALUD SANCHEZ CARRION","RO","CAS","ENFERMERA(O)",1613.4,"45916359","ALTAMIRANO GOMEZ ADRIANA REYNINA ","ENFERMERA(O)","PROFESIONAL","Titulo Profesióonal",3,12,{"$f":"F3843*12","v":19360.800000000003},2,6,{"$f":"F3843*6","v":9680.4000000000015}]
[null,"406 SALUD SANCHEZ CARRION","RO","CAS","TECNICO EN ENFERMERIA",1308,"44740744","PADILLA AGREDA NATALY DEL ROCIO ","TECNICO EN ENFERMERIA","TECNICO","Titulo Tecnico",3,12,15696,2,6,{"$f":"F3844*6","v":7848}]
[null,"406 SALUD SANCHEZ CARRION","RO","CAS","TECNICO EN ENFERMERIA",1613.4,"42924958","BACA RUIZ OLGA  ","TECNICO EN ENFERMERIA","TECNICO","Titulo Tecnico",3,12,19360.800000000003,2,6,9680.4000000000015]
[null,"406 SALUD SANCHEZ CARRION","RO","CAS","DIGITADOR",1308,"47353188","RONDO LAYZA FRANCISCA  ","DIGITADOR","TECNICO","Titulo Tecnico",3,12,15696,2,6,7848]
[null,"406 SALUD SANCHEZ CARRION","RO","CAS","ENFERMERA(O)",1913.4,"47751749","MONZON LAIZA ODALIS MAYULY","ENFERMERA(O)","PROFESIONAL","Titulo Profesióonal",3,12,22960.800000000003,2,6,11480.400000000001]
[null,"406 SALUD SANCHEZ CARRION","RO","CAS","DIGITADOR",1308,"73085812","RUIZ RIVERA ROXANA ROSALI","DIGITADOR","TECNICO","Titulo Tecnico",3,12,15696,2,6,7848]
[null,"406 SALUD SANCHEZ CARRION","RO","CAS","DIGITADOR",1308,"70235043","RODRIGUEZ PAREDES JHOVANA JHACKELYN ","DIGITADOR","TECNICO","Titulo Tecnico",3,12,15696,2,6,7848]
[null,"406 SALUD SANCHEZ CARRION","RO","CAS","TEC. ENFERMERIA",1308,"73051474","JARA RONDO MARCIA SONIA ","TEC. ENFERMERIA","TECNICO","Titulo Tecnico",3,12,15696,2,6,7848]
[null,"406 SALUD SANCHEZ CARRION","RO","CAS","ENFERMERA(O)",1763.4,"73208393","CAIPO RUIZ SANTOS NICANOR ","ENFERMERA(O)","PROFESIONAL","Titulo Profesióonal",3,12,21160.800000000003,2,6,10580.400000000001]
[null,"406 SALUD SANCHEZ CARRION","RO","CAS","TECNICO EN ENFERMERIA",1308,"47715962","CASTILLO BALLENA YOVANI EVELYN ","TECNICO EN ENFERMERIA","TECNICO","Titulo Tecnico",3,12,15696,2,6,7848]
[null,"406 SALUD SANCHEZ CARRION","RO","CAS","ENFERMERA(O)",2513.4,"43123929","DOMINGUEZ SANDOVAL YUDIT","ENFERMERA(O)","PROFESIONAL","Titulo Profesióonal",3,12,30160.800000000003,2,6,15080.400000000001]
[null,"406 SALUD SANCHEZ CARRION","RO","CAS","TECNICO EN ENFERMERIA",1199,"47121371","CIPRIANO VERA LAURA FIORELLA ","TECNICO EN ENFERMERIA","TECNICO","Titulo Tecnico",3,12,14388,2,6,7194]
[null,"406 SALUD SANCHEZ CARRION","RO","CAS","MEDICO        ",4613.3999999999996,"70232862","CASTRO NEGREIROS YESABELLA BRIGITTE","MEDICO        ","PROFESIONAL","Titulo Profesióonal",3,12,55360.799999999996,2,6,27680.399999999998]
[null,"406 SALUD SANCHEZ CARRION","RO","CAS","MEDICO",4113.3999999999996,"72226131","RAMOS CALVO JESSICA ELIZABETH","MEDICO","PROFESIONAL","Titulo Profesióonal",3,12,49360.799999999996,2,6,24680.399999999998]
[null,"406 SALUD SANCHEZ CARRION","RO","CAS","ENFERMERA(O)",2613.4,"45348425","CORDOVA MEDINA JACKELYNE PATRICIA","ENFERMERA(O)","PROFESIONAL","Titulo Profesióonal",3,12,31360.800000000003,2,6,15680.400000000001]
[null,"406 SALUD SANCHEZ CARRION","RO","CAS","MEDICO",4613.3999999999996,"46237084","DE LA CRUZ MARIÑOS SAMANTHA MABEL ","MEDICO","PROFESIONAL","Titulo Profesióonal",3,12,55360.799999999996,2,6,27680.399999999998]
[null,"406 SALUD SANCHEZ CARRION","RO","CAS","ENFERMERA(O)",1763.4,"45104806","ESCOBEDO CRIZOLOGO BAUTISTA TEODOLINDA ","ENFERMERA(O)","PROFESIONAL","Titulo Profesióonal",3,12,21160.800000000003,2,6,10580.400000000001]
[null,"406 SALUD SANCHEZ CARRION","RO","CAS","TECNICO EN ENFERMERIA",1613.4,"43689343","BALLENA RUIZ ALICIA HIDILDA ","TECNICO EN ENFERMERIA","TECNICO","Titulo Tecnico",3,12,19360.800000000003,2,6,9680.4000000000015]
[null,"406 SALUD SANCHEZ CARRION","RO","CAS","DIGITADOR(A)",1308,"40269805","FERNANDEZ GRAOS SARA GERALDINE ","DIGITADOR(A)","TECNICO","Titulo Tecnico",3,12,15696,2,6,7848]
[null,"406 SALUD SANCHEZ CARRION","RO","CAS","ENFERMERA(O)",1763.4,"70224298","GASTAÑADUI ULLOA HORTENCIA MAGDALENA ","ENFERMERA(O)","PROFESIONAL","Titulo Profesióonal",3,12,21160.800000000003,2,6,10580.400000000001]
[null,"406 SALUD SANCHEZ CARRION","RO","CAS","ENFERMERA(O)",1613.4,"70224307","GIL LAYZA LILYAN SARAY ","ENFERMERA(O)","PROFESIONAL","Titulo Profesióonal",3,12,19360.800000000003,2,6,9680.4000000000015]
[null,"406 SALUD SANCHEZ CARRION","RO","CAS","ENFERMERA(O)",1763.4,"45555781","GONZALEZ MORENO EDELMIRA  ","ENFERMERA(O)","PROFESIONAL","Titulo Profesióonal",3,12,21160.800000000003,2,6,10580.400000000001]
[null,"406 SALUD SANCHEZ CARRION","RO","CAS","TECNICO EN ENFERMERIA",1308,"47673696","JARA RONDO SAYRA MARLENY ","TECNICO EN ENFERMERIA","TECNICO","Titulo Tecnico",3,12,15696,2,6,7848]
[null,"406 SALUD SANCHEZ CARRION","RO","CAS","ENFERMERA(O)",1913.4,"70239811","JURADO CHAVEZ KEILA TRINIDAD ","ENFERMERA(O)","PROFESIONAL","Titulo Profesióonal",3,12,22960.800000000003,2,6,11480.400000000001]
[null,"406 SALUD SANCHEZ CARRION","RO","CAS","TECNICO EN ENFERMERIA",1308,"44338010","LAGUNA MAURICIO FLOR ORTENCIA ","TECNICO EN ENFERMERIA","TECNICO","Titulo Tecnico",3,12,15696,2,6,7848]
[null,"406 SALUD SANCHEZ CARRION","RO","CAS","TECNICO EN ENFERMERIA",1013.7,"43949335","LAIZA MENDOZA YOLANDA JUDIT ","TECNICO EN ENFERMERIA","TECNICO","Titulo Tecnico",3,12,12164.400000000001,2,6,6082.2000000000007]
[null,"406 SALUD SANCHEZ CARRION","RO","CAS","DIGITADOR(A)",1308,"41573963","MARQUINA ARAUJO SUCY NANCY ","DIGITADOR(A)","TECNICO","Titulo Tecnico",3,12,15696,2,6,7848]
[null,"406 SALUD SANCHEZ CARRION","RO","CAS","DIGITADOR(A)",1308,"71493117","MAURICIO RIOS MARIBEL MARLENY ","DIGITADOR(A)","TECNICO","Titulo Tecnico",3,12,15696,2,6,7848]
[null,"406 SALUD SANCHEZ CARRION","RO","CAS","TECNICO EN ENFERMERIA",1613.4,"46724152","MONTES VILCHEZ DINA  ","TECNICO EN ENFERMERIA","TECNICO","Titulo Tecnico",3,12,19360.800000000003,2,6,9680.4000000000015]
[null,"406 SALUD SANCHEZ CARRION","RO","CAS","TECNICO EN ENFERMERIA",1308,"40030824","CHACON AMADOR ROSA  ","TECNICO EN ENFERMERIA","TECNICO","Titulo Tecnico",3,12,15696,2,6,7848]
[null,"406 SALUD SANCHEZ CARRION","RO","CAS","TECNICO EN ENFERMERIA",1013.7,"46903170","OTINIANO QUISPE ROXANA  ","TECNICO EN ENFERMERIA","TECNICO","Titulo Tecnico",3,12,12164.400000000001,2,6,6082.2000000000007]
[null,"406 SALUD SANCHEZ CARRION","RO","CAS","DIGITADOR(A)",1308,"44919500","RAMIREZ CARBAJAL RAMIRO  ","DIGITADOR(A)","TECNICO","Titulo Tecnico",3,12,15696,2,6,7848]
[null,"406 SALUD SANCHEZ CARRION","RO","CAS","DIGITADOR(A)",1308,"45125339","RAMOS CHACON IRMA OLINDA ","DIGITADOR(A)","TECNICO","Titulo Tecnico",3,12,15696,2,6,7848]
[null,"406 SALUD SANCHEZ CARRION","RO","CAS","ENFERMERA(O)",1763.4,"47585839","REYES BURGOS VANESSA NEPTHALI ","ENFERMERA(O)","PROFESIONAL","Titulo Profesióonal",3,12,21160.800000000003,2,6,10580.400000000001]
[null,"406 SALUD SANCHEZ CARRION","RO","CAS","TECNICO EN ENFERMERIA",1199,"40933340","REYES MURGA MARIA DOMITILA ","TECNICO EN ENFERMERIA","TECNICO","Titulo Tecnico",3,12,14388,2,6,7194]
[null,"406 SALUD SANCHEZ CARRION","RO","CAS","ENFERMERA(O)",1763.4,"44526446","RIOS HENRIQUEZ NELLY EDELMIRA ","ENFERMERA(O)","PROFESIONAL","Titulo Profesióonal",3,12,21160.800000000003,2,6,10580.400000000001]
[null,"406 SALUD SANCHEZ CARRION","RO","CAS","TECNICO EN ENFERMERIA",1308,"73098223","RODRIGUEZ RODRIGUEZ SANTOS DORALI ","TECNICO EN ENFERMERIA","TECNICO","Titulo Tecnico",3,12,15696,2,6,7848]
[null,"406 SALUD SANCHEZ CARRION","RO","CAS","AUXILIAR ASISTENCIAL",1013.7,"19562171","FLORES MAURICIO SANTOS  ","AUXILIAR ASISTENCIAL","AUXILIAR",null,3,12,12164.400000000001,2,6,6082.2000000000007]
[null,"406 SALUD SANCHEZ CARRION","RO","CAS","AUXILIAR ASISTENCIAL",1013.7,"40089729","GUEVARA DIESTRA NANCY ROSANNA ","AUXILIAR ASISTENCIAL","AUXILIAR",null,3,12,12164.400000000001,2,6,6082.2000000000007]
[null,"406 SALUD SANCHEZ CARRION","RO","CAS","DIGITADOR",1308,"47120844","ARTEAGA VEGA JORGE IVAN ","DIGITADOR","TECNICO","Titulo Tecnico",3,12,15696,2,6,7848]
[null,"406 SALUD SANCHEZ CARRION","RO","CAS","TECNICO EN ENFERMERIA",1308,"41626065","SANCHEZ SARE NELIDA NERY ","TECNICO EN ENFERMERIA","TECNICO","Titulo Tecnico",3,12,15696,2,6,7848]
[null,"406 SALUD SANCHEZ CARRION","RO","CAS","VIGILANTE",1308,"40769149","MIÑANO MURGA JOSE ALFREDO ","VIGILANTE","AUXILIAR",null,3,12,15696,2,6,7848]
[null,"406 SALUD SANCHEZ CARRION","RO","CAS","DIGITADOR(A)",1308,"40970368","ALTAMIRANO GUERRA ELIGIO ELOY ","DIGITADOR(A)","TECNICO","Titulo Tecnico",3,12,15696,2,6,7848]
[null,"406 SALUD SANCHEZ CARRION","RO","CAS","ENFERMERA(O)",2613.4,"46928340","MARCELIANO GARCIA KELY","ENFERMERA(O)","PROFESIONAL","Titulo Profesióonal",3,12,31360.800000000003,2,6,15680.400000000001]
[null,"406 SALUD SANCHEZ CARRION","RO","CAS","DIGITADOR",1308,"42197846","VERA PAREDES FRANCISCO MANUEL ","DIGITADOR","TECNICO","Titulo Tecnico",3,12,15696,2,6,7848]
[null,"406 SALUD SANCHEZ CARRION","RO","CAS","ENFERMERA(O)",2813.4,"47599177","AGUIRRE VASQUEZ LUZMILA LUCIA","ENFERMERA(O)","PROFESIONAL","Titulo Profesióonal",3,12,33760.800000000003,2,6,16880.400000000001]
[null,"406 SALUD SANCHEZ CARRION","RO","CAS","MEDICO         ",4613.3999999999996,"72368136","SAAVEDRA LOPEZ ABRAHAM MANUEL","MEDICO         ","PROFESIONAL","Titulo Profesióonal",3,12,55360.799999999996,2,6,27680.399999999998]
[null,"406 SALUD SANCHEZ CARRION","RO","CAS","VIGILANTE",1308,"19559563","CAMPOS CERNA YRMA HORTENCIA","VIGILANTE","AUXILIAR",null,3,12,15696,2,6,7848]
[null,"406 SALUD SANCHEZ CARRION","RO","CAS","DIGITADOR(A)",1308,"40915596","RUIZ HILARIO JUANA CRISANTA ","DIGITADOR(A)","TECNICO","Titulo Tecnico",3,12,15696,2,6,7848]
[null,"406 SALUD SANCHEZ CARRION","RO","CAS","DIGITADOR(A)",1308,"47458906","PAREDES LOPEZ MARCOS NOE ","DIGITADOR(A)","TECNICO","Titulo Tecnico",3,12,15696,2,6,7848]
[null,"406 SALUD SANCHEZ CARRION","RO","CAS","ENFERMERA(O)",1913.4,"60537806","SEGURA VILLEGUEZ LILIANA MELISA ","ENFERMERA(O)","PROFESIONAL","Titulo Profesióonal",3,12,22960.800000000003,2,6,11480.400000000001]
[null,"406 SALUD SANCHEZ CARRION","RO","CAS","AUXILIAR ASISTENCIAL",1013.7,"44327037","SICCHA ASUNCION ELIAS FRANCISCO ","AUXILIAR ASISTENCIAL","AUXILIAR",null,3,12,12164.400000000001,2,6,6082.2000000000007]
[null,"406 SALUD SANCHEZ CARRION","RO","CAS","TECNICO EN ENFERMERIA",1308,"43991766","CASTILLO BALLENA EDELITA GUILLANE ","TECNICO EN ENFERMERIA","TECNICO","Titulo Tecnico",3,12,15696,2,6,7848]
[null,"406 SALUD SANCHEZ CARRION","RO","CAS","ENFERMERA(O)",1913.4,"32953386","CASTILLO RODRIGUEZ TOMAS GENARO ","ENFERMERA(O)","PROFESIONAL","Titulo Profesióonal",3,12,22960.800000000003,2,6,11480.400000000001]
[null,"406 SALUD SANCHEZ CARRION","RO","CAS","AUXILIAR ASISTENCIAL",1013.7,"19559861","AGREDA CAMPOS PERCY ALEJANDRO ","AUXILIAR ASISTENCIAL","AUXILIAR",null,3,12,12164.400000000001,2,6,6082.2000000000007]
[null,"406 SALUD SANCHEZ CARRION","RO","CAS","VIGILANTE",1308,"43158314","OLASCOAGA GARCIA LUIS ENRIQUE ","VIGILANTE","AUXILIAR",null,3,12,15696,2,6,7848]
[null,"406 SALUD SANCHEZ CARRION","RO","CAS","AUXILIAR ASISTENCIAL",1013.7,"40961117","RUIZ GARCIA MARIA ESTHER ","AUXILIAR ASISTENCIAL","AUXILIAR",null,3,12,12164.400000000001,2,6,6082.2000000000007]
[null,"406 SALUD SANCHEZ CARRION","RO","CAS","TECNICO EN ENFERMERIA",1199,"72872921","VARAS BENITES AMADA YURELA ","TECNICO EN ENFERMERIA","TECNICO","Titulo Tecnico",3,12,14388,2,6,7194]
[null,"406 SALUD SANCHEZ CARRION","RO","CAS","TECNICO EN ENFERMERIA",1199,"45875633","LOPEZ NUÑEZ LILIANA","TECNICO EN ENFERMERIA","TECNICO","Titulo Tecnico",3,12,14388,2,6,7194]
[null,"406 SALUD SANCHEZ CARRION","RO","CAS","TECNICO EN ENFERMERIA",2013.4,"72928131","VERA GAMBOA LUISA BANESSA","TECNICO EN ENFERMERIA","TECNICO","Titulo Tecnico",3,12,24160.800000000003,2,6,12080.400000000001]
[null,"406 SALUD SANCHEZ CARRION","RO","CAS","TECNICO EN ENFERMERIA",1013.7,"42917216","POLO ESPEJO MARTHA ESTHER ","TECNICO EN ENFERMERIA","TECNICO","Titulo Tecnico",3,12,12164.400000000001,2,6,6082.2000000000007]
[null,"406 SALUD SANCHEZ CARRION","RO","CAS","OBSTETRA",1913.4,"48163549","JUAREZ PAZ KATY YESSENIA ","OBSTETRA","PROFESIONAL","Titulo Profesióonal",3,12,22960.800000000003,2,6,11480.400000000001]
[null,"406 SALUD SANCHEZ CARRION","RO","CAS","OBSTETRA",1913.4,"47172540","BLAS PAREDES ZOILITA VANESSA","OBSTETRA","PROFESIONAL","Titulo Profesióonal",3,12,22960.800000000003,2,6,11480.400000000001]
[null,"406 SALUD SANCHEZ CARRION","RO","CAS","OBSTETRA",2313.4,"45271518","LABORIANO SUAREZ ORFELINA MARGARITA ","OBSTETRA","PROFESIONAL","Titulo Profesióonal",3,12,27760.800000000003,2,6,13880.400000000001]
[null,"406 SALUD SANCHEZ CARRION","RO","CAS","TEC. ENFERMERIA",1613.4,"47926879","HUAYLLA ANGULO CESAR MARIANO","TEC. ENFERMERIA","TECNICO","Titulo Tecnico",3,12,{"$f":"F3907*12","v":19360.800000000003},2,6,9680.4000000000015]
[null,"406 SALUD SANCHEZ CARRION","RO","CAS","OBSTETRA",1763.4,"40135617","RODRIGUEZ NUÑEZ YESENIA  ","OBSTETRA","PROFESIONAL","Titulo Profesióonal",3,12,21160.800000000003,2,6,{"$f":"F3908*6","v":10580.400000000001}]
[null,"406 SALUD SANCHEZ CARRION","RO","CAS","OBSTETRA",2913.4,"46075647","QUISPE CAMPOS YUVETH MARILU ","OBSTETRA","PROFESIONAL","Titulo Profesióonal",3,12,34960.800000000003,2,6,17480.400000000001]
[null,"406 SALUD SANCHEZ CARRION","RO","CAS","OBSTETRA",1913.4,"46017140","RUIZ OLIVARES SAYRA MARIBEL","OBSTETRA","PROFESIONAL","Titulo Profesióonal",3,12,22960.800000000003,2,6,11480.400000000001]
[null,"406 SALUD SANCHEZ CARRION","RO","CAS","TECNICO EN ENFERMERIA",1308,"70242622","ESQUIVEL CAIPO ANDREA OLIVIA","TECNICO EN ENFERMERIA","TECNICO","Titulo Tecnico",3,12,15696,2,6,7848]
[null,"406 SALUD SANCHEZ CARRION","RO","CAS","TECNICO EN ENFERMERIA",1013.7,"45805469","MORENO VILLANUEVA VILMA EDITH ","TECNICO EN ENFERMERIA","TECNICO","Titulo Tecnico",3,12,12164.400000000001,2,6,6082.2000000000007]
[null,"406 SALUD SANCHEZ CARRION","RO","CAS","TECNICO EN ENFERMERIA",1013.7,"19558762","JULCA SALINAS MARIA MARGARITA ","TECNICO EN ENFERMERIA","TECNICO","Titulo Tecnico",3,12,12164.400000000001,2,6,6082.2000000000007]
[null,"406 SALUD SANCHEZ CARRION","RO","CAS","CHOFER",1013.7,"42594985","ARENAS PONCE PEDRO  ","CHOFER","AUXILIAR",null,3,12,12164.400000000001,2,6,6082.2000000000007]
[null,"406 SALUD SANCHEZ CARRION","RO","CAS","DIGITADOR(A)",1308,"29657865","REYES VIRHUEZ JOSE LUIS ","DIGITADOR(A)","TECNICO","Titulo Tecnico",3,12,15696,2,6,7848]
[null,"406 SALUD SANCHEZ CARRION","RO","CAS","AUXILIAR ASISTENCIAL",1013.7,"20722535","LLANTO VILLAR ANA ISABEL ","AUXILIAR ASISTENCIAL","AUXILIAR",null,3,12,12164.400000000001,2,6,6082.2000000000007]
[null,"406 SALUD SANCHEZ CARRION","RO","CAS","OBSTETRA",1613.4,"46857146","GARCIA CONTRERAS JANNINA EMPERATRIZ ","OBSTETRA","PROFESIONAL","Titulo Profesióonal",3,12,19360.800000000003,2,6,9680.4000000000015]
[null,"406 SALUD SANCHEZ CARRION","RO","CAS","OBSTETRA",2613.4,"18857301","VASQUEZ PINILLOS JORGE ALBERTO ","OBSTETRA","PROFESIONAL","Titulo Profesióonal",3,12,31360.800000000003,2,6,15680.400000000001]
[null,"406 SALUD SANCHEZ CARRION","RO","CAS","OBSTETRA",1613.4,"21881518","CARBAJAL AYAIPUMA YESSENIA DALILA ","OBSTETRA","PROFESIONAL","Titulo Profesióonal",3,12,19360.800000000003,2,6,9680.4000000000015]
[null,"406 SALUD SANCHEZ CARRION","RO","CAS","AUXILIAR ASISTENCIAL",1013.7,"40663647","MARQUINA BAUTISTA LORENZO  ","AUXILIAR ASISTENCIAL","AUXILIAR",null,3,12,12164.400000000001,2,6,6082.2000000000007]
[null,"406 SALUD SANCHEZ CARRION","RO","CAS","OBSTETRA",1763.4,"45491512","ROJAS CASTILLO ANA ROSA ","OBSTETRA","PROFESIONAL","Titulo Profesióonal",3,12,21160.800000000003,2,6,10580.400000000001]
[null,"406 SALUD SANCHEZ CARRION","RO","CAS","TECNICO EN ENFERMERIA",1013.7,"45600503","FERNANDEZ JULCA ROSMERY  ","TECNICO EN ENFERMERIA","TECNICO","Titulo Tecnico",3,12,12164.400000000001,2,6,6082.2000000000007]
[null,"406 SALUD SANCHEZ CARRION","RO","CAS","ENFERMERA(O)",2313.4,"44208017","YUPANQUI CALDERON MICHEEL JHON ","ENFERMERA(O)","PROFESIONAL","Titulo Profesióonal",3,12,27760.800000000003,2,6,13880.400000000001]
[null,"406 SALUD SANCHEZ CARRION","RO","CAS","CHOFER",1613.4,"18126405","AGUIRRE BENITES FREDY MARTIN ","CHOFER","AUXILIAR",null,3,12,19360.800000000003,2,6,9680.4000000000015]
[null,"406 SALUD SANCHEZ CARRION","RO","CAS","VIGILANTE",1308,"19561440","FERNANDEZ GAMBOA JOSE LUIS ","VIGILANTE","AUXILIAR",null,3,12,15696,2,6,7848]
[null,"406 SALUD SANCHEZ CARRION","RO","CAS","DIGITADOR(A)",1308,"19562224","BARRETO FLORES TOMAS LUCIANO ","DIGITADOR(A)","TECNICO","Titulo Tecnico",3,12,15696,2,6,7848]
[null,"406 SALUD SANCHEZ CARRION","RO","CAS","TECNICO EN ENFERMERIA",1090,"44301054","MONTES HERRERA MELINA SOLEDAD ","TECNICO EN ENFERMERIA","TECNICO","Titulo Tecnico",3,12,13080,2,6,6540]
[null,"406 SALUD SANCHEZ CARRION","RO","CAS","TECNICO EN ENFERMERIA",1199,"45893650","RIOS CASTILLO YOVELI  ","TECNICO EN ENFERMERIA","TECNICO","Titulo Tecnico",3,12,14388,2,6,7194]
[null,"406 SALUD SANCHEZ CARRION","RO","CAS","AUXILIAR ASISTENCIAL",1013.7,"46698098","INCA QUISPE NELLY ANALY","AUXILIAR ASISTENCIAL","AUXILIAR",null,3,12,12164.400000000001,2,6,6082.2000000000007]
[null,"406 SALUD SANCHEZ CARRION","RO","CAS","CHOFER",1013.7,"45651101","ACEVEDO POLO ELMER HECTOR ","CHOFER","AUXILIAR",null,3,12,12164.400000000001,2,6,6082.2000000000007]
[null,"406 SALUD SANCHEZ CARRION","RO","CAS","CHOFER",1013.7,"17888280","JUAREZ ALVAREZ PORFIRIO CONSTANTE ","CHOFER","AUXILIAR",null,3,12,12164.400000000001,2,6,6082.2000000000007]
[null,"406 SALUD SANCHEZ CARRION","RO","CAS","TECNICO EN ENFERMERIA",1199,"40167305","BRICEÑO GUERRA SILVIA JANET ","TECNICO EN ENFERMERIA","TECNICO","Titulo Tecnico",3,12,14388,2,6,7194]
[null,"406 SALUD SANCHEZ CARRION","RO","CAS","TECNICO EN ENFERMERIA",1199,"42313494","LAYZA BRINGAS EUFEMIA MARGARITA ","TECNICO EN ENFERMERIA","TECNICO","Titulo Tecnico",3,12,14388,2,6,7194]
[null,"406 SALUD SANCHEZ CARRION","RO","CAS","TECNICO EN ENFERMERIA",1308,"43581245","YUPANQUI JUAREZ MILY MAYLAN ","TECNICO EN ENFERMERIA","TECNICO","Titulo Tecnico",3,12,15696,2,6,7848]
[null,"406 SALUD SANCHEZ CARRION","RO","CAS","ODONTOLOGO(A)",1913.4,"04341560","MURRUGARRA MONTOYA ROSARIO MANUEL ","ODONTOLOGO(A)","PROFESIONAL","Titulo Profesióonal",3,12,22960.800000000003,2,6,11480.400000000001]
[null,"406 SALUD SANCHEZ CARRION","RO","CAS","OPERADOR DE RADIO",1308,"46227437","GERVACIO RUIZ EDUARDO CESAR","OPERADOR DE RADIO","TECNICO","Titulo Tecnico",3,12,15696,2,6,7848]
[null,"406 SALUD SANCHEZ CARRION","RO","CAS","ENFERMERA(O)",1613.4,"73302534","ESCOBEDO REYES PATRICIA GABRIELA","ENFERMERA(O)","PROFESIONAL","Titulo Profesióonal",3,12,19360.800000000003,2,6,9680.4000000000015]
[null,"406 SALUD SANCHEZ CARRION","RO","CAS","TECNICO EN ENFERMERIA",1613.4,"46989660","CAMACHO PEREZ EDELINA  ","TECNICO EN ENFERMERIA","TECNICO","Titulo Tecnico",3,12,19360.800000000003,2,6,9680.4000000000015]
[null,"406 SALUD SANCHEZ CARRION","RO","CAS","ENFERMERA(O)",1763.4,"44299592","CAMPOS REYES SANDY TANIA ","ENFERMERA(O)","PROFESIONAL","Titulo Profesióonal",3,12,21160.800000000003,2,6,10580.400000000001]
[null,"406 SALUD SANCHEZ CARRION","RO","CAS","TECNICO EN ENFERMERIA",1613.4,"46951673","AGUIRRE AMADOR ANCELMO DAVID ","TECNICO EN ENFERMERIA","TECNICO","Titulo Tecnico",3,12,19360.800000000003,2,6,9680.4000000000015]
[null,"406 SALUD SANCHEZ CARRION","RO","CAS","TEC. ADMINISTRATIVO",1308,"45507238","RUIZ RIOS JANETH","TEC. ADMINISTRATIVO","PROFESIONAL","Titulo Profesióonal",3,12,15696,2,6,7848]
[null,"406 SALUD SANCHEZ CARRION","RO","CAS","OBSTETRA",1913.4,"47898734","CARRASCO VALERIO MONICA ALLYSON ","OBSTETRA","PROFESIONAL","Titulo Profesióonal",3,12,22960.800000000003,2,6,11480.400000000001]
[null,"406 SALUD SANCHEZ CARRION","RO","CAS","ENFERMERA(O)",1763.4,"45452724","GUZMAN INFANTES GRETA GABY ","ENFERMERA(O)","PROFESIONAL","Titulo Profesióonal",3,12,21160.800000000003,2,6,10580.400000000001]
[null,"406 SALUD SANCHEZ CARRION","RO","CAS","ENFERMERA(O)",1763.4,"46009081","GARCIA ALVARADO PAOLA  ","ENFERMERA(O)","PROFESIONAL","Titulo Profesióonal",3,12,21160.800000000003,2,6,10580.400000000001]
[null,"406 SALUD SANCHEZ CARRION","RO","CAS","OBSTETRA",1913.4,"45463228","LESCANO PEREDA LURDES GISELLA ","OBSTETRA","PROFESIONAL","Titulo Profesióonal",3,12,22960.800000000003,2,6,11480.400000000001]
[null,"406 SALUD SANCHEZ CARRION","RO","CAS","ENFERMERA(O)",1763.4,"45698152","MUDARRA CARRANZA ELIZABETH MARIBEL ","ENFERMERA(O)","PROFESIONAL","Titulo Profesióonal",3,12,21160.800000000003,2,6,10580.400000000001]
[null,"406 SALUD SANCHEZ CARRION","RO","CAS","ENFERMERA(O)",1763.4,"44585427","PADILLA ULLOA MARIA MARGARITA ","ENFERMERA(O)","PROFESIONAL","Titulo Profesióonal",3,12,21160.800000000003,2,6,10580.400000000001]
[null,"406 SALUD SANCHEZ CARRION","RO","CAS","TECNICO EN ENFERMERIA",1090,"09957092","ROSALES EUSEBIO VICTORIA GLADIS ","TECNICO EN ENFERMERIA","TECNICO","Titulo Tecnico",3,12,13080,2,6,6540]
[null,"406 SALUD SANCHEZ CARRION","RO","CAS","MEDICO",4613.3999999999996,"46063528","SALDAÑA HUACCHA SANDRA PAOLA ","MEDICO","PROFESIONAL","Titulo Profesióonal",3,12,55360.799999999996,2,6,27680.399999999998]
[null,"406 SALUD SANCHEZ CARRION","RO","CAS","TECNICO EN ENFERMERIA",1013.7,"44371616","TRUJILLO PAREDES MILI JANETH ","TECNICO EN ENFERMERIA","TECNICO","Titulo Tecnico",3,12,12164.400000000001,2,6,6082.2000000000007]
[null,"406 SALUD SANCHEZ CARRION","RO","CAS","MEDICO",5113.3999999999996,"46905498","VALDERRAMA SANDOVAL BRISSY JESELLY ","MEDICO","PROFESIONAL","Titulo Profesióonal",3,12,61360.799999999996,2,6,30680.399999999998]
[null,"406 SALUD SANCHEZ CARRION","RO","CAS","TECNICO EN ENFERMERIA",1013.7,"42894680","VASQUEZ GARCIA RUBY  ","TECNICO EN ENFERMERIA","TECNICO","Titulo Tecnico",3,12,12164.400000000001,2,6,6082.2000000000007]
[null,"406 SALUD SANCHEZ CARRION","RO","CAS","JEFE DE OFICINA",2313.4,"47442121","ENCO MAQUI MILNER MICHEEL","JEFE DE OFICINA","PROFESIONAL","Titulo Profesióonal",3,12,27760.800000000003,2,6,13880.400000000001]
[null,"406 SALUD SANCHEZ CARRION","RO","CAS","DIGITADOR(A)",1308,"43361541","PEREDA CARBAJAL DANY MARIANELA ","DIGITADOR(A)","TECNICO","Titulo Tecnico",3,12,15696,2,6,7848]
[null,"406 SALUD SANCHEZ CARRION","RO","CAS","SIN CARGO",2313.4,"42639081","REVILLA PELAEZ CARMEN ROSA ","SIN CARGO","PROFESIONAL","Titulo Profesióonal",3,12,27760.800000000003,2,6,13880.400000000001]
[null,"406 SALUD SANCHEZ CARRION","RO","CAS","CONTADOR PUBLICO",2313.4,"18074217","VASQUEZ ULLOA ROSA ELVIRA ","CONTADOR PUBLICO","PROFESIONAL","Titulo Profesióonal",3,12,27760.800000000003,2,6,13880.400000000001]
[null,"406 SALUD SANCHEZ CARRION","RO","CAS","ENFERMERA(O)",1763.4,"46663793","CASTILLO BARRETO VILMA ISELA ","ENFERMERA(O)","PROFESIONAL","Titulo Profesióonal",3,12,21160.800000000003,2,6,10580.400000000001]
[null,"406 SALUD SANCHEZ CARRION","RO","CAS","MEDICO",4613.3999999999996,null,"Vacante  ","MEDICO","PROFESIONAL","Titulo Profesióonal",3,12,55360.799999999996,2,6,27680.399999999998]
[null,"406 SALUD SANCHEZ CARRION","RO","CAS","MEDICO",5113.3999999999996,"45814290","RUFASTO CHAPA JOSE JOHN","MEDICO","PROFESIONAL","Titulo Profesióonal",3,12,61360.799999999996,2,6,30680.399999999998]
[null,"406 SALUD SANCHEZ CARRION","RO","CAS","ASESORIA LEGAL",2613.4,"42754896","VILLA  SAEZ MAYRA JANETT","ASESORIA LEGAL","PROFESIONAL","Titulo Profesióonal",3,12,31360.800000000003,2,6,15680.400000000001]
[null,"406 SALUD SANCHEZ CARRION","RO","CAS","ASISTENTE ADMINISTRATIVO",2613.4,"42545552","GUEVARA CASTRO JAIRO ARTURO","ASISTENTE ADMINISTRATIVO","PROFESIONAL","Titulo Profesióonal",3,12,31360.800000000003,2,6,15680.400000000001]
[null,"406 SALUD SANCHEZ CARRION","RO","CAS","ENFERMERA(O)",1913.4,"42534645","RUIZ  ALONZO ANA JUDITH","ENFERMERA(O)","PROFESIONAL","Titulo Profesióonal",3,12,22960.800000000003,2,6,11480.400000000001]
[null,"406 SALUD SANCHEZ CARRION","RO","CAS","OBSTETRA",1913.4,"70649390","MORILLO GRAUS KARINA LIZETH","OBSTETRA","PROFESIONAL","Titulo Profesióonal",3,12,22960.800000000003,2,6,11480.400000000001]
[null,"406 SALUD SANCHEZ CARRION","RO","CAS","OBSTETRA",2313.4,"71245584","SEVILLANO VEGA JOSE ANTONIO","OBSTETRA","PROFESIONAL","Titulo Profesióonal",3,12,27760.800000000003,2,6,13880.400000000001]
[null,"406 SALUD SANCHEZ CARRION","RO","CAS","OBSTETRA",1913.4,"03897774","MALDONADO MALDONADO ANA MARIA","OBSTETRA","PROFESIONAL","Titulo Profesióonal",3,12,22960.800000000003,2,6,11480.400000000001]
[null,"406 SALUD SANCHEZ CARRION","RO","CAS","OBSTETRA",1913.4,"70062919","ARMAS LAIZA KAROL JEANETT","OBSTETRA","PROFESIONAL","Titulo Profesióonal",3,12,22960.800000000003,2,6,11480.400000000001]
[null,"406 SALUD SANCHEZ CARRION","RO","CAS","ENFERMERA(O)",1913.4,"45629845","IBAÑEZ GONZALEZ ERMANCIA ERSELIZ ","ENFERMERA(O)","PROFESIONAL","Titulo Profesióonal",3,12,22960.800000000003,2,6,11480.400000000001]
[null,"406 SALUD SANCHEZ CARRION","RO","CAS","TECNICO EN ENFERMERIA",1613.4,"78204752","VALLE GUANILO SUSAN ELIZABETH","TECNICO EN ENFERMERIA","TECNICO","Titulo Tecnico",3,12,19360.800000000003,2,6,9680.4000000000015]
[null,"406 SALUD SANCHEZ CARRION","RO","CAS","OBSTETRA",2813.4,"44655332","MAMANI CHULLUNQUIA SAYDA CLAUDIA","OBSTETRA","PROFESIONAL","Titulo Profesióonal",3,12,33760.800000000003,2,6,16880.400000000001]
[null,"406 SALUD SANCHEZ CARRION","RO","CAS","TECNICO EN ENFERMERIA",1913.4,"19332886","MONCADA CABANILLAS MARIA AMPARO ","TECNICO EN ENFERMERIA","TECNICO","Titulo Tecnico",3,12,22960.800000000003,2,6,11480.400000000001]
[null,"406 SALUD SANCHEZ CARRION","RO","CAS","ADMINISTRADOR",3113.4,"18134436","MILLA DIAZ ALEX ADHEMIR","ASISTENTE ADMINISTRATIVO-  ADMINISTRADOR","PROFESIONAL","Titulo Profesióonal",3,12,{"$f":"F3971*12","v":37360.800000000003},2,6,18680.400000000001]
[null,"406 SALUD SANCHEZ CARRION","RO","CAS","JEFE DE RRHH",2613.4,"18215058","SANCHEZ FLORES MONICA TERESA","ESPECIALISTA ADMINISTRATIVO - RRHH","PROFESIONAL","Titulo Profesióonal",3,12,31360.800000000003,2,6,{"$f":"F3972*6","v":15680.400000000001}]
[null,"406 SALUD SANCHEZ CARRION","RO","CAS","ESPECIALISTA ADMINISTRATIVO",2613.4,"44704004","GOMEZ PALOMINO EDSON RUBEN ","ESPECIALISTA ADMINISTRATIVO","PROFESIONAL","Titulo Profesióonal",3,12,31360.800000000003,2,6,15680.400000000001]
[null,"406 SALUD SANCHEZ CARRION","RO","CAS","MEDICO-AUDITOR",6113.4,"42810437","PORTILLA NUÑEZ DANNY JUNIOR","MEDICO-AUDITOR","PROFESIONAL","Titulo Profesióonal",3,12,73360.799999999988,2,6,36680.399999999994]
[null,"406 SALUD SANCHEZ CARRION","RO","CAS","ENFERMERA(O)",1913.4,"48104707","DE LA CRUZ ASTO MARIA SUSANA","ENFERMERA(O)","PROFESIONAL","Titulo Profesióonal",3,12,22960.800000000003,2,6,11480.400000000001]
[null,"406 SALUD SANCHEZ CARRION","RO","CAS","TECNICO EN ENFERMERIA",1199,"46271324","SALVADOR SALVATIERRA ELIZABETH ELVIRA","TECNICO EN ENFERMERIA","TECNICO","Titulo Tecnico",3,12,14388,2,6,7194]
[null,"406 SALUD SANCHEZ CARRION","RO","CAS","BIOLOGO(A)",1913.4,"43105368","LIZARRAGA OTINIANO EVER ADRIAN","BIOLOGO(A)","PROFESIONAL","Titulo Profesióonal",3,12,22960.800000000003,2,6,11480.400000000001]
[null,"406 SALUD SANCHEZ CARRION","RO","CAS","ENFERMERA(O)",1913.4,"42582456","JULCA SIFUENTES ESTHER MERCEDES","ENFERMERA(O)","PROFESIONAL","Titulo Profesióonal",3,12,22960.800000000003,2,6,11480.400000000001]
[null,"406 SALUD SANCHEZ CARRION","RO","CAS","TECNICO ENFERMERIA",1199,"70235385","HUAMAN BECERRA RAMIRO EDUARDO","TECNICO ENFERMERIA","TECNICO","Titulo Tecnico",3,12,14388,2,6,7194]
[null,"406 SALUD SANCHEZ CARRION","RO","CAS","OBSTETRA",1913.4,"46809873","RODRIGUEZ AGUIRRE ANA LUCIA","OBSTETRA","PROFESIONAL","Titulo Profesióonal",3,12,22960.800000000003,2,6,11480.400000000001]
[null,"406 SALUD SANCHEZ CARRION","RO","CAS","OBSTETRA",2613.4,"76176170","MEREGILDO ROSAS EDWIN ELVIS","OBSTETRA","PROFESIONAL","Titulo Profesióonal",3,12,31360.800000000003,2,6,15680.400000000001]
[null,"406 SALUD SANCHEZ CARRION","RO","CAS","ENFERMERA(O)",1763.4,"73098087","JARA PAREDES JULIA AURORA","ENFERMERA(O)","PROFESIONAL","Titulo Profesióonal",3,12,21160.800000000003,2,6,10580.400000000001]
[null,"406 SALUD SANCHEZ CARRION","RO","CAS","TECNICO EN ENFERMERIA",1199,"48224833","CRUZ CARRANZA GELY ERMILA","TECNICO EN ENFERMERIA","TECNICO","Titulo Tecnico",3,12,14388,2,6,7194]
[null,"406 SALUD SANCHEZ CARRION","RO","CAS","ENFERMERA(O)",1913.4,"47862483","SANDOVAL MONZON YANETH VICTORIA","ENFERMERA(O)","PROFESIONAL","Titulo Profesióonal",3,12,22960.800000000003,2,6,11480.400000000001]
[null,"406 SALUD SANCHEZ CARRION","RO","CAS","MEDICO",5113.3999999999996,null,"Vacante  ","MEDICO","PROFESIONAL","Titulo Profesióonal",3,12,61360.799999999996,2,6,30680.399999999998]
[null,"406 SALUD SANCHEZ CARRION","RO","CAS","OBSTETRA",1913.4,"46010421","SANTAMARIA VARGAS MERELIN JULIANA","OBSTETRA","PROFESIONAL","Titulo Profesióonal",3,12,22960.800000000003,2,6,11480.400000000001]
[null,"406 SALUD SANCHEZ CARRION","RO","CAS","VIGILANTE",1308,"19523376","FERNANDEZ GAMBOA PEDRO  ","VIGILANTE","AUXILIAR",null,3,12,15696,2,6,7848]
[null,"406 SALUD SANCHEZ CARRION","RO","CAS","OBSTETRA",1613.4,"71513248","CERNA SANCHEZ GINA KATERINA ","OBSTETRA","PROFESIONAL","Titulo Profesióonal",3,12,19360.800000000003,2,6,9680.4000000000015]
[null,"406 SALUD SANCHEZ CARRION","RO","CAS","OBSTETRA",1913.4,"47146234","TAPIA BARDALES LEYDI KAROL","OBSTETRA","PROFESIONAL","Titulo Profesióonal",3,12,22960.800000000003,2,6,11480.400000000001]
[null,"406 SALUD SANCHEZ CARRION","RO","CAS","DIGITADOR(A)",1308,"70224255","VARGAS RODRIGUEZ MOISES  ","DIGITADOR(A)","TECNICO","Titulo Tecnico",3,12,15696,2,6,7848]
[null,"406 SALUD SANCHEZ CARRION","RO","CAS","MEDICO",4613.3999999999996,"42034880","LOPEZ OSORIO CARMEN AGUSTINA ","MEDICO","PROFESIONAL","Titulo Profesióonal",3,12,55360.799999999996,2,6,27680.399999999998]
[null,"406 SALUD SANCHEZ CARRION","RO","CAS","MEDICO",5113.3999999999996,"71718708","CHAVEZ CERNA WILDER PAUL ","MEDICO","PROFESIONAL","Titulo Profesióonal",3,12,61360.799999999996,2,6,30680.399999999998]
[null,"406 SALUD SANCHEZ CARRION","RO","CAS","MEDICO",4113.3999999999996,null,"Vacante  ","MEDICO","PROFESIONAL","Titulo Profesióonal",3,12,49360.799999999996,2,6,24680.399999999998]
[null,"406 SALUD SANCHEZ CARRION","RO","CAS","OBSTETRA",2613.4,"71338198","AMADOR ROMERO VILMA ANGELA","OBSTETRA","PROFESIONAL","Titulo Profesióonal",3,12,31360.800000000003,2,6,15680.400000000001]
[null,"406 SALUD SANCHEZ CARRION","RDR","CAS","QUIMICO FARMACEUTICO",2113.4,"46637063","MONZON ROJAS TERESA JACQUELINE","QUIMICO FARMACEUTICO","PROFESIONAL","Titulo Profesióonal",3,12,25360.800000000003,2,6,12680.400000000001]
[null,"406 SALUD SANCHEZ CARRION","RDR","CAS","DIGITADOR(A)",1308,"41735615","PEREZ MORENO LIDIA YOLANDA ","DIGITADOR(A)","TECNICO","Titulo Tecnico",3,12,15696,2,6,7848]
[null,"406 SALUD SANCHEZ CARRION","RDR","CAS","DIGITADOR",1308,"46610398","ESQUIVEL REYES ROSMERY ","DIGITADOR","TECNICO","Titulo Tecnico",3,12,15696,2,6,7848]
[null,"406 SALUD SANCHEZ CARRION","RO","CAS","DIGITADOR(A)",1308,"70235140","BALLENA SALINAS MARIA MARGARITA ","DIGITADOR(A)","TECNICO","Titulo Tecnico",3,12,15696,2,6,7848]
[null,"406 SALUD SANCHEZ CARRION","RO","CAS","ENFERMERA(O)",1613.4,"41835380","RODRIGUEZ SERIN LUCIA MARICELA","ENFERMERA(O)","PROFESIONAL","Titulo Profesióonal",3,12,19360.800000000003,2,6,9680.4000000000015]
[null,"406 SALUD SANCHEZ CARRION","RDR","CAS","TEC. ADMINISTRATIVO",1308,"46673490","ARMAS CALDERON DAMIAN","TEC. ADMINISTRATIVO","PROFESIONAL","Titulo Profesióonal",3,12,15696,2,6,7848]
[null,"406 SALUD SANCHEZ CARRION","RO","CAS","ENFERMERA(O)",2802.4,"44546138","CRUZ ALONSO DORIS TERESA ","ENFERMERA(O)","PROFESIONAL","Titulo Profesióonal",3,12,33628.800000000003,2,6,16814.400000000001]
[null,"406 SALUD SANCHEZ CARRION","RO","CAS","TECNICO EN ENFERMERIA",1947.4,"42862713","TACANGA INCA JANETH","TECNICO EN ENFERMERIA","TECNICO","Titulo Tecnico",3,12,23368.800000000003,2,6,11684.400000000001]
[null,"406 SALUD SANCHEZ CARRION","RO","CAS","PSICOLOGA",2613.4,"70266050","VITELE URTECHO JENNIFER ROSITA","PSICOLOGA","PROFESIONAL","Titulo Profesióonal",3,12,31360.800000000003,2,6,15680.400000000001]
[null,"406 SALUD SANCHEZ CARRION","RO","CAS","TECNICO ENFERMERIA",1913.4,"46227440","VILLA CRUZADO ELVA ERODITA","TECNICO ENFERMERIA","TECNICO","Titulo Tecnico",3,12,22960.800000000003,2,6,11480.400000000001]
[null,"406 SALUD SANCHEZ CARRION","RO","CAS","TECNICO FARMACIA",1913.4,"45717646","DELGADO SIAPO PATRICIA ISABEL","TECNICO FARMACIA","TECNICO","Titulo Tecnico",3,12,22960.800000000003,2,6,11480.400000000001]
[null,"406 SALUD SANCHEZ CARRION","RO","CAS","VIGILANCIA",1613.4,null,"Vacante  ","SERVICIOS GENERALES - VIGILANCIA","AUXILIAR",null,3,12,19360.800000000003,2,6,9680.4000000000015]
[null,"406 SALUD SANCHEZ CARRION","RO","CAS","PSICOLOGA",2613.4,"42718504","PAREDES RIOS KELYN LILIANA","PSICOLOGA","PROFESIONAL","Titulo Profesióonal",3,12,31360.800000000003,2,6,15680.400000000001]
[null,"406 SALUD SANCHEZ CARRION","RO","CAS","ENFERMERA(O)",2613.4,"44998026","CONTRERAS ALTAMIRANO KAREN FIORELA","ENFERMERA(O)","PROFESIONAL","Titulo Profesióonal",3,12,31360.800000000003,2,6,15680.400000000001]
[null,"406 SALUD SANCHEZ CARRION","RO","CAS","TECNICO ENFERMERIA",1913.4,"43279823","AGUIRRE RODRIGUEZ CINTHYA NOEMI","TECNICO ENFERMERIA","TECNICO","Titulo Tecnico",3,12,22960.800000000003,2,6,11480.400000000001]
[null,"406 SALUD SANCHEZ CARRION","RO","CAS","MEDICO FAMILIAR",6613.4,null,"Vacante  ","MEDICO FAMILIAR","PROFESIONAL","Titulo Profesióonal",3,12,79360.799999999988,2,6,39680.399999999994]
[null,"406 SALUD SANCHEZ CARRION","RO","CAS","VIGILANCIA",1613.4,"17443423","ROMERO ALBUJAR SEGUNDO GENARO","SERVICIOS GENERALES - VIGILANCIA","AUXILIAR",null,3,12,19360.800000000003,2,6,9680.4000000000015]
[null,"406 SALUD SANCHEZ CARRION","RO","CAS","ENFERMERA(O)",2613.4,"70221367","ARTEAGA CAMPOS JHAMILET CRISANTA","ENFERMERA(O)","PROFESIONAL","Titulo Profesióonal",3,12,31360.800000000003,2,6,15680.400000000001]
[null,"406 SALUD SANCHEZ CARRION","RO","CAS","TECNICO ADMINISTRATIVO",2113.4,"73057049","MONZON REYES TOMASA MARTINA","TECNICO ADMINISTRATIVO","PROFESIONAL","Titulo Profesióonal",3,12,25360.800000000003,2,6,12680.400000000001]
[null,"406 SALUD SANCHEZ CARRION","RO","CAS","TECNICO ADMINISTRATIVO",2113.4,"41942952","GALARRETA LEDESMA DIANA ELISA","TECNICO ADMINISTRATIVO","PROFESIONAL","Titulo Profesióonal",3,12,25360.800000000003,2,6,12680.400000000001]
[null,"406 SALUD SANCHEZ CARRION","RO","CAS","LIMPIEZA",1613.4,"41397958","SANCHEZ ROMERO NEMESIO PAULINO","SERVICIOS GENERALES - LIMPIEZA","AUXILIAR",null,3,12,19360.800000000003,2,6,9680.4000000000015]
[null,"406 SALUD SANCHEZ CARRION","RO","CAS","LIMPIEZA",1613.4,"19573036","ARANDA PALOMINO DE QUISPE MERCEDES VIRGINIA","SERVICIOS GENERALES - LIMPIEZA","AUXILIAR",null,3,12,19360.800000000003,2,6,9680.4000000000015]
[null,"406 SALUD SANCHEZ CARRION","RO","CAS","TERAPEUTICA DE LENGUAJE",2613.4,"43190428","CRUZ SOTOMAYOR VANESSA YOVANNA","TERAPEUTICA DE LENGUAJE","PROFESIONAL","Titulo Profesióonal",3,12,31360.800000000003,2,6,15680.400000000001]
[null,"406 SALUD SANCHEZ CARRION","RO","CAS","TERAPEUTICA OCUPACIONAL",2613.4,"18200734","ENRIQUEZ CABALLERO JUDITH LILIANA","TERAPEUTICA OCUPACIONAL","PROFESIONAL","Titulo Profesióonal",3,12,31360.800000000003,2,6,15680.400000000001]
[null,"406 SALUD SANCHEZ CARRION","RO","CAS","PSIQUIATRA",8113.4,null,"Vacante  ","PSIQUIATRA","PROFESIONAL","Titulo Profesióonal",3,12,97360.799999999988,2,6,48680.399999999994]
[null,"406 SALUD SANCHEZ CARRION","RO","CAS","QUIMICO FARMACEUTICO",2613.4,"43780126","ALVARADO LEIVA MARTHA YSABEL","QUIMICO FARMACEUTICO","PROFESIONAL","Titulo Profesióonal",3,12,31360.800000000003,2,6,15680.400000000001]
[null,"406 SALUD SANCHEZ CARRION","RO","CAS","PSICOLOGA",2613.4,"46683700","HUANCA ABAD JACKELINE","PSICOLOGA","PROFESIONAL","Titulo Profesióonal",3,12,31360.800000000003,2,6,15680.400000000001]
[null,"406 SALUD SANCHEZ CARRION","RO","CAS","ENFERMERA(O)",2613.4,"43761568","ESPINOZA FERNANDEZ MELISSA JANETH","ENFERMERA(O)","PROFESIONAL","Titulo Profesióonal",3,12,31360.800000000003,2,6,15680.400000000001]
[null,"406 SALUD SANCHEZ CARRION","RO","CAS","TRABAJADOR SOCIAL",2613.4,"45258335","CASTRO MINCHOLA LUZMILA ROCIO","TRABAJADOR SOCIAL","PROFESIONAL","Titulo Profesióonal",3,12,31360.800000000003,2,6,15680.400000000001]
[null,"406 SALUD SANCHEZ CARRION","RO","CAS","ENFERMERA(O)",2613.4,"46531276","PAREDES CALDERON JOHANA JAQUELYN","ENFERMERA(O)","PROFESIONAL","Titulo Profesióonal",3,12,31360.800000000003,2,6,15680.400000000001]
[null,"TOTAL",null,null,null,null,null,null,null,null,null,null,null,{"$f":"SUM(N3842:N4024)","v":4355157.5999999885},null,null,{"$f":"SUM(Q3842:Q4024)","v":2177578.7999999942}]
[null,"407 SALUD SANTIAGO DE CHUCO","Recursos Ordinarios","CAS","ASISTENTE EN SISTEMAS FINANCIEROS",2000,47095479,"LUIS GARCIA SANTIAGO ANGEL","ADMINISTRADOR","TITULO UNIVERSITARIO","PROFESIONAL",null,null,null,1,3,{"$f":"F4026*P4026","v":6000}]
[null,"407 SALUD SANTIAGO DE CHUCO","Recursos Ordinarios","CAS","OBSTETRA",2000,47115563,"CALVA VASQUEZ JAHAIRA BRIGGITE","OBSTETRA","TITULO UNIVERSITARIO","PROFESIONAL",null,null,null,1,3,{"$f":"F4027*P4027","v":6000}]
[null,"407 SALUD SANTIAGO DE CHUCO","Recursos Ordinarios","CAS","OBSTETRA",2000,43067363,"GONZALES LUNA NOHEMI ROSAY","OBSTETRA","TITULO UNIVERSITARIO","PROFESIONAL",null,null,null,1,3,6000]
[null,"407 SALUD SANTIAGO DE CHUCO","Recursos Ordinarios","CAS","OBSTETRA",2000,44118376,"RODRIGUEZ BURGOS JUDITH YANINA","OBSTETRA","TITULO UNIVERSITARIO","PROFESIONAL",null,null,null,1,3,6000]
[null,"407 SALUD SANTIAGO DE CHUCO","Recursos Ordinarios","CAS","OBSTETRA",2000,47838497,"CORCUERA MURILLO JHERRY GERALDINE","OBSTETRA","TITULO UNIVERSITARIO","PROFESIONAL",null,null,null,1,3,6000]
[null,"407 SALUD SANTIAGO DE CHUCO","Recursos Ordinarios","CAS","OBSTETRA",2000,73678637,"AYALA ECHE ELIZA KARINA","OBSTETRA","TITULO UNIVERSITARIO","PROFESIONAL",null,null,null,1,3,6000]
[null,"407 SALUD SANTIAGO DE CHUCO","Recursos Ordinarios","CAS","TECNICO EN ENFERMERIA",1250,70557464,"CACEDA CORREA CLAUDIA ELIZABETH","TECNICO EN ENFERMERIA","Superior NO Universitario","Tecnico",null,null,null,1,3,3750]
[null,"407 SALUD SANTIAGO DE CHUCO","Recursos Ordinarios","CAS","TECNICO EN ENFERMERIA",1250,46507760,"LEIVA MIÑANO FIORELLA NATIVIDAD","TECNICO EN ENFERMERIA","Superior NO Universitario","Tecnico",null,null,null,1,3,3750]
[null,"407 SALUD SANTIAGO DE CHUCO","Recursos Ordinarios","CAS","TECNICO EN ENFERMERIA",1250,70840511,"ESQUIVEL SALVADOR ROSALIA ANGELINA","TECNICO EN ENFERMERIA","Superior NO Universitario","Tecnico",null,null,null,1,3,3750]
[null,"407 SALUD SANTIAGO DE CHUCO","Recursos Ordinarios","CAS","MEDICO",4000,47077196,"SALAZAR TACANGA PAVEL RICARDO","MEDICO","TITULO UNIVERSITARIO","PROFESIONAL",null,null,null,1,3,12000]
[null,"407 SALUD SANTIAGO DE CHUCO","Recursos Ordinarios","CAS","MEDICO",4000,80247216,"MIMBELA VALLEJO BECQUE PEPIN","MEDICO","TITULO UNIVERSITARIO","PROFESIONAL",null,null,null,1,3,12000]
[null,"407 SALUD SANTIAGO DE CHUCO","Recursos Ordinarios","CAS","TECNICO EN CONTABILIDAD",1250,18134205,"GERMAN BENITES GLADYS SOLEDAD","TECNICO EN CONTABILIDAD","Superior NO Universitario","Tecnico",null,null,null,1,3,3750]
[null,"407 SALUD SANTIAGO DE CHUCO","Recursos Ordinarios","CAS","TECNICO COMPUTACION  INFORMATI",1250,43194382,"CASTILLO QUISPE DANTE GABRIEL","TECNICO COMPUTACION  INFORMATI","Superior NO Universitario","Tecnico",null,null,null,1,3,3750]
[null,"407 SALUD SANTIAGO DE CHUCO","Recursos Ordinarios","CAS","ODONTOLOGO(A)",2000,46400952,"PONTE BUEZA JERESBITH DAYAN","ODONTOLOGO(A)","TITULO UNIVERSITARIO","PROFESIONAL",null,null,null,1,3,6000]
[null,"407 SALUD SANTIAGO DE CHUCO","Recursos Ordinarios","CAS","OBSTETRA",2000,"42463389","ALAYO ZORRILLA GABRIELA TERESA","OBSTETRA","TITULO UNIVERSITARIO","PROFESIONAL",2,12,{"$f":"F4040*M4040","v":24000},2,6,12000]
[null,"407 SALUD SANTIAGO DE CHUCO","Recursos Ordinarios","CAS","OBSTETRA",2000,"00245092","ALBURQUERQUE SANTISTEBAN JANETT SOLEDAD","OBSTETRA","TITULO UNIVERSITARIO","PROFESIONAL",2,12,24000,2,6,12000]
[null,"407 SALUD SANTIAGO DE CHUCO","Recursos Ordinarios","CAS","TECNICO COMPUTACION  INFORMATI",1250,"41723731","ALVA SAONA JUANITA DEL PILAR","TECNICO COMPUTACION  INFORMATI","Superior NO Universitario","Tecnico",2,12,15000,2,6,7500]
[null,"407 SALUD SANTIAGO DE CHUCO","Recursos Ordinarios","CAS","OBSTETRA",2000,"44789126","AMARO OLLERO MARIELA LUZ","OBSTETRA","TITULO UNIVERSITARIO","PROFESIONAL",2,12,24000,2,6,12000]
[null,"407 SALUD SANTIAGO DE CHUCO","Recursos Ordinarios","CAS","TECNICO EN ENFERMERIA",1250,"70240187","BACILIO OBESO MIRTHA JULISSA","TECNICO EN ENFERMERIA","Superior NO Universitario","Tecnico",2,12,15000,2,6,7500]
[null,"407 SALUD SANTIAGO DE CHUCO","Recursos Ordinarios","CAS","ENFERMERA(O)",2000,"45896946","BARRANTES CAYETANO LOURDES MELISSA","ENFERMERA(O)","TITULO UNIVERSITARIO","PROFESIONAL",2,12,24000,2,6,12000]
[null,"407 SALUD SANTIAGO DE CHUCO","Recursos Ordinarios","CAS","MEDICO",4000,"70235028","BARROS DE LA CRUZ JHONATHAN ALEJANDRO","MEDICO","TITULO UNIVERSITARIO","PROFESIONAL",2,12,48000,2,6,24000]
[null,"407 SALUD SANTIAGO DE CHUCO","Recursos Ordinarios","CAS","TECNICO EN ENFERMERIA",1250,"44285711","BENITES GUEVARA ALCIDES LEONARDO","TECNICO EN ENFERMERIA","Superior NO Universitario","Tecnico",2,12,15000,2,6,7500]
[null,"407 SALUD SANTIAGO DE CHUCO","Recursos Ordinarios","CAS","PILOTO DE AMBULANCIA",1250,"19668924","BENITES RUIZ ANDRES MODESTO","PILOTO DE AMBULANCIA","Secundaria ","Personal Asistencial",2,12,15000,2,6,7500]
[null,"407 SALUD SANTIAGO DE CHUCO","Recursos Ordinarios","CAS","OBSTETRA",2000,"18161668","BOCANEGRA PALACIOS SHARON ANDREA","OBSTETRA","TITULO UNIVERSITARIO","PROFESIONAL",2,12,24000,2,6,12000]
[null,"407 SALUD SANTIAGO DE CHUCO","Recursos Ordinarios","CAS","CONTADOR PUBLICO",2500,"18179345","CALDERON ÑIQUE CARLOS JUVENAL","CONTADOR PUBLICO","TITULO UNIVERSITARIO","PROFESIONAL",2,12,30000,2,6,15000]
[null,"407 SALUD SANTIAGO DE CHUCO","Recursos Ordinarios","CAS","NUTRICIONISTA",1800,"42424370","CAMPOS LIZARRAGA IVAN ROLYN","NUTRICIONISTA","TITULO UNIVERSITARIO","PROFESIONAL",2,12,21600,2,6,10800]
[null,"407 SALUD SANTIAGO DE CHUCO","Recursos Ordinarios","CAS","OBSTETRA",2000,"46444488","CARRION PASTOR YULIANA ELIZABETH","OBSTETRA","TITULO UNIVERSITARIO","PROFESIONAL",2,12,24000,2,6,12000]
[null,"407 SALUD SANTIAGO DE CHUCO","Recursos Ordinarios","CAS","TECNICO EN ENFERMERIA",1250,"40163094","CASTAÑEDA PADILLA SANTOS EDDI","TECNICO EN ENFERMERIA","Superior NO Universitario","Tecnico",2,12,15000,2,6,7500]
[null,"407 SALUD SANTIAGO DE CHUCO","Recursos Ordinarios","CAS","OBSTETRA",2000,"43235310","CASTRO CRUZ MILUSKA JUDITH","OBSTETRA","TITULO UNIVERSITARIO","PROFESIONAL",2,12,24000,2,6,12000]
[null,"407 SALUD SANTIAGO DE CHUCO","Recursos Ordinarios","CAS","OBSTETRA",2000,"47580342","CASTRO PEREZ MIRIAM GIULIANA","OBSTETRA","TITULO UNIVERSITARIO","PROFESIONAL",2,12,24000,2,6,12000]
[null,"407 SALUD SANTIAGO DE CHUCO","Recursos Ordinarios","CAS","OBSTETRA",2000,"45315124","CHAVARRY VALVERDE MARIA DEL PILAR","OBSTETRA","TITULO UNIVERSITARIO","PROFESIONAL",2,12,24000,2,6,12000]
[null,"407 SALUD SANTIAGO DE CHUCO","Recursos Ordinarios","CAS","PSICOLOGO(A)",1800,"46738314","CORDOVA VELASQUEZ ANSHELLY ELIZABETH","PSICOLOGO(A)","TITULO UNIVERSITARIO","PROFESIONAL",2,12,21600,2,6,10800]
[null,"407 SALUD SANTIAGO DE CHUCO","Recursos Ordinarios","CAS","ENFERMERA(O)",2000,"40071158","CORTEZ JARA RUBI ESMERALDA","ENFERMERA(O)","TITULO UNIVERSITARIO","PROFESIONAL",2,12,24000,2,6,12000]
[null,"407 SALUD SANTIAGO DE CHUCO","Recursos Ordinarios","CAS","PILOTO DE AMBULANCIA",1250,"40761111","DIAZ AGREDA ALVARO RAFAEL","PILOTO DE AMBULANCIA","Secundaria ","Personal Asistencial",2,12,15000,2,6,7500]
[null,"407 SALUD SANTIAGO DE CHUCO","Recursos Ordinarios","CAS","ENFERMERA(O)",2000,"43757218","DIAZ ESTEVES ROSA ANAHI","ENFERMERA(O)","TITULO UNIVERSITARIO","PROFESIONAL",2,12,24000,2,6,12000]
[null,"407 SALUD SANTIAGO DE CHUCO","Recursos Ordinarios","CAS","TECNICO EN CONTABILIDAD",1250,"40196533","DIESTRA FERRER YUDITH GIOVANNA","TECNICO EN CONTABILIDAD","Superior NO Universitario","Tecnico",2,12,15000,2,6,7500]
[null,"407 SALUD SANTIAGO DE CHUCO","Recursos Ordinarios","CAS","TRABAJADOR DE SERVICIO",1250,"42373090","ESPINOZA ULLOA ESTEBAN JOEL","TRABAJADOR DE SERVICIO","Secundaria ","Personal Asistencial",2,12,15000,2,6,7500]
[null,"407 SALUD SANTIAGO DE CHUCO","Recursos Ordinarios","CAS","ENFERMERA(O)",2000,"47794044","ESQUIVEL CAIPO MIRIAN CONSUELO","ENFERMERA(O)","TITULO UNIVERSITARIO","PROFESIONAL",2,12,24000,2,6,12000]
[null,"407 SALUD SANTIAGO DE CHUCO","Recursos Ordinarios","CAS","VIGILANTE",1200,"44321901","ESQUIVEL GASTAÑADUI NORBERTO JAIR","VIGILANTE","Secundaria ","Personal Asistencial",2,12,14400,2,6,7200]
[null,"407 SALUD SANTIAGO DE CHUCO","Recursos Ordinarios","CAS","ABOGADO(A)",3000,"10460627","ESQUIVEL GONZALES OMASYR RUDI","ABOGADO(A)","TITULO UNIVERSITARIO","PROFESIONAL",2,12,36000,2,6,18000]
[null,"407 SALUD SANTIAGO DE CHUCO","Recursos Ordinarios","CAS","TECNICO EN ENFERMERIA",1250,"47932001","ESQUIVEL SANDOVAL ROSA YANET","TECNICO EN ENFERMERIA","Superior NO Universitario","Tecnico",2,12,15000,2,6,7500]
[null,"407 SALUD SANTIAGO DE CHUCO","Recursos Ordinarios","CAS","TECNICO EN ENFERMERIA",1250,"70287109","FARFAN RAMOS PAULA KATHERINE","TECNICO EN ENFERMERIA","Superior NO Universitario","Tecnico",2,12,15000,2,6,7500]
[null,"407 SALUD SANTIAGO DE CHUCO","Recursos Ordinarios","CAS","TECNICO EN LABORATORIO",1250,"47229535","FLORES DIAZ EDIL","TECNICO EN LABORATORIO","Superior NO Universitario","Tecnico",2,12,15000,2,6,7500]
[null,"407 SALUD SANTIAGO DE CHUCO","Recursos Ordinarios","CAS","COMUNICADOR SOCIAL",1500,"45714540","GAMBOA MEZA YESENIA ALELI","COMUNICADOR SOCIAL","TITULO UNIVERSITARIO","PROFESIONAL",2,12,18000,2,6,9000]
[null,"407 SALUD SANTIAGO DE CHUCO","Recursos Ordinarios","CAS","CONTADOR PUBLICO",3000,"42148729","GARCIA PEREDA EDUARDO VLADIMIR","CONTADOR PUBLICO","TITULO UNIVERSITARIO","PROFESIONAL",2,12,36000,2,6,18000]
[null,"407 SALUD SANTIAGO DE CHUCO","Recursos Ordinarios","CAS","ENFERMERA(O)",2000,"45152599","GARCIA SANCHEZ KAREN ROSMERY","ENFERMERA(O)","TITULO UNIVERSITARIO","PROFESIONAL",2,12,24000,2,6,12000]
[null,"407 SALUD SANTIAGO DE CHUCO","Recursos Ordinarios","CAS","OBSTETRA",2000,"45826382","GARCIA SANCHEZ KARIN","OBSTETRA","TITULO UNIVERSITARIO","PROFESIONAL",2,12,24000,2,6,12000]
[null,"407 SALUD SANTIAGO DE CHUCO","Recursos Ordinarios","CAS","SECRETARIA",1200,"42246873","GIL PEREDA JACKELINE VIOLETA","SECRETARIA","Superior NO Universitario","Tecnico",2,12,14400,2,6,7200]
[null,"407 SALUD SANTIAGO DE CHUCO","Recursos Ordinarios","CAS","ENFERMERA(O)",2000,"46530986","GOMEZ INCA JACKELIN DEYSSI","ENFERMERA(O)","TITULO UNIVERSITARIO","PROFESIONAL",2,12,24000,2,6,12000]
[null,"407 SALUD SANTIAGO DE CHUCO","Recursos Ordinarios","CAS","TECNICO COMPUTACION  INFORMATI",1250,"41716924","HORNA GIL SANTOS FERNANDO","TECNICO COMPUTACION  INFORMATI","Superior NO Universitario","Tecnico",2,12,15000,2,6,7500]
[null,"407 SALUD SANTIAGO DE CHUCO","Recursos Ordinarios","CAS","TECNICO EN ENFERMERIA",1250,"73934611","IBAÑEZ GONZALES JERZON GARI","TECNICO EN ENFERMERIA","Superior NO Universitario","Tecnico",2,12,15000,2,6,7500]
[null,"407 SALUD SANTIAGO DE CHUCO","Recursos Ordinarios","CAS","TECNICO EN COMPUTACION",1250,"46819778","JIMENEZ RUIZ RICHARD MANUEL EFRAIN","TECNICO COMPUTACION  INFORMATI","Superior NO Universitario","Tecnico",2,12,15000,2,6,7500]
[null,"407 SALUD SANTIAGO DE CHUCO","Recursos Ordinarios","CAS","ODONTOLOGO(A)",1800,"45251384","LINARES ZAVALETA JESSICA GABRIELA","ODONTOLOGO(A)","TITULO UNIVERSITARIO","PROFESIONAL",2,12,21600,2,6,10800]
[null,"407 SALUD SANTIAGO DE CHUCO","Recursos Ordinarios","CAS","TRABAJADOR DE SERVICIO",1200,"45324234","LLAJARUNA URTECHO EDUAR FRANKLIN","TRABAJADOR DE SERVICIO","Secundaria ","Personal Asistencial",2,12,14400,2,6,7200]
[null,"407 SALUD SANTIAGO DE CHUCO","Recursos Ordinarios","CAS","TRABAJADOR DE SERVICIO",1250,"17847237","LOPEZ CASTILLO MARCOS SERGIO","TRABAJADOR DE SERVICIO","Secundaria ","Personal Asistencial",2,12,15000,2,6,7500]
[null,"407 SALUD SANTIAGO DE CHUCO","Recursos Ordinarios","CAS","TECNICO EN ENFERMERIA",1250,"44099414","LOPEZ VILLEGAS JAIRO PETTER","TECNICO EN ENFERMERIA","Superior NO Universitario","Tecnico",2,12,15000,2,6,7500]
[null,"407 SALUD SANTIAGO DE CHUCO","Recursos Ordinarios","CAS","TECNICO EN COMPUTACION",1250,"42475191","LUIS CALIPUY PEDRO RICARDO","TECNICO COMPUTACION  INFORMATI","Superior NO Universitario","Tecnico",2,12,15000,2,6,7500]
[null,"407 SALUD SANTIAGO DE CHUCO","Recursos Ordinarios","CAS","SECRETARIA",1250,"19668568","LUJAN JUMPA ROSA DAISY","SECRETARIA","Superior NO Universitario","Tecnico",2,12,15000,2,6,7500]
[null,"407 SALUD SANTIAGO DE CHUCO","Recursos Ordinarios","CAS","TRABAJADOR DE SERVICIO",1250,"45680637","MAURICIO RUIZ CACIQUE VIRGILIO","TRABAJADOR DE SERVICIO","Secundaria ","Personal Asistencial",2,12,15000,2,6,7500]
[null,"407 SALUD SANTIAGO DE CHUCO","Recursos Ordinarios","CAS","OBSTETRA",2000,"73614175","MEJIA CARRANZA YULI JUDITH","OBSTETRA","TITULO UNIVERSITARIO","PROFESIONAL",2,12,24000,2,6,12000]
[null,"407 SALUD SANTIAGO DE CHUCO","Recursos Ordinarios","CAS","OBSTETRA",2000,"18168432","MORENO CHAVEZ MAGALY JACQUELINE","OBSTETRA","TITULO UNIVERSITARIO","PROFESIONAL",2,12,24000,2,6,12000]
[null,"407 SALUD SANTIAGO DE CHUCO","Recursos Ordinarios","CAS","OBSTETRA",2000,"44656128","MUÑOZ ORTIZ DANITZA LIZBETH","OBSTETRA","TITULO UNIVERSITARIO","PROFESIONAL",2,12,24000,2,6,12000]
[null,"407 SALUD SANTIAGO DE CHUCO","Recursos Ordinarios","CAS","ENFERMERA(O)",2000,"44552328","OLIVA MARIO LEIDI OLIVETH","ENFERMERA(O)","TITULO UNIVERSITARIO","PROFESIONAL",2,12,24000,2,6,12000]
[null,"407 SALUD SANTIAGO DE CHUCO","Recursos Ordinarios","CAS","PSICOLOGO(A)",1800,"42958717","PEREZ CARRANZA GINA TANIA","PSICOLOGO(A)","TITULO UNIVERSITARIO","PROFESIONAL",2,12,21600,2,6,10800]
[null,"407 SALUD SANTIAGO DE CHUCO","Recursos Ordinarios","CAS","TECNICO EN ENFERMERIA",1250,"19703007","PEREZ ENRIQUEZ JHONI FRANKLIN","TECNICO EN ENFERMERIA","Superior NO Universitario","Tecnico",2,12,15000,2,6,7500]
[null,"407 SALUD SANTIAGO DE CHUCO","Recursos Ordinarios","CAS","ENFERMERA(O)",2000,"42757887","PONCE PARDO KARINA KATHERYN","ENFERMERA(O)","TITULO UNIVERSITARIO","PROFESIONAL",2,12,24000,2,6,{"$f":"F4091*P4091","v":12000}]
[null,"407 SALUD SANTIAGO DE CHUCO","Recursos Ordinarios","CAS","ENFERMERA(O)",2000,"47850734","QUIROZ EVANGELISTA LIZ NIKOLL","ENFERMERA(O)","TITULO UNIVERSITARIO","PROFESIONAL",2,12,24000,2,6,12000]
[null,"407 SALUD SANTIAGO DE CHUCO","Recursos Ordinarios","CAS","PILOTO DE AMBULANCIA",1250,"17851765","QUIROZ ROJAS LUIS ALBERTO","PILOTO DE AMBULANCIA","Secundaria ","Personal Asistencial",2,12,15000,2,6,7500]
[null,"407 SALUD SANTIAGO DE CHUCO","Recursos Ordinarios","CAS","TECNICO COMPUTACION  INFORMATI",1250,"42983777","RAMOS INCA JULIO CESAR","TECNICO COMPUTACION  INFORMATI","Superior NO Universitario","Tecnico",2,12,15000,2,6,7500]
[null,"407 SALUD SANTIAGO DE CHUCO","Recursos Ordinarios","CAS","ODONTOLOGO(A)",2000,"70297840","RAMOS SALVATIERRA GIORDANO OLARAN","ODONTOLOGO(A)","TITULO UNIVERSITARIO","PROFESIONAL",2,12,24000,2,6,12000]
[null,"407 SALUD SANTIAGO DE CHUCO","Recursos Ordinarios","CAS","ENFERMERA(O)",2000,"46790089","REYES ROQUE CARMEN MELISA","ENFERMERA(O)","TITULO UNIVERSITARIO","PROFESIONAL",2,12,24000,2,6,12000]
[null,"407 SALUD SANTIAGO DE CHUCO","Recursos Ordinarios","CAS","VIGILANTE",1200,"19693329","REYNA PAREDES ALBERTO JOEL","VIGILANTE","Secundaria ","Personal Asistencial",2,12,14400,2,6,7200]
[null,"407 SALUD SANTIAGO DE CHUCO","Recursos Ordinarios","CAS","TECNICO EN COMPUTACION",1250,"42186475","RODRIGUEZ CASTILLO CARLOS ALBERTO","TECNICO COMPUTACION  INFORMATI","Superior NO Universitario","Tecnico",2,12,15000,2,6,7500]
[null,"407 SALUD SANTIAGO DE CHUCO","Recursos Ordinarios","CAS","PILOTO DE AMBULANCIA",1200,"17951825","RODRIGUEZ LABADO GENARO DECIDERIO","PILOTO DE AMBULANCIA","Secundaria ","Personal Asistencial",2,12,14400,2,6,7200]
[null,"407 SALUD SANTIAGO DE CHUCO","Recursos Ordinarios","CAS","TECNICO COMPUTACION  INFORMATI",1250,"45217797","ROJAS GONZALEZ JUAN CARLOS","TECNICO COMPUTACION  INFORMATI","Superior NO Universitario","Tecnico",2,12,15000,2,6,7500]
[null,"407 SALUD SANTIAGO DE CHUCO","Recursos Ordinarios","CAS","TECNICO COMPUTACION  INFORMATI",1250,"19703145","RUIZ GARCIA EUCEBIO AMILCAR","TECNICO COMPUTACION  INFORMATI","Superior NO Universitario","Tecnico",2,12,15000,2,6,7500]
[null,"407 SALUD SANTIAGO DE CHUCO","Recursos Ordinarios","CAS","TRABAJADOR DE SERVICIO",1200,"44329574","RUIZ PAREDES FLOR DE MARIA","TRABAJADOR DE SERVICIO","Secundaria ","Personal Asistencial",2,12,14400,2,6,7200]
[null,"407 SALUD SANTIAGO DE CHUCO","Recursos Ordinarios","CAS","DIGITADOR(A)",1250,"71212836","RUIZ PEREZ AMERICO ROLANDO","DIGITADOR(A)","Superior NO Universitario","Tecnico",2,12,15000,2,6,7500]
[null,"407 SALUD SANTIAGO DE CHUCO","Recursos Ordinarios","CAS","PILOTO DE AMBULANCIA",1250,"44607816","RUIZ PEREZ JOSE CARLOS","PILOTO DE AMBULANCIA","Secundaria ","Personal Asistencial",2,12,{"$f":"F4104*M4104","v":15000},2,6,7500]
[null,"407 SALUD SANTIAGO DE CHUCO","Recursos Ordinarios","CAS","TECNICO EN ENFERMERIA",1250,"46281169","RUIZ VASQUEZ ROSMERY ISABEL","TECNICO EN ENFERMERIA","Superior NO Universitario","Tecnico",2,12,15000,2,6,7500]
[null,"407 SALUD SANTIAGO DE CHUCO","Recursos Ordinarios","CAS","OBSTETRA",2000,"32928823","SALGADO QUISPE VICTORIA EUFEMIA","OBSTETRA","TITULO UNIVERSITARIO","PROFESIONAL",2,12,24000,2,6,12000]
[null,"407 SALUD SANTIAGO DE CHUCO","Recursos Ordinarios","CAS","BIOLOGO(A)",2000,"45995362","SALINAS VENTURA ROSA EVELIN","BIOLOGO(A)","TITULO UNIVERSITARIO","PROFESIONAL",2,12,24000,2,6,12000]
[null,"407 SALUD SANTIAGO DE CHUCO","Recursos Ordinarios","CAS","PILOTO DE AMBULANCIA",1200,"45943204","SALOMON RAMOS ELVIS JHONATAN","PILOTO DE AMBULANCIA","Secundaria ","Personal Asistencial",2,12,14400,2,6,7200]
[null,"407 SALUD SANTIAGO DE CHUCO","Recursos Ordinarios","CAS","INGENIERO EN INFORMATICA",2500,"42697691","TORRES QUEZADA AMARILDO MIGUEL","INGENIERO EN INFORMATICA","TITULO UNIVERSITARIO","PROFESIONAL",2,12,30000,2,6,15000]
[null,"407 SALUD SANTIAGO DE CHUCO","Recursos Ordinarios","CAS","PILOTO DE AMBULANCIA",1200,"44694890","URQUIAGA RUIZ WISTON MILCIADES","PILOTO DE AMBULANCIA","Secundaria ","Personal Asistencial",2,12,14400,2,6,7200]
[null,"407 SALUD SANTIAGO DE CHUCO","Recursos Ordinarios","CAS","ENFERMERA(O)",2000,"72779869","URTECHO CASTRO YAHAIRA MARICIELO","ENFERMERA(O)","TITULO UNIVERSITARIO","PROFESIONAL",2,12,24000,2,6,12000]
[null,"407 SALUD SANTIAGO DE CHUCO","Recursos Ordinarios","CAS","PILOTO DE AMBULANCIA",1200,"47172165","VALENCIA VALVERDE SANTOS MELANIO","PILOTO DE AMBULANCIA","Secundaria ","Personal Asistencial",2,12,14400,2,6,7200]
[null,"407 SALUD SANTIAGO DE CHUCO","Recursos Ordinarios","CAS","MEDICO",4000,"46311419","VARAS ARTEAGA MIGUEL EUDORO","MEDICO","TITULO UNIVERSITARIO","PROFESIONAL",2,12,48000,2,6,24000]
[null,"407 SALUD SANTIAGO DE CHUCO","Recursos Ordinarios","CAS","TRABAJADOR DE SERVICIO",1250,"19671272","VASQUEZ VALVERDE JUAN ISIDRO","TRABAJADOR DE SERVICIO","Secundaria ","Personal Asistencial",2,12,15000,2,6,7500]
[null,"407 SALUD SANTIAGO DE CHUCO","Recursos Ordinarios","CAS","TECNICO EN ENFERMERIA",1250,"48309850","VELA BURGOS FIORELLA MELISSA","TECNICO EN ENFERMERIA","Superior NO Universitario","Tecnico",2,12,15000,2,6,7500]
[null,"407 SALUD SANTIAGO DE CHUCO","Recursos Ordinarios","CAS","TRABAJADOR DE SERVICIO",1250,"43701087","VELARDE CASANA CLAUDIA ELISA","TRABAJADOR DE SERVICIO","Secundaria ","Personal Asistencial",2,12,15000,2,6,7500]
[null,"407 SALUD SANTIAGO DE CHUCO","Recursos Ordinarios","CAS","ENFERMERA(O)",2000,"44247437","VELASQUEZ VALVERDE DALMA STEFANIE","ENFERMERA(O)","TITULO UNIVERSITARIO","PROFESIONAL",2,12,24000,2,6,12000]
[null,"407 SALUD SANTIAGO DE CHUCO","Recursos Ordinarios","CAS","ENFERMERA(O)",2000,"40810939","VILLEGAS SALDAÑA IRMA","ENFERMERA(O)","TITULO UNIVERSITARIO","PROFESIONAL",2,12,24000,2,6,12000]
[null,"407 SALUD SANTIAGO DE CHUCO","Recursos Ordinarios","CAS","TECNICO EN ENFERMERIA",1250,"44353087","VILLEGAS SIGÜEÑAS MARIA ELENA","TECNICO EN ENFERMERIA","Superior NO Universitario","Tecnico",2,12,15000,2,6,7500]
[null,"407 SALUD SANTIAGO DE CHUCO","Recursos Ordinarios","CAS","QUIMICO FARMACEUTICO",2000,"40721276","YUPANQUI SICCHA GILDA JAQUELINE","QUIMICO FARMACEUTICO","TITULO UNIVERSITARIO","PROFESIONAL",2,12,24000,2,6,12000]
[null,"407 SALUD SANTIAGO DE CHUCO","Recursos Ordinarios","CAS","OBSTETRIZ",2000,"45055994","ZAVALA ESPINOZA LIZBETH YANETH","OBSTETRA","TITULO UNIVERSITARIO","PROFESIONAL",2,12,24000,2,6,12000]
[null,"407 SALUD SANTIAGO DE CHUCO","Recursos Ordinarios","CAS","BIOLOGO(A)",1800,"41448705","ALVAREZ CASTILLO GARY RICHARD","BIOLOGO(A)","TITULO UNIVERSITARIO","PROFESIONAL",2,12,21600,2,6,10800]
[null,"407 SALUD SANTIAGO DE CHUCO","Recursos Ordinarios","CAS","OBSTETRA",2000,"45770862","ARMILLE QUIROZ ELIZABETH","OBSTETRA","TITULO UNIVERSITARIO","PROFESIONAL",2,12,24000,2,6,12000]
[null,"407 SALUD SANTIAGO DE CHUCO","Recursos Ordinarios","CAS","TECNICO EN ENFERMERIA",1250,"70757679","BLAS PRINCIPE SANTOS MANUELITA","TECNICO EN ENFERMERIA","Superior NO Universitario","Tecnico",2,12,15000,2,6,7500]
[null,"407 SALUD SANTIAGO DE CHUCO","Recursos Ordinarios","CAS","ENFERMERA(O)",2000,"45272824","CABANILLAS BRICEÑO MARIA ALEJANDRA","ENFERMERA(O)","TITULO UNIVERSITARIO","PROFESIONAL",2,12,24000,2,6,12000]
[null,"407 SALUD SANTIAGO DE CHUCO","Recursos Ordinarios","CAS","BIOLOGO(A)",2000,41785938,"OBESO LIZARRAGA LUIS ALBERTO","BIOLOGO(A)","TITULO UNIVERSITARIO","PROFESIONAL",null,null,null,1,3,6000]
[null,"407 SALUD SANTIAGO DE CHUCO","Recursos Ordinarios","CAS","TECNICO EN ENFERMERIA",1250,"19669333","CALVO QUEZADA ROSA MAYELA","TECNICO EN ENFERMERIA","Superior NO Universitario","Tecnico",2,12,{"$f":"F4127*M4127","v":15000},2,6,7500]
[null,"407 SALUD SANTIAGO DE CHUCO","Recursos Ordinarios","CAS","OBSTETRA",2000,"18210337","CUEVA LUJAN SONIA SOFIA","OBSTETRA","TITULO UNIVERSITARIO","PROFESIONAL",2,12,{"$f":"F4128*M4128","v":24000},2,6,12000]
[null,"407 SALUD SANTIAGO DE CHUCO","Recursos Ordinarios","CAS","MEDICO",4000,"45048488","DE LA CRUZ GAMBOA FERNANDO","MEDICO","TITULO UNIVERSITARIO","PROFESIONAL",2,12,{"$f":"F4129*M4129","v":48000},2,6,24000]
[null,"407 SALUD SANTIAGO DE CHUCO","Recursos Ordinarios","CAS","OBSTETRA",2000,"47232642","ESPINOZA ZAPATA SUSSAN LISETH","OBSTETRA","TITULO UNIVERSITARIO","PROFESIONAL",2,12,{"$f":"F4130*M4130","v":24000},2,6,12000]
[null,"407 SALUD SANTIAGO DE CHUCO","Recursos Ordinarios","CAS","ENFERMERA(O)",2000,43879501,"AGUILAR JOAQUIN TANIA LUCIA","ENFERMERA(O)","TITULO UNIVERSITARIO","PROFESIONAL",null,null,null,1,3,6000]
[null,"407 SALUD SANTIAGO DE CHUCO","Recursos Ordinarios","CAS","ENFERMERA(O)",2000,47745219,"TOLENTINO ROSSO CYNTHIA ANALY","ENFERMERA(O)","TITULO UNIVERSITARIO","PROFESIONAL",null,null,null,1,3,6000]
[null,"407 SALUD SANTIAGO DE CHUCO","Recursos Ordinarios","CAS","TECNICO EN ENFERMERIA",1250,"41429965","HORNA GIL ELVA NOEMI","TECNICO EN ENFERMERIA","Superior NO Universitario","Tecnico",2,12,{"$f":"F4133*M4133","v":15000},2,6,7500]
[null,"407 SALUD SANTIAGO DE CHUCO","Recursos Ordinarios","CAS","MEDICO",4000,"42071816","IZAGUIRRE POLO CARLOS ANGEL","MEDICO","TITULO UNIVERSITARIO","PROFESIONAL",2,12,48000,2,6,24000]
[null,"407 SALUD SANTIAGO DE CHUCO","Recursos Ordinarios","CAS","TECNICO EN COMPUTACION",1250,"42798849","JUAREZ VILCHEZ JONSLER YVAN","TECNICO COMPUTACION  INFORMATI","Superior NO Universitario","Tecnico",2,12,15000,2,6,7500]
[null,"407 SALUD SANTIAGO DE CHUCO","Recursos Ordinarios","CAS","ENFERMERA(O)",2000,"47655797","MORALES ARTEAGA DALILA MARIBEL","ENFERMERA(O)","TITULO UNIVERSITARIO","PROFESIONAL",2,12,24000,2,6,12000]
[null,"407 SALUD SANTIAGO DE CHUCO","Recursos Ordinarios","CAS","PSICOLOGO(A)",2077,"45930212","MOYA MANTILLA VIGNI MAGALY","PSICOLOGO(A)","TITULO UNIVERSITARIO","PROFESIONAL",2,12,24924,2,6,12462]
[null,"407 SALUD SANTIAGO DE CHUCO","Recursos Ordinarios","CAS","OBSTETRA",2000,"18084765","NARVAEZ ALAYO MARIA PALMIRA","OBSTETRA","TITULO UNIVERSITARIO","PROFESIONAL",2,12,24000,2,6,12000]
[null,"407 SALUD SANTIAGO DE CHUCO","Recursos Ordinarios","CAS","TECNICO EN ENFERMERIA",1250,"46829586","QUEZADA RODRIGUEZ KATHYA PAMELA","TECNICO EN ENFERMERIA","Superior NO Universitario","Tecnico",2,12,15000,2,6,7500]
[null,"407 SALUD SANTIAGO DE CHUCO","Recursos Ordinarios","CAS","OBSTETRA",2000,"40816186","QUIROZ SALAZAR VERONICA DEL PILAR","OBSTETRA","TITULO UNIVERSITARIO","PROFESIONAL",2,12,24000,2,6,12000]
[null,"407 SALUD SANTIAGO DE CHUCO","Recursos Ordinarios","CAS","TECNICO EN ENFERMERIA",1250,"44840872","ROJAS PASCUAL IRIS AMPARO","TECNICO EN ENFERMERIA","Superior NO Universitario","Tecnico",2,12,15000,2,6,7500]
[null,"407 SALUD SANTIAGO DE CHUCO","Recursos Ordinarios","CAS","TECNICO EN ENFERMERIA",1250,"40087301","ROJAS ULLOA SONIA ODALYS","TECNICO EN ENFERMERIA","Superior NO Universitario","Tecnico",2,12,15000,2,6,7500]
[null,"407 SALUD SANTIAGO DE CHUCO","Recursos Ordinarios","CAS","ENFERMERA(O)",2000,"43322180","ROMAN REYES JUANA OLINDA","ENFERMERA(O)","TITULO UNIVERSITARIO","PROFESIONAL",2,12,24000,2,6,12000]
[null,"407 SALUD SANTIAGO DE CHUCO","Recursos Ordinarios","CAS","TECNICO EN ENFERMERIA",1250,"41234938","RUIZ MONTOYA DE ZAVALA ESMITH MAGDALENA","TECNICO EN ENFERMERIA","Superior NO Universitario","Tecnico",2,12,15000,2,6,7500]
[null,"407 SALUD SANTIAGO DE CHUCO","Recursos Ordinarios","CAS","OBSTETRA",2000,"46113120","SAAVEDRA NARVAEZ MIRTHA NOHELY","OBSTETRA","TITULO UNIVERSITARIO","PROFESIONAL",2,12,24000]
[null,"407 SALUD SANTIAGO DE CHUCO","Recursos Ordinarios","CAS","OBSTETRA",2000,"44084111","SALDAÑA SALINAS CAROLINA JUNEL","OBSTETRA","TITULO UNIVERSITARIO","PROFESIONAL",2,12,24000]
[null,"407 SALUD SANTIAGO DE CHUCO","Recursos Ordinarios","CAS","OBSTETRA",2000,"18137394","SALGADO QUIROZ MARIA ALEJANDRINA","OBSTETRA","TITULO UNIVERSITARIO","PROFESIONAL",2,12,24000]
[null,"407 SALUD SANTIAGO DE CHUCO","Recursos Ordinarios","CAS","TECNICO COMPUTACION  INFORMATI",1250,"40468368","TABOADA ZARE RAFAEL ALVARO","TECNICO COMPUTACION  INFORMATI","Superior NO Universitario","Tecnico",2,12,15000]
[null,"407 SALUD SANTIAGO DE CHUCO","Recursos Ordinarios","CAS","PSICOLOGO(A)",2077,"45926160","TARRILLO GARCIA DIEGO ANTONIO","PSICOLOGO(A)","TITULO UNIVERSITARIO","PROFESIONAL",2,12,24924]
[null,"407 SALUD SANTIAGO DE CHUCO","Recursos Ordinarios","CAS","MEDICO",4000,"45090843","TECOCHA CUYATE IRVIN GERMAN","MEDICO","TITULO UNIVERSITARIO","PROFESIONAL",2,12,48000]
[null,"407 SALUD SANTIAGO DE CHUCO","Recursos Ordinarios","CAS","TECNICO EN ENFERMERIA",1250,"19703172","VELASQUEZ NINAQUISPE ROSA SILVIA","TECNICO EN ENFERMERIA","Superior NO Universitario","Tecnico",2,12,15000]
[null,"407 SALUD SANTIAGO DE CHUCO","Recursos Ordinarios","CAS","TECNICO EN ENFERMERIA",1250,"44246104","VELASQUEZ SANDOVAL SANTOS SONIA","TECNICO EN ENFERMERIA","Superior NO Universitario","Tecnico",2,12,15000]
[]
[null,"TOTAL",null,null,null,{"$f":"SUM(F4026:F4153)","v":226454},null,null,null,null,null,null,null,{"$f":"SUM(N4026:N4153)","v":2306448},null,null,{"$f":"SUM(Q4026:Q4153)","v":1161012}]
[null,"408 Salud Otuzco","RO","CAS","TECNICO EN ENFERMERIA",1200,"42372510","AGUILAR BURGOS JOSE ALBERTO","MEDICO","Bach.en Medicina","Medico Cirujano",1,6,{"$f":"+F4155*M4155","v":7200},3,6,{"$f":"+P4155*F4155","v":7200}]
[null,"408 Salud Otuzco","RO","CAS","TECNICO EN ENFERMERIA",1100,"19100415","AGUILAR MOYA NANCY MARLENY","TECNICO EN ENFERMERIA",0,"Tec.en Enfermeria",1,12,{"$f":"+F4156*M4156","v":13200},3,6,{"$f":"+P4156*F4156","v":6600}]
[null,"408 Salud Otuzco","RO","CAS","OBSTETRA",1700,"46372851","AGUILAR REQUEJO LIZ ESTHEFANY","OBSTETRA","Bach.en Obstetricia","Lic.en Obstetricia",1,12,20400,3,6,10200]
[null,"408 Salud Otuzco","RO","CAS","ENFERMERA(O)",1700,"45905459","AGUILAR SALVADOR ANGELITA MARIXA","ENFERMERA(O)","Bach.en Enfermeria","Lic.en Enfermeria",1,12,20400,3,6,10200]
[null,"408 Salud Otuzco","RO","CAS","TECNICO EN ENFERMERIA",1100,"46697424","AGUILAR ULLOA JOHN EDINSON","TECNICO EN ENFERMERIA",0,"Tec.en Enfermeria",1,12,13200,3,1,1100]
[null,"408 Salud Otuzco","RO","CAS","TECNICO EN ENFERMERIA",1200,"43831581","ALAYO ORBEGOSO MARLENI EDITH","TECNICO EN ENFERMERIA",0,"Tec.en Enfermeria",1,12,14400,3,6,7200]
[null,"408 Salud Otuzco","RO","CAS","OBSTETRA",1700,"40362760","ALFARO CRUZ NORMA","OBSTETRA","Bach.en Obstetricia","Lic.en Obstetricia",1,12,20400,3,6,10200]
[null,"408 Salud Otuzco","RO","CAS","CHOFER",1100,"41221254","ALVARADO RODRIGUEZ ELVIS RUBEN","CHOFER",null,null,1,12,13200,3,6,6600]
[null,"408 Salud Otuzco","RO","CAS","ESPECIALISTA ADMINISTRATIVO",2000,"17913997","ALVAREZ CARRANZA CARLOS WELLINGTON","INGENIERO INDUSTRIAL","Bach.en Ing. Industrial","Ing.Industrial",1,12,24000,3,6,12000]
[null,"408 Salud Otuzco","RO","CAS","TECNICO EN LABORATORIO CLINICO",1200,"41361995","ALVAREZ PALMA GERARDO RAMON","TECNICO EN LABORATORIO CLINICO",0,"Tec.en Laboratorio Clinico",1,12,14400,3,6,7200]
[null,"408 Salud Otuzco","RO","CAS","TRABAJADOR DE SERVICIO",1000,"80246633","ANDRADE AVALOS SANTOS AGAPITO","PERSONAL DE SERVICIO",null,null,1,12,12000,3,6,6000]
[null,"408 Salud Otuzco","RO","CAS","TRABAJADOR DE SERVICIO",1000,"41832138","ANGULO ENRIQUEZ SEGUNDO ROBERTO","PERSONAL DE SERVICIO",null,null,1,12,12000,3,6,6000]
[null,"408 Salud Otuzco","RO","CAS","TRABAJADOR DE SERVICIO",1000,"19100152","ANGULO LIFONSO MANFREDO","PERSONAL DE SERVICIO",null,null,1,12,12000,3,6,6000]
[null,"408 Salud Otuzco","RO","CAS","TECNICO EN ENFERMERIA",1100,"40469722","ANTICONA ANAMPA LIDIA","TECNICO EN ENFERMERIA",0,"Tec.en Enfermeria",1,12,13200,3,6,6600]
[null,"408 Salud Otuzco","RO","CAS","ENFERMERA(O)",1700,"46924706","ARANDA CHICLAYO LEYSI LISSETH","ENFERMERA(O)","Bach.en Enfermeria","Lic.en Enfermeria",1,12,20400,3,6,10200]
[null,"408 Salud Otuzco","RO","CAS","OBSTETRA",1700,"41585684","ARMAS ZEGARRA ROSA VERONICA","OBSTETRA","Bach.en Obstetricia","Lic.en Obstetricia",1,12,20400,3,6,10200]
[null,"408 Salud Otuzco","RO","CAS","ENFERMERA(O)",1800,"45686740","BAILON LIZARRAGA ARACELI ROSMERY","ENFERMERA(O)","Bach.en Enfermeria","Lic.en Enfermeria",1,12,21600,3,6,10800]
[null,"408 Salud Otuzco","RO","CAS","ODONTOLOGO(A)",1800,"45595245","BAZAN NUÑEZ CARLOS DANIEL","ODONTOLOGO(A)","Cirujano Dentista","Cirujano Dentista",1,12,21600,3,1,1800]
[null,"408 Salud Otuzco","RO","CAS","ENFERMERA(O)",1700,"45475208","BLAS GAVIDIA LILIAN ELIZABETH","ENFERMERA(O)","Bach.en Enfermeria","Lic.en Enfermeria",1,12,20400,3,6,10200]
[null,"408 Salud Otuzco","RO","CAS","VIGILANTE",1000,"19037218","BOCANEGRA AGUILAR JAIME CELESTINO","VIGILANTE",null,null,1,8,8000,3,6,6000]
[null,"408 Salud Otuzco","RO","CAS","SECRETARIA",1000,"47838313","BRICEÑO JUAREZ VERONICA ELIZABETH","SECRETARIA",null,"Tec. en Gestion Empresarial",1,12,12000,3,6,6000]
[null,"408 Salud Otuzco","RO","CAS","OBSTETRA",1700,"03883774","BROCOS YZQUIERDO VICTORIA","OBSTETRA","Bach.en Obstetricia","Lic.en Obstetricia",1,12,20400,3,6,10200]
[null,"408 Salud Otuzco","RO","CAS","OBSTETRA",1800,"40388895","CABRERA CARRASCO DIANA JAZMIN","OBSTETRA","Bach.en Obstetricia","Lic.en Obstetricia",1,12,21600,3,6,10800]
[null,"408 Salud Otuzco","RO","CAS","CONTADOR PUBLICO",2000,"40826610","CARDENAS CHOQUE ELICA ADIANA","CONTADOR PUBLICO","Bach. en Ciencias ContablesContador Publico",0,1,12,24000,3,6,12000]
[null,"408 Salud Otuzco","RO","CAS","TECNICO EN ENFERMERIA",1200,"40747660","CARRASCO CHAVEZ JOSE ADRIANO","TECNICO EN ENFERMERIA",0,"Tec.en Enfermeria",1,12,14400,3,6,7200]
[null,"408 Salud Otuzco","RO","CAS","OBSTETRA",1700,"18108503","CASAS RABINES ANGELITA DEISY","OBSTETRA","Bach.en Obstetricia","Lic.en Obstetricia",1,12,20400,3,6,10200]
[null,"408 Salud Otuzco","RO","CAS","ENFERMERA(O)",1700,"41405667","CASTILLO AGUILAR KARINA PATRICIA","ENFERMERA(O)","Bach.en Enfermeria","Lic.en Enfermeria",1,12,20400,3,6,10200]
[null,"408 Salud Otuzco","RO","CAS","TECNICO EN ENFERMERIA",1000,"45094850","CASTILLO GARCIA LADY DORALISSA","TECNICO EN ENFERMERIA",0,"Tec.en Enfermeria",1,12,12000,3,6,6000]
[null,"408 Salud Otuzco","RO","CAS","TECNICO EN ENFERMERIA",1100,"47337095","CASTILLO LUIS SARITA LUZ","TECNICO EN ENFERMERIA",0,"Tec.en Enfermeria",1,12,13200,3,1,1100]
[null,"408 Salud Otuzco","RO","CAS","TECNICO EN ENFERMERIA",1000,"44465410","CASTILLO PEREZ KARIN FIORELLA","TECNICO EN ENFERMERIA",0,"Tec.en Enfermeria",1,12,12000,3,6,6000]
[null,"408 Salud Otuzco","RO","CAS","TECNICO ADMINISTRATIVO",1500,"43394646","CAYETANO ESPINOLA ROXANA AMANDA","TEC.ADMINISTRATIVO",null,"Tec. en Enfermeria",1,12,18000,3,6,9000]
[null,"408 Salud Otuzco","RO","CAS","TECNICO EN ENFERMERIA",1000,"42628679","CERNA DE LA CRUZ AZUCENA NATALI","TECNICO EN ENFERMERIA",0,"Tec.en Enfermeria",1,12,12000,3,6,6000]
[null,"408 Salud Otuzco","RO","CAS","CHOFER",1000,"19100649","CHAVEZ LEYVA JULIO CESAR","CHOFER",null,"Profesor de Educacion Pimaria",1,12,12000,3,6,6000]
[null,"408 Salud Otuzco","RO","CAS","BIOLOGO(A)",1800,"42891007","COTRINA LEON MAYDA ELISA","BIOLOGO(A)","Biologo","Biologo",1,12,21600,3,6,10800]
[null,"408 Salud Otuzco","RO","CAS","ENFERMERA(O)",1800,"70301931","COTRINA MORALES LESLY KATHERYN","ENFERMERA(O)","Bach.en Enfermeria","Lic.en Enfermeria",1,12,21600,3,6,10800]
[null,"408 Salud Otuzco","RO","CAS","DIGITADOR(A)",1100,"18011912","COVINOS POEMAPE EDUARDO JORGE ENRIQUE","DIGITADOR(A)",null,null,1,12,13200,3,6,6600]
[null,"408 Salud Otuzco","RO","CAS","TECNICO EN ENFERMERIA",1000,"46077435","CRUZ GAMBOA ANA LIZBETH","TECNICO EN ENFERMERIA",0,"Tec.en Enfermeria",1,12,12000,3,6,6000]
[null,"408 Salud Otuzco","RO","CAS","CHOFER",750,"46232689","CRUZ LAZARO ALEX DAVID","CHOFER",null,null,1,12,9000,3,6,4500]
[null,"408 Salud Otuzco","RO","CAS","TECNICO EN ENFERMERIA",1100,"48034206","CRUZADO CARLOS SANDRA LISCET","TECNICO EN ENFERMERIA",0,"Tec.en Enfermeria",1,12,13200,3,6,6600]
[null,"408 Salud Otuzco","RO","CAS","PSICOLOGO(A)",1700,"45206287","CRUZADO HURTADO CARLITA VICTORIA","PSICOLOGO(A)","Bach.en Psicologiga","Lic.en Psicologia",1,12,20400,3,6,10200]
[null,"408 Salud Otuzco","RO","CAS","TECNICO EN LABORATORIO",1100,"46095677","CUEVA MANTILLA JUANA ROSARIO","TECNICO EN LABORATORIO",0,"Tec. en Laboratorio Clinico",1,12,13200,3,6,6600]
[null,"408 Salud Otuzco","RO","CAS","ENFERMERA(O)",1800,"43002842","DE LA CRUZ AREDO LUCILA","ENFERMERA(O)","Bach.en Enfermeria","Lic.en Enfermeria",1,12,21600,3,6,10800]
[null,"408 Salud Otuzco","RO","CAS","TECNICO ADMINISTRATIVO",1500,"19075313","DE LA CRUZ AVALOS JOSE ANTONIO","TEC. EN CONTABILIDAD",null,"Tec. en Contabilidad",1,12,18000,3,6,9000]
[null,"408 Salud Otuzco","RO","CAS","ENFERMERA(O)",1700,"41023048","DELFIN REYES LISSET ISABEL","ENFERMERA(O)","Bach.en Enfermeria","Lic.en Enfermeria",1,12,20400,3,6,10200]
[null,"408 Salud Otuzco","RO","CAS","MEDICO",4000,"18172506","DELGADO ROJAS LUIS BENJAMIN","MEDICO","Bach.en Medicina","Medico Cirujano",1,12,48000,3,6,24000]
[null,"408 Salud Otuzco","RO","CAS","ENFERMERA(O)",1800,"40875260","DIAZ GUTIERREZ MAIRA IVET","ENFERMERA(O)","Bach.en Enfermeria","Lic.en Enfermeria",1,12,21600,3,6,10800]
[null,"408 Salud Otuzco","RO","CAS","OBSTETRA",1700,"44807307","DIAZ VASQUEZ FLOR DE MARIA","OBSTETRA","Bach.en Obstetricia","Lic.en Obstetricia",1,12,20400,3,6,10200]
[null,"408 Salud Otuzco","RO","CAS","TRABAJADOR DE SERVICIO",1000,"19090335","ENRIQUEZ VIDAL DEYBI MARISELA","TRABAJADOR DE SERVICIO",0,null,1,12,12000,3,6,6000]
[null,"408 Salud Otuzco","RO","CAS","CHOFER",1000,"19051883","ESPEJO LUJAN WILMER ELI","CHOFER",null,null,1,12,12000,3,3,3000]
[null,"408 Salud Otuzco","RO","CAS","TECNICO ADMINISTRATIVO",1500,"47108956","ESPINOLA LUJAN ROLYN HEISI","TEC. EN CONTABILIDAD",null,"Tec. en Contabilidad",1,12,18000,3,6,9000]
[null,"408 Salud Otuzco","RO","CAS","ESPECIALISTA ADMINISTRATIVO",2000,"17890192","EVANGELISTA VARGAS RAFAEL SANTIAGO","INGENIERO METALURGICO","Bach. en Ing. Metalurgica","Ingeniero Metalurgico",1,12,24000,3,6,12000]
[null,"408 Salud Otuzco","RO","CAS","TECNICO EN ENFERMERIA",1000,"45858959","FERREL GAMBOA FERNANDO EDWARDS","TECNICO EN ENFERMERIA",0,"Tec.en Enfermeria",1,12,12000,3,6,6000]
[null,"408 Salud Otuzco","RO","CAS","OBSTETRA",1800,"18135106","FIGUEROA FERNANDEZ KATTY CARLA","OBSTETRA","Bach.en Obstetricia","Lic.en Obstetricia",1,12,21600,3,6,10800]
[null,"408 Salud Otuzco","RO","CAS","TECNICO EN ENFERMERIA",1100,"41832150","FIGUEROA SANCHEZ SONIA CONSUELO","TECNICO EN ENFERMERIA",0,"Tec.en Enfermeria",1,12,13200,3,6,6600]
[null,"408 Salud Otuzco","RO","CAS","CHOFER",1000,"41942068","FLORES ZAVALETA EYDER LUIS","CHOFER",null,null,1,12,12000,3,6,6000]
[null,"408 Salud Otuzco","RO","CAS","OBSTETRA",1800,"18120093","GARCIA CARRANZA ROSA HERMINIA","OBSTETRA","Bach.en Obstetricia","Lic.en Obstetricia",1,12,21600,3,6,10800]
[null,"408 Salud Otuzco","RO","CAS","TRABAJADOR DE SERVICIO",750,"40762233","GARCIA MIGUEL SANTOS JHONY","TRABAJADOR DE SERVICIOS",0,null,1,12,9000,3,6,4500]
[null,"408 Salud Otuzco","RO","CAS","TECNICO EN ENFERMERIA",1200,"60211116","GARCIA RODRIGUEZ JAQUELIN ANABEL","TECNICO EN ENFERMERIA",0,"Tec.en Enfermeria",1,12,14400,3,6,7200]
[null,"408 Salud Otuzco","RO","CAS","CHOFER",1000,"43980233","GERMAN JIMENEZ ELTON WILI","CHOFER",null,null,1,12,12000,3,6,6000]
[null,"408 Salud Otuzco","RO","CAS","CHOFER",1000,"46993919","GERMAN JIMENEZ GIANCARLO ANTOBELI","CHOFER",null,null,1,12,12000,3,6,6000]
[null,"408 Salud Otuzco","RO","CAS","TECNICO EN ENFERMERIA",1100,"44094615","GIL VILLARREAL HELADIA FLOR","TECNICO EN ENFERMERIA",0,"Tec.en Enfermeria",1,12,13200,3,6,6600]
[null,"408 Salud Otuzco","RO","CAS","OBSTETRA",1800,"45624963","GUERRA GOMEZ DENNISE GIOVANNA","OBSTETRA","Bach.en Obstetricia","Lic.en Obstetricia",1,12,21600,3,6,10800]
[null,"408 Salud Otuzco","RO","CAS","ODONTOLOGO(A)",1700,"44967150","GUEVARA SILVA KARIMM YULISSA","ODONTOLOGO(A)","Cirujano Dentista","Cirujano Dentista",1,12,20400,3,6,10200]
[null,"408 Salud Otuzco","RO","CAS","ENFERMERA(O)",1800,"41925955","GUTIERREZ DE LA CRUZ LILIANA HAYDEE","ENFERMERA(O)","Bach.en Enfermeria","Lic.en Enfermeria",1,12,21600,3,6,10800]
[null,"408 Salud Otuzco","RO","CAS","CHOFER",1000,"18149303","GUTIERREZ LUJAN HERNAN LADINES","CHOFER",null,null,1,12,12000,3,6,6000]
[null,"408 Salud Otuzco","RO","CAS","VIGILANTE",1000,"19037871","GUZMAN CORDOVA HERNAN HENRY","VIGILANTE",null,null,1,12,{"$f":"+F4220*M4220","v":12000},3,6,{"$f":"+P4220*F4220","v":6000}]
[null,"408 Salud Otuzco","RO","CAS","TECNICO EN ENFERMERIA",1100,"46248318","GUZMAN RODRIGUEZ DEISY ELIZABETH","TECNICO EN ENFERMERIA",0,"Tec.en Enfermeria",1,12,13200,3,6,6600]
[null,"408 Salud Otuzco","RO","CAS","CHOFER",1000,"45255198","GUZMAN VASQUEZ FRANK ROBERT","CHOFER",null,null,1,12,12000,3,6,6000]
[null,"408 Salud Otuzco","RO","CAS","TECNICO EN CONTABILIDAD",1000,"45541307","GUZMAN ZAVALETA JANE MILEIDY","TECNICO EN CONTABILIDAD",0,"Tec.en Contabilidad",1,12,12000,3,6,6000]
[null,"408 Salud Otuzco","RO","CAS","ENFERMERA(O)",1800,"46278954","HARO ALVARADO FLOR JACKLIN","ENFERMERA(O)","Bach.en Enfermeria","Lic.en Enfermeria",1,12,21600,3,6,10800]
[null,"408 Salud Otuzco","RO","CAS","TECNICO EN ENFERMERIA",1100,"46789549","HERRERA RODRIGUEZ ENEIDA MADALI","TECNICO EN ENFERMERIA",0,"Tec.en Enfermeria",1,12,13200,3,6,6600]
[null,"408 Salud Otuzco","RO","CAS","TECNICO EN ENFERMERIA",1100,"46475703","HONORIO MORALES SULIN MACIEL","TECNICO EN ENFERMERIA",0,"Tec.en Enfermeria",1,12,13200,3,6,6600]
[null,"408 Salud Otuzco","RO","CAS","ENFERMERA(O)",1800,"45516235","HUAMAN RODRIGUEZ ANNIE FIORELLA","ENFERMERA(O)","Bach.en Enfermeria","Lic.en Enfermeria",1,12,21600,3,6,10800]
[null,"408 Salud Otuzco","RO","CAS","BIOLOGO(A)",1800,"45010182","HUAÑAP LUCIANO ANITA PAMELA","BIOLOGO(A)","Biologo","Biologo",1,12,21600,3,6,10800]
[null,"408 Salud Otuzco","RO","CAS","ENFERMERA(O)",1700,"46659570","HUAÑAP RAVELLO SARA JANETT","ENFERMERA(O)","Bach.en Enfermeria","Lic.en Enfermeria",1,12,20400,3,6,10200]
[null,"408 Salud Otuzco","RO","CAS","TECNICO EN ENFERMERIA",1000,"46709803","JIMENEZ RODRIGUEZ GABY FABIOLA","TECNICO EN ENFERMERIA",0,"Tec.en Enfermeria",1,9,9000,3,6,6000]
[null,"408 Salud Otuzco","RO","CAS","TECNICO EN ENFERMERIA",1100,"46337496","JULIAN RODRIGUEZ ROSINA JAMALI","TECNICO EN ENFERMERIA",0,"Tec.en Enfermeria",1,12,13200,3,2,2200]
[null,"408 Salud Otuzco","RO","CAS","PSICOLOGO(A)",1800,"45236459","LEON MEDINA SANDRA CECILIA","PSICOLOGO(A)","Bach.en Psicologia","Lic.en Psicologia",1,12,21600,3,6,10800]
[null,"408 Salud Otuzco","RO","CAS","MEDICO AUDITOR",4000,"44039228","LEON MONTERO YENY LIZBETH","MEDICO AUDITOR","Bach.en Medicina","Medico Cirujano",1,12,48000,3,6,24000]
[null,"408 Salud Otuzco","RO","CAS","TRABAJADOR DE SERVICIO",1000,"41978906","LOYOLA RIOS MARIANELA ARMIDA","PERSONAL DE SERVICIO",null,null,1,12,12000,3,6,6000]
[null,"408 Salud Otuzco","RO","CAS","CHOFER",1000,"42699040","LOZANO LOYOLA DANIEL","CHOFER",null,null,1,12,12000,3,6,6000]
[null,"408 Salud Otuzco","RO","CAS","CHOFER",1000,"45202796","LUJAN REYES LICNER ARANTES","CHOFER",null,null,1,12,12000,3,6,6000]
[null,"408 Salud Otuzco","RO","CAS","TECNICO EN ENFERMERIA",1100,"41183075","MANRIQUE ARISPE JOSE OMAR","TECNICO EN ENFERMERIA",0,"Tec.en Enfermeria",1,12,13200,3,6,6600]
[null,"408 Salud Otuzco","RO","CAS","BIOLOGO(A)",1700,"45946558","MEJIA ACUÑA NANCY","BIOLOGO(A)","Biologo","Biologo",1,12,20400,3,6,10200]
[null,"408 Salud Otuzco","RO","CAS","TECNICO EN ENFERMERIA",1100,"74491311","MENDEZ CRUZ FIORELA YULISA","TECNICO EN ENFERMERIA",0,"Tec.en Enfermeria",1,12,13200,3,6,6600]
[null,"408 Salud Otuzco","RO","CAS","DIGITADOR(A)",1000,"09590247","MENDOZA AMAYA ELVERES BALDEMAR","DIGITADOR(A)",null,"Tec.en Computacion e Informatica",1,12,12000,3,6,6000]
[null,"408 Salud Otuzco","RO","CAS","ENFERMERA(O)",1800,"43377654","MENDOZA NARRO MARIELA","ENFERMERA(O)","Bach.en Enfermeria","Lic. En Enfermeria",1,12,21600,3,6,10800]
[null,"408 Salud Otuzco","RO","CAS","TECNICO EN ENFERMERIA",1100,"47020262","MENDOZA VILLACORTA LEIDY MIRELI","TECNICO EN ENFERMERIA",0,"Tec.en Enfermeria",1,12,13200,3,6,6600]
[null,"408 Salud Otuzco","RO","CAS","VIGILANTE",1000,"19075495","MIGUEL HONORIO FAVIO GRIMALDO","VIGILANTE",null,"Profesor de Educacion Pimaria",1,12,12000,3,6,6000]
[null,"408 Salud Otuzco","RO","CAS","BIOLOGO(A)",1700,"41826469","MUÑOZ TORRES LUIS DANIEL","BIOLOGO(A)","Biologo","Biologo",1,12,20400,3,6,10200]
[null,"408 Salud Otuzco","RO","CAS","MEDICO",4000,"41464775","NAVARRETE LEAL PEDRO ANTONIO","MEDICO","Bach.en Medicina","Medico Cirujano",1,12,48000,3,6,24000]
[null,"408 Salud Otuzco","RO","CAS","TRABAJADOR DE SERVICIO",1000,"19020436","OBESO CUEVA TEODOSIO OSCAR","TRABAJADOR DE SERVICIO",0,null,1,12,12000,3,6,6000]
[null,"408 Salud Otuzco","RO","CAS","DIGITADOR(A)",1100,"43665297","OBESO JIMENEZ JULIO IVAN","DIGITADOR(A)",null,null,1,12,13200,3,6,6600]
[null,"408 Salud Otuzco","RO","CAS","BIOLOGO(A)",1800,"42366265","OBESO VALDEZ LILIANA JACQUELINE","BIOLOGO(A)","Biologo","Biologo",1,12,21600,3,4,7200]
[null,"408 Salud Otuzco","RO","CAS","PSICOLOGO(A)",1700,"03491690","OROZCO CHUMACERO NELY","PSICOLOGO(A)","Bach.en Psicologia","Lic.en Psicologia",1,12,20400,3,6,10200]
[null,"408 Salud Otuzco","RO","CAS","TECNICO EN ENFERMERIA",1100,"44826450","PACHECO VELA CINDY SUSAN","TECNICO EN ENFERMERIA",0,"Tec.en Enfermeria",1,12,13200,3,6,6600]
[null,"408 Salud Otuzco","RO","CAS","TECNICO EN ENFERMERIA",1100,"45224881","PEREZ ROJAS ITALO JHONATAN","TECNICO EN ENFERMERIA",0,"Tec.en Enfermeria",1,12,13200,3,6,6600]
[null,"408 Salud Otuzco","RO","CAS","TECNICO EN ENFERMERIA",1200,"41449294","PRADO RUBIO HORTENCIA HERMELINDA","TECNICO EN ENFERMERIA",0,"Tec.en Enfermeria",1,12,14400,3,6,7200]
[null,"408 Salud Otuzco","RO","CAS","TECNICO EN ENFERMERIA",1000,"42950125","QUIPUSCOA MEDINA ARACELI MARILU","TECNICO EN ENFERMERIA",0,"Tec.en Enfermeria",1,12,12000,3,6,6000]
[null,"408 Salud Otuzco","RO","CAS","ENFERMERA(O)",1700,"42753655","QUISPE JOAQUIN ELISA","ENFERMERA(O)","Bach.en Enfermeria","Lic.en Enfermeria",1,12,20400,3,6,10200]
[null,"408 Salud Otuzco","RO","CAS","TRABAJADOR DE SERVICIO",1000,"19036774","RAFAEL DELGADO DORALIZA","PERSONAL DE SERVICIO",null,null,1,12,12000,3,6,6000]
[null,"408 Salud Otuzco","RO","CAS","OBSTETRA",1800,"43729924","RAZURI GUTIERREZ JENNIFER ELIZABETH","OBSTETRA","Bach.en Obstetricia","Lic.en Obstetricia",1,12,21600,3,6,10800]
[null,"408 Salud Otuzco","RO","CAS","VIGILANTE",1000,"19100369","REYES MIGUEL GILMER GRIMALDO","VIGILANTE",null,"Profesor de Educacion Pimaria",1,12,12000,3,6,6000]
[null,"408 Salud Otuzco","RO","CAS","TECNICO ADMINISTRATIVO",1500,"42578544","REYES VILLACORTA FIORELLA INGRID","TECNICO EN ENFERMERIA",0,"Tec.en Enfermeria",1,12,18000,3,6,9000]
[null,"408 Salud Otuzco","RO","CAS","TECNICO EN ENFERMERIA",1000,"46352629","REYES ZAVALETA LEINI LIZETH","TECNICO EN ENFERMERIA",0,"Tec.en Enfermeria",1,12,12000,3,6,6000]
[null,"408 Salud Otuzco","RO","CAS","TECNICO EN ENFERMERIA",1000,"42669269","RIOS VARGAS ZE CARLA","ENFERMERA(O)","Bach.en Enfermeria","Lic.en Enfermeria",1,12,12000,3,6,6000]
[null,"408 Salud Otuzco","RO","CAS","ENFERMERA(O)",1700,"44092097","RIVEROS HUAYLLA SANTOS AGUSTIN","CHOFER",null,null,1,12,20400,3,6,10200]
[null,"408 Salud Otuzco","RO","CAS","CHOFER",1000,"41544021","RIVEROS MENDOZA FANY KELICHE","TECNICO EN ENFERMERIA",0,"Tec.en Enfermeria",1,12,12000,3,6,6000]
[null,"408 Salud Otuzco","RO","CAS","TECNICO EN ENFERMERIA",1100,"43171550","RODRIGUEZ HURTADO COSME ISIDRO","PERSONAL DE SERVICIOS",0,null,1,12,13200,3,6,6600]
[null,"408 Salud Otuzco","RO","CAS","TRABAJADOR DE SERVICIO",1000,"41079733","RODRIGUEZ HURTADO MIGUEL ANGEL","VIGILANTE",null,null,1,12,12000,3,6,6000]
[null,"408 Salud Otuzco","RO","CAS","VIGILANTE",1000,"42753474","RODRIGUEZ LUJAN VANESSA YOVANA","PROFESOR",null,"Profesor de Educacion Pimaria",1,12,12000,3,6,6000]
[null,"408 Salud Otuzco","RO","CAS","AUXILIAR DE SISTEMA ADMINIST.",1000,"44607923","RODRIGUEZ QUILICHE DANI ALEXIS","CONTADOR PUBLICO","Bach. en Ciencias Contables","Contador Publico",1,12,12000,3,6,6000]
[null,"408 Salud Otuzco","RO","CAS","CONTADOR PUBLICO",2000,"44805309","RODRIGUEZ RAVELO ESTEBAN MARINO","CHOFER",null,null,1,12,24000,3,6,12000]
[null,"408 Salud Otuzco","RO","CAS","CHOFER",1000,"17836351","ROMERO DIAZ ANGELICA MARIBEL","OBSTETRA","Bach.en Obstetricia","Lic.en Obstetricia",1,12,12000,3,6,6000]
[null,"408 Salud Otuzco","RO","CAS","OBSTETRA",1800,"44755089","ROSALES CALDERON CARMEN NELLY","TECNICO EN ENFERMERIA",0,"Tec.en Enfermeria",1,12,21600,3,6,10800]
[null,"408 Salud Otuzco","RO","CAS","TECNICO EN ENFERMERIA",1100,"40568150","RUBIO ALVAREZ MAGALY DEL CARMEN","NUTRICIONISTA","Bach. en Nutricion ","Lic. en  Nutricion",1,12,13200,3,6,6600]
[null,"408 Salud Otuzco","RO","CAS","NUTRICIONISTA",1800,"45151076","RUIZ ALIAGA LUCY HAIDY","TECNICO EN ENFERMERIA",0,"Tec.en Enfermeria",1,12,21600,3,6,10800]
[null,"408 Salud Otuzco","RO","CAS","TECNICO EN ENFERMERIA",1100,"40480022","SANCHEZ RODRIGUEZ GIOVANI BEATRIZ","TECNICO EN ENFERMERIA",0,"Tec.en Enfermeria",1,12,13200,3,6,6600]
[null,"408 Salud Otuzco","RO","CAS","TECNICO EN ENFERMERIA",1100,"41678653","SANCHEZ VIDAL NOELI JENY","TECNICO EN ENFERMERIA",0,"Tec.en Enfermeria",1,12,13200,3,6,6600]
[null,"408 Salud Otuzco","RO","CAS","TECNICO EN ENFERMERIA",1100,"46248320","SANTOS JIMENEZ ROSA ISABEL","TEC. EN ENFERMERIA",null,"Tec.en Enfermeria",1,12,13200,3,6,6600]
[null,"408 Salud Otuzco","RO","CAS","DIGITADOR(A)",1000,"47808535","SOLANO HORNA JHAN MARCOS","TRABAJADOR DE SERVICIO",0,null,1,12,12000,3,6,6000]
[null,"408 Salud Otuzco","RO","CAS","TRABAJADOR DE SERVICIO",1000,"47428888","TERAN MOSTACERO ESMERITA VIOLETA","TECNICO EN ENFERMERIA",0,"Tec.en Enfermeria",1,12,12000,3,6,6000]
[null,"408 Salud Otuzco","RO","CAS","TECNICO EN ENFERMERIA",1100,"46074609","VALDERRAMA ESPINOLA SONIA ISABEL","ENFERMERA(O)","Bach.en Enfermeria","Lic.en Enfermeria",1,12,13200,3,6,6600]
[null,"408 Salud Otuzco","RO","CAS","ENFERMERA(O)",1700,"45445924","VALVERDE FLORES LIZET EVELING","OBSTETRA","Bach.en Obstetricia","Lic.en Obstetricia",1,12,20400,3,5,8500]
[null,"408 Salud Otuzco","RO","CAS","OBSTETRA",1800,"45822669","VALVERDE GARCIA MILTON DANIEL","DIGITADOR(A)",null,"Tec.en Computacion e Informatica",1,12,21600,3,6,10800]
[null,"408 Salud Otuzco","RO","CAS","DIGITADOR(A)",1000,"70054761","VASQUEZ CASTILLO GRETTY JANINA","TECNICO EN ENFERMERIA",0,"Tec.en Enfermeria",1,12,12000,3,6,6000]
[null,"408 Salud Otuzco","RO","CAS","TECNICO EN ENFERMERIA",1000,"70859148","VASQUEZ VIGO LINDA NATHALIE LIZZET","MEDICO","Bach.en Medicina","Medico Cirujano",1,12,12000,3,2,2000]
[null,"408 Salud Otuzco","RO","CAS","MEDICO",4000,"45048469","VEGA AVALOS JUAN","CHOFER",null,null,1,12,48000,3,6,24000]
[null,"408 Salud Otuzco","RO","CAS","CHOFER",1000,"19052281","VEGA LIÑAN KHARENT ABIGAIL","ENFERMERA(O)","Bach.en Enfermeria","Lic.en Enfermeria",1,12,12000,3,6,6000]
[null,"408 Salud Otuzco","RO","CAS","ENFERMERA(O)",1800,"70788202","VELASQUEZ LUJAN BETTY MARILU","TECNICO EN LABORATORIO",0,null,1,12,{"$f":"+F4284*M4284","v":21600},3,6,{"$f":"+P4284*F4284","v":10800}]
[null,"408 Salud Otuzco","RO","CAS","TECNICO EN LABORATORIO",1100,"19238385","VIDAL ZAVALETA MARITZA EVELIN","DIGITADOR(A)",null,null,1,12,13200,3,6,6600]
[null,"408 Salud Otuzco","RO","CAS","DIGITADOR(A)",1000,"40970387","VILCA MENDEZ DEYNER RILEY","TEC. EN CONTABILIDAD",null,"Tec.en Contabilidad",1,12,12000,3,6,6000]
[null,"408 Salud Otuzco","RO","CAS","TECNICO ADMINISTRATIVO",1500,"44094611","VILLAJULCA RODRIGUEZ JOIS JAQUELINE","TECNICO EN ENFERMERIA",0,"Tec.en Enfermeria",1,12,18000,3,6,9000]
[null,"408 Salud Otuzco","RO","CAS","TECNICO EN ENFERMERIA",1100,"74075342","VILLANUEVA BENITES ESMIT EVELENY","TECNICO ADMINISTRATIVO",0,"Tec.en Contabilidad",1,12,13200,3,6,6600]
[null,"408 Salud Otuzco","RO","CAS","TECNICO ADMINISTRATIVO",1500,"41072517","VILLARREAL GOMEZ BELBER ROVER","AUXILIAR DE ENFERMERIA",0,"Aux de Enfermeria",1,12,18000,3,6,9000]
[null,"408 Salud Otuzco","RO","CAS","AUXILIAR DE ENFERMERIA",850,"47511737","ZAVALA CARRANZA LUIS SEGUNDO","CHOFER",null,null,1,12,10200,3,6,5100]
[null,"408 Salud Otuzco","RO","CAS","CHOFER",1000,"43375577","ZAVALETA AREDO ESTEBAN SIMON","CHOFER",null,null,1,12,12000,3,6,6000]
[null,"408 Salud Otuzco","RO","CAS","CHOFER",1000,"19058785","ZAVALETA GARCIA NELLY MARITZA","ENFERMERA(O)","Bach.en Enfermeria","Lic.en Enfermeria",1,12,12000,3,6,6000]
[null,"408 Salud Otuzco","RO","CAS","ENFERMERA(O)",1700,"40800243","ALFARO VALDEZ DAMARIS ABIGAIL","TECNICO EN ENFERMERIA",0,"Tec.en Enfermeria",1,7,11900,3,6,10200]
[null,"408 Salud Otuzco","RO","CAS","TECNICO EN ENFERMERIA",1200,"42982110","ALVARADO SOLANO CARMEN ESTELA","DIGITADOR(A)",null,null,1,9,10800,3,6,7200]
[null,"408 Salud Otuzco","RO","CAS","DIGITADOR(A)",1100,"46254794","ARMIJO VILLEGAS FIORELLA STHEFANNY","ENFERMERA(O)","Bach.en Enfermeria","Lic.en Enfermeria",1,6,6600,3,6,6600]
[null,"408 Salud Otuzco","RO","CAS","ENFERMERA(O)",2500,"70580288","BARRUETA MENDO ALEJANDRO SABINO","MEDICO","Bach.en Medicina","Medico Cirujano",1,5,12500,3,6,15000]
[null,"408 Salud Otuzco","RO","CAS","MEDICO",5500,"32739620","BECERRA TUME EDUIN RAUL","COMUNICADOR SOCIAL","Bach.en Ciencias de la Comunicacion","Comunicador Social",1,9,49500,3,6,33000]
[null,"408 Salud Otuzco","RO","CAS","COMUNICADOR SOCIAL",2000,"45803696","CASTILLO GONZALEZ SAMUEL ALEXANDER","MEDICO","Bach.en Medicina","Medico Cirujano",1,7,14000,3,6,12000]
[null,"408 Salud Otuzco","RO","CAS","MEDICO",4000,"41091467","CASTILLO MORILLO HILDA JESUS","ENFERMERA(O)","Bach.en Enfermeria","Lic.en Enfermeria",1,6,24000,3,6,24000]
[null,"408 Salud Otuzco","RO","CAS","ENFERMERA(O)",2500,"45751134","CAYPO VALVERDE NALDA EDHITA","TECNICO EN ENFERMERIA",0,"Tec.en Enfermeria",1,9,22500,3,6,15000]
[null,"408 Salud Otuzco","RO","CAS","TECNICO EN ENFERMERIA",1200,"47406084","CRUZADO BARRETO WILDER JAIME","VIGILANTE",null,null,1,6,7200,3,6,7200]
[null,"408 Salud Otuzco","RO","CAS","VIGILANTE",1500,"19101855","CRUZADO HURTADO WILSON RAFAEL","VIGILANTE",null,null,1,6,9000,3,6,9000]
[null,"408 Salud Otuzco","RO","CAS","VIGILANTE",1500,"70507574","DEFEUDES AVILA HANS ALEXANDER","ESPECIALISTA ADMINISTRATIVO","Bach.en Ciencias Contables","Contador Publico",1,9,13500,3,6,9000]
[null,"408 Salud Otuzco","RO","CAS","ESPECIALISTA ADMINISTRATIVO",2000,"43364605","ESCOBEDO ALVARADO MODESTA EULALIA","TRABAJADORA SOCIAL",null,null,1,6,12000,3,6,12000]
[null,"408 Salud Otuzco","RO","CAS","TRABAJADORA SOCIAL",2500,"19578158","ESPINOZA MALQUI PAULA JINNIE","ENFERMERA(O)","Bach.en Enfermeria","Lic.en Enfermeria",1,7,17500,3,6,15000]
[null,"408 Salud Otuzco","RO","CAS","ENFERMERA(O)",1800,"40300810","FLORES VELASQUEZ JUNIOR JEANPIERRE","ENFERMERA(O)","Bach.en Enfermeria","Lic.en Enfermeria",1,6,10800,3,6,10800]
[null,"408 Salud Otuzco","RO","CAS","ENFERMERA(O)",2500,"46919009","GARCIA CHAVEZ DE PORRAS CARMEN DEL PILAR","TECNICO EN REHABIL. Y FISIOT.",0,"Tec.en Rahabilitacion y Fisioterapia",1,6,15000,3,6,15000]
[null,"408 Salud Otuzco","RO","CAS","TECNICO EN REHABIL. Y FISIOT.",2500,"45031626","GARCIA REYES YUÑOR HAMILTON","TRABAJADOR DE SERVICIO",0,null,1,6,15000,3,6,15000]
[null,"408 Salud Otuzco","RO","CAS","TRABAJADOR DE SERVICIO",1500,"71639161","GONZALEZ PASCUAL LUIS ERIK","LICENCIADO EN ADMINISTRACION","Bach.en Administracion","Lic. En Administracion",1,9,13500,3,6,9000]
[null,"408 Salud Otuzco","RO","CAS","LICENCIADO EN ADMINISTRACION",2500,"42595437","GRAOS GUEVARA JHON GINO","TECNICO ADMINISTRATIVO",0,"Tec.en Contabilidad",1,6,15000,3,6,15000]
[null,"408 Salud Otuzco","RO","CAS","TECNICO ADMINISTRATIVO",2000,"40600322","HERRERA COLLANTES VILMA DORIS","TECNICO ADMINISTRATIVO",0,"Tec.en Contabilidad",1,6,12000,3,6,12000]
[null,"408 Salud Otuzco","RO","CAS","TECNICO ADMINISTRATIVO",1300,"42156929","HERRERA RODRIGUEZ NIXSON GHERSY","QUIMICO FARMACEUTICO","Quimico Farmaceutico","Quimico Farmaceutico",1,6,7800,3,6,7800]
[null,"408 Salud Otuzco","RO","CAS","QUIMICO FARMACEUTICO",2500,"46246740","HERRERA SILVESTRE HILDER DALADIER","MEDICO","Bach.en Medicina","Medico Cirujano",1,5,12500,3,6,15000]
[null,"408 Salud Otuzco","RO","CAS","MEDICO",3500,"46457831","IBAÑEZ RUBIO DAYSI BERLIT","TECNICO EN ENFERMERIA",0,"Tec.en Enfermeria",1,6,21000,3,6,21000]
[null,"408 Salud Otuzco","RO","CAS","TECNICO EN ENFERMERIA",1800,"43651236","JACOBO AQUINO EDSON ALEXANDER","MEDICO","Bach.en Medicina","Medico Cirujano",1,6,10800,3,6,10800]
[null,"408 Salud Otuzco","RO","CAS","MEDICO",4000,"44218406","JARA VASQUEZ MAGALY VERONICA","OBSTETRA","Bach.en Obstetricia","Lic.en Obstetricia",1,7,28000,3,6,24000]
[null,"408 Salud Otuzco","RO","CAS","OBSTETRA",1800,"40231438","LEIVA VENTURA HAMILTHON MANUEL","ODONTOLOGO(A)","Cirujano Dentista","Cirujano Dentista",1,9,16200,3,6,10800]
[null,"408 Salud Otuzco","RO","CAS","ODONTOLOGO(A)",1800,"43391068","LEON ASIS BETTY NOEMI","ENFERMERA(O)","Bach.en Enfermeria","Lic.en Enfermeria",1,6,10800,3,6,10800]
[null,"408 Salud Otuzco","RO","CAS","ENFERMERA(O)",2500,"41864618","MARCELO EUSTAQUIO ROBERT ALEX","TECNICO ADMINISTRATIVO",0,"Tec.en Contabilidad",1,6,15000,3,6,15000]
[null,"408 Salud Otuzco","RO","CAS","TECNICO ADMINISTRATIVO",2000,"43871146","MONTENEGRO GORDILLO ROXANA JESUS","MEDICO","Bach.en Medicina","Medico Cirujano",1,7,14000,3,6,12000]
[null,"408 Salud Otuzco","RO","CAS","MEDICO",7000,"18213065","MONTES DE LA CRUZ CINDY LIZBETH","ENFERMERA(O)","Bach.en Enfermeria",null,1,9,63000,3,6,42000]
[null,"408 Salud Otuzco","RO","CAS","ENFERMERA(O)",1800,"70234991","MORALES ALAYO CARLOS JHONATAN","PSICOLOGO(A)","Bach.en Psicologia","Lic. en Psicologia",1,6,10800,3,6,10800]
[null,"408 Salud Otuzco","RO","CAS","PSICOLOGO(A)",2500,"42910089","MORI DIAZ SANDRA LISSETH","MEDICO","Bach.en Medicina","Medico Cirujano",1,6,15000,3,6,15000]
[null,"408 Salud Otuzco","RO","CAS","MEDICO",6500,"40661036","NIZAMA IPANAQUE JAKY MARGOT","PSICOLOGO(A)","Bach.en Psicologia","Lic. en Psicologia",1,6,39000,3,6,39000]
[null,"408 Salud Otuzco","RO","CAS","PSICOLOGO(A)",2500,"46687976","ORBEGOSO LEIVA GERARDO RAFAEL","PSICOLOGO(A)","Bach. en Psicologia","Lic. en Psicologia",1,9,22500,3,6,15000]
[null,"408 Salud Otuzco","RO","CAS","PSICOLOGO(A)",1800,"42002399","PEREZ RODRIGUEZ MAX ANTHONY","ABOGADO(A)","Bach.en Derecho","Abogado",1,9,16200,3,6,10800]
[null,"408 Salud Otuzco","RO","CAS","ABOGADO(A)",2000,"43401844","PONTE ANAMPA MELCI","TECNICO EN ENFERMERIA",0,"Tec.en Enfermeria",1,6,12000,3,6,12000]
[null,"408 Salud Otuzco","RO","CAS","TECNICO EN ENFERMERIA",1800,"44105581","RAMIREZ SEGURA LEILA KATHERYN","ENFERMERA(O)","Bach.en Enfermeria","Lic.en Enfermeria",1,7,12600,3,6,10800]
[null,"408 Salud Otuzco","RO","CAS","ENFERMERA(O)",1800,"47148189","RODRIGUEZ BASILIO LUIS ALEXANDER","MEDICO","Bach.en Medicina","Medico Cirujano",1,6,10800,3,6,10800]
[null,"408 Salud Otuzco","RO","CAS","MEDICO",4000,"42260529","RODRIGUEZ PRIETO JAMELY DEL PILAR","ESPECIALISTA ADMINISTRATIVO","Bach.en Ciencias Economicas","Economista",1,9,36000,3,6,24000]
[null,"408 Salud Otuzco","RO","CAS","ESPECIALISTA ADMINISTRATIVO",2000,"60142139","RODRIGUEZ RODRIGUEZ DIGNA ALICIA","TECNICO EN ENFERMERIA",0,"Tec.en Enfermeria",1,9,18000,3,6,12000]
[null,"408 Salud Otuzco","RO","CAS","TECNICO EN ENFERMERIA",1200,"42075360","RODRIGUEZ SALINAS FERMIN ARMANDO","TECNICO EN ENFERMERIA",0,"Tec.en Enfermeria",1,9,10800,3,6,7200]
[null,"408 Salud Otuzco","RO","CAS","TECNICO EN ENFERMERIA",1200,"19090500","RUIZ ALAYO RUTH RAQUEL","TECNICO EN REHABIL. Y FISIOT.",0,"Tec.en Rehabilitacion y Fisioterapia",1,6,7200,3,6,7200]
[null,"408 Salud Otuzco","RO","CAS","TECNICO EN REHABIL. Y FISIOT.",2500,"42768724","RUIZ RUBIO JULIO HERNAN","PILOTO DE AMBULANCIA",0,null,1,6,15000,3,6,15000]
[null,"408 Salud Otuzco","RO","CAS","PILOTO DE AMBULANCIA",1000,"18020914","SANDOVAL CRUZ LUZ ISOLINA","MEDICO PSIQUIATRA","Bach.en Medicina","Medico Cirujano/Psiquiatra",1,6,6000,3,6,6000]
[null,"408 Salud Otuzco","RO","CAS","MEDICO PSIQUIATRA",8000,"18080762","TORRES MORALES FLOR ISABEL","MEDICO","Bach.en Medicina","Medico Cirujano",1,7,56000,3,6,48000]
[null,"408 Salud Otuzco","RO","CAS","MEDICO",3500,"70467879","URBINA ESCOBAR JHONATAN SMITH","TRABAJADOR DE SERVICIO",0,null,1,6,21000,3,6,21000]
[null,"408 Salud Otuzco","RO","CAS","TRABAJADOR DE SERVICIO",1500,"47619798","VASQUEZ SANCHEZ KARIN JULIA","TECNICO EN ENFERMERIA",0,"Tec.en Enfermeria",1,9,13500,3,6,9000]
[null,"408 Salud Otuzco","RO","CAS","TECNICO EN ENFERMERIA",1200,"10834496","VASQUEZ VARGAS LOURDES CECILIA","OBSTETRA","Bach.en Obstetricia","Lic.en Obstetricia",1,9,10800,3,6,7200]
[null,"408 Salud Otuzco","RO","CAS","OBSTETRA",1800,"41603443","VENTURA BECERRA FABIOLA","ENFERMERA(O)","Bach.en Enfermeria","Lic.en Enfermeria",1,6,10800,3,6,10800]
[null,"408 Salud Otuzco","RO","CAS","ENFERMERA(O)",1800,"43481963","VERA AGUIRRE SUSELY MARYCE","PSICOLOGO(A)","Bach. en Psicologia ","Lic. En Psicologia",1,6,10800,3,6,10800]
[null,"408 Salud Otuzco","RO","CAS","PSICOLOGO(A)",2500,"46246233","VIERA MEZA CLEYMAN JHANS","MEDICO","Bach.en Medicina","Medico Cirujano",1,9,22500,3,6,15000]
[null,"408 Salud Otuzco","RO","CAS","MEDICO",4000,"48014756","VILLALTA SEGURA ROSA MARIA","OBSTETRA","Bach.en Obstetricia","Lic.en Obstetricia",1,9,36000,3,6,24000]
[null,"408 Salud Otuzco","RO","CAS","OBSTETRA",1800,"18212194","YBAÑEZ GUTIERREZ DEYLI MELY","DIGITADOR(A)",null,"Tec.en Enfermeria",1,7,12600,3,6,10800]
[null,"408 Salud Otuzco","RO","CAS","DIGITADOR(A)",1100,76410226,"ZAVALETA TICLIO LUZ EMERITA","TECNICO EN ENFERMERIA",0,"Tec.en Enfermeria",1,8,8800,3,6,6600]
[null,"408 Salud Otuzco","RO","CAS","TECNICO ADMINISTRATIVO",1500,"42578544","REYES ROSAS JORGE WILI","TEC. EN CONTABILIDAD",0,"Tec.en Contabilidad",1,7,10500]
[null,"408 Salud Otuzco","RO","CAS","ENFERMERA(O)",1700,"42648974","GUTIERREZ SANCHEZ LUZ DEL CORE","ENFERMERA(O)","Bach.en Enfermeria","Lic.en Enfermeria",1,7,11900]
[null,"408 Salud Otuzco","RO","CAS","PSICOLOGO(A)",1700,"44310607","ZAVALETA ALVARADO ARACELY YOLANDA","PSICOLOGO(A)","Bach. en Psicologia","Lic. en Psicologia",1,7,11900]
[null,"408 Salud Otuzco","RO","CAS","ENFERMERA(O)",1800,"70301931","COTRINA MORALES LESLY KATHERYN","ENFERMERA(O)","Bach.en Enfermeria","Lic.en Enfermeria",1,12,21600]
[null,"408 Salud Otuzco","RO","CAS","MEDICO",4000,"41464775","NAVARRETE LEAL PEDRO ANTONIO","MEDICO","Bach.en Medicina","Medico Cirujano",1,12,48000]
[null,"408 Salud Otuzco","RO","CAS","ENFERMERA(O)",1700,"45475208","BLAS GAVIDIA LILIAN ELIZABETH","ENFERMERA(O)","Bach.en Enfermeria","Lic.en Enfermeria",1,12,20400]
[null,"408 Salud Otuzco","RO","CAS","TECNICO EN ENFERMERIA",1000,"19092323","GAITAN CUEVA EDISON MILTON","TEC. EN ENFERMERIA",null,"Tec.en Enfermeria",1,12,{"$f":"+F4352*M4352","v":12000}]
[null,"408 Salud Otuzco","RO","CAS","TECNICO EN CONTABILIDAD",1000,"19100083","GUZMAN ZAVALETA JENNY JANETT","TECNICO EN CONTABILIDAD",0,"Tec.en Contabilidad",1,12,{"$f":"+F4353*M4353","v":12000}]
[null,"408 Salud Otuzco","RDR","CAS","SECRETARIA",1000,"70828700","SAONA RODRIGUEZ CARMEN ROSA","SECRETARIA",null,"Aux. Tecnico-Secretariado",1,10,10000,3,6,6000]
[null,"408 Salud Otuzco","RDR","CAS","TECNICO EN ENFERMERIA",1000,"47481026","GARCIA RODRIGUEZ DEIVI GILVER","TECNICO EN ENFERMERIA",0,"Tec.en Enfermeria",1,12,{"$f":"+F4355*M4355","v":12000},3,6,6000]
[null,"408 Salud Otuzco","RDR","CAS","TECNICO EN ENFERMERIA",1000,"45406771","JUAREZ TOMAS YENI LICET","TECNICO EN ENFERMERIA",0,"Tec.en Enfermeria",1,12,{"$f":"+F4356*M4356","v":12000},3,6,{"$f":"+P4356*F4356","v":6000}]
[null,"408 Salud Otuzco","RDR","CAS","QUIMICO FARMACEUTICO",1800,"44453384","RODRIGUEZ PEREZ LUCIA YANETH","QUIMICO FARMACEUTICO","Quimico Farmaceutico","Quimico Farmaceutico",1,12,{"$f":"+F4357*M4357","v":21600},3,4,7200]
[null,"408 Salud Otuzco","RO","CAS","CHOFER",1000,"41095189","AGUILAR MIGUEL PALERMO ALBERTO","CHOFER",null,null,null,null,null,3,6,6000]
[null,"408 Salud Otuzco","RO","CAS","TECNICO ADMINISTRATIVO",1300,"47506125","AGUILAR SALVADOR ANA MARIA","TECNICO ADMINISTRATIVO","Bach.en Contabilidad","Bach.en Contabilidad",null,null,null,3,6,7800]
[null,"408 Salud Otuzco","RO","CAS","ENFERMERA(O)",1800,"46042679","FERNANDINI CHAVEZ JACKELINE MECKY","ENFERMERA(O)","Bach.en Enfermeria","Lic.en Enfermeria",null,null,null,3,6,10800]
[null,"408 Salud Otuzco","RO","CAS","CHOFER",1000,"43980233","GERMAN JIMENEZ ELTON WILI","CHOFER",null,null,null,null,null,3,6,6000]
[null,"408 Salud Otuzco","RO","CAS","ENFERMERA(O)",1800,"47402609","GONZALES PACHECO PIERRE ERWIN","ENFERMERA(O)","Bach.en Enfermeria","Lic.en Enfermeria",null,null,null,3,6,10800]
[null,"408 Salud Otuzco","RO","CAS","ENFERMERA(O)",1700,"70359090","GUTIERREZ GARCIA MERLY BERVELY ","ENFERMERA(O)","Bach.en Enfermeria","Lic.en Enfermeria",null,null,null,3,6,10200]
[null,"408 Salud Otuzco","RO","CAS","TECNICO EN CONTABILIDAD",1000,"19100083","GUZMAN ZAVALETA JENNY JANETT","TECNICO EN CONTABILIDAD",0,"Tec.en Contabilidad",null,null,null,3,6,6000]
[null,"408 Salud Otuzco","RO","CAS","MEDICO AUDITOR",4500,"43410955","POLO RAMIREZ JOSE EDWAR","MEDICO","Bach.en Medicina","Medico Cirujano",null,null,null,3,6,27000]
[null,"408 Salud Otuzco","RO","CAS","TRABAJADORA SOCIAL",1800,"46953247","ZAVALETA ORBEGOSO VIOLETA ELIZABETH","TRABAJADORA SOCIAL","Bach.en Trabajo Social","Lic.en Trabajo social",null,null,null,3,6,10800]
[null,"TOTAL",null,null,null,{"$f":"SUM(F4155:F4366)","v":357050},null,null,null,null,null,null,null,{"$f":"SUM(N4155:N4366)","v":3419200},null,null,{"$f":"SUM(Q4155:Q4366)","v":2015600}]
[null,"409 SALUD TRUJILLO ESTE","RO","CAS","ADMINISTRATIVO",1500,"44983965","ABANTO SALIRROSAS JOHN EDUARD","TRABAJADOR DE SERVICIO","AUXILIARES",null,1,5,{"$f":"F4368*M4368","v":7500},1,6,{"$f":"F4368*P4368","v":9000}]
[null,"409 SALUD TRUJILLO ESTE","RO","CAS","ASISTENCIAL",1500,"45519995","ACEVEDO RAMIREZ JACQUELINE MILAGROS","QUIMICO FARMACEUTICO","PROFESIONAL","TITULO  ",1,12,{"$f":"F4369*M4369","v":18000},1,6,{"$f":"F4369*P4369","v":9000}]
[null,"409 SALUD TRUJILLO ESTE","RO","CAS","ADMINISTRATIVO",930,"17948757","ACOSTA MORALES SELIA ELINA","TRABAJADOR DE SERVICIO","AUXILIARES",null,1,12,11160,1,6,5580]
[null,"409 SALUD TRUJILLO ESTE","RO","CAS","ASISTENCIAL",1300,"40783525","ACUÑA CASTILLO YULITZA NATHALIA","TECNICO EN REHABIL. Y FISIOT.","TECNICO","TECNICO",1,2,2600,1,6,7800]
[null,"409 SALUD TRUJILLO ESTE","RO","CAS","ASISTENCIAL",1800,"42922907","AGUILAR AGUIRRE HANS PABLO","PSICOLOGO(A)","PROFESIONAL","TITULO  ",1,2,3600,1,6,10800]
[null,"409 SALUD TRUJILLO ESTE","RDR","CAS","ADMINISTRATIVO",930,"25740078","AGUILAR BERNAL ADA CLOTILDE","AUXILIAR ADMINISTRATIVO","AUXILIARES",null,1,12,11160,1,6,5580]
[null,"409 SALUD TRUJILLO ESTE","RDR","CAS","ADMINISTRATIVO",1200,"17938492","ALAYO CENTENO LUIS ALBERTO","TECNICO ADMINISTRATIVO","TECNICO","TECNICO",1,12,14400,1,6,7200]
[null,"409 SALUD TRUJILLO ESTE","RO","CAS","ASISTENCIAL",1800,"43231438","ALBITRES VASQUEZ ROSA ESTHER","ENFERMERA(O)","PROFESIONAL","TITULO  ",1,2,3600,1,6,10800]
[null,"409 SALUD TRUJILLO ESTE","RO","CAS","ASISTENCIAL",1500,"44738535","ALCANTARA CERNA KAREN ZENITH","ENFERMERA(O)","PROFESIONAL","TITULO  ",1,12,18000,1,6,9000]
[null,"409 SALUD TRUJILLO ESTE","RO","CAS","ASISTENCIAL",1800,"18198503","ALCANTARA LUJAN DE VERGARAY VICTORIA DEL CARM","ENFERMERA(O)","PROFESIONAL","TITULO  ",1,2,3600,1,6,10800]
[null,"409 SALUD TRUJILLO ESTE","RDR","CAS","ASISTENCIAL",1500,"45338744","ALTAMIRANO SARMIENTO ROSA MILAGROS","BIOLOGO(A)","PROFESIONAL","TITULO  ",1,12,18000,1,6,9000]
[null,"409 SALUD TRUJILLO ESTE","RO","CAS","ADMINISTRATIVO",1000,"41696386","ALVA ESPINOZA ALI MILAGRITOS","CAJERO","TECNICO","TECNICO",1,12,12000,1,6,6000]
[null,"409 SALUD TRUJILLO ESTE","RDR","CAS","ASISTENCIAL",1000,"41836202","ALVA PIMINCHUMO LISSET PAOLA","TECNICO EN ENFERMERIA","TECNICO","TECNICO",1,12,12000,1,6,6000]
[null,"409 SALUD TRUJILLO ESTE","RO","CAS","ASISTENCIAL",1200,"46045415","ALVA QUISPE MARIELA CLARIVEL","TECNICO EN ENFERMERIA","TECNICO","TECNICO",1,12,14400,1,6,7200]
[null,"409 SALUD TRUJILLO ESTE","RO","CAS","ASISTENCIAL",1150,"45514478","ALVA TERRONES JANETH ELIZABETH","ENFERMERA(O)","PROFESIONAL","TITULO  ",1,12,13800,1,6,6900]
[null,"409 SALUD TRUJILLO ESTE","RO","CAS","ASISTENCIAL",2500,"43637040","ALVARADO AURORA ELIZABETH ARACELLY","ENFERMERA(O)","PROFESIONAL","TITULO  ",1,5,12500,1,6,15000]
[null,"409 SALUD TRUJILLO ESTE","RO","CAS","ASISTENCIAL",1200,"43408610","ALVARADO CORDOVA CANDIDA","TECNICO EN ENFERMERIA","TECNICO","TECNICO",1,12,14400,1,6,7200]
[null,"409 SALUD TRUJILLO ESTE","RO","CAS","ASISTENCIAL",5025,"46148168","ALVARADO TORRES GLERIDA CARMEN","MEDICO","PROFESIONAL","TITULO  ",1,5,25125,1,6,30150]
[null,"409 SALUD TRUJILLO ESTE","RO","CAS","ADMINISTRATIVO",930,"18028655","ANTICONA HURTADO ANTONIO MARIANO","TRABAJADOR DE SERVICIO","AUXILIARES",null,1,12,11160,1,6,5580]
[null,"409 SALUD TRUJILLO ESTE","RO","CAS","ADMINISTRATIVO",930,"42940837","API PERALTA JULIO ROBINSON","TRABAJADOR DE SERVICIO","AUXILIARES",null,1,12,11160,1,6,5580]
[null,"409 SALUD TRUJILLO ESTE","RO","CAS","ADMINISTRATIVO",930,"41737843","ARANA CASTAÑEDA MILAGROS ELIZABETH","TRABAJADOR DE SERVICIO","AUXILIARES",null,1,12,11160,1,6,5580]
[null,"409 SALUD TRUJILLO ESTE","RDR","CAS","ASISTENCIAL",1200,"80300281","ARANDA LOPEZ RENATO RENZO","TECNICO EN LABORATORIO","TECNICO","TECNICO",1,12,14400,1,6,7200]
[null,"409 SALUD TRUJILLO ESTE","RO","CAS","ASISTENCIAL",8000,"44747578","ARCILA DIAZ JENIFFER KAREN","MEDICO PSIQUIATRA","PROFESIONAL","TITULO  ",1,2,16000,1,6,48000]
[null,"409 SALUD TRUJILLO ESTE","RO","CAS","ASISTENCIAL",1500,"46638027","AREDO HILARIO KATHIA FELICITA","ENFERMERA(O)","PROFESIONAL","TITULO  ",1,12,18000,1,6,9000]
[null,"409 SALUD TRUJILLO ESTE","RDR","CAS","ADMINISTRATIVO",930,"70017246","ARMAS MEZA MARCO ANTONIO","TRABAJADOR DE SERVICIO","AUXILIARES",null,1,12,11160,1,6,5580]
[null,"409 SALUD TRUJILLO ESTE","RO","CAS","ASISTENCIAL",2689,"40733573","ARMAS RODRIGUEZ HECTOR JOHNNY","BIOLOGO(A)","PROFESIONAL","TITULO  ",1,5,13445,1,6,16134]
[null,"409 SALUD TRUJILLO ESTE","RDR","CAS","ADMINISTRATIVO",930,"40810646","ARRIBASPLATA PELAEZ FRANK ENRIQUE","TRABAJADOR DE SERVICIO","AUXILIARES",null,1,12,11160,1,6,5580]
[null,"409 SALUD TRUJILLO ESTE","RO","CAS","ADMINISTRATIVO",930,"18060733","ARTEAGA DE BECERRA ANDREA EVELINA","TRABAJADOR DE SERVICIO","AUXILIARES",null,1,12,11160,1,6,5580]
[null,"409 SALUD TRUJILLO ESTE","RDR","CAS","ADMINISTRATIVO",1100,"47490718","AVALOS AVALOS WAGNER ALFREDO","TRABAJADOR DE SERVICIO","AUXILIARES",null,1,12,13200,1,6,6600]
[null,"409 SALUD TRUJILLO ESTE","RO","CAS","ADMINISTRATIVO",1200,"45842861","AVALOS AVALOS WILLIAM GUILLERMO","DIGITADOR(A)","TECNICO","TECNICO",1,12,14400,1,6,7200]
[null,"409 SALUD TRUJILLO ESTE","RDR","CAS","ADMINISTRATIVO",1200,"43089904","AVILA ALAYO UBALDINA ELIZABETH","TECNICO ADMINISTRATIVO","TECNICO","TECNICO",1,12,14400,1,6,7200]
[null,"409 SALUD TRUJILLO ESTE","RO","CAS","ASISTENCIAL",5025,"44782535","AVILA GARCIA CYNTHIA IBET","MEDICO","PROFESIONAL","TITULO  ",1,5,25125,1,6,30150]
[null,"409 SALUD TRUJILLO ESTE","RO","CAS","ASISTENCIAL",1000,"47612950","AVILA MENDOZA ROXANA","TECNICO EN ENFERMERIA","TECNICO","TECNICO",1,12,12000,1,6,6000]
[null,"409 SALUD TRUJILLO ESTE","RO","CAS","ASISTENCIAL",1200,"70385426","BALLENAS NORIEGA JUAN MANUEL","CHOFER","AUXILIARES",null,1,12,14400,1,6,7200]
[null,"409 SALUD TRUJILLO ESTE","RO","CAS","ASISTENCIAL",1500,"40187671","BALTODANO ARMAS PAULA ESTHER","ENFERMERA(O)","PROFESIONAL","TITULO  ",1,12,18000,1,6,9000]
[null,"409 SALUD TRUJILLO ESTE","RDR","CAS","ASISTENCIAL",1500,"18221546","BALTODANO VALDIVIA MELVA RAQUEL","ENFERMERA(O)","PROFESIONAL","TITULO  ",1,12,18000,1,6,9000]
[null,"409 SALUD TRUJILLO ESTE","RO","CAS","ASISTENCIAL",1500,"18836836","BARRANTES GONZALEZ GLENDA ROCIO","OBSTETRA","PROFESIONAL","TITULO  ",1,12,18000,1,6,9000]
[null,"409 SALUD TRUJILLO ESTE","RO","CAS","ASISTENCIAL",1800,"17812399","BAUTISTA CACERES ROSARIO DEL PILAR","QUIMICO FARMACEUTICO","PROFESIONAL","TITULO  ",1,2,3600,1,6,10800]
[null,"409 SALUD TRUJILLO ESTE","RO","CAS","ASISTENCIAL",2500,"45941509","BAUTISTA VALDERRAMA YUVISSA LIZETH","TRABAJADORA SOCIAL","PROFESIONAL","TITULO  ",1,5,12500,1,6,15000]
[null,"409 SALUD TRUJILLO ESTE","RO","CAS","ASISTENCIAL",1834,"19415773","BAUTISTA YUPANQUI MAXIMINA","TECNICO EN ENFERMERIA","TECNICO","TECNICO",1,5,9170,1,6,11004]
[null,"409 SALUD TRUJILLO ESTE","RDR","CAS","ADMINISTRATIVO",930,"40474926","BELLINA VALVERDE CARLOS JOSE","DIGITADOR(A)","TECNICO","TECNICO",1,12,11160,1,6,5580]
[null,"409 SALUD TRUJILLO ESTE","RO","CAS","ASISTENCIAL",1150,"42393045","BENDEZU GAMBOA CINTHIA ROMY","ENFERMERA(O)","PROFESIONAL","TITULO  ",1,12,13800,1,6,6900]
[null,"409 SALUD TRUJILLO ESTE","RO","CAS","ADMINISTRATIVO",1200,"18068809","BENDEZU LOZADA LUIS ALFREDO","TRABAJADOR DE SERVICIO","AUXILIARES",null,1,2,2400,1,6,7200]
[null,"409 SALUD TRUJILLO ESTE","RDR","CAS","ADMINISTRATIVO",930,"18111893","BENDEZU VELASQUEZ MARCO ANTONIO","TRABAJADOR DE SERVICIO","AUXILIARES",null,1,12,11160,1,6,5580]
[null,"409 SALUD TRUJILLO ESTE","RO","CAS","ASISTENCIAL",5025,"41625583","BENITES DIAZ SAIRA ROSA","MEDICO","PROFESIONAL","TITULO  ",1,5,25125,1,6,30150]
[null,"409 SALUD TRUJILLO ESTE","RO","CAS","ASISTENCIAL",2689,"40993925","BENITES GONZALEZ AMADEO MARTIN","ENFERMERA(O)","PROFESIONAL","TITULO  ",1,5,13445,1,6,16134]
[null,"409 SALUD TRUJILLO ESTE","RO","CAS","ASISTENCIAL",1800,"42728334","BENITES GUTIERREZ FLOR NATALY","TECNICO EN ENFERMERIA","TECNICO","TECNICO",1,5,9000,1,6,10800]
[null,"409 SALUD TRUJILLO ESTE","RO","CAS","ADMINISTRATIVO",1500,"40387229","BERMUDEZ ZARATE ROCIO DEL PILAR","CONTADOR PUBLICO","PROFESIONAL","TITULO  ",1,12,18000,1,6,9000]
[null,"409 SALUD TRUJILLO ESTE","RO","CAS","ADMINISTRATIVO",1500,"72892693","BLAS AVALOS EDSON GIANCARLO","TRABAJADOR DE SERVICIO","AUXILIARES",null,1,5,7500,1,6,9000]
[null,"409 SALUD TRUJILLO ESTE","RO","CAS","ASISTENCIAL",1500,"44379848","BLAS EVANGELISTA ROSA MILAGROS","ENFERMERA(O)","PROFESIONAL","TITULO  ",1,12,18000,1,6,9000]
[null,"409 SALUD TRUJILLO ESTE","RO","CAS","ADMINISTRATIVO",1300,"71031016","BLAS FLORES CARLOS JONATHAN","TECNICO ADMINISTRATIVO","TECNICO","TECNICO",1,2,2600,1,6,7800]
[null,"409 SALUD TRUJILLO ESTE","RO","CAS","ASISTENCIAL",1900,"44553114","BOBADILLA TORRES KAREM ROXANA","PSICOLOGO(A)","PROFESIONAL","TITULO  ",1,5,9500,1,6,11400]
[null,"409 SALUD TRUJILLO ESTE","RO","CAS","ASISTENCIAL",1700,"44153763","BRAVO CRUZ ROSALIA","ENFERMERA(O)","PROFESIONAL","TITULO  ",1,12,20400,1,6,10200]
[null,"409 SALUD TRUJILLO ESTE","RO","CAS","ASISTENCIAL",1000,"80360527","BURGOS RODRIGUEZ JORGE LUIS","CHOFER","AUXILIARES",null,1,12,12000,1,6,6000]
[null,"409 SALUD TRUJILLO ESTE","RO","CAS","ASISTENCIAL",1200,"17927275","BURGOS TOMAS SEGUNDA SUSANA","TECNICO EN ENFERMERIA","TECNICO","TECNICO",1,12,14400,1,6,7200]
[null,"409 SALUD TRUJILLO ESTE","RO","CAS","ASISTENCIAL",1800,"44652667","CABRERA LUJAN LUZMILA FREDESVINDA","ENFERMERA(O)","PROFESIONAL","TITULO  ",1,2,3600,1,6,10800]
[null,"409 SALUD TRUJILLO ESTE","RO","CAS","ASISTENCIAL",1800,"42864139","CAJO PEREZ CARITO MARILIN","PSICOLOGO(A)","PROFESIONAL","TITULO  ",1,2,3600,1,6,10800]
[null,"409 SALUD TRUJILLO ESTE","RO","CAS","ASISTENCIAL",1800,"40443588","CAJO PEREZ CARMEN DOMINGA","ENFERMERA(O)","PROFESIONAL","TITULO  ",1,2,3600,1,6,10800]
[null,"409 SALUD TRUJILLO ESTE","RO","CAS","ASISTENCIAL",1100,"18123195","CALDERON RODRIGUEZ JESUS MANUEL","CHOFER","AUXILIARES",null,1,12,13200,1,6,6600]
[null,"409 SALUD TRUJILLO ESTE","RO","CAS","ADMINISTRATIVO",930,"02652338","CALDERON VARGAS JORGE ARNALDO","TRABAJADOR DE SERVICIO","AUXILIARES",null,1,12,11160,1,6,5580]
[null,"409 SALUD TRUJILLO ESTE","RO","CAS","ASISTENCIAL",1200,"40847392","CALERO GOMEZ TERESA GIULIANA","TECNICO OPERADOR DE EQUIPOS ME","TECNICO","TECNICO",1,12,14400,1,6,7200]
[null,"409 SALUD TRUJILLO ESTE","RO","CAS","ASISTENCIAL",1800,"43191548","CAMACHO MARIN CAROL JANET","PSICOLOGO(A)","PROFESIONAL","TITULO  ",1,2,3600,1,6,10800]
[null,"409 SALUD TRUJILLO ESTE","RO","CAS","ASISTENCIAL",1500,"47681018","CAMACHO RUIZ ERIKA MELISSA","OBSTETRA","PROFESIONAL","TITULO  ",1,12,18000,1,6,9000]
[null,"409 SALUD TRUJILLO ESTE","RO","CAS","ASISTENCIAL",1800,"40034893","CAMPOS MAZA JUDITH ELIZABET","ENFERMERA(O)","PROFESIONAL","TITULO  ",1,2,3600,1,6,10800]
[null,"409 SALUD TRUJILLO ESTE","RO","CAS","ASISTENCIAL",8000,"42762977","CANCHUCAJA BONARRIBA LUCIA VICTORIA","MEDICO PSIQUIATRA","PROFESIONAL","TITULO  ",1,2,16000,1,6,48000]
[null,"409 SALUD TRUJILLO ESTE","RDR","CAS","ADMINISTRATIVO",1100,"18077611","CAPRISTAN GANOZA ANDRES MARTIN","TRABAJADOR DE SERVICIO","AUXILIARES",null,1,12,{"$f":"F4433*M4433","v":13200},1,6,{"$f":"F4433*P4433","v":6600}]
[null,"409 SALUD TRUJILLO ESTE","RDR","CAS","ADMINISTRATIVO",1000,"09427970","CARBAJAL PUMAMANGO DE CRUZ ROSA ELENA","TRABAJADOR DE SERVICIO","AUXILIARES",null,1,12,12000,1,6,6000]
[null,"409 SALUD TRUJILLO ESTE","RO","CAS","ASISTENCIAL",1300,"45868603","CARDENAS ARGOMEDO DE LOPEZ JURIKA OLENKA","TECNICO EN REHABIL. Y FISIOT.","TECNICO","TECNICO",1,2,2600,1,6,7800]
[null,"409 SALUD TRUJILLO ESTE","RO","CAS","ASISTENCIAL",1800,"46895544","CARDENAS BUSTAMANTE ROCIO ANALY","ENFERMERA(O)","PROFESIONAL","TITULO  ",1,2,3600,1,6,10800]
[null,"409 SALUD TRUJILLO ESTE","RO","CAS","ASISTENCIAL",1800,"42137243","CARLOS ESQUIVEL ENMA MELISSA","TECNICO EN ENFERMERIA","TECNICO","TECNICO",1,5,9000,1,6,10800]
[null,"409 SALUD TRUJILLO ESTE","RDR","CAS","ASISTENCIAL",1200,"19047626","CARRANZA RAMIREZ JUAN ADRIAN","CHOFER","AUXILIARES",null,1,12,14400,1,6,7200]
[null,"409 SALUD TRUJILLO ESTE","RDR","CAS","ADMINISTRATIVO",930,"40154885","CASAMAYOR LEON JHARCINIO ROSELI","DIGITADOR(A)","TECNICO","TECNICO",1,12,11160,1,6,5580]
[null,"409 SALUD TRUJILLO ESTE","RO","CAS","ASISTENCIAL",6500,"40948642","CASTAGNOLA SANCHEZ SOFIA ELENA","MEDICO","PROFESIONAL","TITULO  ",1,5,32500,1,6,39000]
[null,"409 SALUD TRUJILLO ESTE","RO","CAS","ASISTENCIAL",1800,"41377352","CASTAÑEDA AVALOS MARGARITA DEL ROCIO","PSICOLOGO(A)","PROFESIONAL","TITULO  ",1,2,3600,1,6,10800]
[null,"409 SALUD TRUJILLO ESTE","RDR","CAS","ADMINISTRATIVO",1000,"40886242","CASTAÑEDA MARIÑOS SILVIA VERONICA","CAJERO","TECNICO","TECNICO",1,12,12000,1,6,6000]
[null,"409 SALUD TRUJILLO ESTE","RDR","CAS","ADMINISTRATIVO",930,"43076901","CASTILLO DONAYRE NELLY ARACELLY","DIGITADOR(A)","TECNICO","TECNICO",1,12,11160,1,6,5580]
[null,"409 SALUD TRUJILLO ESTE","RDR","CAS","ADMINISTRATIVO",1000,"43073228","CASTILLO DONAYRE SILVIA MILAGROS","CAJERO","TECNICO","TECNICO",1,12,12000,1,6,6000]
[null,"409 SALUD TRUJILLO ESTE","RO","CAS","ASISTENCIAL",1500,"46179714","CASTILLO GRADOS JESSICA ELIZABETH","ENFERMERA(O)","PROFESIONAL","TITULO  ",1,12,18000,1,6,9000]
[null,"409 SALUD TRUJILLO ESTE","RO","CAS","ASISTENCIAL",1500,"42984595","CASTILLO LEON CARLOS ALBERTO","BIOLOGO(A)","PROFESIONAL","TITULO  ",1,12,18000,1,6,9000]
[null,"409 SALUD TRUJILLO ESTE","RO","CAS","ASISTENCIAL",1200,"40644442","CASTILLO PRETEL SANDY","TECNICO EN LABORATORIO","TECNICO","TECNICO",1,12,14400,1,6,7200]
[null,"409 SALUD TRUJILLO ESTE","RO","CAS","ADMINISTRATIVO",1200,"42460009","CASTRAT YBACETA JOSE FELIPE","TECNICO ADMINISTRATIVO","TECNICO","TECNICO",1,12,14400,1,6,7200]
[null,"409 SALUD TRUJILLO ESTE","RO","CAS","ADMINISTRATIVO",2000,"19096036","CASTRO RODRIGUEZ MAX LEOVIGILDO","TECNICO ADMINISTRATIVO","TECNICO","TECNICO",1,12,24000,1,6,12000]
[null,"409 SALUD TRUJILLO ESTE","RDR","CAS","ADMINISTRATIVO",930,"80309933","CENAS ANGULO ALIN KEVIN","TECNICO EN MANTENIMIENTO EQUIP","TECNICO","TECNICO",1,12,11160,1,6,5580]
[null,"409 SALUD TRUJILLO ESTE","RO","CAS","ASISTENCIAL",1000,"41270389","CERNA ALFARO YNGRID VANESSA","TECNICO EN ENFERMERIA","TECNICO","TECNICO",1,12,12000,1,6,6000]
[null,"409 SALUD TRUJILLO ESTE","RO","CAS","ADMINISTRATIVO",1000,"42913691","CERNA FLORES MAGALI ARACELI","DIGITADOR(A)","TECNICO","TECNICO",1,12,12000,1,6,6000]
[null,"409 SALUD TRUJILLO ESTE","RO","CAS","ASISTENCIAL",1834,"43668448","CESPEDES LINARES ROXANA JANETH","TECNICO EN ENFERMERIA","TECNICO","TECNICO",1,5,9170,1,6,11004]
[null,"409 SALUD TRUJILLO ESTE","RDR","CAS","ADMINISTRATIVO",930,"25610294","CHAVESTA VITE MANUEL DANIEL","TRABAJADOR DE SERVICIO","AUXILIARES",null,1,12,11160,1,6,5580]
[null,"409 SALUD TRUJILLO ESTE","RDR","CAS","ADMINISTRATIVO",930,"41802123","CHAVEZ BRICEÑO JORGE ALEJANDRO","TRABAJADOR DE SERVICIO","AUXILIARES",null,1,12,11160,1,6,5580]
[null,"409 SALUD TRUJILLO ESTE","RO","CAS","ASISTENCIAL",2689,"44556360","CHAVEZ CARDENAS ESTHER NOEMI","ENFERMERA(O)","PROFESIONAL","TITULO  ",1,5,13445,1,6,16134]
[null,"409 SALUD TRUJILLO ESTE","RO","CAS","ADMINISTRATIVO",1000,"18847507","CHAVEZ FERNANDEZ LUIS ALBERTO","TECNICO EN MANTENIMIENTO EQUIP","TECNICO","TECNICO",1,12,12000,1,6,6000]
[null,"409 SALUD TRUJILLO ESTE","RO","CAS","ASISTENCIAL",1834,"43388913","CHAVEZ GARCIA SARITA FLORINDA","TECNICO EN ENFERMERIA","TECNICO","TECNICO",1,5,9170,1,6,11004]
[null,"409 SALUD TRUJILLO ESTE","RO","CAS","ASISTENCIAL",1600,"18163387","CHAVEZ GAYTAN CARMELA","OBSTETRA","PROFESIONAL","TITULO  ",1,12,19200,1,6,9600]
[null,"409 SALUD TRUJILLO ESTE","RDR","CAS","ADMINISTRATIVO",930,"44496642","CHAVEZ GUTIERREZ ANTHONY ROGGER","TRABAJADOR DE SERVICIO","AUXILIARES",null,1,12,11160,1,6,5580]
[null,"409 SALUD TRUJILLO ESTE","RO","CAS","ASISTENCIAL",2500,"44809675","CHAVEZ JULCA NOEMI ELIZABETH","ENFERMERA(O)","PROFESIONAL","TITULO  ",1,5,12500,1,6,15000]
[null,"409 SALUD TRUJILLO ESTE","RO","CAS","ASISTENCIAL",2500,"47124504","CHAVEZ ROMERO CINTHYA PAMELA","PSICOLOGO(A)","PROFESIONAL","TITULO  ",1,5,12500,1,6,15000]
[null,"409 SALUD TRUJILLO ESTE","RDR","CAS","ADMINISTRATIVO",1200,"46714565","CHUQUIHUANCA MERINO CARMEN DALILA","TECNICO ADMINISTRATIVO","TECNICO","TECNICO",1,12,14400,1,6,7200]
[null,"409 SALUD TRUJILLO ESTE","RO","CAS","ASISTENCIAL",1300,"42114181","CIEZA VIGIL LEILA MARLENI","TECNICO EN ENFERMERIA","TECNICO","TECNICO",1,2,2600,1,6,7800]
[null,"409 SALUD TRUJILLO ESTE","RO","CAS","ADMINISTRATIVO",930,"45720581","COBA QUIÑONES MARCO ANTONIO","TRABAJADOR DE SERVICIO","AUXILIARES",null,1,12,11160,1,6,5580]
[null,"409 SALUD TRUJILLO ESTE","RDR","CAS","ADMINISTRATIVO",1200,"18210881","CONTRERAS RODRIGUEZ ELMER GENARO","DIGITADOR(A)","TECNICO","TECNICO",1,12,14400,1,6,7200]
[null,"409 SALUD TRUJILLO ESTE","RO","CAS","ASISTENCIAL",1000,"45004169","CONTRERAS RODRIGUEZ ROCIO ROSMEL","TECNICO EN ENFERMERIA","TECNICO","TECNICO",1,12,12000,1,6,6000]
[null,"409 SALUD TRUJILLO ESTE","RO","CAS","ASISTENCIAL",1500,"42322792","CORCIO NUÑUVERO HENRY ELVIS","QUIMICO FARMACEUTICO","PROFESIONAL","TITULO  ",1,12,18000,1,6,9000]
[null,"409 SALUD TRUJILLO ESTE","RO","CAS","ASISTENCIAL",1200,"46219059","CORDOVA CASTILLO ALBERTO PATRICIO","CHOFER","AUXILIARES",null,1,12,14400,1,6,7200]
[null,"409 SALUD TRUJILLO ESTE","RO","CAS","ASISTENCIAL",1800,"45453937","CORREA GONZALES JUDITH RAQUEL","ENFERMERA(O)","PROFESIONAL","TITULO  ",1,2,3600,1,6,10800]
[null,"409 SALUD TRUJILLO ESTE","RO","CAS","ASISTENCIAL",1900,"42806983","CRUZ CASTILLO GEILY JUDITH","PSICOLOGO(A)","PROFESIONAL","TITULO  ",1,5,9500,1,6,11400]
[null,"409 SALUD TRUJILLO ESTE","RO","CAS","ASISTENCIAL",1800,"46679734","CRUZ GERMAN MERCY YANINA","TECNICO EN FARMACIA","TECNICO","TECNICO",1,5,9000,1,6,10800]
[null,"409 SALUD TRUJILLO ESTE","RDR","CAS","ASISTENCIAL",1150,"70252409","CRUZ LOZANO HILDA MARYLIN EDITH","ENFERMERA(O)","PROFESIONAL","TITULO  ",1,12,13800,1,6,6900]
[null,"409 SALUD TRUJILLO ESTE","RO","CAS","ASISTENCIAL",2500,"41078482","CRUZ SEGURA MARIANA IRA","TRABAJADORA SOCIAL","PROFESIONAL","TITULO  ",1,5,12500,1,6,15000]
[null,"409 SALUD TRUJILLO ESTE","RDR","CAS","ADMINISTRATIVO",1100,"18166110","CRUZADO CAVERO ELMER JOSE","TRABAJADOR DE SERVICIO","AUXILIARES",null,1,12,13200,1,6,6600]
[null,"409 SALUD TRUJILLO ESTE","RO","CAS","ADMINISTRATIVO",930,"40739028","CRUZADO VALLEJO JUAN FRANCISCO","TRABAJADOR DE SERVICIO","AUXILIARES",null,1,12,11160,1,6,5580]
[null,"409 SALUD TRUJILLO ESTE","RO","CAS","ASISTENCIAL",1834,"41292708","CUEVA AGUILAR FANNY CANDELARIA","TECNICO EN ENFERMERIA","TECNICO","TECNICO",1,5,9170,1,6,11004]
[null,"409 SALUD TRUJILLO ESTE","RDR","CAS","ASISTENCIAL",1500,"42994742","CUEVA CASTILLO PATRICIA ALEJANDRA","NUTRICIONISTA","PROFESIONAL","TITULO  ",1,12,18000,1,6,9000]
[null,"409 SALUD TRUJILLO ESTE","RO","CAS","ASISTENCIAL",1300,"43198479","DAVALOS CENTURION ILDA ROSMERI","TECNICO EN REHABIL. Y FISIOT.","TECNICO","TECNICO",1,2,2600,1,6,7800]
[null,"409 SALUD TRUJILLO ESTE","RO","CAS","ADMINISTRATIVO",930,"10240703","DE LA CRUZ MOLINA CATERINA","TRABAJADOR DE SERVICIO","AUXILIARES",null,1,12,11160,1,6,5580]
[null,"409 SALUD TRUJILLO ESTE","RDR","CAS","ADMINISTRATIVO",930,"17917340","DE LA CRUZ ZAVALETA INES DEL CARMEN","TRABAJADOR DE SERVICIO","AUXILIARES",null,1,12,11160,1,6,5580]
[null,"409 SALUD TRUJILLO ESTE","RO","CAS","ADMINISTRATIVO",1000,"19188986","DIAZ ALVITRES SEGISMUNDO PORFIRIO","CAJERO","TECNICO","TECNICO",1,12,12000,1,6,6000]
[null,"409 SALUD TRUJILLO ESTE","RO","CAS","ASISTENCIAL",1000,"41729945","DIAZ ALVITRES SEGUNDO ALEXANDER","TECNICO EN ENFERMERIA","TECNICO","TECNICO",1,12,12000,1,6,6000]
[null,"409 SALUD TRUJILLO ESTE","RO","CAS","ASISTENCIAL",1834,"47503792","DIAZ BENITES ROSA ELENA","TECNICO EN ENFERMERIA","TECNICO","TECNICO",1,5,9170,1,6,11004]
[null,"409 SALUD TRUJILLO ESTE","RO","CAS","ADMINISTRATIVO",1200,"45482404","DIAZ CASTILLO IRVIN IVAN","DIGITADOR(A)","TECNICO","TECNICO",1,12,14400,1,6,7200]
[null,"409 SALUD TRUJILLO ESTE","RO","CAS","ADMINISTRATIVO",1200,"43793337","DIAZ CASTILLO MERLLY ELIZABET","SECRETARIA","TECNICO","TECNICO",1,12,14400,1,6,7200]
[null,"409 SALUD TRUJILLO ESTE","RO","CAS","ASISTENCIAL",1500,"18220478","DIAZ PAREDES DORIS ALICIA","BIOLOGO(A)","PROFESIONAL","TITULO  ",1,12,18000,1,6,9000]
[null,"409 SALUD TRUJILLO ESTE","RO","CAS","ASISTENCIAL",1800,"44702439","DIAZ ROJAS MELISSA MERCEDES","ENFERMERA(O)","PROFESIONAL","TITULO  ",1,2,3600,1,6,10800]
[null,"409 SALUD TRUJILLO ESTE","RO","CAS","ASISTENCIAL",1900,"45224372","ENRIQUEZ JOTA KATERYNE GUIBELL","PSICOLOGO(A)","PROFESIONAL","TITULO  ",1,5,9500,1,6,11400]
[null,"409 SALUD TRUJILLO ESTE","RO","CAS","ASISTENCIAL",1200,"45213217","EPIQUEN MERINO MARIELA","TECNICO EN ENFERMERIA","TECNICO","TECNICO",1,12,14400,1,6,7200]
[null,"409 SALUD TRUJILLO ESTE","RO","CAS","ASISTENCIAL",1834,"45924058","ESCOBEDO REYES DEYSI MARIBEL","TECNICO EN ENFERMERIA","TECNICO","TECNICO",1,5,9170,1,6,11004]
[null,"409 SALUD TRUJILLO ESTE","RO","CAS","ASISTENCIAL",1800,"44057697","ESCOBEDO RODRIGUEZ SHEYLA LAURA","PSICOLOGO(A)","PROFESIONAL","TITULO  ",1,2,3600,1,6,10800]
[null,"409 SALUD TRUJILLO ESTE","RDR","CAS","ASISTENCIAL",1500,"43303261","ESPINOLA AGUIRRE RUBI JACKELINE","BIOLOGO(A)","PROFESIONAL","TITULO  ",1,12,18000,1,6,9000]
[null,"409 SALUD TRUJILLO ESTE","RO","CAS","ASISTENCIAL",1500,"45436278","ESPINOZA CASTILLO KARINA YESSENIA","ENFERMERA(O)","PROFESIONAL","TITULO  ",1,12,18000,1,6,9000]
[null,"409 SALUD TRUJILLO ESTE","RO","CAS","ADMINISTRATIVO",1000,"18210134","ESPINOZA URCIA MILAGROS ELIZABETH","DIGITADOR(A)","TECNICO","TECNICO",1,12,12000,1,6,6000]
[null,"409 SALUD TRUJILLO ESTE","RO","CAS","ASISTENCIAL",2689,"45898607","ESQUIVEL CHAVEZ HELEN SUSY","ENFERMERA(O)","PROFESIONAL","TITULO  ",1,5,13445,1,6,16134]
[null,"409 SALUD TRUJILLO ESTE","RO","CAS","ASISTENCIAL",2097,"40406184","ESTRADA HAYA SANDRA BELEN","TECNICO EN LABORATORIO","TECNICO","TECNICO",1,5,{"$f":"F4497*M4497","v":10485},1,6,{"$f":"F4497*P4497","v":12582}]
[null,"409 SALUD TRUJILLO ESTE","RO","CAS","ASISTENCIAL",1300,"17814305","FARFAN MAROCHO ILDA","TECNICO EN REHABIL. Y FISIOT.","TECNICO","TECNICO",1,2,2600,1,6,7800]
[null,"409 SALUD TRUJILLO ESTE","RO","CAS","ASISTENCIAL",1800,"43304307","FARRO GOICOCHEA JOEL OLIVER","TECNICO EN FARMACIA","TECNICO","TECNICO",1,5,9000,1,6,10800]
[null,"409 SALUD TRUJILLO ESTE","RDR","CAS","ADMINISTRATIVO",1000,"42444871","FERNANDEZ PONCE LYNDA JOHANNA","CAJERO","TECNICO","TECNICO",1,12,12000,1,6,6000]
[null,"409 SALUD TRUJILLO ESTE","RO","CAS","ASISTENCIAL",1500,"42843527","FERNANDEZ SEGURA OSCAR JAVIER","ODONTOLOGO(A)","PROFESIONAL","TITULO  ",1,12,18000,1,6,9000]
[null,"409 SALUD TRUJILLO ESTE","RDR","CAS","ADMINISTRATIVO",930,"17945838","FLOREANO MESA TONI SANTIAGO","TRABAJADOR DE SERVICIO","AUXILIARES",null,1,12,11160,1,6,5580]
[null,"409 SALUD TRUJILLO ESTE","RO","CAS","ASISTENCIAL",1300,"41393828","FLORES CAMPOS PATRICIA RAQUEL","TECNICO EN ENFERMERIA","TECNICO","TECNICO",1,2,2600,1,6,7800]
[null,"409 SALUD TRUJILLO ESTE","RDR","CAS","ASISTENCIAL",1200,"18113391","FLORES CARRANZA TITO YHONG","CHOFER","AUXILIARES",null,1,12,14400,1,6,7200]
[null,"409 SALUD TRUJILLO ESTE","RO","CAS","ASISTENCIAL",1200,"80560914","GABRIEL AGUILAR DORALIZA DETIL","TECNICO EN FARMACIA","TECNICO","TECNICO",1,12,14400,1,6,7200]
[null,"409 SALUD TRUJILLO ESTE","RO","CAS","ASISTENCIAL",2500,"32911740","GALVEZ VILLANUEVA VIOLETA DEL ROSARIO","PSICOLOGO(A)","PROFESIONAL","TITULO  ",1,5,12500,1,6,15000]
[null,"409 SALUD TRUJILLO ESTE","RO","CAS","ADMINISTRATIVO",1200,"44656093","GAMBOA SANCHEZ BRICNERY ABDIA","DIGITADOR(A)","TECNICO","TECNICO",1,12,14400,1,6,7200]
[null,"409 SALUD TRUJILLO ESTE","RO","CAS","ASISTENCIAL",1800,"45722234","GARCIA CARRANZA CATHARINE OLENKA","PSICOLOGO(A)","PROFESIONAL","TITULO  ",1,2,3600,1,6,10800]
[null,"409 SALUD TRUJILLO ESTE","RO","CAS","ADMINISTRATIVO",1200,"18179072","GARCIA CISNEROS IRMA","TRABAJADOR DE SERVICIO","AUXILIARES",null,1,12,14400,1,6,7200]
[null,"409 SALUD TRUJILLO ESTE","RDR","CAS","ADMINISTRATIVO",1000,"18159884","GARCIA GUEVARA MAXIMILIANO","LICENCIADO EN ADMINISTRACION","PROFESIONAL","TITULO  ",1,12,12000,1,6,6000]
[null,"409 SALUD TRUJILLO ESTE","RO","CAS","ASISTENCIAL",1500,"44436043","GARCIA JUNES ELI LORENA","ODONTOLOGO(A)","PROFESIONAL","TITULO  ",1,12,18000,1,6,9000]
[null,"409 SALUD TRUJILLO ESTE","RDR","CAS","ASISTENCIAL",1500,"80492780","GARCIA LEON HUGO JOHANN","BIOLOGO(A)","PROFESIONAL","TITULO  ",1,12,18000,1,6,9000]
[null,"409 SALUD TRUJILLO ESTE","RO","CAS","ASISTENCIAL",1500,"44756271","GARCIA PAREDES NORMA KARIN","ENFERMERA(O)","PROFESIONAL","TITULO  ",1,12,18000,1,6,9000]
[null,"409 SALUD TRUJILLO ESTE","RO","CAS","ASISTENCIAL",2500,"72287576","GARCIA PINTO GREYSY PATRICIA","TECNOLOGO MEDICO","TECNICO","TECNICO",1,5,12500,1,6,15000]
[null,"409 SALUD TRUJILLO ESTE","RO","CAS","ADMINISTRATIVO",1000,"44017776","GARCIA VEGA EDWIN MANUEL","CAJERO","TECNICO","TECNICO",1,12,12000,1,6,6000]
[null,"409 SALUD TRUJILLO ESTE","RO","CAS","ASISTENCIAL",2500,"43084850","GARCIA VEGA LUCIA VICTORIA","QUIMICO FARMACEUTICO","PROFESIONAL","TITULO  ",1,5,12500,1,6,15000]
[null,"409 SALUD TRUJILLO ESTE","RO","CAS","ASISTENCIAL",2500,"71284181","GARCIA VEGA SANDRA JANET","ENFERMERA(O)","PROFESIONAL","TITULO  ",1,5,12500,1,6,15000]
[null,"409 SALUD TRUJILLO ESTE","RO","CAS","ASISTENCIAL",2500,"45745952","GARCIA VENTURA KAREN","ENFERMERA(O)","PROFESIONAL","TITULO  ",1,5,12500,1,6,15000]
[null,"409 SALUD TRUJILLO ESTE","RO","CAS","ASISTENCIAL",1800,"46214536","GOICOCHEA MAURICIO YANET LISSET","ENFERMERA(O)","PROFESIONAL","TITULO  ",1,2,3600,1,6,10800]
[null,"409 SALUD TRUJILLO ESTE","RO","CAS","ASISTENCIAL",1800,"40844999","GOMEZ CALDAS DEYSI NOEMI","PSICOLOGO(A)","PROFESIONAL","TITULO  ",1,2,3600,1,6,10800]
[null,"409 SALUD TRUJILLO ESTE","RO","CAS","ASISTENCIAL",1200,"44239331","GONZALES AMAYA YERSON ANDRES","CHOFER","AUXILIARES",null,1,12,14400,1,6,7200]
[null,"409 SALUD TRUJILLO ESTE","RO","CAS","ASISTENCIAL",2500,"40532163","GONZALES LAZO KARLA VANESSA","TERAPISTA","TECNICO","TECNICO",1,5,12500,1,6,15000]
[null,"409 SALUD TRUJILLO ESTE","RO","CAS","ADMINISTRATIVO",1100,"43972368","GONZALES ORTEGA CHRISTIAN JOSE FRANK","TRABAJADOR DE SERVICIO","AUXILIARES",null,1,12,13200,1,6,6600]
[null,"409 SALUD TRUJILLO ESTE","RDR","CAS","ASISTENCIAL",3000,"43678510","GONZALES TORRES FRANCESCA CATHERINE","MEDICO","PROFESIONAL","TITULO  ",1,12,36000,1,6,18000]
[null,"409 SALUD TRUJILLO ESTE","RO","CAS","ADMINISTRATIVO",2000,"47177782","GONZALES TORRES MARIO DANIEL","TECNICO ADMINISTRATIVO","TECNICO","TECNICO",1,5,10000,1,6,12000]
[null,"409 SALUD TRUJILLO ESTE","RDR","CAS","ADMINISTRATIVO",930,"18213467","GONZALEZ GALVEZ PEDRO OMAR","DIGITADOR(A)","TECNICO","TECNICO",1,12,11160,1,6,5580]
[null,"409 SALUD TRUJILLO ESTE","RO","CAS","ASISTENCIAL",3500,"46566952","GONZALEZ SANCHEZ SANDRA BEATRIZ","MEDICO","PROFESIONAL","TITULO  ",1,12,42000,1,6,21000]
[null,"409 SALUD TRUJILLO ESTE","RO","CAS","ASISTENCIAL",1800,"18140331","GRACEY PUESCAS MARIANELLA BEATRIZ","PSICOLOGO(A)","PROFESIONAL","TITULO  ",1,2,3600,1,6,10800]
[null,"409 SALUD TRUJILLO ESTE","RO","CAS","ASISTENCIAL",1500,"44842440","GUERRA LOLOY BERTILDA","ENFERMERA(O)","PROFESIONAL","TITULO  ",1,12,18000,1,6,9000]
[null,"409 SALUD TRUJILLO ESTE","RO","CAS","ASISTENCIAL",1834,"00369441","GUERRERO CANALES MIRTHA ANNE","TECNICO EN ENFERMERIA","TECNICO","TECNICO",1,5,9170,1,6,11004]
[null,"409 SALUD TRUJILLO ESTE","RO","CAS","ASISTENCIAL",4000,"17974612","GUEVARA GUARNIZ DORA CARMELA","MEDICO","PROFESIONAL","TITULO  ",1,12,48000,1,6,24000]
[null,"409 SALUD TRUJILLO ESTE","RDR","CAS","ADMINISTRATIVO",930,"46183592","GUEVARA GUEVARA LUIS FERNANDO","TRABAJADOR DE SERVICIO","AUXILIARES",null,1,12,11160,1,6,5580]
[null,"409 SALUD TRUJILLO ESTE","RO","CAS","ADMINISTRATIVO",1300,"45234119","GUEVARA SIMON MIGUEL ANGEL","TECNICO ADMINISTRATIVO","TECNICO","TECNICO",1,2,2600,1,6,7800]
[null,"409 SALUD TRUJILLO ESTE","RO","CAS","ASISTENCIAL",2689,"42244563","GUEVARA SIMON YOLANDA NOEMI","ENFERMERA(O)","PROFESIONAL","TITULO  ",1,5,13445,1,6,16134]
[null,"409 SALUD TRUJILLO ESTE","RO","CAS","ADMINISTRATIVO",930,"43124575","GUTIERREZ CUBAS IVAN ISMAEL","TRABAJADOR DE SERVICIO","AUXILIARES",null,1,12,11160,1,6,5580]
[null,"409 SALUD TRUJILLO ESTE","RDR","CAS","ASISTENCIAL",3000,"42943887","GUTIERREZ GUTIERREZ DAVID","MEDICO","PROFESIONAL","TITULO  ",1,12,36000,1,6,18000]
[null,"409 SALUD TRUJILLO ESTE","RDR","CAS","ADMINISTRATIVO",1100,"46964018","GUTIERREZ HORNA STEFANY JHILEN","TRABAJADOR DE SERVICIO","AUXILIARES",null,1,12,13200,1,6,6600]
[null,"409 SALUD TRUJILLO ESTE","RO","CAS","ADMINISTRATIVO",930,"18151068","GUTIERREZ PASTOR JOSE PERCY","TRABAJADOR DE SERVICIO","AUXILIARES",null,1,12,11160,1,6,5580]
[null,"409 SALUD TRUJILLO ESTE","RO","CAS","ASISTENCIAL",2689,"42648974","GUTIERREZ SANCHEZ LUZ DEL CORE","ENFERMERA(O)","PROFESIONAL","TITULO  ",1,5,13445,1,6,16134]
[null,"409 SALUD TRUJILLO ESTE","RDR","CAS","ASISTENCIAL",3000,"40072560","HARO MENDOZA MILY VANESSA","MEDICO","PROFESIONAL","TITULO  ",1,12,36000,1,6,18000]
[null,"409 SALUD TRUJILLO ESTE","RO","CAS","ADMINISTRATIVO",1500,"40765831","HERMENEGILDO GONZALES REGINA DUVAL","CONTADOR PUBLICO","PROFESIONAL","TITULO  ",1,12,18000,1,6,9000]
[null,"409 SALUD TRUJILLO ESTE","RO","CAS","ASISTENCIAL",1500,"70389000","HERNANDEZ BOCANEGRA CARMEN CECILIA","ENFERMERA(O)","PROFESIONAL","TITULO  ",1,12,18000,1,6,9000]
[null,"409 SALUD TRUJILLO ESTE","RO","CAS","ASISTENCIAL",1834,"46625509","HERNANDEZ JUAREZ GUIDOBERTO","TECNICO EN ENFERMERIA","TECNICO","TECNICO",1,5,9170,1,6,11004]
[null,"409 SALUD TRUJILLO ESTE","RO","CAS","ADMINISTRATIVO",1200,"40278947","HONORES CHAVARRY DORIS ACELA","DIGITADOR(A)","TECNICO","TECNICO",1,12,14400,1,6,7200]
[null,"409 SALUD TRUJILLO ESTE","RO","CAS","ASISTENCIAL",1900,"41458534","HUAMAN CUBAS HECTOR LEIBNIZ","PSICOLOGO(A)","PROFESIONAL","TITULO  ",1,5,9500,1,6,11400]
[null,"409 SALUD TRUJILLO ESTE","RO","CAS","ASISTENCIAL",1834,"18028412","HUAMANCHAY CARBAJAL ELCY","TECNICO EN ENFERMERIA","TECNICO","TECNICO",1,5,9170,1,6,11004]
[null,"409 SALUD TRUJILLO ESTE","RO","CAS","ADMINISTRATIVO",1000,"40396328","HUARIPATA RUIZ RUTH CONSUELO","DIGITADOR(A)","TECNICO","TECNICO",1,12,12000,1,6,6000]
[null,"409 SALUD TRUJILLO ESTE","RO","CAS","ASISTENCIAL",1834,"42034848","HURTADO LUJAN LUZ KARINE","TECNICO EN ENFERMERIA","TECNICO","TECNICO",1,5,9170,1,6,11004]
[null,"409 SALUD TRUJILLO ESTE","RDR","CAS","ADMINISTRATIVO",1200,"18074885","HURTADO VALENCIA MIGUEL ANGEL","TECNICO ADMINISTRATIVO","TECNICO","TECNICO",1,12,14400,1,6,7200]
[null,"409 SALUD TRUJILLO ESTE","RO","CAS","ADMINISTRATIVO",930,"18185974","IBAÑEZ RODRIGUEZ JULIA ROXANA","DIGITADOR(A)","TECNICO","TECNICO",1,12,11160,1,6,5580]
[null,"409 SALUD TRUJILLO ESTE","RO","CAS","ASISTENCIAL",1300,"45711919","IPARRAGUIRRE GIRON ALEJANDRO ROMAN","TECNICO EN FARMACIA","TECNICO","TECNICO",1,2,2600,1,6,7800]
[null,"409 SALUD TRUJILLO ESTE","RO","CAS","ADMINISTRATIVO",2000,"43659368","JAVIEL VALVERDE JOB RAUL","TECNICO ADMINISTRATIVO","TECNICO","TECNICO",1,5,10000,1,6,12000]
[null,"409 SALUD TRUJILLO ESTE","RO","CAS","ASISTENCIAL",1000,"43101513","JIMENEZ AZABACHE DORIS MERCEDES","TECNICO EN ENFERMERIA","TECNICO","TECNICO",1,12,12000,1,6,6000]
[null,"409 SALUD TRUJILLO ESTE","RO","CAS","ASISTENCIAL",1500,"42034172","JIMENEZ LEON LILY FIORELLA","ENFERMERA(O)","PROFESIONAL","TITULO  ",1,12,18000,1,6,9000]
[null,"409 SALUD TRUJILLO ESTE","RO","CAS","ASISTENCIAL",2689,"19182925","LA TORRE VALDIVIESO ELOISA AMALIA","NUTRICIONISTA","PROFESIONAL","TITULO  ",1,5,13445,1,6,16134]
[null,"409 SALUD TRUJILLO ESTE","RDR","CAS","ASISTENCIAL",1000,"18108049","LANGLE LEYVA MERCEDES MONICA","TECNICO EN ENFERMERIA","TECNICO","TECNICO",1,12,12000,1,6,6000]
[null,"409 SALUD TRUJILLO ESTE","RO","CAS","ASISTENCIAL",1500,"32930496","LARA SAJAMI JOSEFINA LUZ","OBSTETRA","PROFESIONAL","TITULO  ",1,12,18000,1,6,9000]
[null,"409 SALUD TRUJILLO ESTE","RO","CAS","ASISTENCIAL",1000,"44441462","LATOCHE CONTRERAS ERADIA","TECNICO EN ENFERMERIA","TECNICO","TECNICO",1,12,12000,1,6,6000]
[null,"409 SALUD TRUJILLO ESTE","RO","CAS","ASISTENCIAL",1300,"47500687","LATOCHE CONTRERAS EYLI","TECNICO EN FARMACIA","TECNICO","TECNICO",1,2,2600,1,6,7800]
[null,"409 SALUD TRUJILLO ESTE","RO","CAS","ASISTENCIAL",2689,"43579084","LAURENTE MIRANDA VANESA ELIZABETH","ENFERMERA(O)","PROFESIONAL","TITULO  ",1,5,13445,1,6,16134]
[null,"409 SALUD TRUJILLO ESTE","RO","CAS","ASISTENCIAL",1500,"46606054","LAVADO LAZARO FRANSHESCA MADELEINE IVONNE","OBSTETRA","PROFESIONAL","TITULO  ",1,12,{"$f":"F4561*M4561","v":18000},1,6,{"$f":"F4561*P4561","v":9000}]
[null,"409 SALUD TRUJILLO ESTE","RO","CAS","ASISTENCIAL",1150,"45299059","LAZARO CALUA ANGELICA ROSSANA","ENFERMERA(O)","PROFESIONAL","TITULO  ",1,12,13800,1,6,6900]
[null,"409 SALUD TRUJILLO ESTE","RDR","CAS","ADMINISTRATIVO",1200,"23981336","LAZO PESANTES LUIS PERCY","CAJERO","TECNICO","TECNICO",1,12,14400,1,6,7200]
[null,"409 SALUD TRUJILLO ESTE","RDR","CAS","ADMINISTRATIVO",1100,"18835761","LEDESMA LOPEZ MARCOS MANUEL","TRABAJADOR DE SERVICIO","AUXILIARES",null,1,12,13200,1,6,6600]
[null,"409 SALUD TRUJILLO ESTE","RO","CAS","ASISTENCIAL",3500,"70449608","LEIVA CASTREJON LARRY KLEBERT","MEDICO","PROFESIONAL","TITULO  ",1,12,42000,1,6,21000]
[null,"409 SALUD TRUJILLO ESTE","RO","CAS","ASISTENCIAL",2689,"80340927","LEIVA MALCA GINA LIZSETH","ENFERMERA(O)","PROFESIONAL","TITULO  ",1,5,13445,1,6,16134]
[null,"409 SALUD TRUJILLO ESTE","RO","CAS","ASISTENCIAL",2689,"45526945","LEIVA VARAS DEYSI MARILLE","BIOLOGO(A)","PROFESIONAL","TITULO  ",1,5,13445,1,6,16134]
[null,"409 SALUD TRUJILLO ESTE","RDR","CAS","ASISTENCIAL",1200,"47545555","LEON ASTO RUY HERNANI","CHOFER","AUXILIARES",null,1,12,14400,1,6,7200]
[null,"409 SALUD TRUJILLO ESTE","RO","CAS","ASISTENCIAL",2500,"45236459","LEON MEDINA SANDRA CECILIA","PSICOLOGO(A)","PROFESIONAL","TITULO  ",1,5,12500,1,6,15000]
[null,"409 SALUD TRUJILLO ESTE","RO","CAS","ASISTENCIAL",1800,"18155901","LEYVA PAREDES FANNY LINDIEY","TECNICO EN ENFERMERIA","TECNICO","TECNICO",1,5,9000,1,6,10800]
[null,"409 SALUD TRUJILLO ESTE","RO","CAS","ASISTENCIAL",1500,"40728973","LINARES PANTA ROSSMERY ESTHER","NUTRICIONISTA","PROFESIONAL","TITULO  ",1,12,18000,1,6,9000]
[null,"409 SALUD TRUJILLO ESTE","RO","CAS","ASISTENCIAL",1800,"17628182","LIZARZABURU AGUINAGA ANA KARINA","PSICOLOGO(A)","PROFESIONAL","TITULO  ",1,2,3600,1,6,10800]
[null,"409 SALUD TRUJILLO ESTE","RO","CAS","ASISTENCIAL",1500,"18119078","LLAJARUNA CASTILLO DE CHAVEZ NANCY ROSMAY","OBSTETRA","PROFESIONAL","TITULO  ",1,12,18000,1,6,9000]
[null,"409 SALUD TRUJILLO ESTE","RDR","CAS","ADMINISTRATIVO",930,"18057215","LOPEZ . MONICA PATRICIA","TRABAJADOR DE SERVICIO","AUXILIARES",null,1,12,11160,1,6,5580]
[null,"409 SALUD TRUJILLO ESTE","RO","CAS","ASISTENCIAL",1300,"42855840","LOPEZ HUAMAN MARIA SOLEDAD","TECNICO EN FARMACIA","TECNICO","TECNICO",1,2,2600,1,6,7800]
[null,"409 SALUD TRUJILLO ESTE","RO","CAS","ADMINISTRATIVO",1500,"45448990","LOPEZ LOPEZ MIGUEL ALIPIO","TRABAJADOR DE SERVICIO","AUXILIARES",null,1,5,7500,1,6,9000]
[null,"409 SALUD TRUJILLO ESTE","RDR","CAS","ADMINISTRATIVO",930,"46741355","LOPEZ PACHERRES JIMY JOEL","DIGITADOR(A)","TECNICO","TECNICO",1,12,11160,1,6,5580]
[null,"409 SALUD TRUJILLO ESTE","RO","CAS","ADMINISTRATIVO",930,"15735778","LOPEZ RIOS AURISTELA","TRABAJADOR DE SERVICIO","AUXILIARES",null,1,12,11160,1,6,5580]
[null,"409 SALUD TRUJILLO ESTE","RO","CAS","ADMINISTRATIVO",1000,"47630120","LOPEZ RUBIO MARILYN LILIANA","DIGITADOR(A)","TECNICO","TECNICO",1,12,12000,1,6,6000]
[null,"409 SALUD TRUJILLO ESTE","RO","CAS","ADMINISTRATIVO",930,"42818807","LOPEZ VIGO PEDRO PABLO","TRABAJADOR DE SERVICIO","AUXILIARES",null,1,12,11160,1,6,5580]
[null,"409 SALUD TRUJILLO ESTE","RO","CAS","ASISTENCIAL",3000,"18204675","LOYAGA JULIAN TAYLON ROBERT","MEDICO","PROFESIONAL","TITULO  ",1,12,36000,1,6,18000]
[null,"409 SALUD TRUJILLO ESTE","RO","CAS","ASISTENCIAL",1800,"18150402","LOYOLA MARQUEZADO PATRICIA JUANITA","QUIMICO FARMACEUTICO","PROFESIONAL","TITULO  ",1,2,3600,1,6,10800]
[null,"409 SALUD TRUJILLO ESTE","RDR","CAS","ADMINISTRATIVO",930,"43653584","LOYOLA ORTECHO LUIS MIGUEL","TRABAJADOR DE SERVICIO","AUXILIARES",null,1,12,11160,1,6,5580]
[null,"409 SALUD TRUJILLO ESTE","RO","CAS","ADMINISTRATIVO",6000,"45709910","LOZADA RODRIGUEZ GUISSELLE PATRICIA","DIRECTOR EJECUTIVO","PROFESIONAL","TITULO  ",1,12,72000,1,6,36000]
[null,"409 SALUD TRUJILLO ESTE","RO","CAS","ADMINISTRATIVO",2500,"41444142","LOZANO PRADO JOSE CARLOS","INGENIERO DE SISTEMAS","PROFESIONAL","TITULO  ",1,12,30000,1,6,15000]
[null,"409 SALUD TRUJILLO ESTE","RO","CAS","ADMINISTRATIVO",930,"80638646","LOZANO SALAZAR CARLOS EDUARDO","TRABAJADOR DE SERVICIO","AUXILIARES",null,1,12,11160,1,6,5580]
[null,"409 SALUD TRUJILLO ESTE","RDR","CAS","ADMINISTRATIVO",930,"17979775","LOZANO TERAN RITA ELENA","TRABAJADOR DE SERVICIO","AUXILIARES",null,1,12,11160,1,6,5580]
[null,"409 SALUD TRUJILLO ESTE","RO","CAS","ASISTENCIAL",1500,"44643281","LUNA RODRIGUEZ ROXANA JACKELINE","ENFERMERA(O)","PROFESIONAL","TITULO  ",1,12,18000,1,6,9000]
[null,"409 SALUD TRUJILLO ESTE","RO","CAS","ASISTENCIAL",1200,"45772078","MACHUCA ALVA IRIS YOVANNY","TECNICO EN ENFERMERIA","TECNICO","TECNICO",1,12,14400,1,6,7200]
[null,"409 SALUD TRUJILLO ESTE","RO","CAS","ADMINISTRATIVO",930,"40330388","MANTILLA PEREDA EBER ALEXHANDER","TRABAJADOR DE SERVICIO","AUXILIARES",null,1,12,11160,1,6,5580]
[null,"409 SALUD TRUJILLO ESTE","RO","CAS","ASISTENCIAL",1500,"44613086","MARIÑOS MORENO KARINA JACQUELINE","ENFERMERA(O)","PROFESIONAL","TITULO  ",1,12,18000,1,6,9000]
[null,"409 SALUD TRUJILLO ESTE","RO","CAS","ASISTENCIAL",1500,"43799709","MARQUINA INFANTES NATALIE STEFFANY","ENFERMERA(O)","PROFESIONAL","TITULO  ",1,12,18000,1,6,9000]
[null,"409 SALUD TRUJILLO ESTE","RO","CAS","ADMINISTRATIVO",1000,"42605060","MARTINEZ ABANTO LUIS CERMANDO","CAJERO","TECNICO","TECNICO",1,12,12000,1,6,6000]
[null,"409 SALUD TRUJILLO ESTE","RO","CAS","ASISTENCIAL",1500,"19083605","MARTINEZ ASMAD MANUEL AUGUSTO","ODONTOLOGO(A)","PROFESIONAL","TITULO  ",1,12,18000,1,6,9000]
[null,"409 SALUD TRUJILLO ESTE","RO","CAS","ADMINISTRATIVO",1000,"44552454","MAURICIO ARAUJO JUAN NICOLAS","DIGITADOR(A)","TECNICO","TECNICO",1,12,12000,1,6,6000]
[null,"409 SALUD TRUJILLO ESTE","RDR","CAS","ADMINISTRATIVO",1000,"72257163","MAURICIO ARAUJO VICTOR MANUEL","CAJERO","TECNICO","TECNICO",1,12,12000,1,6,6000]
[null,"409 SALUD TRUJILLO ESTE","RO","CAS","ASISTENCIAL",1800,"43643810","MEDINA PLASENCIA JHANNISE FIORELLA","ENFERMERA(O)","PROFESIONAL","TITULO  ",1,2,3600,1,6,10800]
[null,"409 SALUD TRUJILLO ESTE","RO","CAS","ASISTENCIAL",1300,"46624880","MEDINA RIVADENEIRA HILDA LISETH","TECNICO EN REHABIL. Y FISIOT.","TECNICO","TECNICO",1,2,2600,1,6,7800]
[null,"409 SALUD TRUJILLO ESTE","RO","CAS","ASISTENCIAL",2689,"43665139","MEGO REBAZA NATALI VANESA","ENFERMERA(O)","PROFESIONAL","TITULO  ",1,5,13445,1,6,16134]
[null,"409 SALUD TRUJILLO ESTE","RO","CAS","ADMINISTRATIVO",2000,"18217889","MELENDEZ JARA LEONIDAS ANIBAL","TECNICO ADMINISTRATIVO","TECNICO","TECNICO",1,5,10000,1,6,12000]
[null,"409 SALUD TRUJILLO ESTE","RO","CAS","ADMINISTRATIVO",930,"18120267","MELGAREJO BELTRAN KELLY MARIELA","TRABAJADOR DE SERVICIO","AUXILIARES",null,1,12,11160,1,6,5580]
[null,"409 SALUD TRUJILLO ESTE","RO","CAS","ASISTENCIAL",2689,"47899804","MENACHO RODRIGUEZ MARIA ELENA","ENFERMERA(O)","PROFESIONAL","TITULO  ",1,5,13445,1,6,16134]
[null,"409 SALUD TRUJILLO ESTE","RO","CAS","ASISTENCIAL",1800,"43996868","MENDEZ CASTAÑEDA CYNTHIA LISSETTE","TRABAJADORA SOCIAL","PROFESIONAL","TITULO  ",1,2,3600,1,6,10800]
[null,"409 SALUD TRUJILLO ESTE","RO","CAS","ASISTENCIAL",2500,"41381478","MENDOCILLA PINEDA SARA","ENFERMERA(O)","PROFESIONAL","TITULO  ",1,5,12500,1,6,15000]
[null,"409 SALUD TRUJILLO ESTE","RO","CAS","ADMINISTRATIVO",1000,"43172639","MENDOZA ANGULO IVONNE LIZET","DIGITADOR(A)","TECNICO","TECNICO",1,12,12000,1,6,6000]
[null,"409 SALUD TRUJILLO ESTE","RO","CAS","ASISTENCIAL",1500,"44558221","MENDOZA ESPINOZA FRECIA LIZET","ODONTOLOGO(A)","PROFESIONAL","TITULO  ",1,12,18000,1,6,9000]
[null,"409 SALUD TRUJILLO ESTE","RDR","CAS","ADMINISTRATIVO",1200,"43087806","MENDOZA EUSTAQUIO ROMMEL ALEXANDER","DIGITADOR(A)","TECNICO","TECNICO",1,12,14400,1,6,7200]
[null,"409 SALUD TRUJILLO ESTE","RDR","CAS","ADMINISTRATIVO",1500,"18196560","MENDOZA VARGAS TATIANA SEVERA","CONTADOR PUBLICO","PROFESIONAL","TITULO  ",1,12,18000,1,6,9000]
[null,"409 SALUD TRUJILLO ESTE","RO","CAS","ASISTENCIAL",1800,"46935485","MERA SIFUENTES ZILKA MERCEDES","ENFERMERA(O)","PROFESIONAL","TITULO  ",1,2,3600,1,6,10800]
[null,"409 SALUD TRUJILLO ESTE","RO","CAS","ASISTENCIAL",1000,"45455198","MESA ALVARADO YOBANA","TECNICO EN ENFERMERIA","TECNICO","TECNICO",1,12,12000,1,6,6000]
[null,"409 SALUD TRUJILLO ESTE","RDR","CAS","ADMINISTRATIVO",930,"18075776","MESTANZA POMATANTA MIGUEL JUAN","TRABAJADOR DE SERVICIO","AUXILIARES",null,1,12,11160,1,6,5580]
[null,"409 SALUD TRUJILLO ESTE","RO","CAS","ASISTENCIAL",3000,"45848740","MINCHOLA ALVAREZ VANESSA ALEJANDRA DEL PILAR","MEDICO","PROFESIONAL","TITULO  ",1,12,36000,1,6,18000]
[null,"409 SALUD TRUJILLO ESTE","RDR","CAS","ADMINISTRATIVO",1000,"41870788","MOLLEDA PALOMINO NEIL EDWIN","CAJERO","TECNICO","TECNICO",1,12,12000,1,6,6000]
[null,"409 SALUD TRUJILLO ESTE","RO","CAS","ASISTENCIAL",3000,"44659824","MORALES BAUTISTA MILELY JOHANA","MEDICO","PROFESIONAL","TITULO  ",1,12,36000,1,6,18000]
[null,"409 SALUD TRUJILLO ESTE","RO","CAS","ASISTENCIAL",1150,"41889889","MORENO LOZANO ROSMERY MAGALI","ENFERMERA(O)","PROFESIONAL","TITULO  ",1,12,13800,1,6,6900]
[null,"409 SALUD TRUJILLO ESTE","RO","CAS","ASISTENCIAL",3000,"43770606","MORENO PEREZ JOHNATAN ALEXANDER","MEDICO","PROFESIONAL","TITULO  ",1,12,36000,1,6,18000]
[null,"409 SALUD TRUJILLO ESTE","RO","CAS","ADMINISTRATIVO",2000,"43107566","MORENO ULLOA JORGE LUIS","TECNICO ADMINISTRATIVO","TECNICO","TECNICO",1,5,10000,1,6,12000]
[null,"409 SALUD TRUJILLO ESTE","RO","CAS","ASISTENCIAL",3000,"46454260","MORILLAS TERRONES IVANIA LORENA","MEDICO","PROFESIONAL","TITULO  ",1,12,36000,1,6,18000]
[null,"409 SALUD TRUJILLO ESTE","RDR","CAS","ASISTENCIAL",1600,"42692590","MORILLOS CARRASCO DIANA VIRGINIA","BIOLOGO(A)","PROFESIONAL","TITULO  ",1,12,19200,1,6,9600]
[null,"409 SALUD TRUJILLO ESTE","RDR","CAS","ADMINISTRATIVO",930,"17906626","MOYA MORENO MAINOR ORESTES","TRABAJADOR DE SERVICIO","AUXILIARES",null,1,12,11160,1,6,5580]
[null,"409 SALUD TRUJILLO ESTE","RDR","CAS","ADMINISTRATIVO",930,"40775566","MOYA PAREDES PERCY RONALD","TRABAJADOR DE SERVICIO","AUXILIARES",null,1,12,11160,1,6,5580]
[null,"409 SALUD TRUJILLO ESTE","RO","CAS","ASISTENCIAL",8000,"42278509","MOYA VEGA VICTOR RAUL","MEDICO PSIQUIATRA","PROFESIONAL","TITULO  ",1,5,40000,1,6,48000]
[null,"409 SALUD TRUJILLO ESTE","RO","CAS","ASISTENCIAL",1834,"40823625","MUNSIBAY RODRIGUEZ DEYSI ESTHER","TECNICO EN ENFERMERIA","TECNICO","TECNICO",1,5,9170,1,6,11004]
[null,"409 SALUD TRUJILLO ESTE","RO","CAS","ASISTENCIAL",8000,"41825436","MUÑOZ ARTEAGA ELIZABETH CAROLINA","MEDICO PSIQUIATRA","PROFESIONAL","TITULO  ",1,5,40000,1,6,48000]
[null,"409 SALUD TRUJILLO ESTE","RO","CAS","ASISTENCIAL",1600,"47162446","MUÑOZ BOCANEGRA STHEFANI LORENA","ENFERMERA(O)","PROFESIONAL","TITULO  ",1,12,{"$f":"F4625*M4625","v":19200},1,6,{"$f":"F4625*P4625","v":9600}]
[null,"409 SALUD TRUJILLO ESTE","RO","CAS","ASISTENCIAL",2500,"45816585","MUÑOZ ESCOBEDO DEYSI PAMELA","PSICOLOGO(A)","PROFESIONAL","TITULO  ",1,5,12500,1,6,15000]
[null,"409 SALUD TRUJILLO ESTE","RO","CAS","ASISTENCIAL",1834,"09880821","MUÑOZ GUTIERREZ CONSUELO DEL ALMA","TECNICO EN ENFERMERIA","TECNICO","TECNICO",1,5,9170,1,6,11004]
[null,"409 SALUD TRUJILLO ESTE","RO","CAS","ASISTENCIAL",2689,"46624364","MUÑOZ MATENCIO CYNTHIA MISHEL","ENFERMERA(O)","PROFESIONAL","TITULO  ",1,5,13445,1,6,16134]
[null,"409 SALUD TRUJILLO ESTE","RO","CAS","ASISTENCIAL",1300,"41509026","MUÑOZ MIRELES LUZ MARIA","TECNICO EN REHABIL. Y FISIOT.","TECNICO","TECNICO",1,2,2600,1,6,7800]
[null,"409 SALUD TRUJILLO ESTE","RO","CAS","ASISTENCIAL",1150,"18090309","MUÑOZ VILLARREAL MARISA GIULIANA","ENFERMERA(O)","PROFESIONAL","TITULO  ",1,12,13800,1,6,6900]
[null,"409 SALUD TRUJILLO ESTE","RO","CAS","ASISTENCIAL",2689,"42727242","NARRO ALVA MARICELA DEL PILAR","ENFERMERA(O)","PROFESIONAL","TITULO  ",1,5,13445,1,6,16134]
[null,"409 SALUD TRUJILLO ESTE","RO","CAS","ASISTENCIAL",1300,"46902304","NARRO QUEYPO FLOR MERLY","TECNICO EN REHABIL. Y FISIOT.","TECNICO","TECNICO",1,2,2600,1,6,7800]
[null,"409 SALUD TRUJILLO ESTE","RO","CAS","ADMINISTRATIVO",930,"80177247","NARVAEZ HONORIO SANTOS MARTHA","TRABAJADOR DE SERVICIO","AUXILIARES",null,1,12,11160,1,6,5580]
[null,"409 SALUD TRUJILLO ESTE","RDR","CAS","ASISTENCIAL",930,"18023805","NAVARRO CHERO MARCO ANTONIO","CHOFER","AUXILIARES",null,1,12,11160,1,6,5580]
[null,"409 SALUD TRUJILLO ESTE","RO","CAS","ADMINISTRATIVO",1000,"18098328","NEIRA CASTILLO PAUL MARTIN","TECNICO EN MANTENIMIENTO EQUIP","TECNICO","TECNICO",1,12,12000,1,6,6000]
[null,"409 SALUD TRUJILLO ESTE","RO","CAS","ASISTENCIAL",1834,"43891335","NEIRA RODRIGUEZ GLORIA","TECNICO EN ENFERMERIA","TECNICO","TECNICO",1,5,9170,1,6,11004]
[null,"409 SALUD TRUJILLO ESTE","RO","CAS","ASISTENCIAL",1300,"19092446","NEYRA MOZO ANITA","TECNICO EN FARMACIA","TECNICO","TECNICO",1,2,2600,1,6,7800]
[null,"409 SALUD TRUJILLO ESTE","RO","CAS","ASISTENCIAL",1500,"47502989","NICASIO SANCHEZ CONSUELO LILI","PSICOLOGO(A)","PROFESIONAL","TITULO  ",1,12,18000,1,6,9000]
[null,"409 SALUD TRUJILLO ESTE","RO","CAS","ADMINISTRATIVO",930,"18879506","NIEVES DE PAREDES NORA","TRABAJADOR DE SERVICIO","AUXILIARES",null,1,12,11160,1,6,5580]
[null,"409 SALUD TRUJILLO ESTE","RO","CAS","ASISTENCIAL",1834,"46242513","NINATANTA PLASENCIA DELIA VICTORIA","TECNICO EN ENFERMERIA","TECNICO","TECNICO",1,5,9170,1,6,11004]
[null,"409 SALUD TRUJILLO ESTE","RDR","CAS","ASISTENCIAL",1200,"18021176","NOLASCO CHAVEZ DANIEL TIMOTEO","CHOFER","AUXILIARES",null,1,12,14400,1,6,7200]
[null,"409 SALUD TRUJILLO ESTE","RO","CAS","ASISTENCIAL",1000,"45909923","NOMBERTO CARRANZA MILAGROS DEL CARMEN FLOR","TECNICO EN ENFERMERIA","TECNICO","TECNICO",1,12,12000,1,6,6000]
[null,"409 SALUD TRUJILLO ESTE","RO","CAS","ASISTENCIAL",1500,"45917237","ÑIQUE GARCIA LUCIA CAROLINA","ENFERMERA(O)","PROFESIONAL","TITULO  ",1,12,18000,1,6,9000]
[null,"409 SALUD TRUJILLO ESTE","RO","CAS","ASISTENCIAL",1150,"44255087","OBESO GUTIERREZ JUAN CARLOS","BIOLOGO(A)","PROFESIONAL","TITULO  ",1,12,13800,1,6,6900]
[null,"409 SALUD TRUJILLO ESTE","RDR","CAS","ASISTENCIAL",1200,"47049485","OBESO HORNA YUREYKA YUNELY","TECNICO EN LABORATORIO","TECNICO","TECNICO",1,12,14400,1,6,7200]
[null,"409 SALUD TRUJILLO ESTE","RDR","CAS","ADMINISTRATIVO",930,"17988165","OBLITAS DE PALMA OLGA AURA","TRABAJADOR DE SERVICIO","AUXILIARES",null,1,12,11160,1,6,5580]
[null,"409 SALUD TRUJILLO ESTE","RDR","CAS","ADMINISTRATIVO",930,"18861514","OCAÑA ALZA EGBERTO MIGUEL","VIGILANTE","AUXILIARES",null,1,12,11160,1,6,5580]
[null,"409 SALUD TRUJILLO ESTE","RO","CAS","ADMINISTRATIVO",1200,"43663936","OCAS LUICHO VALENTINA","TRABAJADOR DE SERVICIO","AUXILIARES",null,1,2,2400,1,6,7200]
[null,"409 SALUD TRUJILLO ESTE","RDR","CAS","ASISTENCIAL",3000,"41934462","ORTIZ CASTILLO JORGE ARTURO","MEDICO","PROFESIONAL","TITULO  ",1,12,36000,1,6,18000]
[null,"409 SALUD TRUJILLO ESTE","RO","CAS","ASISTENCIAL",2689,"46988404","ORTIZ DIAZ KELLY ELIZABETH","ENFERMERA(O)","PROFESIONAL","TITULO  ",1,5,13445,1,6,16134]
[null,"409 SALUD TRUJILLO ESTE","RDR","CAS","ASISTENCIAL",1200,"17960242","OTINIANO SANDOVAL WILMER FRANCISCO","CHOFER","AUXILIARES",null,1,12,14400,1,6,7200]
[null,"409 SALUD TRUJILLO ESTE","RDR","CAS","ADMINISTRATIVO",1100,"18218037","PADROS LUCAS FANNY ELIZABETH","DIGITADOR(A)","TECNICO","TECNICO",1,12,13200,1,6,6600]
[null,"409 SALUD TRUJILLO ESTE","RDR","CAS","ADMINISTRATIVO",1000,"47351475","PAIRAZAMAN NOMBERTO LESLIE IRIS","CAJERO","TECNICO","TECNICO",1,12,12000,1,6,6000]
[null,"409 SALUD TRUJILLO ESTE","RO","CAS","ASISTENCIAL",1500,"46862247","PALACIN CASTILLO LEYLA ELIZABETH","ENFERMERA(O)","PROFESIONAL","TITULO  ",1,12,18000,1,6,9000]
[null,"409 SALUD TRUJILLO ESTE","RO","CAS","ASISTENCIAL",1500,"43469443","PALMA ZARZOSA FIORELLA MEDALIT","NUTRICIONISTA","PROFESIONAL","TITULO  ",1,12,18000,1,6,9000]
[null,"409 SALUD TRUJILLO ESTE","RDR","CAS","ADMINISTRATIVO",1100,"47186359","PAREDES ALFARO JORGE ARMANDO","TRABAJADOR DE SERVICIO","AUXILIARES",null,1,12,13200,1,6,6600]
[null,"409 SALUD TRUJILLO ESTE","RO","CAS","ASISTENCIAL",1800,"46004746","PAREDES ESTACIO MILAGROS ANTONIA","PSICOLOGO(A)","PROFESIONAL","TITULO  ",1,2,3600,1,6,10800]
[null,"409 SALUD TRUJILLO ESTE","RO","CAS","ASISTENCIAL",2689,"45049637","PAREDES LIZANA KARINA MAGALI","ENFERMERA(O)","PROFESIONAL","TITULO  ",1,5,13445,1,6,16134]
[null,"409 SALUD TRUJILLO ESTE","RDR","CAS","ADMINISTRATIVO",1200,"19321566","PENAS LOZADA ELIZABETH DEL ROCIO","DIGITADOR(A)","TECNICO","TECNICO",1,12,14400,1,6,7200]
[null,"409 SALUD TRUJILLO ESTE","RO","CAS","ASISTENCIAL",1800,"41639551","PEÑA QUINTANILLA JOSE ANTONIO","PSICOLOGO(A)","PROFESIONAL","TITULO  ",1,2,3600,1,6,10800]
[null,"409 SALUD TRUJILLO ESTE","RDR","CAS","ASISTENCIAL",1200,"18211861","PEREDA MIRANDA ARMANDO","CHOFER","AUXILIARES",null,1,12,14400,1,6,7200]
[null,"409 SALUD TRUJILLO ESTE","RDR","CAS","ADMINISTRATIVO",1200,"18127415","PEREZ FLORES CARMEN ROSA","TECNICO ADMINISTRATIVO","TECNICO","TECNICO",1,12,14400,1,6,7200]
[null,"409 SALUD TRUJILLO ESTE","RDR","CAS","ASISTENCIAL",930,"80575503","PEREZ TANDAYPAN RAQUEL LETTY","OBSTETRIZ","PROFESIONAL","TITULO  ",1,12,11160,1,6,5580]
[null,"409 SALUD TRUJILLO ESTE","RO","CAS","ADMINISTRATIVO",1500,"76851805","PEREZ TARAZONA TRACY ALEXANDRA","TRABAJADOR DE SERVICIO","AUXILIARES",null,1,5,7500,1,6,9000]
[null,"409 SALUD TRUJILLO ESTE","RO","CAS","ASISTENCIAL",2500,"42465886","PESANTES CALDERON ELVIA MAGALI","ENFERMERA(O)","PROFESIONAL","TITULO  ",1,5,12500,1,6,15000]
[null,"409 SALUD TRUJILLO ESTE","RO","CAS","ASISTENCIAL",2689,"45430358","PINEDO QUISPE JACKELIN SOFIA","ENFERMERA(O)","PROFESIONAL","TITULO  ",1,5,13445,1,6,16134]
[null,"409 SALUD TRUJILLO ESTE","RO","CAS","ADMINISTRATIVO",930,"18099747","PINILLOS BARRANTES JULIO VICENTE LUIS","DIGITADOR(A)","TECNICO","TECNICO",1,12,11160,1,6,5580]
[null,"409 SALUD TRUJILLO ESTE","RO","CAS","ASISTENCIAL",1500,"41084561","PLAZA VELASQUEZ DE VALDERRAMA FLOR DE MARIA","ENFERMERA(O)","PROFESIONAL","TITULO  ",1,12,18000,1,6,9000]
[null,"409 SALUD TRUJILLO ESTE","RO","CAS","ASISTENCIAL",2689,"41551762","POLO LAMBRUSCHINI MIRTHA DEL ROCIO","ENFERMERA(O)","PROFESIONAL","TITULO  ",1,5,13445,1,6,16134]
[null,"409 SALUD TRUJILLO ESTE","RO","CAS","ASISTENCIAL",1800,"17822026","POMA GALVEZ YLIANA DEL ROCIO","ENFERMERA(O)","PROFESIONAL","TITULO  ",1,2,3600,1,6,10800]
[null,"409 SALUD TRUJILLO ESTE","RO","CAS","ADMINISTRATIVO",1200,"18086621","PORTAL SANCHEZ MARDELI ROCIO DEL PILAR","TRABAJADOR DE SERVICIO","AUXILIARES",null,1,2,2400,1,6,7200]
[null,"409 SALUD TRUJILLO ESTE","RO","CAS","ASISTENCIAL",1800,"40568318","PORTILLA MONTOYA YSELA SOLEDAD","PSICOLOGO(A)","PROFESIONAL","TITULO  ",1,2,3600,1,6,10800]
[null,"409 SALUD TRUJILLO ESTE","RO","CAS","ASISTENCIAL",2500,"41480460","PRIETO VELA ELIANA PATRICIA","QUIMICO FARMACEUTICO","PROFESIONAL","TITULO  ",1,5,12500,1,6,15000]
[null,"409 SALUD TRUJILLO ESTE","RO","CAS","ASISTENCIAL",1500,"45056680","PRINCIPE ALARCON CINDY ERALDITH","ENFERMERA(O)","PROFESIONAL","TITULO  ",1,12,18000,1,6,9000]
[null,"409 SALUD TRUJILLO ESTE","RO","CAS","ADMINISTRATIVO",930,"19692438","PRINCIPE VELASQUEZ SANTOS LEONARDO","TRABAJADOR DE SERVICIO","AUXILIARES",null,1,12,11160,1,6,5580]
[null,"409 SALUD TRUJILLO ESTE","RO","CAS","ASISTENCIAL",2689,"47587221","QUEZADA RODRIGUEZ JHINEZHKA MADELEINE","ENFERMERA(O)","PROFESIONAL","TITULO  ",1,5,13445,1,6,16134]
[null,"409 SALUD TRUJILLO ESTE","RO","CAS","ASISTENCIAL",1000,"18094466","QUEZADA ROMERO JUAN LIZARDO","CHOFER","AUXILIARES",null,1,12,12000,1,6,6000]
[null,"409 SALUD TRUJILLO ESTE","RO","CAS","ASISTENCIAL",1834,"18208465","QUEZADA ZAVALETA MARILU JESENIA","TECNICO EN ENFERMERIA","TECNICO","TECNICO",1,5,9170,1,6,11004]
[null,"409 SALUD TRUJILLO ESTE","RO","CAS","ASISTENCIAL",2689,"46515708","QUIROZ ANGASPILCO FATIMA ISABEL","ENFERMERA(O)","PROFESIONAL","TITULO  ",1,5,13445,1,6,16134]
[null,"409 SALUD TRUJILLO ESTE","RO","CAS","ASISTENCIAL",1200,"42908155","QUIROZ SUAREZ ERIK TOMAS","TECNICO EN LABORATORIO","TECNICO","TECNICO",1,12,14400,1,6,7200]
[null,"409 SALUD TRUJILLO ESTE","RO","CAS","ASISTENCIAL",3000,"18221220","QUISPE OTINIANO JULIO CESAR","MEDICO","PROFESIONAL","TITULO  ",1,12,36000,1,6,18000]
[null,"409 SALUD TRUJILLO ESTE","RO","CAS","ASISTENCIAL",3000,"18069114","QUISPE RICCI YULIANA PALMIRA","MEDICO","PROFESIONAL","TITULO  ",1,12,36000,1,6,18000]
[null,"409 SALUD TRUJILLO ESTE","RO","CAS","ASISTENCIAL",1500,"45751022","RAMIREZ NUÑEZ SILVIA JANET","BIOLOGO(A)","PROFESIONAL","TITULO  ",1,12,18000,1,6,9000]
[null,"409 SALUD TRUJILLO ESTE","RO","CAS","ASISTENCIAL",1500,"44079789","RAMOS ACOSTA YESSICA KATHERINE","ENFERMERA(O)","PROFESIONAL","TITULO  ",1,12,18000,1,6,9000]
[null,"409 SALUD TRUJILLO ESTE","RO","CAS","ASISTENCIAL",1834,"45494393","RAMOS AMAYA KATERINE LIBETT","TECNICO EN ENFERMERIA","TECNICO","TECNICO",1,5,9170,1,6,11004]
[null,"409 SALUD TRUJILLO ESTE","RO","CAS","ASISTENCIAL",1000,"42875249","RAMOS MIÑANO JANETH","TECNICO EN ENFERMERIA","TECNICO","TECNICO",1,12,12000,1,6,6000]
[null,"409 SALUD TRUJILLO ESTE","RO","CAS","ADMINISTRATIVO",1000,"42052235","RAMOS PRADO CARLOS ALBERTO","TECNICO EN MANTENIMIENTO EQUIP","TECNICO","TECNICO",1,12,12000,1,6,6000]
[null,"409 SALUD TRUJILLO ESTE","RO","CAS","ASISTENCIAL",2500,"45119575","REBAZA GAMARRA ANALY LICETH","ENFERMERA(O)","PROFESIONAL","TITULO  ",1,5,12500,1,6,15000]
[null,"409 SALUD TRUJILLO ESTE","RDR","CAS","ADMINISTRATIVO",1200,"41349224","REBAZA SANTISTEBAN FANY MARGOT","CAJERO","TECNICO","TECNICO",1,12,{"$f":"F4689*M4689","v":14400},1,6,{"$f":"F4689*P4689","v":7200}]
[null,"409 SALUD TRUJILLO ESTE","RO","CAS","ASISTENCIAL",2689,"44508018","REYES NOVOA JOHANA ARACELI","ENFERMERA(O)","PROFESIONAL","TITULO  ",1,5,13445,1,6,16134]
[null,"409 SALUD TRUJILLO ESTE","RO","CAS","ASISTENCIAL",1000,"18202258","REYNA RUIZ ROCIO DEL PILAR","TECNICO EN ENFERMERIA","TECNICO","TECNICO",1,12,12000,1,6,6000]
[null,"409 SALUD TRUJILLO ESTE","RO","CAS","ADMINISTRATIVO",2500,"45299673","RIOS ALAYO LESLIE LIZETH","ESPECIALISTA EN CONTRATACIONES","TECNICO","TECNICO",1,12,30000,1,6,15000]
[null,"409 SALUD TRUJILLO ESTE","RO","CAS","ASISTENCIAL",2500,"41561154","RIVAS MADRID MIRTHA YOHANA","PSICOLOGO(A)","PROFESIONAL","TITULO  ",1,5,12500,1,6,15000]
[null,"409 SALUD TRUJILLO ESTE","RO","CAS","ASISTENCIAL",2500,"45468542","RIVASPLATA PALMA KARLA YERLINA","TECNOLOGO MEDICO","TECNICO","TECNICO",1,5,12500,1,6,15000]
[null,"409 SALUD TRUJILLO ESTE","RDR","CAS","ADMINISTRATIVO",1000,"43460298","RODRIGUEZ - ADID HENDERSON","TRABAJADOR DE SERVICIO","AUXILIARES",null,1,12,12000,1,6,6000]
[null,"409 SALUD TRUJILLO ESTE","RO","CAS","ASISTENCIAL",930,"19049400","RODRIGUEZ ABANTO ILDEBRANDO","AUXILIAR DE ENFERMERIA","AUXILIARES",null,1,12,11160,1,6,5580]
[null,"409 SALUD TRUJILLO ESTE","RO","CAS","ASISTENCIAL",1150,"45784077","RODRIGUEZ AGUIRRE KAREN BEATRIZ","ENFERMERA(O)","PROFESIONAL","TITULO  ",1,12,13800,1,6,6900]
[null,"409 SALUD TRUJILLO ESTE","RO","CAS","ADMINISTRATIVO",1200,"45389154","RODRIGUEZ DE LA CRUZ RICARDO","TECNICO ADMINISTRATIVO","TECNICO","TECNICO",1,12,14400,1,6,7200]
[null,"409 SALUD TRUJILLO ESTE","RO","CAS","ASISTENCIAL",1500,"44280885","RODRIGUEZ DELGADO JAKELIN ROXANA","ENFERMERA(O)","PROFESIONAL","TITULO  ",1,12,18000,1,6,9000]
[null,"409 SALUD TRUJILLO ESTE","RDR","CAS","ADMINISTRATIVO",1000,"40474878","RODRIGUEZ ESQUIVEL MARITZA AMANDA","CAJERO","TECNICO","TECNICO",1,12,12000,1,6,6000]
[null,"409 SALUD TRUJILLO ESTE","RO","CAS","ASISTENCIAL",1834,"73933132","RODRIGUEZ HARO MARAYNI GIOVANNA","TECNICO EN ENFERMERIA","TECNICO","TECNICO",1,5,9170,1,6,11004]
[null,"409 SALUD TRUJILLO ESTE","RDR","CAS","ADMINISTRATIVO",930,"42878910","RODRIGUEZ HERNANDEZ EVELYN LISBETH","SECRETARIA","TECNICO","TECNICO",1,12,11160,1,6,5580]
[null,"409 SALUD TRUJILLO ESTE","RO","CAS","ASISTENCIAL",1300,"41084637","RODRIGUEZ HERRERA MAGALI MARILYN","TECNICO EN ENFERMERIA","TECNICO","TECNICO",1,12,15600,1,6,7800]
[null,"409 SALUD TRUJILLO ESTE","RDR","CAS","ADMINISTRATIVO",930,"40387230","RODRIGUEZ JUAREZ LOURDES JUDITH","TRABAJADOR DE SERVICIO","AUXILIARES",null,1,12,11160,1,6,5580]
[null,"409 SALUD TRUJILLO ESTE","RDR","CAS","ADMINISTRATIVO",930,"17908426","RODRIGUEZ MIÑANO FRANCISCO","CAJERO","TECNICO","TECNICO",1,12,11160,1,6,5580]
[null,"409 SALUD TRUJILLO ESTE","RO","CAS","ADMINISTRATIVO",1500,"18221458","RODRIGUEZ SANTOS CESAR DANIEL","VIGILANTE","AUXILIARES",null,1,5,7500,1,6,9000]
[null,"409 SALUD TRUJILLO ESTE","RO","CAS","ADMINISTRATIVO",1000,"18076662","RODRIGUEZ VALVERDE WILMER","TRABAJADOR DE SERVICIO","AUXILIARES",null,1,12,12000,1,6,6000]
[null,"409 SALUD TRUJILLO ESTE","RO","CAS","ASISTENCIAL",1150,"42336034","RODRIGUEZ VARAS SARITA NOEMI","ENFERMERA(O)","PROFESIONAL","TITULO  ",1,12,13800,1,6,6900]
[null,"409 SALUD TRUJILLO ESTE","RO","CAS","ASISTENCIAL",1500,"42908209","ROJAS CASTRO KARLA TATIANA","OBSTETRA","PROFESIONAL","TITULO  ",1,12,18000,1,6,9000]
[null,"409 SALUD TRUJILLO ESTE","RDR","CAS","ASISTENCIAL",3000,"40431663","ROJAS GUTIERREZ IVAN EMMANUELLE","MEDICO","PROFESIONAL","TITULO  ",1,12,36000,1,6,18000]
[null,"409 SALUD TRUJILLO ESTE","RDR","CAS","ASISTENCIAL",1200,"18132371","ROJAS RODRIGUEZ LUIS HUMBERTO","CHOFER","AUXILIARES",null,1,12,14400,1,6,7200]
[null,"409 SALUD TRUJILLO ESTE","RO","CAS","ADMINISTRATIVO",930,"44348052","ROJAS SANCHEZ FRANCISCO ENRIQUE","TRABAJADOR DE SERVICIO","AUXILIARES",null,1,12,11160,1,6,5580]
[null,"409 SALUD TRUJILLO ESTE","RO","CAS","ASISTENCIAL",1150,"45465355","ROMAN CHAVEZ MARIA VICTORIA","ENFERMERA(O)","PROFESIONAL","TITULO  ",1,12,13800,1,6,6900]
[null,"409 SALUD TRUJILLO ESTE","RO","CAS","ASISTENCIAL",1834,"18228804","ROMERO ESPINOZA KELY ELIZABETH","TECNICO EN ENFERMERIA","TECNICO","TECNICO",1,5,9170,1,6,11004]
[null,"409 SALUD TRUJILLO ESTE","RO","CAS","ASISTENCIAL",1500,"45675613","ROMERO SANCHEZ YOANI MARIBEL","ENFERMERA(O)","PROFESIONAL","TITULO  ",1,12,18000,1,6,9000]
[null,"409 SALUD TRUJILLO ESTE","RO","CAS","ASISTENCIAL",1200,"42515423","ROMERO VALCARCEL MIGUEL ANGEL","TECNICO EN ENFERMERIA","TECNICO","TECNICO",1,12,14400,1,6,7200]
[null,"409 SALUD TRUJILLO ESTE","RO","CAS","ASISTENCIAL",1834,"18195993","ROMERO VERA MERCEDES JOSEFA","TECNICO EN ENFERMERIA","TECNICO","TECNICO",1,5,9170,1,6,11004]
[null,"409 SALUD TRUJILLO ESTE","RO","CAS","ADMINISTRATIVO",2000,"18139516","RONCAL DIAZ ROSEMARIE EMPERATRIZ","ABOGADO(A)","PROFESIONAL","TITULO  ",1,12,24000,1,6,12000]
[null,"409 SALUD TRUJILLO ESTE","RO","CAS","ASISTENCIAL",1200,"41722102","ROSADO PEREZ FRANKLIN ORLANDO","TECNICO EN ENFERMERIA","TECNICO","TECNICO",1,12,14400,1,6,7200]
[null,"409 SALUD TRUJILLO ESTE","RO","CAS","ASISTENCIAL",1834,"43514282","ROSARIO LAUREANO ANGELA MARIA","TECNICO EN ENFERMERIA","TECNICO","TECNICO",1,5,9170,1,6,11004]
[null,"409 SALUD TRUJILLO ESTE","RO","CAS","ADMINISTRATIVO",930,"19083808","RUBIO GONZALES MANUEL ALBERTO","TRABAJADOR DE SERVICIO","AUXILIARES",null,1,12,11160,1,6,5580]
[null,"409 SALUD TRUJILLO ESTE","RO","CAS","ASISTENCIAL",1300,"47374837","RUIZ CABRERA JESENIA NOEMI","TECNICO EN REHABIL. Y FISIOT.","TECNICO","TECNICO",1,2,2600,1,6,7800]
[null,"409 SALUD TRUJILLO ESTE","RO","CAS","ADMINISTRATIVO",930,"17949244","RUIZ ESQUIVEL JOSE FRANCISCO","TRABAJADOR DE SERVICIO","AUXILIARES",null,1,12,11160,1,6,5580]
[null,"409 SALUD TRUJILLO ESTE","RDR","CAS","ASISTENCIAL",3000,"44453361","SALAZAR LEIVA PAULO CESAR","MEDICO","PROFESIONAL","TITULO  ",1,12,36000,1,6,18000]
[null,"409 SALUD TRUJILLO ESTE","RO","CAS","ASISTENCIAL",1500,"45465891","SALVATIERRA CALDERON JENNY ELIZABETH","ENFERMERA(O)","PROFESIONAL","TITULO  ",1,12,18000,1,6,9000]
[null,"409 SALUD TRUJILLO ESTE","RDR","CAS","ADMINISTRATIVO",930,"45881395","SANCHEZ ANHUAMAN LADY DIANA","DIGITADOR(A)","TECNICO","TECNICO",1,12,11160,1,6,5580]
[null,"409 SALUD TRUJILLO ESTE","RO","CAS","ASISTENCIAL",1800,"44736847","SANCHEZ BUSTAMANTE CARMEN RITA","ENFERMERA(O)","PROFESIONAL","TITULO  ",1,2,3600,1,6,10800]
[null,"409 SALUD TRUJILLO ESTE","RO","CAS","ADMINISTRATIVO",1000,"70035263","SANCHEZ CERNA JORGE LUIS CASIMIRO","TECNICO EN MANTENIMIENTO EQUIP","TECNICO","TECNICO",1,12,12000,1,6,6000]
[null,"409 SALUD TRUJILLO ESTE","RO","CAS","ASISTENCIAL",1500,"70287350","SANCHEZ CHAVEZ ROSSY MARILY","ENFERMERA(O)","PROFESIONAL","TITULO  ",1,12,18000,1,6,9000]
[null,"409 SALUD TRUJILLO ESTE","RO","CAS","ADMINISTRATIVO",1000,"80531011","SANCHEZ CORTEZ ZOILA LILIA","DIGITADOR(A)","TECNICO","TECNICO",1,12,12000,1,6,6000]
[null,"409 SALUD TRUJILLO ESTE","RO","CAS","ASISTENCIAL",1000,"43075660","SANCHEZ DUARTE FRECIA DAMICELA","TECNICO EN ENFERMERIA","TECNICO","TECNICO",1,12,12000,1,6,6000]
[null,"409 SALUD TRUJILLO ESTE","RO","CAS","ADMINISTRATIVO",930,"80298028","SANCHEZ GUEVARA NELI MARLENI","TRABAJADOR DE SERVICIO","AUXILIARES",null,1,12,11160,1,6,5580]
[null,"409 SALUD TRUJILLO ESTE","RDR","CAS","ADMINISTRATIVO",930,"47658893","SANCHEZ HERRERA NELSON ALEJANDRO","TRABAJADOR DE SERVICIO","AUXILIARES",null,1,12,11160,1,6,5580]
[null,"409 SALUD TRUJILLO ESTE","RO","CAS","ASISTENCIAL",2500,"70777722","SANCHEZ HOYOS ODALIS MARIANELA","PSICOLOGO(A)","PROFESIONAL","TITULO  ",1,5,12500,1,6,15000]
[null,"409 SALUD TRUJILLO ESTE","RO","CAS","ASISTENCIAL",8000,"40464447","SANCHEZ RIVERA HUGO MARTIN","MEDICO PSIQUIATRA","PROFESIONAL","TITULO  ",1,2,16000,1,6,48000]
[null,"409 SALUD TRUJILLO ESTE","RO","CAS","ADMINISTRATIVO",930,"42641862","SANCHEZ ZAVALETA TERESA MILAGROS","DIGITADOR(A)","TECNICO","TECNICO",1,12,11160,1,6,5580]
[null,"409 SALUD TRUJILLO ESTE","RO","CAS","ADMINISTRATIVO",1000,"17887751","SANCHEZ ZEVALLOS CARLOS ALBERTO MAGNO","DIGITADOR(A)","TECNICO","TECNICO",1,12,12000,1,6,6000]
[null,"409 SALUD TRUJILLO ESTE","RDR","CAS","ASISTENCIAL",1200,"18150966","SANDOVAL BASILIO AZUCENA ESPERANZA","TECNICO EN LABORATORIO","TECNICO","TECNICO",1,12,14400,1,6,7200]
[null,"409 SALUD TRUJILLO ESTE","RO","CAS","ASISTENCIAL",1834,"46893953","SANTOS RUIZ TATIANA JULISSA","TECNICO EN ENFERMERIA","TECNICO","TECNICO",1,5,9170,1,6,11004]
[null,"409 SALUD TRUJILLO ESTE","RDR","CAS","ADMINISTRATIVO",1100,"41901091","SARANGO CARHUATOCTO GREGORIO","TRABAJADOR DE SERVICIO","AUXILIARES",null,1,12,13200,1,6,6600]
[null,"409 SALUD TRUJILLO ESTE","RO","CAS","ASISTENCIAL",1300,"40140662","SEBASTIAN REYES NIDIA ELESTINA","TECNICO EN ENFERMERIA","TECNICO","TECNICO",1,2,2600,1,6,7800]
[null,"409 SALUD TRUJILLO ESTE","RO","CAS","ASISTENCIAL",3000,"41012780","SEMINARIO GUARNIZ JOSE ENRIQUE","MEDICO","PROFESIONAL","TITULO  ",1,12,36000,1,6,18000]
[null,"409 SALUD TRUJILLO ESTE","RDR","CAS","ADMINISTRATIVO",930,"03591764","SERRA FUENTES ENRIQUE MARIO","VIGILANTE","AUXILIARES",null,1,12,11160,1,6,5580]
[null,"409 SALUD TRUJILLO ESTE","RO","CAS","ASISTENCIAL",8000,"40820497","SERRANO GARCIA MARCO ORLANDO","MEDICO PSIQUIATRA","PROFESIONAL","TITULO  ",1,2,16000,1,6,48000]
[null,"409 SALUD TRUJILLO ESTE","RO","CAS","ASISTENCIAL",1800,"45834786","SERRATE SALAZAR KARINA ISABEL","ENFERMERA(O)","PROFESIONAL","TITULO  ",1,2,3600,1,6,10800]
[null,"409 SALUD TRUJILLO ESTE","RO","CAS","ASISTENCIAL",5025,"43713404","SICCHA LOPEZ DANIEL GERMAN","MEDICO","PROFESIONAL","TITULO  ",1,5,25125,1,6,30150]
[null,"409 SALUD TRUJILLO ESTE","RO","CAS","ASISTENCIAL",2689,"18834441","SICCHA REYES ESPERANZA BEATRIZ","ENFERMERA(O)","PROFESIONAL","TITULO  ",1,5,13445,1,6,16134]
[null,"409 SALUD TRUJILLO ESTE","RO","CAS","ADMINISTRATIVO",930,"70687922","SILVA ARANA JUAN ALEJANDRO","TRABAJADOR DE SERVICIO","AUXILIARES",null,1,12,11160,1,6,5580]
[null,"409 SALUD TRUJILLO ESTE","RO","CAS","ASISTENCIAL",1800,"44639569","SILVA ARANA PATRICIA DEL CARMEN","TRABAJADORA SOCIAL","PROFESIONAL","TITULO  ",1,2,3600,1,6,10800]
[null,"409 SALUD TRUJILLO ESTE","RO","CAS","ASISTENCIAL",2097,"18854519","SILVA DE LA CRUZ PABLO","TECNICO EN LABORATORIO","TECNICO","TECNICO",1,5,10485,1,6,12582]
[null,"409 SALUD TRUJILLO ESTE","RO","CAS","ASISTENCIAL",1150,"41393053","SILVA PEREZ ROSANGELA","ENFERMERA(O)","PROFESIONAL","TITULO  ",1,12,13800,1,6,6900]
[null,"409 SALUD TRUJILLO ESTE","RO","CAS","ADMINISTRATIVO",1834,"43645979","SIMEON VEGA JORGE LUIS","TECNICO ADMINISTRATIVO","TECNICO","TECNICO",1,5,9170,1,6,11004]
[null,"409 SALUD TRUJILLO ESTE","RO","CAS","ASISTENCIAL",1300,"40640019","SOLORZANO HUERTAS SAYRA DENISSE","ENFERMERA(O)","PROFESIONAL","TITULO  ",1,12,{"$f":"F4753*M4753","v":15600},1,6,{"$f":"F4753*P4753","v":7800}]
[null,"409 SALUD TRUJILLO ESTE","RDR","CAS","ADMINISTRATIVO",930,"40875570","SUAREZ MORALES DE CCORI EVELYN KATHERINE","CAJERO","TECNICO","TECNICO",1,12,11160,1,6,5580]
[null,"409 SALUD TRUJILLO ESTE","RDR","CAS","ASISTENCIAL",1200,"18062943","TABOADA GARCIA ESTALFER RAFAEL","CHOFER","AUXILIARES",null,1,12,14400,1,6,7200]
[null,"409 SALUD TRUJILLO ESTE","RO","CAS","ADMINISTRATIVO",1000,"47877282","TABOADA VEGA CARLOS RAFAEL","DIGITADOR(A)","TECNICO","TECNICO",1,12,12000,1,6,6000]
[null,"409 SALUD TRUJILLO ESTE","RO","CAS","ASISTENCIAL",2097,"48241295","TADEO OLIVEROS MELISSA YAMELIT","TECNICO EN LABORATORIO","TECNICO","TECNICO",1,5,10485,1,6,12582]
[null,"409 SALUD TRUJILLO ESTE","RO","CAS","ASISTENCIAL",1500,"44719152","TAMAYO GIL NATALIE MADALEINE","ENFERMERA(O)","PROFESIONAL","TITULO  ",1,12,18000,1,6,9000]
[null,"409 SALUD TRUJILLO ESTE","RO","CAS","ADMINISTRATIVO",930,"45403544","TANG OTERO MAURO RICARDO","TRABAJADOR DE SERVICIO","AUXILIARES",null,1,12,11160,1,6,5580]
[null,"409 SALUD TRUJILLO ESTE","RDR","CAS","ASISTENCIAL",1200,"41938797","TELLO CORREA MARITZA ELIZABEHT","TECNICO EN ENFERMERIA","TECNICO","TECNICO",1,12,14400,1,6,7200]
[null,"409 SALUD TRUJILLO ESTE","RO","CAS","ASISTENCIAL",1000,"43707817","TELLO TANTALEAN MARY SUGELY","TECNICO EN ENFERMERIA","TECNICO","TECNICO",1,12,12000,1,6,6000]
[null,"409 SALUD TRUJILLO ESTE","RO","CAS","ASISTENCIAL",1500,"18133984","TOCTO VILLAR GEORGINEA GUADALUPE","OBSTETRA","PROFESIONAL","TITULO  ",1,12,18000,1,6,9000]
[null,"409 SALUD TRUJILLO ESTE","RDR","CAS","ADMINISTRATIVO",1100,"00898453","TORRES SABOYA FIDENCIO","TRABAJADOR DE SERVICIO","AUXILIARES",null,1,12,13200,1,6,6600]
[null,"409 SALUD TRUJILLO ESTE","RDR","CAS","ASISTENCIAL",930,"17879287","TRUJILLO OBESO ALBERTO","CHOFER","AUXILIARES",null,1,12,11160,1,6,5580]
[null,"409 SALUD TRUJILLO ESTE","RDR","CAS","ASISTENCIAL",1000,"43100736","UCEDA PEREZ CRISTIAN GANPIERO","TECNICO EN ENFERMERIA","TECNICO","TECNICO",1,12,12000,1,6,6000]
[null,"409 SALUD TRUJILLO ESTE","RO","CAS","ASISTENCIAL",3800,"30861139","UMPIRE LLANOS MIGUEL ANGEL","MEDICO","PROFESIONAL","TITULO  ",1,2,7600,1,6,22800]
[null,"409 SALUD TRUJILLO ESTE","RO","CAS","ASISTENCIAL",2097,"45474007","URBINA CRUZ ANA LORENA","TECNICO EN LABORATORIO","TECNICO","TECNICO",1,5,10485,1,6,12582]
[null,"409 SALUD TRUJILLO ESTE","RO","CAS","ASISTENCIAL",1834,"19701071","URQUIZO GABRIEL BETTY SILVIA","TECNICO EN ENFERMERIA","TECNICO","TECNICO",1,5,9170,1,6,11004]
[null,"409 SALUD TRUJILLO ESTE","RO","CAS","ADMINISTRATIVO",1500,"48230441","VALERA ALVARADO JAIRO","TRABAJADOR DE SERVICIO","AUXILIARES",null,1,5,7500,1,6,9000]
[null,"409 SALUD TRUJILLO ESTE","RDR","CAS","ASISTENCIAL",1200,"80288013","VALVERDE ARTEAGA MARCO ANTONIO","CHOFER","AUXILIARES",null,1,12,14400,1,6,7200]
[null,"409 SALUD TRUJILLO ESTE","RO","CAS","ASISTENCIAL",1834,"10225672","VALVERDE IPANAQUE MARIA","TECNICO EN ENFERMERIA","TECNICO","TECNICO",1,5,9170,1,6,11004]
[null,"409 SALUD TRUJILLO ESTE","RO","CAS","ASISTENCIAL",1150,"43998915","VALVERDE RIOS KARINA LIZET","ENFERMERA(O)","PROFESIONAL","TITULO  ",1,12,13800,1,6,6900]
[null,"409 SALUD TRUJILLO ESTE","RDR","CAS","ADMINISTRATIVO",930,"41203793","VARAS URIOL JANNY HAYDEE","DIGITADOR(A)","TECNICO","TECNICO",1,12,11160,1,6,5580]
[null,"409 SALUD TRUJILLO ESTE","RO","CAS","ADMINISTRATIVO",1200,"47914013","VARGAS MARIÑOS JENNY KARIN","TRABAJADOR DE SERVICIO","AUXILIARES",null,1,2,2400,1,6,7200]
[null,"409 SALUD TRUJILLO ESTE","RO","CAS","ASISTENCIAL",1150,"46169837","VARGAS RODRIGUEZ YULI MELISSA","ENFERMERA(O)","PROFESIONAL","TITULO  ",1,12,13800,1,6,6900]
[null,"409 SALUD TRUJILLO ESTE","RO","CAS","ASISTENCIAL",1500,"40782495","VASALLO LUNA ROSA ELENA","OBSTETRA","PROFESIONAL","TITULO  ",1,12,18000,1,6,9000]
[null,"409 SALUD TRUJILLO ESTE","RO","CAS","ASISTENCIAL",6500,"41695778","VASQUEZ CHAVEZ DIANA CATHLEYA","MEDICO","PROFESIONAL","TITULO  ",1,5,32500,1,6,39000]
[null,"409 SALUD TRUJILLO ESTE","RDR","CAS","ADMINISTRATIVO",930,"18225580","VASQUEZ MELENDEZ ERICH","TRABAJADOR DE SERVICIO","AUXILIARES",null,1,12,11160,1,6,5580]
[null,"409 SALUD TRUJILLO ESTE","RO","CAS","ASISTENCIAL",1800,"80581369","VASQUEZ PEREZ PAMELA NOELIA","TRABAJADORA SOCIAL","PROFESIONAL","TITULO  ",1,2,3600,1,6,10800]
[null,"409 SALUD TRUJILLO ESTE","RO","CAS","ASISTENCIAL",1800,"17914520","VASQUEZ RUMICHE WILMER FERNANDO","QUIMICO FARMACEUTICO","PROFESIONAL","TITULO  ",1,2,3600,1,6,10800]
[null,"409 SALUD TRUJILLO ESTE","RO","CAS","ASISTENCIAL",2097,"47142968","VEGA ORDOÑEZ BEATRIZ SANDRA","TECNICO EN LABORATORIO","TECNICO","TECNICO",1,5,10485,1,6,12582]
[null,"409 SALUD TRUJILLO ESTE","RDR","CAS","ADMINISTRATIVO",930,"05614673","VELA ALVARADO JUDITH","TRABAJADOR DE SERVICIO","AUXILIARES",null,1,12,11160,1,6,5580]
[null,"409 SALUD TRUJILLO ESTE","RO","CAS","ASISTENCIAL",1500,"41741539","VELARDE QUINTANA CARLOS EDUARDO","BIOLOGO(A)","PROFESIONAL","TITULO  ",1,12,18000,1,6,9000]
[null,"409 SALUD TRUJILLO ESTE","RO","CAS","ASISTENCIAL",1150,"43515359","VELASQUEZ CASTILLO MIRTHA","ENFERMERA(O)","PROFESIONAL","TITULO  ",1,12,13800,1,6,6900]
[null,"409 SALUD TRUJILLO ESTE","RO","CAS","ASISTENCIAL",1900,"45236447","VELASQUEZ MAGO KARINA ELIZABETH","PSICOLOGO(A)","PROFESIONAL","TITULO  ",1,5,9500,1,6,11400]
[null,"409 SALUD TRUJILLO ESTE","RO","CAS","ADMINISTRATIVO",1500,"44036398","VELEZMORO DE LA CRUZ ROMEL IVAN","TRABAJADOR DE SERVICIO","AUXILIARES",null,1,5,7500,1,6,9000]
[null,"409 SALUD TRUJILLO ESTE","RO","CAS","ASISTENCIAL",1000,"45683136","VELOZ ARANDA CINDY AMPARO","TECNICO EN ENFERMERIA","TECNICO","TECNICO",1,12,12000,1,6,6000]
[null,"409 SALUD TRUJILLO ESTE","RDR","CAS","ASISTENCIAL",1100,"46459019","VERA BENITES FLOR YANETH","TECNICO EN ENFERMERIA","TECNICO","TECNICO",1,12,13200,1,6,6600]
[null,"409 SALUD TRUJILLO ESTE","RDR","CAS","ASISTENCIAL",1200,"17804836","VERA GOMEZ CARLOS ALBERTO","CHOFER","AUXILIARES",null,1,12,14400,1,6,7200]
[null,"409 SALUD TRUJILLO ESTE","RO","CAS","ASISTENCIAL",2500,"45340521","VERA SALDAÑA JANTZEN ADRIANO","ENFERMERA(O)","PROFESIONAL","TITULO  ",1,5,12500,1,6,15000]
[null,"409 SALUD TRUJILLO ESTE","RO","CAS","ADMINISTRATIVO",4000,"18073384","VEREAU VASCONES YESSICA MARLENE","JEFE DE OFICINA","PROFESIONAL","TITULO  ",1,12,48000,1,6,24000]
[null,"409 SALUD TRUJILLO ESTE","RDR","CAS","ADMINISTRATIVO",1000,"42509064","VIDAL ORBEGOSO DAVID SAMUEL","CAJERO","TECNICO","TECNICO",1,12,12000,1,6,6000]
[null,"409 SALUD TRUJILLO ESTE","RO","CAS","ADMINISTRATIVO",1000,"18177103","VIDAURRE VERGARA GINA JACQUELINE","DIGITADOR(A)","TECNICO","TECNICO",1,12,12000,1,6,6000]
[null,"409 SALUD TRUJILLO ESTE","RDR","CAS","ADMINISTRATIVO",930,"17981707","VILLALOBOS HOYOS SEGUNDO HECTOR","TRABAJADOR DE SERVICIO","AUXILIARES",null,1,12,11160,1,6,5580]
[null,"409 SALUD TRUJILLO ESTE","RO","CAS","ADMINISTRATIVO",1200,"42492891","VILLALOBOS NUREÑA ANA SOLEDAD","DIGITADOR(A)","TECNICO","TECNICO",1,12,14400,1,6,7200]
[null,"409 SALUD TRUJILLO ESTE","RO","CAS","ASISTENCIAL",1500,"45526931","VILLANUEVA ARMAS AIDA MARGARITA","ENFERMERA(O)","PROFESIONAL","TITULO  ",1,12,18000,1,6,9000]
[null,"409 SALUD TRUJILLO ESTE","RO","CAS","ASISTENCIAL",1500,"18212716","VITERI GAMBOA YERTHY DAMARIS","OBSTETRA","PROFESIONAL","TITULO  ",1,12,18000,1,6,9000]
[null,"409 SALUD TRUJILLO ESTE","RO","CAS","ADMINISTRATIVO",1200,"18898605","VIZCONDE GONZALES ROSARIO DEL PILAR","TECNICO ADMINISTRATIVO","TECNICO","TECNICO",1,12,14400,1,6,7200]
[null,"409 SALUD TRUJILLO ESTE","RO","CAS","ASISTENCIAL",1150,"41448695","YUPANQUI DIAZ CINTHIA MELISSA","BIOLOGO(A)","PROFESIONAL","TITULO  ",1,12,13800,1,6,6900]
[null,"409 SALUD TRUJILLO ESTE","RO","CAS","ASISTENCIAL",1500,"45379817","YUPANQUI VENTURA ELIANA CAROLINA","ENFERMERA(O)","PROFESIONAL","TITULO  ",1,12,18000,1,6,9000]
[null,"409 SALUD TRUJILLO ESTE","RO","CAS","ASISTENCIAL",3000,"18069454","ZARATE AVALOS FERMIN ALMENSOR","MEDICO AUDITOR","PROFESIONAL","TITULO  ",1,12,36000,1,6,18000]
[null,"409 SALUD TRUJILLO ESTE","RO","CAS","ADMINISTRATIVO",930,"18202521","ZARATE HUAMANCHUMO ERIKA ELIZABETH","TRABAJADOR DE SERVICIO","AUXILIARES",null,1,12,11160,1,6,5580]
[null,"409 SALUD TRUJILLO ESTE","RDR","CAS","ADMINISTRATIVO",930,"18150414","ZARE GONZALES SANTOS CATALINO","AUXILIAR ADMINISTRATIVO","AUXILIARES",null,1,12,11160,1,6,5580]
[null,"409 SALUD TRUJILLO ESTE","RO","CAS","ASISTENCIAL",1800,"44310607","ZAVALETA ALVARADO ARACELY YOLANDA","PSICOLOGO(A)","PROFESIONAL","TITULO  ",1,2,3600,1,6,10800]
[null,"409 SALUD TRUJILLO ESTE","RO","CAS","ASISTENCIAL",1800,"44745070","ZAVALETA BLAS CEILI NATALI","ENFERMERA(O)","PROFESIONAL","TITULO  ",1,2,3600,1,6,10800]
[null,"409 SALUD TRUJILLO ESTE","RDR","CAS","ASISTENCIAL",1500,"43920808","ZAVALETA CASTRO LINDA CRISTINA","BIOLOGO(A)","PROFESIONAL","TITULO  ",1,12,18000,1,6,9000]
[null,"409 SALUD TRUJILLO ESTE","RO","CAS","ASISTENCIAL",1800,"40590903","ZAVALETA FERRER MAGALI MILENA","PSICOLOGO(A)","PROFESIONAL","TITULO  ",1,2,3600,1,6,10800]
[null,"409 SALUD TRUJILLO ESTE","RO","CAS","ADMINISTRATIVO",930,"17831225","ZAVALETA LLONTOP LUIS ENRIQUE","TRABAJADOR DE SERVICIO","AUXILIARES",null,1,12,11160,1,6,5580]
[null,"409 SALUD TRUJILLO ESTE","RO","CAS","ASISTENCIAL",1834,"44591855","ZAVALETA POLO CATHERIN DEYSI","TECNICO EN ENFERMERIA","TECNICO","TECNICO",1,5,9170,1,6,11004]
[null,"409 SALUD TRUJILLO ESTE","RO","CAS","ASISTENCIAL",2689,"43261414","ZEGARRA CASTRO CLAUDIA YVONNE","PSICOLOGO(A)","PROFESIONAL","TITULO  ",1,5,13445,1,6,16134]
[null,"409 SALUD TRUJILLO ESTE","RO","CAS","ASISTENCIAL",3800,"40989180","ZEVALLOS PEREZ ALVARO MARTIN","MEDICO","PROFESIONAL","TITULO  ",1,2,7600,1,6,22800]
[null,"TOTAL",null,null,null,{"$f":"SUM(F4368:F4811)","v":755532},null,null,null,null,null,null,null,{"$f":"SUM(N4368:N4811)","v":5973910},null,null,{"$f":"SUM(Q4368:Q4811)","v":4533192}]
[null,"410 INSTITUTO REGIONAL DE ENFERMEDADES NEOPLASICAS","R.O.","CAS","DIGITADOR(A)",1263,"18162128","AGUILAR QUIÑE CARLOS ALBERTO","TEC.INFORMATICA","TECNICO","TECNICO","1",12,15156,1,6,7578]
[null,"410 INSTITUTO REGIONAL DE ENFERMEDADES NEOPLASICAS","R.O.","CAS","TECNICO ADMINISTRATIVO",1750,"17863646","AGUIRRE ALAYO TEODORO EDILBERTO","TEC.INFORMATICA","TECNICO","TECNICO","1",12,21000,1,6,10500]
[null,"410 INSTITUTO REGIONAL DE ENFERMEDADES NEOPLASICAS","R.O.","CAS","TECNICO EN ENFERMERIA",1750,"43980019","ALTAMIRANO SOTO ROSA ELVIRA","TEC. ENFERMERIA","TECNICO","TECNICO","1",12,21000,"1",6,10500]
[null,"410 INSTITUTO REGIONAL DE ENFERMEDADES NEOPLASICAS","R.O.","CAS","TECNICO EN ENFERMERIA",1750,"42496806","AMARANTO JARA DORIS ESTHER","TEC.ENFERMERIA","TECNICO","TECNICO","1",12,21000,"1"]
[null,"410 INSTITUTO REGIONAL DE ENFERMEDADES NEOPLASICAS","R.D.R.","CAS","SECRETARIA",1420,"18102647","AMAYA CAMACHO ALINA MARITZA","SECRETARIA","TECNICO","TECNICO","1","12",17040,"1","6",8520]
[null,"410 INSTITUTO REGIONAL DE ENFERMEDADES NEOPLASICAS","R.O.","CAS","TECNICO EN ENFERMERIA",1750,"40602853","ANHUAMAN AZABACHE SONIA MILAGROS","TEC.ENFERMERIA","TECNICO","TECNICO","1",12,21000,"1","6",10500]
[null,"410 INSTITUTO REGIONAL DE ENFERMEDADES NEOPLASICAS","R.D.R","CAS","TECNOLOGO MEDICO-LABORATORIO",2400,"44207980","APOLO ASMAT NATALLY LISSET","TECNOLOGO MEDIC","PROFESIONAL","PROFESIONAL","1",12,28800,"1",6,"14,400.00"]
[null,"410 INSTITUTO REGIONAL DE ENFERMEDADES NEOPLASICAS","R.O.","CAS","TECNICO EN ENFERMERIA",1750,"40591211","AREDO SAONA YULLY MONICA","TEC.ENFERMERIA","TECNICO","TECNICO","1",12,21000]
[null,"410 INSTITUTO REGIONAL DE ENFERMEDADES NEOPLASICAS","R.O.","CAS","TECNICO EN ENFERMERIA",1750,"19088369","ARQUEROS FLORES ADRIANA","TEC.ENFERMERIA","TECNICO","TECNICO","1",12,21000]
[null,"410 INSTITUTO REGIONAL DE ENFERMEDADES NEOPLASICAS","R.D.R.","CAS","TECNICO EN LABORATORIO CLINICO",1750,"42548905","ARROYO GRADOS SEGUNDO ALEXANDER","TEC.LABORATORIO CLINICO","TECNICO","TECNICO","1",12,21000,"1","6","10,500.00"]
[null,"410 INSTITUTO REGIONAL DE ENFERMEDADES NEOPLASICAS","R.O.","CAS","CHOFER",1750,"18200857","ASMAT YPANAQUE DAVIS ANTHONY","SIN PROFESION",0,null,"1",12,21000,"1",6,10500]
[null,"410 INSTITUTO REGIONAL DE ENFERMEDADES NEOPLASICAS","R.O.","CAS","DIGITADOR(A)",1750,"41358685","BALTAZAR RAMOS LUIS ENRIQUE","TEC. INFORMATICA","TECNICO","TECNICO","1",12,21000,"1",6,10500]
[null,"410 INSTITUTO REGIONAL DE ENFERMEDADES NEOPLASICAS","R.O.","CAS","CHOFER",1750,"18141356","BOZZETA SANCHEZ JOSEPH D' ANGELO","TEC.EN FISIOTERAPIA Y REHABILITACION","TECNICO","TECNICO","1",12,21000,"1",6,10500]
[null,"410 INSTITUTO REGIONAL DE ENFERMEDADES NEOPLASICAS","R.O.","CAS","ENFERMERA(O)",2400,"42891770","CABRERA SOSAYA MAYRA ALEJANDRA","ENFERMERA","PROFESIONAL",0,"1",12,28800,"1",6,14400]
[null,"410 INSTITUTO REGIONAL DE ENFERMEDADES NEOPLASICAS","R.O.","CAS","AUXILIAR ADMINISTRATIVO - PORTAPLIEGO",1263,"33345958","CALVO . LILIAM RAQUEL","SECRETARIA","TECNICO","TECNICO","1",12,15156,"1","6",7578]
[null,"410 INSTITUTO REGIONAL DE ENFERMEDADES NEOPLASICAS","R.D.R.","CAS","TECNICO EN INFORMATICA",1750,"43366944","CARRANZA BLAS OSCAR DAVID","TEC.INFORMATICA","TECNICO","TECNICO","1",12,21000,"1",6,10500]
[null,"410 INSTITUTO REGIONAL DE ENFERMEDADES NEOPLASICAS","R.D.R.","CAS","TECNOLOGO MEDICO",2400,"40464473","CASTAÑEDA FLORES CARMEN NATALIA","TECNOLOGO MEDIC","PROFESIONAL","PROFESIONAL","1",12,28800,"1",6,"14,400.00"]
[null,"410 INSTITUTO REGIONAL DE ENFERMEDADES NEOPLASICAS","R.O.","CAS","TECNICO EN INFORMATICA",1750,"16736158","CASTELLANOS CHAVEZ RAFAEL VICTOR","TEC.INFORMATICA","TECNICO","TECNICO","1",12,21000,"1","6",10500]
[null,"410 INSTITUTO REGIONAL DE ENFERMEDADES NEOPLASICAS","R.O.","CAS","TECNICO ADMINISTRATIVO",1750,"42868641","CASTELLANOS RUBIO JACQUELINE VANESSA","TEC. CONTABILIDAD","TECNICO","TECNICO","1",12,21000,"1",6,10500]
[null,"410 INSTITUTO REGIONAL DE ENFERMEDADES NEOPLASICAS","R.O.","CAS","ESPECIALISTA ADMINISTRATIVO",2000,"18161476","CASTILLO DIAZ MERCI CARLA","CONTADORA","PROFESIONAL",0,"1",12,24000,"1",6,12000]
[null,"410 INSTITUTO REGIONAL DE ENFERMEDADES NEOPLASICAS","R.O.","CAS","TECNICO EN ENFERMERIA",1750,"27161030","CASTILLO LEIVA CARMEN ROSA","TEC.ENFERMERIA","TECNICO","TECNICO","1",12,21000]
[null,"410 INSTITUTO REGIONAL DE ENFERMEDADES NEOPLASICAS","R.O.","CAS","ESPECIALISTA ADMINISTRATIVO",2000,"46350366","CASTRO HURTADO CLAUDIA CAROLINA","CONTADORA","PROFESIONAL",null,"1",12,24000,"1",6,12000]
[null,"410 INSTITUTO REGIONAL DE ENFERMEDADES NEOPLASICAS","R.O.","CAS","AUXILIAR ADMINISTRATIVO",1263,"70151476","CEDRON BURGOS JHONATAN WAGNER","TEC.ADMINISTRACION","TECNICO","TECNICO","1",12,15156,"1","6",7578]
[null,"410 INSTITUTO REGIONAL DE ENFERMEDADES NEOPLASICAS","R.O.","CAS","TECNICO BIOMEDICO",1750,"40340936","CENEPO SHAPIAMA CESAR","TEC.ELECTRONICO","TECNICO","TECNICO","1",12,21000,"1",6,10500]
[null,"410 INSTITUTO REGIONAL DE ENFERMEDADES NEOPLASICAS","R.O.","CAS","ENFERMERA(O)",2400,"40028647","CHAVEZ HUAMAN KANDHY MEREDITH","ENFERMERA","PROFESIONAL",0,"1",12,28800]
[null,"410 INSTITUTO REGIONAL DE ENFERMEDADES NEOPLASICAS","R.O.","CAS","ESPECIALISTA ADMINISTRATIVO",2000,"02811486","CHIRA BACON WILLIAM ARMANDO","BACH. EN ECONOMIA","PROFESIONAL",null,"1",12,24000,"1","6",12000]
[null,"410 INSTITUTO REGIONAL DE ENFERMEDADES NEOPLASICAS","R.O.","CAS","TECNICO EN LABORATORIO",1750,"18014749","CONTRERAS AZABACHE LIDIA ROSA","TECNICO EN LABORATORIO","TECNICO","TECNICO","1",12,21000,"1",6,"10,500.00"]
[null,"410 INSTITUTO REGIONAL DE ENFERMEDADES NEOPLASICAS","R.O.","CAS","TRABAJADOR DE SERVICIOS",1050,"18160430","CONTRERAS ORBEGOSO ROXANA GISELA","SIN PROFESION",0,null,"2",12,12600,"1",6,6300]
[null,"410 INSTITUTO REGIONAL DE ENFERMEDADES NEOPLASICAS","R.O.","CAS","TRABAJADOR DE SERVICIOS",1050,"17940054","CRISANTO GOMEZ ROSA YSABEL","SIN PROFESION",0,null,"2",12,12600,"1",6,6300]
[null,"410 INSTITUTO REGIONAL DE ENFERMEDADES NEOPLASICAS","R.O.","CAS","SECRETARIA",1420,"42829880","CRUZ CABANILLAS MARLENI GRICELIDA","SECRETARIA","TECNICO","TECNICO","1",8,12070]
[null,"410 INSTITUTO REGIONAL DE ENFERMEDADES NEOPLASICAS","R.O.","CAS","SECRETARIA",1750,42829880,"CRUZ CABANILLAS MARLENI GRICELIDA","SECRETARIA","TECNICO","TECNICO","1",8,6125,"1",6,10500]
[null,"410 INSTITUTO REGIONAL DE ENFERMEDADES NEOPLASICAS","R.O.","CAS","SECRETARIA",1420,"41884885","CUEVA FLORES MILAGRITOS JESUS","SECRETARIA","TECNICO","TECNICO","1",8,12070]
[null,"410 INSTITUTO REGIONAL DE ENFERMEDADES NEOPLASICAS","R.O.","CAS","SECRETARIA",1750,41884885,"CUEVA FLORES MILAGRITOS JESUS","SECRETARIA","TECNICO","TECNICO","1",8,6125,"1",6,10500]
[null,"410 INSTITUTO REGIONAL DE ENFERMEDADES NEOPLASICAS","R.O.","CAS","MEDICO",4568,"42357250","CUEVA MARTELL KRISTIAN MARK","MEDICO","PROFESIONAL","PROFESIONAL","1",12,54816,"2","6",27408]
[null,"410 INSTITUTO REGIONAL DE ENFERMEDADES NEOPLASICAS","R.O.","CAS","MEDICO PATOLOGO",4568,"41479610","CUSMA QUINTANA TERESA NOEMI","MEDICO PATALOGO","PROFESIONAL","PROFESIONAL","1",12,54816,"1","6",27408]
[null,"410 INSTITUTO REGIONAL DE ENFERMEDADES NEOPLASICAS","R.O.","CAS","DIGITADOR(A)",1750,"47045113","DIAZ VASQUEZ CRISTHIAN SEBASTIAN","TEC.INFORMATICA","TECNICO","TECNICO","1",12,21000,"1",6,10500]
[null,"410 INSTITUTO REGIONAL DE ENFERMEDADES NEOPLASICAS","R.O.","CAS","TECNICO EN RADIOLOGIA",1750,"18165458","ENCO VARAS CARMEN ELENA","TECNICO RADIOLOGO","TECNICO","TECNICO","1",12,21000]
[null,"410 INSTITUTO REGIONAL DE ENFERMEDADES NEOPLASICAS","R.O.","CAS","ESTADISTICO",2000,"41804693","ESCALON HARO BETTY LUCIA","ESTADISTICA","PROFESIONAL","PROFESIONAL","1",12,24000,"1",6,12000]
[null,"410 INSTITUTO REGIONAL DE ENFERMEDADES NEOPLASICAS","R.O.","CAS","TECNICO ADMINISTRATIVO",1750,"41294255","ESPINOZA ALVA JAIME OMERT","TEC.INFORMATICA","TECNICO","TECNICO","1",12,21000,"1","6",10500]
[null,"410 INSTITUTO REGIONAL DE ENFERMEDADES NEOPLASICAS","R.D.R.","CAS","TRABAJADOR DE SERVICIOS",1050,"70285056","ESQUIVEL RUIZ FIORELA JULIZA","SIN PROFESION",null,null,"2",12,12600,"1","6",6300]
[null,"410 INSTITUTO REGIONAL DE ENFERMEDADES NEOPLASICAS","R.O.","CAS","AUXILIAR DE NUTRICION",1263,"18172453","ESTEFANO RUIZ SABETO STANO","TEC.NUTRICION","TECNICO","TECNICO","1",12,15156,"1","6",7578]
[null,"410 INSTITUTO REGIONAL DE ENFERMEDADES NEOPLASICAS","R.D.R","CAS","TECNOLOGO MEDICO-LABORATORIO",2400,"80181060","FERNANDEZ ASUNCION LUIS ALBERTO","TECNOLOGO MEDIC","PROFESIONAL","PROFESIONAL","1","12",28800,"1","6","14,400.00"]
[null,"410 INSTITUTO REGIONAL DE ENFERMEDADES NEOPLASICAS","R.O.","CAS","ENFERMERA",2400,"44290044","FLORES FLORES MARIA GABRIELA","ENFERMERA","PROFESIONAL",null,"1",12,28800,"1",6,14400]
[null,"410 INSTITUTO REGIONAL DE ENFERMEDADES NEOPLASICAS","R.O.","CAS","ENFERMERA(O)",2400,"42909235","FLORES QUISPE YESSENIA DEL CARMEN","ENFERMERA","PROFESIONAL",null,"1",12,28800]
[null,"410 INSTITUTO REGIONAL DE ENFERMEDADES NEOPLASICAS","R.O.","CAS","TECNICO EN INFORMATICA",1750,"18856555","FLORES RIOS MARCO ANTONIO","TEC.INFORMATICA","TECNICO","TECNICO","1",12,21000,"1","6",10500]
[null,"410 INSTITUTO REGIONAL DE ENFERMEDADES NEOPLASICAS","R.O.","CAS","MEDICO AUDITOR",4568,"41153924","FLORES TRUJILLO GUSTAVO ADOLFO","MEDICO","PROFESIONAL","PROFESIONAL","1","6",27408]
[null,"410 INSTITUTO REGIONAL DE ENFERMEDADES NEOPLASICAS","R.O.","CAS","TECNICO ADMINISTRATIVO",1750,"17803501","GALVEZ MIRANDA ARMANDO JOSE","TEC.CONTABILIDAD","TECNICO","TECNICO","1",12,21000,"1","6",10500]
[null,"410 INSTITUTO REGIONAL DE ENFERMEDADES NEOPLASICAS","R.O.","CAS","ENFERMERA(O)",2400,"43543447","GAMARRA ARRUE JAQUELINE ZULEMA","ENFERMERA","PROFESIONAL",null,"1",12,28800,"1",6,14400]
[null,"410 INSTITUTO REGIONAL DE ENFERMEDADES NEOPLASICAS","R.D.R","CAS","TECNOLOGO MEDICO-LABORATORIO",2400,"45130662","GANOZA RONDON CARLOS VICTOR","TECNOLOGO MEDIC","PROFESIONAL","PROFESIONAL","1",12,28800,"1","6","14,400.00"]
[null,"410 INSTITUTO REGIONAL DE ENFERMEDADES NEOPLASICAS","R.D.R.","CAS","MEDICO AUDITOR",4568,"18217554","GARCIA CACERES DE VOY CAROL VERONICA","MEDICO","PROFESIONAL","PROFESIONAL","1",12,54816,"1",6,27408]
[null,"410 INSTITUTO REGIONAL DE ENFERMEDADES NEOPLASICAS","R.O.","CAS","TECNICO ADMINISTRATIVO",1750,"19088877","GONZALES BACILIO VANESSA JULY",null,null,null,"1",12,21000,"1","6",10500]
[null,"410 INSTITUTO REGIONAL DE ENFERMEDADES NEOPLASICAS","R.O.","CAS","CHOFER",1750,"18136879","GONZALES ROSAS RONALD FERNANDO","SIN PROFESION",0,null,"1",12,21000,"1",6,10500]
[null,"410 INSTITUTO REGIONAL DE ENFERMEDADES NEOPLASICAS","R.O.","CAS","AUXILIAR ADMINISTRATIVO - PORTAPLIEGO",1263,"17926141","GONZALEZ DIAZ DE SOLANO MARIA AGUEDITA","SECRETARIA","TECNICO","TECNICO","1",12,15156,"1","6",7578]
[null,"410 INSTITUTO REGIONAL DE ENFERMEDADES NEOPLASICAS","R.O.","CAS","TECNOLOGO MEDICO",2400,"45201490","GUERRA PACHAMANGO WILFREDO EDUARDO","TECNOLOGO MEDIC","PROFESIONAL","PROFESIONAL","1",12,28800,"1",6,"14,400.00"]
[null,"410 INSTITUTO REGIONAL DE ENFERMEDADES NEOPLASICAS","R.O.","CAS","ENFERMERA(O)",2400,"43867513","GUZMAN OLIVARES LEYSI LIZBETH","ENFERMERA","PROFESIONAL",null,"1",12,28800]
[null,"410 INSTITUTO REGIONAL DE ENFERMEDADES NEOPLASICAS","R.O.","CAS","TECNICO EN RADIOGRAFIA",1750,"41687783","HEREDIA RODRIGO JAIME RAFAEL","TEC.ENFERMERIA","TECNICO","TECNICO","1",12,21000,"1",6,"10,500.00"]
[null,"410 INSTITUTO REGIONAL DE ENFERMEDADES NEOPLASICAS","R.O.","CAS","TRABAJADOR DE SERVICIOS",1050,"09262819","HERNANDEZ SERRANO SEGUNDO MAXIMO","SIN PROFESION",0,null,"1",12,12600,"1","6",6300]
[null,"410 INSTITUTO REGIONAL DE ENFERMEDADES NEOPLASICAS","R.O.","CAS","DIGITADOR(A)",1750,"45679975","HERRERA RODRIGUEZ JOSE ANTONIO","TEC.INFORMATICA","TECNICO","TECNICO","1",12,21000,"1",6,10500]
[null,"410 INSTITUTO REGIONAL DE ENFERMEDADES NEOPLASICAS","R.O.","CAS","MEDICO RADIOLOGO",5200,"43693161","HUACCHA CRUZ SHEYLA ALEJANDRA","MEDICO RADIOLOGO","PROFESIONAL","PROFESIONAL","1",12,62400,"1",6,31200]
[null,"410 INSTITUTO REGIONAL DE ENFERMEDADES NEOPLASICAS","R.O.","CAS","QUIMICO FARMACEUTICO",2400,"42075778","IDROGO TAFUR HARRY","QUIMICO FARMACEUTICO","PROFESIONAL","PROFESIONAL","1",12,28800,"1",6,14400]
[null,"410 INSTITUTO REGIONAL DE ENFERMEDADES NEOPLASICAS","R.O.","CAS","ESPECIALISTA ADMINISTRATIVO",2000,"18111945","LAZARO CASTILLO DAVID GENARO",null,null,null,"1",1,2000]
[null,"410 INSTITUTO REGIONAL DE ENFERMEDADES NEOPLASICAS","R.O.","CAS","ENFERMERA(O)",2400,"41780106","LEIVA ASENCIO CARMEN ANITA","ENFERMERA","PROFESIONAL",null,"1",12,28800]
[null,"410 INSTITUTO REGIONAL DE ENFERMEDADES NEOPLASICAS","R.O.","CAS","ENFERMERA(O)",2400,"42813997","LEIVA LEON CARMEN ROSA","ENFERMERA","PROFESIONAL",null,"1",12,28800]
[null,"410 INSTITUTO REGIONAL DE ENFERMEDADES NEOPLASICAS","R.O.","CAS","ENFERMERA(O)",2400,"41453409","LEON CASTRO VERONICA ELIZABETH","ENFERMERA","PROFESIONAL",null,"1",12,28800]
[null,"410 INSTITUTO REGIONAL DE ENFERMEDADES NEOPLASICAS","R.D.R","CAS","BIOLOGO(A)",2400,"18190559","LEON CORNEJO SUSANA PAOLA","BIOLOGO","PROFESIONAL","PROFESIONAL","1","12",28800,"1","6",14400]
[null,"410 INSTITUTO REGIONAL DE ENFERMEDADES NEOPLASICAS","R.O.","CAS","SECRETARIA",1420,"18089297","LIZARAZO PURIZAGA NORKA DELMA","SECRETARIA","TECNICO","TECNICO","1",12,17040,"1","6",8520]
[null,"410 INSTITUTO REGIONAL DE ENFERMEDADES NEOPLASICAS","R.O.","CAS","TECNICO EN INFORMATICA",1750,"44607807","LLAGAS MUNAYCO PABLO AUGUSTO","TEC.INFORMATICA","TECNICO","TECNICO","1",12,21000,"1","6",10500]
[null,"410 INSTITUTO REGIONAL DE ENFERMEDADES NEOPLASICAS","R.O.","CAS","TRABAJADOR DE SERVICIOS",1050,"18128775","LOAYZA AZABACHE JULISSA JACQUELINE","SIN PROFESION",0,null,"3",12,12600,"1","6",6300]
[null,"410 INSTITUTO REGIONAL DE ENFERMEDADES NEOPLASICAS","R.D.R.","CAS","TECNICO ADMINISTRATIVO",1750,"18150965","LOPEZ NERI PATRICIA DEL MILAGRO","LIC.ADMINISTRACION","PROFESIONAL","PROFESIONAL","3","12",21000,"1","6",10500]
[null,"410 INSTITUTO REGIONAL DE ENFERMEDADES NEOPLASICAS","R.O.","CAS","CITOLOGO",2400,"17848856","LOYOLA SEGURA PATRICIA ESMERALDA","BIOLOGO","PROFESIONAL","PROFESIONAL","1",12,28800]
[null,"410 INSTITUTO REGIONAL DE ENFERMEDADES NEOPLASICAS","R.O.","CAS","SECRETARIA",1420,"45754206","LUJAN REYES ANALY","SECRETARIA","TECNICO","TECNICO","1",12,17040,"1","6",8520]
[null,"410 INSTITUTO REGIONAL DE ENFERMEDADES NEOPLASICAS","R.O.","CAS","QUIMICO FARMACEUTICO",2400,"18136284","MACEN MOYA CARLOS EDUARDO","QUIMICO FARMACEUTICO","PROFESIONAL","PROFESIONAL","1",12,28800,"1",6,14400]
[null,"410 INSTITUTO REGIONAL DE ENFERMEDADES NEOPLASICAS","R.O.","CAS","PERSONAL DE MANTENIMIENTO",1479,"18067929","MEDINA LEON SEGUNDO","TEC.INFORMATICA","TECNICO","TECNICO","1",12,17748,"1","6",8874]
[null,"410 INSTITUTO REGIONAL DE ENFERMEDADES NEOPLASICAS","R.O.","CAS","TECNICO EN INFORMATICA",1750,"44310542","MENDOZA ALBUQUERQUE CARLOS HERMOGENES","TEC.INFORMATICA","TECNICO","TECNICO","1",12,21000,"1","6",10500]
[null,"410 INSTITUTO REGIONAL DE ENFERMEDADES NEOPLASICAS","R.O.","CAS","TECNOLOGO MEDICO",2400,"43749142","MENDOZA BERMUDEZ CHRIS MARILYN","TECNOLOGO MEDIC","PROFESIONAL","PROFESIONAL","1",12,28800,"1",6,"14,400.00"]
[null,"410 INSTITUTO REGIONAL DE ENFERMEDADES NEOPLASICAS","R.O.","CAS","TRABAJADOR DE SERVICIOS",1050,"40092972","MENDOZA CHAVEZ GILMER EDUARDO","SIN PROFESION",0,null,"3",12,12600,"1","6",6300]
[null,"410 INSTITUTO REGIONAL DE ENFERMEDADES NEOPLASICAS","R.O.","CAS","ESPECIALISTA AMINISTRATIVO",2000,"19256861","MENDOZA FARRO CIRO JACINTO","CIENCIAS DE LA COMUNICACIÓN","PROFESIONAL","PROFESIONAL","1",12,24000,"1",6,12000]
[null,"410 INSTITUTO REGIONAL DE ENFERMEDADES NEOPLASICAS","R.O.","CAS","ABOGADO(A)",2000,"40277764","MOLERO LA MADRID LISSETTE GIANINA","ABOGADO","PROFESIONAL","PROFESIONAL","1",12,24000]
[null,"410 INSTITUTO REGIONAL DE ENFERMEDADES NEOPLASICAS","R.O.","CAS","CAJERO",1750,"18067462","MORALES CASTAÑEDA ROSA ELVIRA","TEC.CONTABILIDAD","TECNICO","TECNICO","1",12,21000,"1",6,10500]
[null,"410 INSTITUTO REGIONAL DE ENFERMEDADES NEOPLASICAS","R.O.","CAS","TECNICO ADMINISTRATIVO",1750,"18072650","MORALES URTECHO MANUEL","TEC.INFORMATICA","TECNICO","TECNICO","1",12,21000,"1","6",10500]
[null,"410 INSTITUTO REGIONAL DE ENFERMEDADES NEOPLASICAS","R.O.","CAS","TRABAJADOR DE SERVICIOS",1050,"18017633","MOYA CERNA NICANOR","SIN PROFESION",0,null,"1",12,12600,"1","6",6300]
[null,"410 INSTITUTO REGIONAL DE ENFERMEDADES NEOPLASICAS","R.O.","CAS","TECNICO EN ENFERMERIA",1750,"18222718","MURGA ESCUDERO SANDRA PAOLA","TEC.ENFERMERIA","TECNICO","TECNICO","1",12,21000,"1","6",10500]
[null,"410 INSTITUTO REGIONAL DE ENFERMEDADES NEOPLASICAS","R.D.R.","CAS","TECNICO EN LABORATORIO CLINICO",1750,"45202775","NAVARRO CHISTAMA ALEX","TEC.LABORATORIO CLINICO","TECNICO","TECNICO","1",12,21000,"1","6","10,500.00"]
[null,"410 INSTITUTO REGIONAL DE ENFERMEDADES NEOPLASICAS","R.O.","CAS","ESPECIALISTA ADMINISTRATIVO",2000,"40339445","NAVARRO JESUS PAUL HENRY","CONTADOR","PROFESIONAL","PROFESIONAL","1",12,24000,"1","6",12000]
[null,"410 INSTITUTO REGIONAL DE ENFERMEDADES NEOPLASICAS","R.D.R.","CAS","TRABAJADOR DE SERVICIOS",1050,"40009641","NERI LOPEZ VERONICA ANTONIETA","SIN PROFESION",0,null,"3",12,12600,"1","6",6300]
[null,"410 INSTITUTO REGIONAL DE ENFERMEDADES NEOPLASICAS","R.D.R.","CAS","TECNICO EN LABORATORIO CLINICO",1750,"43991741","NIQUIN ZARSOZA ANGEL ADRIAN","TEC.LABORATORIO CLINICO","TECNICO","TECNICO","1",12,21000,"1","6","10,500.00"]
[null,"410 INSTITUTO REGIONAL DE ENFERMEDADES NEOPLASICAS","R.O.","CAS","ESPECIALISTA ADMINISTRATIVO",2000,"41006496","NUÑEZ GONZALES JUAN VICENTE","LIC.ADMINISTRACION","PROFESIONAL","PROFESIONAL","2",12,24000,"1","6",12000]
[null,"410 INSTITUTO REGIONAL DE ENFERMEDADES NEOPLASICAS","R.O.","CAS","NUTRICIONISTA",2000,"40033301","OBANDO RODRIGUEZ JESSICA KATHERINE","NUTRICIONISTA","PROFESIONAL","PROFESIONAL","2","12",24000]
[null,"410 INSTITUTO REGIONAL DE ENFERMEDADES NEOPLASICAS","R.O.","CAS","TRABAJADOR DE SERVICIOS",1050,"80180710","OBLEA MEDINA WILIAM OMAR","SIN PROFESION",0,null,"1","03",3150]
[null,"410 INSTITUTO REGIONAL DE ENFERMEDADES NEOPLASICAS","R.O.","CAS","TECNICO EN ENFERMERIA",1750,"42498101","OJEDA GELDRES JOHULY YESSENIA","TEC.ENFERMERIA","TECNICO","TECNICO","1",12,21000,"1","6",10500]
[null,"410 INSTITUTO REGIONAL DE ENFERMEDADES NEOPLASICAS","R.O.","CAS","AUXILIAR DE ARCHIVO / AUXILIAR ADMINISTRATIVO",1263,"40300009","ORBEGOSO YPARRAGUIRRE CARLOS MANUEL","TEC.INFORMATICA","TECNICO","TECNICO","1",12,15156,"1","6",7578]
[null,"410 INSTITUTO REGIONAL DE ENFERMEDADES NEOPLASICAS","R.O.","CAS","SECRETARIA",1420,"18091604","ORRILLO BEJAR MAGALY DEL ROCIO","SECRETARIA","TECNICO","TECNICO","1",12,17040,"1","6",8520]
[null,"410 INSTITUTO REGIONAL DE ENFERMEDADES NEOPLASICAS","R.O.","CAS","TRABAJADOR DE SERVICIOS",1050,"41099837","PALACIOS MENDOZA ROSA","SIN PROFESION",0,null,"3",12,12600,"1","6",6300]
[null,"410 INSTITUTO REGIONAL DE ENFERMEDADES NEOPLASICAS","R.O.","CAS","SECRETARIA",1420,"45115588","PAREDES RUIZ SAIRA ROSMERY","SECRETARIA","TECNICO","TECNICO","3","8 meses Y 15 dias",12070,"1"]
[null,"410 INSTITUTO REGIONAL DE ENFERMEDADES NEOPLASICAS","R.O.","CAS","SECRETARIA",1750,45115588,"PAREDES RUIZ SAIRA ROSMERY","SECRETARIA","TECNICO","TECNICO","3","3 meses y 15 dias",6125,null,6,10500]
[null,"410 INSTITUTO REGIONAL DE ENFERMEDADES NEOPLASICAS","R.O.","CAS","QUIMICO FARMACEUTICO",2400,"18141243","PAUCAR ASMAT LUIS EDGARDO","QUIMICO FARMACEUTICO","PROFESIONAL","PROFESIONAL","2",12,28800,"1",6,14400]
[null,"410 INSTITUTO REGIONAL DE ENFERMEDADES NEOPLASICAS","R.O.","CAS","ENFERMERA(O)",2400,"44183992","PEREZ BERNABE GINGER PAMELITA","ENFERMERA","PROFESIONAL","PROFESIONAL","1",12,28800]
[null,"410 INSTITUTO REGIONAL DE ENFERMEDADES NEOPLASICAS","R.O.","CAS","ESPECIALISTA ADMINISTRATIVO",2000,"18028962","PEREZ RODRIGUEZ GONZALO RAMIRO","INGENERIA INDRUSTRIAL","PROFESIONAL","PROFESIONAL","1",12,24000,"1","6",12000]
[null,"410 INSTITUTO REGIONAL DE ENFERMEDADES NEOPLASICAS","R.D.R.","CAS","AUXILIAR ADMINISTRATIVO - PORTAPLIEGO",1263,"27846298","PICON ZAMBORA SONIA ESTELA","AUXILIAR ADMINISTRATIVO","TECNICO","TECNICO","1",12,15156,"1","6",7578]
[null,"410 INSTITUTO REGIONAL DE ENFERMEDADES NEOPLASICAS","R.O.","CAS","TECNICO EN ENFERMERIA",1750,"18167817","PIEDRA FERNANDEZ JUAN JOSE","TEC.ENFERMERIA","TECNICO","TECNICO","1",12,21000]
[null,"410 INSTITUTO REGIONAL DE ENFERMEDADES NEOPLASICAS","R.O.","CAS","TECNICO EN INFORMATICA",1750,"42345208","POTOZEN CRUZ WALTER JEFFERSSON","TEC.INFORMATICA","TECNICO","TECNICO","1",12,21000,"1","6",10500]
[null,"410 INSTITUTO REGIONAL DE ENFERMEDADES NEOPLASICAS","R.O.","CAS","ENFERMERA(O)",2400,"40024847","QUISPE CRUZ CHARO FRANCISCA","ENFERMERA","PROFESIONAL","PROFESIONAL","1",12,28800,"1",6,14400]
[null,"410 INSTITUTO REGIONAL DE ENFERMEDADES NEOPLASICAS","R.O.","CAS","AUXILIAR ADMINISTRATIVO /PORTAPLIEGOS",1263,"09887198","RAMOS MUÑOZ JULIO FRANCISCO","TEC.INFORMATICA","TECNICO","TECNICO","1",12,15156,"1","6",7578]
[null,"410 INSTITUTO REGIONAL DE ENFERMEDADES NEOPLASICAS","R.O.","CAS","TRABAJADOR DE SERVICIOS",1050,"41234856","REQUEJO MENDOZA LIZ KARINA","SIN PROFESION",0,null,"3",12,12600,"1","6",6300]
[null,"410 INSTITUTO REGIONAL DE ENFERMEDADES NEOPLASICAS","R.O.","CAS","TECNICO EN INFORMATICA",1750,"42759002","REVOREDO MARTINEZ JULIO RONALD","ING.SISTEMAS","PROFESIONAL","PROFESIONAL","1",12,21000,"1","6",10500]
[null,"410 INSTITUTO REGIONAL DE ENFERMEDADES NEOPLASICAS","R.O.","CAS","ESTADISTICO",2000,"17861577","REYNA SEGURA CHARITO DEL PILAR","ESTADISTICA","PROFESIONAL","PROFESIONAL","1",12,24000,"1",6,12000]
[null,"410 INSTITUTO REGIONAL DE ENFERMEDADES NEOPLASICAS","R.O.","CAS","ESPECIALISTA ADMINISTRATIVO",2000,"18028583","RODRIGUEZ SANCHEZ FLOR ANGELITA","LIC.ADMINISTRACION","PROFESIONAL","PROFESIONAL","1","04",8000]
[null,"410 INSTITUTO REGIONAL DE ENFERMEDADES NEOPLASICAS","R.O.","CAS","CAJERO",1750,"18092807","RODRIGUEZ SANTOS JORGE CESAR AUGUSTO","TEC.CONTABILIDAD","TECNICO","TECNICO","1",12,21000,"1",6,10500]
[null,"410 INSTITUTO REGIONAL DE ENFERMEDADES NEOPLASICAS","R.O.","CAS","CHOFER",1750,"40371240","RUIZ VILLANUEVA FREDY RICHARD","SIN PROFESION",0,null,"1",12,21000,"1",6,10500]
[null,"410 INSTITUTO REGIONAL DE ENFERMEDADES NEOPLASICAS","R.O.","CAS","TRABAJADOR DE SERVICIOS",1050,"41760153","SAGASTEGUI ACOSTA ALBERT ANDERSON","SIN PROFESION",0,null,"3",12,12600,"1","6",6300]
[null,"410 INSTITUTO REGIONAL DE ENFERMEDADES NEOPLASICAS","R.O.","CAS","MEDICO PATOLOGO",4568,"17935432","SALAZAR RONCAL JORGE WALTER","MEDICO PATALOGO","PROFESIONAL","PROFESIONAL","1",12,54816,"1","6",27408]
[null,"410 INSTITUTO REGIONAL DE ENFERMEDADES NEOPLASICAS","R.D.R.","CAS","TECNICO EN INFORMATICA",1750,"42357251","SALDAÑA POMACONDOR MILAGROS MERCEDES","TEC.INFORMATICA","TECNICO","TECNICO","2",12,21000,"1","6",10500]
[null,"410 INSTITUTO REGIONAL DE ENFERMEDADES NEOPLASICAS","R.O.","CAS","SECRETARIA",1420,"43226866","SALDAÑA PRETELL LUCIA VANESSA","SECRETARIA","TECNICO","TECNICO","3","8 meses Y 15 dias",12070]
[null,"410 INSTITUTO REGIONAL DE ENFERMEDADES NEOPLASICAS","R.O.","CAS","SECRETARIA",1750,"43226866","SALDAÑA PRETELL LUCIA VANESSA","SECRETARIA","TECNICO","TECNICO","1","3 meses y 15 dias",6125,"1",6,10500]
[null,"410 INSTITUTO REGIONAL DE ENFERMEDADES NEOPLASICAS","R.D.R.","CAS","TECNICO EN FARMACIA",1750,"46249372","SANCHEZ LOPEZ CLAUDIA PAOLA","TEC.FARMACIA","TECNICO","TECNICO","1",12,21000,"1",6,10500]
[null,"410 INSTITUTO REGIONAL DE ENFERMEDADES NEOPLASICAS","R.O.","CAS","DIGITADOR(A)",1263,"17858274","SANCHEZ ZAVALETA JULIO CESAR","TEC.INFORMATICA","TECNICO","TECNICO","1",12,15156,"1",6,7578]
[null,"410 INSTITUTO REGIONAL DE ENFERMEDADES NEOPLASICAS","R.O.","CAS","DIGITADOR(A)",1263,"44291586","SANDOVAL BACA DANIEL OMAR","AUXILIAR ADMINISTRATIVO","TECNICO","TECNICO","1","10 meses 15 días",13261.5,"1"]
[null,"410 INSTITUTO REGIONAL DE ENFERMEDADES NEOPLASICAS","R.O.","CAS","DIGITADOR(A)",1750,"44291586","SANDOVAL BACA DANIEL OMAR","TEC.INFORMATICA","TECNICO","TECNICO","1","1 mes 15 días",2625,null,6,10500]
[null,"410 INSTITUTO REGIONAL DE ENFERMEDADES NEOPLASICAS","R.O.","CAS","ENFERMERA(O)",2400,"42792500","SANTOS LAZARO MARIA EUGENIA","ENFERMERA","PROFESIONAL","PROFESIONAL","1",12,28800]
[null,"410 INSTITUTO REGIONAL DE ENFERMEDADES NEOPLASICAS","R.O.","CAS","AUXILIAR DE NUTRICION",1263,"43659055","SILVA TTITO JESSICA","TEC.NUTRICION","TECNICO","TECNICO","1",12,15156,"1","6",7578]
[null,"410 INSTITUTO REGIONAL DE ENFERMEDADES NEOPLASICAS","R.O.","CAS","ENFERMERA(O)",2400,"18075081","SORIANO LOZANO SONIA MARIBEL","ENFERMERA","PROFESIONAL","PROFESIONAL","1",12,28800]
[null,"410 INSTITUTO REGIONAL DE ENFERMEDADES NEOPLASICAS","R.O.","CAS","ENFERMERA",2400,"41349849","SOSA NUNURA ROCIO BEBELU","ENFERMERA","PROFESIONAL","PROFESIONAL","1",12,28800,"1",6,14400]
[null,"410 INSTITUTO REGIONAL DE ENFERMEDADES NEOPLASICAS","R.O.","CAS","TECNICO EN ENFERMERIA",1750,"45581226","SUAREZ ALVARADO EVELIN JOHANA","TEC.ENFERMERIA","TECNICO","TECNICO","1",12,21000,"1","6",10500]
[null,"410 INSTITUTO REGIONAL DE ENFERMEDADES NEOPLASICAS","R.O.","CAS","ESPECIALISTA ADMINISTRATIVO",2000,"17922429","TORRES REQUEJO HUMBERTO","CONTADOR","PROFESIONAL","PROFESIONAL","1",12,24000,"1","6",12000]
[null,"410 INSTITUTO REGIONAL DE ENFERMEDADES NEOPLASICAS","R.O.","CAS","ABOGADO(A)",2000,"40937651","UCEDA PEREZ AMALIA ELIZABETH","ABOGADO",null,null,"1",12,24000,"1"]
[null,"410 INSTITUTO REGIONAL DE ENFERMEDADES NEOPLASICAS","R.O.","CAS","MEDICO",4568,"43290088","URTECHO DAVALOS ANGELICA TERESA","MEDICO","PROFESIONAL","PROFESIONAL","1",12,54816,"1","6",27408]
[null,"410 INSTITUTO REGIONAL DE ENFERMEDADES NEOPLASICAS","R.D.R","CAS","BIOLOGO(A)",2400,"18143049","VASQUEZ CASTILLO ORIANA OLENKA","BIOLOGO","PROFESIONAL","PROFESIONAL","1","5",12000]
[null,"410 INSTITUTO REGIONAL DE ENFERMEDADES NEOPLASICAS","R.O.","CAS","ESPECIALISTA ADMINISTRATIVO - INGENIERO",2000,"44063828","VERA QUIPUZCO JONATHAN PAUL","ING.INDUSTRIAL",0,null,"1",12,24000,"1",6,12000]
[null,"410 INSTITUTO REGIONAL DE ENFERMEDADES NEOPLASICAS","R.O.","CAS","TECNOLOGO MEDICO",2400,"40747729","VIDARTE MALDONADO MILAGROS SULAY","TECNOLOGO MEDIC","PROFESIONAL","PROFESIONAL","1","1",2400]
[null,"410 INSTITUTO REGIONAL DE ENFERMEDADES NEOPLASICAS","R.O.","CAS","ENFERMERA(O)",2400,"42088864","VIGO VALDERRAMA MARTHA MILAGRITOS","ENFERMERA","PROFESIONAL","PROFESIONAL","1",12,28800]
[null,"410 INSTITUTO REGIONAL DE ENFERMEDADES NEOPLASICAS","R.O.","CAS","ENFERMERA(O)",2400,"40755140","VILLARROEL CRUZADO DE GORDILLO EVELYN LILY","ENFERMERA","PROFESIONAL","PROFESIONAL","1",12,28800,"1",6,14400]
[null,"410 INSTITUTO REGIONAL DE ENFERMEDADES NEOPLASICAS","R.O.","CAS","ESTADÍSTICO",2000,"41645161","YACHE CUENCA EDUARDO JAVIER","ESTADISTICA","PROFESIONAL","PROFESIONAL","1",12,24000,"1",6,12000]
[null,"410 INSTITUTO REGIONAL DE ENFERMEDADES NEOPLASICAS","R.O.","CAS","ENFERMERA(O)",2400,"46205039","YARASCA ALVARADO STEPHANNIE YESSENIA","ENFERMERA","PROFESIONAL","PROFESIONAL","1",12,28800]
[null,"410 INSTITUTO REGIONAL DE ENFERMEDADES NEOPLASICAS","R.O.","CAS","ENFERMERA(O)",2400,"42743372","YGLESIAS PELAEZ CINTHIA ROXANA","ENFERMERA","PROFESIONAL","PROFESIONAL","1",12,28800]
[null,"410 INSTITUTO REGIONAL DE ENFERMEDADES NEOPLASICAS","R.O.","CAS","MEDICO ANESTESIOLOGO",4568,"18214298","ZEVALLOS MELENDEZ ZANDRA MILENA","MEDICO ANESTECIOLOGO","PROFESIONAL","PROFESIONAL","1",12,54816,"1","6",27408]
[null,"410 INSTITUTO REGIONAL DE ENFERMEDADES NEOPLASICAS","R.O.","CAS","TECNOLOGO MEDICO",2400,44867766,"BARON LOPEZ MICHAEL HELI","TECNOLOGO MEDIC","PROFESIONAL","PROFESIONAL","1","9",21600,"1",6,"14,400.00"]
[null,"410 INSTITUTO REGIONAL DE ENFERMEDADES NEOPLASICAS","R.D.R","CAS","ASISTENTE ADMINISTRATIVO",2000,18153142,"GANOZA PREVOST ROCIO DEL CARMEN","ING.SISTEMAS","PROFESIONAL","PROFESIONAL","1","9",18000,"1",3,6000]
[null,"410 INSTITUTO REGIONAL DE ENFERMEDADES NEOPLASICAS","R.O.","CAS","TECNICO EN RADIOLOGIA",1750,41802119,"COSME GAMARRA KARINA YAKELIN","TEC.RADIOLOGO","TECNICO","TECNICO","1","9",15750,"1",6,10500]
[null,"410 INSTITUTO REGIONAL DE ENFERMEDADES NEOPLASICAS","R.O.","CAS","MEDICO AUDITOR",4723.05,41916561,"MARIÑOS ASENCIO GUILLERMO ARTURO","MEDICO","PROFESIONAL","PROFESIONAL","1","7",33061.35]
[null,"410 INSTITUTO REGIONAL DE ENFERMEDADES NEOPLASICAS","R.O.","CAS","MEDICO RADIOLOGO",5200,42642592,"VERDE AREDO NILTON LENNON","MEDICO","PROFESIONAL","PROFESIONAL","1","7",36400,"1","6",31200]
[null,"410 INSTITUTO REGIONAL DE ENFERMEDADES NEOPLASICAS","R.O.","CAS","ESPECIALISTA ADMINISTRATIVO",2000,18222368,"LAZARO HARO RUTH JESUS","CONTADOR","PROFESIONAL","PROFESIONAL","1","7",14000,"1","6",12000]
[null,"410 INSTITUTO REGIONAL DE ENFERMEDADES NEOPLASICAS","R.O.","CAS","TECNICO EN INFORMATICA",1750,18213920,"CARDENAS CASTILLO JOSE LUIS","TEC.INFORMATICA","TECNICO","TECNICO","1","7",12250,"1","6",10500]
[null,"410 INSTITUTO REGIONAL DE ENFERMEDADES NEOPLASICAS","R.O.","CAS","TECNICO EN INFORMATICA",1750,19102864,"ESPINOLA OTINIANO GERMAN ANTONIO","TEC.INFORMATICA","TECNICO","TECNICO","1","7",12250]
[null,"410 INSTITUTO REGIONAL DE ENFERMEDADES NEOPLASICAS","R.O.","CAS","TECNICO EN INFORMATICA",1750,46356311,"ALTAMIRANO BACILIO EDWIN PASCUAL","TEC.INFORMATICA","TECNICO","TECNICO","1","7",12250,"1","6",10500]
[null,"410 INSTITUTO REGIONAL DE ENFERMEDADES NEOPLASICAS","R.O.","CAS","TRABAJADOR DE SERVICIOS",1050,70973354,"ARMAS ZAVALETA GIAM POLL","SIN PROFESION",0,null,"1","7",7350,"1","6",6300]
[null,"410 INSTITUTO REGIONAL DE ENFERMEDADES NEOPLASICAS","R.O.","CAS","ESPECIALISTA ADMINISTRATIVO",2000,17860313,"CARRION RUIZ CARMELA PAULINA","CONTADOR","PROFESIONAL","PROFESIONAL","1","20 dias y 5 meses",11334]
[null,"410 INSTITUTO REGIONAL DE ENFERMEDADES NEOPLASICAS","R.D.R.","CAS","TRABAJADORA SOCIAL",2400,45135946,"VALLEJOS MONTALVAN NATALIA PRISCILA","ASISTENTE SOCIAL","PROFESIONAL","PROFESIONAL","1","20 dias y 5 meses",13548.38,"1","4 meses y 10 dias",10375]
[null,"410 INSTITUTO REGIONAL DE ENFERMEDADES NEOPLASICAS","R.O.","CAS","BIOLOGO(A)",2400,40817572,"ZARATE ASMAT CESAR ALFONSO","BIOLOGO","PROFESIONAL","PROFESIONAL","1","20 dias y 5 meses",13548.38,"1","4 meses y 10 dias",10375]
[null,"410 INSTITUTO REGIONAL DE ENFERMEDADES NEOPLASICAS","R.D.R.","CAS","MEDICO INTENSIVISTA",4568,45211768,"LUNA CASTAÑEDA ROSA VIKELLY","MEDICO INTENSIVISTA","PROFESIONAL","PROFESIONAL","1","3 meses y 15 dias",15988,"1","6",27408]
[null,"410 INSTITUTO REGIONAL DE ENFERMEDADES NEOPLASICAS","R.O.","CAS","MEDICO AUDITOR",4568,44766438,"VERA VERNA ANA MARIA","MEDICO","PROFESIONAL","PROFESIONAL","1","3 meses y 15 dias",15988,"1","6",27408]
[null,"410 INSTITUTO REGIONAL DE ENFERMEDADES NEOPLASICAS","R.D.R.","CAS","TECNICO EN ENFERMERIA",1750,27422835,"YRIGOIN RUBIO FELICITA","TEC.ENFERMERIA","TECNICO","TECNICO","1","3 meses y 15 dias",6125,"1","6",10500]
[null,"410 INSTITUTO REGIONAL DE ENFERMEDADES NEOPLASICAS","R.D.R.","CAS","TECNICO EN FARMACIA",1750,42311626,"DIAZ NARRO JUDITH MARISOL","TEC.FARMACIA","TECNICO","TECNICO","1","3 meses y 15 dias",6125,"1",6,10500]
[null,"410 INSTITUTO REGIONAL DE ENFERMEDADES NEOPLASICAS","R.D.R.","CAS","TECNICO EN FARMACIA",1750,45558143,"SANCHEZ SAAVEDRA PEDRO DAVID","TEC.FARMACIA","TECNICO","TECNICO","1","3 meses y 15 dias",6125,"1","6",10500]
[null,"410 INSTITUTO REGIONAL DE ENFERMEDADES NEOPLASICAS","R.O.","CAS","TRABAJADOR DE SERVICIOS",1050,73114495,"RUIZ ZARATE EDIN ALEXANDER","SIN PROFESION",0,null,"1","3 meses y 15 dias",3675,"1","6",6300]
[null,"410 INSTITUTO REGIONAL DE ENFERMEDADES NEOPLASICAS","R.O.","CAS","TRABAJADOR DE SERVICIOS",1050,18182689,"SANTA CRUZ TEQUEN ALIPIO","SIN PROFESION",0,null,"1","3 meses y 15 dias",3675]
[null,"410 INSTITUTO REGIONAL DE ENFERMEDADES NEOPLASICAS","R.O.","CAS","AUXILIAR DE NUTRICION",1263,40596896,"RUIZ RIOS KAREN MELISSA","TEC.NUTRICION","TECNICO","TECNICO","1","3 meses y 15 dias",4421,"1","6",7578]
[null,"410 INSTITUTO REGIONAL DE ENFERMEDADES NEOPLASICAS","R.D.R.","CAS","TECNICO EN ENFERMERIA",1750,18893285,"VARGAS ALVARADO YANINA MABEL","TEC.ENFERMERIA","TECNICO","TECNICO","1","1 mes 15 días",2625,"1","6",10500]
[null,"410 INSTITUTO REGIONAL DE ENFERMEDADES NEOPLASICAS","R.O.","CAS","MEDICO AUDITOR",4568,41480740,"ROJAS OBANDO RICHARD ANDY","MEDICO","PROFESIONAL","PROFESIONAL","1","1 mes 15 días",6852,"1","6",27408]
[null,"410 INSTITUTO REGIONAL DE ENFERMEDADES NEOPLASICAS","R.O.","CAS","MEDICO RADIOLOGO",5200,41903175,"RIOS ALVA RONALD RICHARD","MEDICO RADIOLOGO","PROFESIONAL","PROFESIONAL","1","1 mes 15 días",7800,"1","6",31200]
[]
[null,null,null,null,null,{"$f":"SUM(F4813:F4972)","v":327598.05},null,null,null,null,null,null,null,{"$f":"SUM(N4813:N4972)","v":3288929.61},null,null,{"$f":"SUM(Q4813:Q4972)","v":1326734}]
[null,"411 SALUD JULCAN","RO","CAS","OBSTETRA",1900,18122951,"BOLAÑOS ZAVALA DANY SONIA","OBSTETRA","PROFESIONAL","Titulo Profesióonal, Técncio o Capacitación Ocupacional","N° 280-2018","12 MESES",{"$f":"+F4974*12","v":22800},"N° 089-2019",6,{"$f":"+F4974*6","v":11400}]
[null,"411 SALUD JULCAN","RO","CAS","OBSTETRA",1900,47271792,"GERALDINE SALANSH CORONEL CALDERON","OBSTETRA","PROFESIONAL","Titulo Profesióonal, Técncio o Capacitación Ocupacional","N° 285-2018","12 MESES",{"$f":"+F4975*12","v":22800},"N° 097-2019",6,{"$f":"+F4975*6","v":11400}]
[null,"411 SALUD JULCAN","RO","CAS","ENFERMERA(O)",1900,46812410,"PAREDES CIEZA SHEYLA MELANIE","ENFERMERA(O)","PROFESIONAL","Titulo Profesióonal, Técncio o Capacitación Ocupacional","N° 303-2018","12 MESES",22800,"N° 110-2019",6,11400]
[null,"411 SALUD JULCAN","RO","CAS","ENFERMERA(O)",1900,43501791,"TENORIO CORONEL MARIA LISSET","ENFERMERA(O)","PROFESIONAL","Titulo Profesióonal, Técncio o Capacitación Ocupacional","N° 270-2018","12 MESES",22800,"N° 120-2019",6,11400]
[null,"411 SALUD JULCAN","RO","CAS","ENFERMERA(O)",1900,70225455,"MIRANDA PALACIOS MILAGRITOS DEL ROSARIO","ENFERMERA(O)","PROFESIONAL","Titulo Profesióonal, Técncio o Capacitación Ocupacional","N° 271-2018","12 MESES",22800,"N° 107-2019",6,11400]
[null,"411 SALUD JULCAN","RO","CAS","ENFERMERA(O)",1900,"47558120","VILLARREAL  BARDALES GIULIANA ELIZABETH KATHERINE","ENFERMERA(O)","PROFESIONAL","Titulo Profesióonal, Técncio o Capacitación Ocupacional","N° 268-2018","12 MESES",22800,"N° 123-2019",6,11400]
[null,"411 SALUD JULCAN","RO","CAS","ENFERMERA(O)",1900,47464452,"GOICOCHEA MENDOZA LEYLA MEDHALIT","ENFERMERA(O)","PROFESIONAL","Titulo Profesióonal, Técncio o Capacitación Ocupacional","N° 269-2018","12 MESES",22800,"N° 098-2019",6,11400]
[null,"411 SALUD JULCAN","RO","CAS","BIOLOGO(A)",1900,44814346,"CABRERA VALDIVIESO YENY MARGARITA","BIOLOGO(A)","PROFESIONAL","Titulo Profesióonal, Técncio o Capacitación Ocupacional","N° 309-2018","12 MESES",22800,"N° 090-2019",6,11400]
[null,"411 SALUD JULCAN","RO","CAS","TECNICA EN ENFERMERIA",1100,"47142924","REYES DELGADO CARMITA MEDALIT","TECNICA EN ENFERMERIA","SUPERIOR TECNICO","Titulo Profesióonal, Técncio o Capacitación Ocupacional","N° 278-2018","12 MESES",13200,"N° 112-2019",6,6600]
[null,"411 SALUD JULCAN","RO","CAS","TECNICA EN ENFERMERIA",1100,"71032133","ORBEGOSO CASTAÑADUI LEYDI MARILU","TECNICA EN ENFERMERIA","SUPERIOR TECNICO","Titulo Profesióonal, Técncio o Capacitación Ocupacional","N° 294-2018","12 MESES",13200,"N° 109-2019",6,6600]
[null,"411 SALUD JULCAN","RO","CAS","TECNICA EN ENFERMERIA",1100,"76950360","SANTOS GAMARRA ROCIO ELIZABETH ","TECNICA EN ENFERMERIA","SUPERIOR TECNICO","Titulo Profesióonal, Técncio o Capacitación Ocupacional","N° 272-2018","12 MESES",13200,"N° 116-2019",6,6600]
[null,"411 SALUD JULCAN","RO","CAS","TECNICA EN ENFERMERIA",1100,"76950361","AGREDA NEYRA BALERIA MERCI ","TECNICA EN ENFERMERIA","SUPERIOR TECNICO","Titulo Profesióonal, Técncio o Capacitación Ocupacional","N° 267-2018","12 MESES",13200,"N° 084-2019",6,6600]
[null,"411 SALUD JULCAN","RO","CAS","TEC. LABORATORIO",1100,"76950362","SANCHEZ CEDANO GIULLIANA NOHELY","TEC. LABORATORIO","SUPERIOR TECNICO","Titulo Profesióonal, Técncio o Capacitación Ocupacional","N° 286-2018","12 MESES",13200,"N° 115-2019",6,6600]
[null,"411 SALUD JULCAN","RO","CAS","TECNICO/A ADMINISTRATIVO",1100,"76950363","CORCUERA LOYOLA MELISSA PAOLA","TECNICO/A ADMINISTRATIVO","SUPERIOR TECNICO","Titulo Profesióonal, Técncio o Capacitación Ocupacional","N° 298-2018","12 MESES",13200,"N° 093-2019",6,6600]
[null,"411 SALUD JULCAN","RO","CAS","DIGITADOR",1100,"76950364","HERNANDEZ  BRICEÑO LELYS ARTURO","DIGITADOR","SUPERIOR TECNICO","Titulo Profesióonal, Técncio o Capacitación Ocupacional","N° 293-2018","12 MESES",13200,"N° 102-2019",6,6600]
[null,"411 SALUD JULCAN","RO","CAS","TECNICO  CONTABILIDAD",1100,"76950365","SEGURA NOLASCO JAQUELIN ","TECNICO  CONTABILIDAD","SUPERIOR TECNICO","Titulo Profesióonal, Técncio o Capacitación Ocupacional","N° 289-2018","12 MESES",13200,"N° 117-2019",6,6600]
[null,"411 SALUD JULCAN","RO","CAS","TECNICO MANTENIMIENTO",1100,"76950366","ESPINOLA SALIRROSAS SANTIAGO","TECNICO MANTENIMIENTO","SUPERIOR TECNICO","Titulo Profesióonal, Técncio o Capacitación Ocupacional","N° 299-2018","12 MESES",13200,"N° 095-2019",6,6600]
[null,"411 SALUD JULCAN","RO","CAS","PILOTO DE AMBULANCIA",1100,"76950367","RODRIGUEZ VERGEL LUIS ALBERTO","PILOTO DE AMBULANCIA","SUPERIOR TECNICO","Titulo Profesióonal, Técncio o Capacitación Ocupacional","N° 296-2018","12 MESES",13200,"N° 113-2019",6,6600]
[null,"411 SALUD JULCAN","RO","CAS","VIGILANTE",1000,"76950368","CARRANZA RAMIREZ FABIAN","VIGILANTE","SUPERIOR TECNICO","Titulo Profesióonal, Técncio o Capacitación Ocupacional","N° 283-2018","12 MESES",12000,"N° 091-2019",6,6000]
[null,"411 SALUD JULCAN","RO","CAS","VIGILANTE",1000,"76950369","ROJAS BARRIOS WALTER","VIGILANTE","SUPERIOR TECNICO","Titulo Profesióonal, Técncio o Capacitación Ocupacional","N° 307-2018","12 MESES",12000,"N° 114-2019",6,6000]
[null,"411 SALUD JULCAN","RO","CAS","VIGILANTE",1000,"76950370","GONZALEZ CAYETANO ESTUARDO ANTONIO","VIGILANTE","SUPERIOR TECNICO","Titulo Profesióonal, Técncio o Capacitación Ocupacional","N° 282-2018","12 MESES",12000,"N° 099-2019",6,6000]
[null,"411 SALUD JULCAN","RO","CAS","TRABAJADOR DE SERVICIO",1000,"76950371","VENTURA ORBEGOSO BERNARDO","TRABAJADOR DE SERVICIO","SUPERIOR TECNICO","Titulo Profesióonal, Técncio o Capacitación Ocupacional","N° 276-2018","12 MESES",12000,"N° 121-2019",6,6000]
[null,"411 SALUD JULCAN","RO","CAS","TRABAJADOR DE SERVICIO",1000,"76950372","BLAS GAVIDIA ARMIDA","TRABAJADOR DE SERVICIO","SUPERIOR TECNICO","Titulo Profesióonal, Técncio o Capacitación Ocupacional","N° 294-2018","12 MESES",12000,"N° 088-2019",6,6000]
[null,"411 SALUD JULCAN","RO","CAS","PERSONAL LAVANDERIA",850,"76950373","SOLANO MOZO CELINDA CONSUELO","PERSONAL LAVANDERIA","SUPERIOR TECNICO","Titulo Profesióonal, Técncio o Capacitación Ocupacional","N° 279-2018","12 MESES",10200,"N° 119-2019",6,5100]
[null,"411 SALUD JULCAN","RO","CAS","TECNICA EN ENFERMERIA",1100,"76950374","ALFARO RIOS SANTOS BENILDA","TECNICA EN ENFERMERIA","SUPERIOR TECNICO","Titulo Profesióonal, Técncio o Capacitación Ocupacional","N° 300-2018","12 MESES",13200,"N° 085-2019",6,6600]
[null,"411 SALUD JULCAN","RO","CAS","TECNICA EN ENFERMERIA",1100,"76950375","SILVESTRE ARTEAGA KELY MABEL","TECNICA EN ENFERMERIA","SUPERIOR TECNICO","Titulo Profesióonal, Técncio o Capacitación Ocupacional","N° 292-2018","12 MESES",13200,"N° 118-2019",6,6600]
[null,"411 SALUD JULCAN","RO","CAS","CHOFER MOTOCICLETA",850,"76950376","GUZMAN VASQUEZ ELAR","CHOFER MOTOCICLETA","SUPERIOR TECNICO","Titulo Profesióonal, Técncio o Capacitación Ocupacional","N° 281-2018","12 MESES",10200,"N° 101-2019",6,5100]
[null,"411 SALUD JULCAN","RO","CAS","CHOFER MOTOCICLETA",850,"76950377","ARGOMEDO OLIVARES TITO WILMER","CHOFER MOTOCICLETA","SUPERIOR TECNICO","Titulo Profesióonal, Técncio o Capacitación Ocupacional","N° 305-2018","12 MESES",10200,"N° 086-2019",6,5100]
[null,"411 SALUD JULCAN","RO","CAS","TRABAJADOR DE SERVICIO",850,"42351258","CRUZ BURGOS WANNER","TRABAJADOR DE SERVICIO","SUPERIOR TECNICO","Titulo Profesióonal, Técncio o Capacitación Ocupacional","N° 308-2018","12 MESES",10200,null,6]
[null,"411 SALUD JULCAN","RO","CAS","OBSTETRA",1900,"76950378","GUZMAN BAZAURI BLANCA MARINA","OBSTETRA","PROFESIONAL","Titulo Profesióonal, Técncio o Capacitación Ocupacional","N° 297-2018","12 MESES",22800,"N° 100-2019",6,11400]
[null,"411 SALUD JULCAN","RO","CAS","PILOTO DE AMBULANCIA",1100,"76950379","LUCAS PEREZ ALAN RAUL","PILOTO DE AMBULANCIA","SUPERIOR TECNICO","Titulo Profesióonal, Técncio o Capacitación Ocupacional","N° 273-2018","12 MESES",13200,"N° 105-2019",6,6600]
[null,"411 SALUD JULCAN","RO","CAS","VIGILANTE",1000,"76950380","HILARIO GARCIA LUIS DOMINGO","VIGILANTE","SUPERIOR TECNICO","Titulo Profesióonal, Técncio o Capacitación Ocupacional","N° 295-2018","12 MESES",12000,"N° 103-2019",6,6000]
[null,"411 SALUD JULCAN","RO","CAS","CHOFER MOTOCICLETA",850,"76950381","FLORES CASTILLO JUSTINIANO RAUL","CHOFER MOTOCICLETA","SUPERIOR TECNICO","Titulo Profesióonal, Técncio o Capacitación Ocupacional","N° 291-2018","12 MESES",10200,"N° 096-2019",6,5100]
[null,"411 SALUD JULCAN","RO","CAS","TECNICA EN ENFERMERIA",1100,"76950382"," CAYETANO ARQUEROS ANIGREDY","TECNICA EN ENFERMERIA","SUPERIOR TECNICO","Titulo Profesióonal, Técncio o Capacitación Ocupacional","N° 266-2018","12 MESES",13200,"N° 092-2019",6,6600]
[null,"411 SALUD JULCAN","RO","CAS","TECNICA EN LABORATORIO",1100,"76950383","ZAVALA CRUZ AURORITA MARISOL","TECNICA EN LABORATORIO","SUPERIOR TECNICO","Titulo Profesióonal, Técncio o Capacitación Ocupacional","N° 275-2018","12 MESES",13200,"N° 124-2019",6,6600]
[null,"411 SALUD JULCAN","RO","CAS","TRABAJADOR DE SERVICIO",850,"76950384","BACILIO RODRIGUEZ SANTOS EDILBERTO","TRABAJADOR DE SERVICIO","SUPERIOR TECNICO","Titulo Profesióonal, Técncio o Capacitación Ocupacional","N° 301-2018","12 MESES",10200,"N° 087-  2019",6,5100]
[null,"411 SALUD JULCAN","RO","CAS","TECNICO EN ENFERMERIA",1100,"76950385","CORDOVA AVALOS JAIME ROMAN","TECNICO EN ENFERMERIA","SUPERIOR TECNICO","Titulo Profesióonal, Técncio o Capacitación Ocupacional","N° 288-2018","12 MESES",13200,"N° 094-2019",6,6600]
[null,"411 SALUD JULCAN","RO","CAS","ENFERMERA(O)",1900,"76950386","PAZ CORDOVA SANTOS DELMIRA","ENFERMERA(O)","PROFESIONAL","Titulo Profesióonal, Técncio o Capacitación Ocupacional","N° 302-2018","12 MESES",22800,"N° 111-2019",6,11400]
[null,"411 SALUD JULCAN","RO","CAS","TECNICA EN ENFERMERIA",1100,"76950387","VICENTE LUJAN TERESA MARIVEL","TECNICA EN ENFERMERIA","SUPERIOR TECNICO","Titulo Profesióonal, Técncio o Capacitación Ocupacional","N° 304-2018","12 MESES",13200,"N° 122-2019",6,6600]
[null,"411 SALUD JULCAN","RO","CAS","PILOTO DE AMBULANCIA",1100,"76950388","MENDEZ SOLORZANO JULIO CESAR","PILOTO DE AMBULANCIA","SUPERIOR TECNICO","Titulo Profesióonal, Técncio o Capacitación Ocupacional","N° 290-2018","12 MESES",13200,"N° 106-2019",6,6600]
[null,"411 SALUD JULCAN","RO","CAS","TRABAJADOR DE SERVICIO",850,"76950389","HILARIO QUEZADA FLOR JEANET","TRABAJADOR DE SERVICIO","SUPERIOR TECNICO","Titulo Profesióonal, Técncio o Capacitación Ocupacional","N° 284-2018","12 MESES",10200,"N° 104-2019",6,5100]
[null,"411 SALUD JULCAN","RO","CAS","TECNICO EN ENFERMERIA",1100,"76950390","OLIVARES CANCHACHI GUILLERMO JAIME","TECNICO EN ENFERMERIA","SUPERIOR TECNICO","Titulo Profesióonal, Técncio o Capacitación Ocupacional","N° 287-2018","12 MESES",13200,"N° 108-2019",6,1100]
[null,null,null,null,null,{"$f":"SUM(F4974:F5015)","v":51850},null,null,null,null,null,null,null,{"$f":"SUM(N4974:N5015)","v":622200},null,null,{"$f":"SUM(Q4974:Q5015)","v":300500}]
[null,"412 SALUD VIRU","RO","CAS","ENFERMERA(O)",1800,"47464452","GOICOCHEA MENDOZA LEYLA MEDHALIT","ENFERMERA","LICENCIADA","LICENCIADA EN ENFERMERIA",0,0,{"$f":"+F5017*M5017","v":0},0,5,{"$f":"+F5017*P5017","v":9000}]
[null,"412 SALUD VIRU","RO","CAS","ADMINISTRATIVO CONTABLE",2000,"47327820","PULIDO ROSALES JULISSA GULIANA","ADMINISTRADORA","MAESTRA","LICENCIADA EN ADMINISTRACIÓN",3,12,{"$f":"+F5018*M5018","v":24000},1,6,{"$f":"+F5018*P5018","v":12000}]
[null,"412 SALUD VIRU","RO","CAS","TECNICO ADMINISTRATIVO",1800,"47167746","VASQUEZ GAMBOA LUIS ANTONIO","BACHILLER EN CIENCIAS ECONOMICAS","BACHILLER",{"$f":"+I5019","v":"BACHILLER EN CIENCIAS ECONOMICAS"},{"$f":"1+2","v":3},12,21600,1,6,10800]
[null,"412 SALUD VIRU","RO","CAS","DIGITADOR(A)",1200,"18216889","FLORIAN RODRIGUEZ OMAR","TECNICO EN COMPUTACIÓN","TECNICO",{"$f":"+I5020","v":"TECNICO EN COMPUTACIÓN"},{"$f":"1+2","v":3},12,14400,1,6,7200]
[null,"412 SALUD VIRU","RO","CAS","TECNICO ADMINISTRATIVO CONTABL",2000,"44338050","QUINTANA SOLES TANIA GIOVANNA","CONTADORA","CONTADORA",{"$f":"+I5021","v":"CONTADORA"},{"$f":"1+2","v":3},12,24000,1,6,12000]
[null,"412 SALUD VIRU","RO","CAS","ENFERMERA(O)",2000,"45483770","ABANTO DIAZ PAMELA NATIVIDAD","ENFERMERA","LICENCIADA","LICENCIADA EN ENFERMERIA",{"$f":"1+3","v":4},12,24000,1,6,12000]
[null,"412 SALUD VIRU","RO","CAS","MEDICO PSIQUIATRA",8060,"43642657","AVALOS MENDOCILLA ERIKA DANIELA","MEDICO PSIQUIATRA","MEDICO PSIQUIATRA","MEDICO PSIQUIATRA",{"$f":"1+3","v":4},12,96720,1,6,48360]
[null,"412 SALUD VIRU","RO","CAS","MEDICO",2800,"44689125","AZABACHE LUJAN CINTYA MILAGRITOS LIZBETH","MEDICO FAMILIAR","MEDICO ESPECIALISTA EN MEDICINA FAMILIAR","MEDICO FAMILIAR",4,12,33600,1,6,16800]
[null,"412 SALUD VIRU","RO","CAS","ENFERMERA(O)",1300,"47135283","BARRANTES MENDOCILLA CECILIA MAGALY","ENFERMERA","LICENCIADA","LICENCIADA EN ENFERMERIA",{"$f":"1+2","v":3},12,15600,1,6,7800]
[null,"412 SALUD VIRU","RO","CAS","NUTRICIONISTA",2689,"40685944","BARROS GAMBOA JANI BAKET","LICENCIADA EN NUTRICIÓN","LICENCIADA","LICENCIADA EN NUTRICIÓN",4,12,32268,1,6,16134]
[null,"412 SALUD VIRU","RO","CAS","ENFERMERA(O)",2000,"45272824","CABANILLAS BRICEÑO MARIA ALEJANDRA","ENFERMERA","LICENCIADA","LICENCIADA EN ENFERMERIA",4,12,24000,1,6,12000]
[null,"412 SALUD VIRU","RO","CAS","BIOLOGO(A)",1400,"41317120","CABRERA PONCE MILUSKA MARILYN","BIOLOGA","BIOLOGA","LICENCIADA EN ENFERMERIA",4,12,16800,1,6,8400]
[null,"412 SALUD VIRU","RO","CAS","ENFERMERA(O)",2000,"70474085","CABRERA SERRANO JAHAIDA EDITH","ENFERMERA","LICENCIADA","LICENCIADA EN ENFERMERIA",4,12,24000,1,6,12000]
[null,"412 SALUD VIRU","RO","CAS","ENFERMERA(O)",1300,"17903661","CASTRO CUEVA ROSARIO PATRICIA","ENFERMERA","LICENCIADA","LICENCIADA EN ENFERMERIA",4,12,15600,1,6,7800]
[null,"412 SALUD VIRU","RO","CAS","MEDICO",5025,"45207401","CONDORI CUSACANI MIRIAN","MEDICO NEUMOLOGO","MEDICO ESPECIALISTA EN NEUMOLOGIA","LICENCIADA EN ENFERMERIA",4,12,60300,1,6,30150]
[null,"412 SALUD VIRU","RO","CAS","ENFERMERA(O)",1800,"46637013","ESPINO ARTEAGA JELIM COLYEM","ENFERMERA","LICENCIADA","LICENCIADA EN ENFERMERIA",4,12,21600,1,6,10800]
[null,"412 SALUD VIRU","RO","CAS","TECNICO EN ENFERMERIA",1500,"19100521","GONZALEZ AGUILAR FELICITA RICARDINA","TECNICO EN ENFERMERIA","TECNICA","TECNICA EN ENFERMERIA",4,12,18000,1,6,9000]
[null,"412 SALUD VIRU","RO","CAS","ABOGADO(A)",2000,"40536607","MAGUIÑA SOTOMAYOR MADEL MARY","ABOGADA","ABOGADA","ABOGADA",{"$f":"1+2","v":3},12,24000,1,6,12000]
[null,"412 SALUD VIRU","RO","CAS","MEDICO",2800,"43162224","MEDINA YECKLE CLAUDIA MILAGROS","MEDICO CIRUJANO","MEDICO CIRUJANO","MEDICO CIRUJANO",4,12,33600,1,6,16800]
[null,"412 SALUD VIRU","RO","CAS","ENFERMERA(O)",1300,"43476562","MIÑANO SANCHEZ MARITZA RAQUEL","ENFERMERA","LICENCIADA","LICENCIADA EN ENFERMERIA",4,12,15600,1,6,7800]
[null,"412 SALUD VIRU","RO","CAS","ASISTENTE SOCIAL",2000,"43766506","MORALES CASTILLO ROCIO DEL PILAR","ASISTENTA SOCIAL","ASISTENTA SOCIAL","ASISTENTA SOCIAL",4,12,24000,1,6,12000]
[null,"412 SALUD VIRU","RO","CAS","PSICOLOGO(A)",2000,"41252751","PACHECO CERNA TOMACITA YSABEL","PSICOLOGA","LICENCIADA EN PSICOLOGIA","LICENCIADA EN PSICOLOGIA",4,12,24000,1,6,12000]
[null,"412 SALUD VIRU","RO","CAS","ENFERMERA(O)",2000,"45646237","REYES VALENCIA SHEYLA MARISELLA","ENFERMERA","LICENCIADA","LICENCIADA EN ENFERMERIA",4,12,24000,1,6,12000]
[null,"412 SALUD VIRU","RO","CAS","TECNICO EN ENFERMERIA",1200,"42072231","RODRIGUEZ SANTIAGO MARIA DEYSI","TECNICO EN ENFERMERIA","TECNICA","TECNICO EN ENFERMERIA",4,12,14400,1,6,7200]
[null,"412 SALUD VIRU","RO","CAS","TECNICO EN ENFERMERIA",1000,"43360068","BACA LAIZA ELDA SARA","TECNICO EN ENFERMERIA","TECNICA","TECNICO EN ENFERMERIA",4,12,12000,1,6,6000]
[null,"412 SALUD VIRU","RO","CAS","TECNICO EN ENFERMERIA",1200,"45705834","CARRANZA BLAS ANGELICA","TECNICO EN ENFERMERIA","TECNICA","TECNICO EN ENFERMERIA",4,12,14400,1,6,7200]
[null,"412 SALUD VIRU","RO","CAS","DIGITADOR(A)",1000,"72087162","DESPOSORIO SANDOVAL KATYA THALIA","TECNICA EN COMPUTACIÓN E INFORMATICA","TECNICA ","TECNICA EN COMPUTACIÓN E INFORMATICA",{"$f":"1+2","v":3},12,12000,1,6,6000]
[null,"412 SALUD VIRU","RO","CAS","TECNICO EN FARMACIA",1500,"18076857","GONZALES LUJAN EBERT YONEL","TECNICO EN FARMACIA","TECNICO","TECNICO EN FARMACIA",4,12,18000,1,6,9000]
[null,"412 SALUD VIRU","RO","CAS","TECNICO EN ENFERMERIA",1200,"46504128","LAVADO PIZAN MELISSA RAQUEL","TECNICO EN ENFERMERIA","TECNICA","TECNICO EN ENFERMERIA",4,12,14400,1,6,7200]
[null,"412 SALUD VIRU","RO","CAS","TECNICO EN ENFERMERIA",1834,"45075608","LIMO GUERRERO MARITZA JULIA","TECNICO EN ENFERMERIA","TECNICA ","TECNICO EN ENFERMERIA",4,12,22008,1,6,11004]
[null,"412 SALUD VIRU","RO","CAS","CHOFER",930,"42529997","LOZANO ALVA GABRIEL ALFREDO","CHOFER","SECUNDARIA COMPLETA","CHOFER",4,12,11160,1,6,5580]
[null,"412 SALUD VIRU","RO","CAS","TECNICO EN ENFERMERIA",1000,"46135033","MARTINEZ REYES MILAGROS MERCEDES","TECNICO EN ENFERMERIA","TECNICO","TECNICO EN ENFERMERIA",4,12,12000,1,6,6000]
[null,"412 SALUD VIRU","RO","CAS","TRABAJADOR DE SERVICIO",930,"47853102","MENDOZA FLORES JOHNNY OSWALDO","TRABAJADOR DE SERVICIO","SECUNDARIA COMPLETA","TRABAJADOR DE SERVICIO",4,12,11160,1,6,5580]
[null,"412 SALUD VIRU","RO","CAS","TRABAJADOR DE SERVICIO",930,"18171868","QUITO VILLAR SEGUNDO MERCEDES","TRABAJADOR DE SERVICIO","SECUNDARIA COMPLETA","TRABAJADOR DE SERVICIO",4,12,11160,1,6,5580]
[null,"412 SALUD VIRU","RO","CAS","TECNICO EN REHABIL. Y FISIOT.",1500,"43217250","RAMIREZ CHOTON LESLIE ANALI","TECNICO EN REHABIL. Y FISIOT.","TECNICO","TECNICO EN REHABIL. Y FISIOT.",4,12,18000,1,6,9000]
[null,"412 SALUD VIRU","RO","CAS","DIGITADOR(A)",1200,"41313184","SANCHEZ ANHUAMAN SARITA MARIBEL","TECNICO EN COMPUTACION","TECNICO","TECNICO EN COMPUTACION",{"$f":"1+2","v":3},12,14400,1,6,7200]
[null,"412 SALUD VIRU","RO","CAS","TECNICO EN COMPUTACION",1500,"45391055","SANCHEZ ARANA CESAR ENRIQUE","TECNICO EN COMPUTACION","TECNICO","TECNICO EN COMPUTACION",4,12,18000,1,6,9000]
[null,"412 SALUD VIRU","RO","CAS","ENFERMERA(O)",2689,"44834360","SANTOS ACEVEDO ROCIO","ENFERMERA","LICENCIADA","LICENCIADA EN ENFERMERIA",4,12,32268,1,6,16134]
[null,"412 SALUD VIRU","RO","CAS","TRABAJADOR DE SERVICIO",930,"46673161","VILELA PINILLOS MANUEL GIANCARLO","TRABAJADOR DE SERVICIO","SECUNDARIA COMPLETA","TRABAJADOR DE SERVICIO",4,12,11160,1,6,5580]
[null,"412 SALUD VIRU","RO","CAS","MEDICO",2800,"44333338","GONZALES FELIPA ELIZABETH","MEDICO CIRUJANO","MEDICO","MEDICO CIRUJANO",4,12,33600,1,6,16800]
[null,"412 SALUD VIRU","RO","CAS","MEDICO",2800,"42071816","IZAGUIRRE POLO CARLOS ANGEL","MEDICO CIRUJANO","MEDICO","MEDICO CIRUJANO",4,12,33600,1,6,16800]
[null,"412 SALUD VIRU","RO","CAS","ENFERMERA(O)",1500,"45828691","LA ROSA VILLAR MILAGROS JANETH","ENFERMERA","LICENCIADA","LICENCIADA EN ENFERMERIA",4,12,18000,1,6,9000]
[null,"412 SALUD VIRU","RO","CAS","ENFERMERA(O)",1400,"45941380","PEREDA SAGASTEGUI CLAUDIA PAOLA","ENFERMERA","LICENCIADA","LICENCIADA EN ENFERMERIA",4,12,16800,1,6,8400]
[null,"412 SALUD VIRU","RO","CAS","OBSTETRA",1500,"40337574","REYES CHANTA ANA MARIA","OBSTETRA","LICENCIADA","LICENCIADA EN OBSTETRICIA",4,12,18000,1,6,9000]
[null,"412 SALUD VIRU","RO","CAS","OBSTETRA",1400,"42609862","VELA DIAZ JOSE STEVEN","OBSTETRA","LICENCIADA","LICENCIADA EN OBSTETRICIA",4,12,16800,1,6,8400]
[null,"412 SALUD VIRU","RO","CAS","ENFERMERA(O)",1500,"47558120","VILLARREAL BARDALES GIULIANA ELIZABETH KATHER","ENFERMERA","LICENCIADA","LICENCIADA EN ENFERMERIA",4,12,18000,1,6,9000]
[null,"412 SALUD VIRU","RO","CAS","TECNICO EN ENFERMERIA",1200,"43528650","ARANDA REBAZA ANA EDITH","TECNICO EN ENFERMERIA","TECNICA","LICENCIADA EN ENFERMERIA",4,12,14400,1,6,7200]
[null,"412 SALUD VIRU","RO","CAS","TECNICO EN LABORATORIO",2097,"46541985","AVALOS HORNA SHEYLA MILENA","TECNICO EN LABORATORIO","TECNICA","LICENCIADA EN ENFERMERIA",4,12,25164,1,6,12582]
[null,"412 SALUD VIRU","RO","CAS","TECNICO EN ENFERMERIA",1834,"18196373","LUJAN ESCOBEDO TANIA MERI","TECNICO EN ENFERMERIA","TECNICA","LICENCIADA EN ENFERMERIA",4,12,22008,1,6,11004]
[null,"412 SALUD VIRU","RO","CAS","TECNICO EN LABORATORIO",1400,"44255075","VALDERRAMA SAAVEDRA YELITZA YANEDITH","TECNICO EN LABORATORIO","TECNICA","LICENCIADA EN ENFERMERIA",4,12,16800,1,6,8400]
[null,"412 SALUD VIRU","RO","CAS","OBSTETRA",1300,"45499761","AVALOS MORENO GLICERIA ANDREA","OBSTETRA","LICENCIADA","LICENCIADA EN OBSTETRICIA",4,12,15600,1,6,7800]
[null,"412 SALUD VIRU","RO","CAS","MEDICO",2800,"46490743","LOZANO LOAYZA KATHERINE TATTIANA","MEDICO CIRUJANO","MEDICO","MEDICO CIRUJANO",4,12,33600,1,6,16800]
[null,"412 SALUD VIRU","RO","CAS","ENFERMERA(O)",1500,"44590692","BANDA COLCHAO ANA BEATRIZ","ENFERMERA","LICENCIADA","LICENCIADA EN ENFERMERIA",4,12,18000,1,6,9000]
[null,"412 SALUD VIRU","RO","CAS","TRABAJADOR DE SERVICIO",930,"18049366","MEDINA ALVA AMERICO EUSEBIO","TRABAJADOR DE SERVICIO","SECUNDARIA COMPLETA","TRABAJADOR DE SERVICIO",4,12,11160,1,6,5580]
[null,"412 SALUD VIRU","RO","CAS","OBSTETRA",1500,"46855487","ESCOBEDO TORIBIO LOURDES LISSETE","OBSTETRA","LICENCIADA","LICENCIADA EN OBSTETRICIA",4,12,18000,1,6,9000]
[null,"412 SALUD VIRU","RO","CAS","TRABAJADOR DE SERVICIO",930,"18082570","PULIDO TORRES DANIEL LORENZO","TRABAJADOR DE SERVICIO","SECUNDARIA COMPLETA","TRABAJADOR DE SERVICIO",4,12,11160,1,6,5580]
[null,"412 SALUD VIRU","RDR","CAS","QUIMICO FARMACEUTICO",1700,"43340332","PINILLOS POZO VIKY DEL PILAR","QUIMICO FARMACEUTICO","MAESTRA","QUIMICO FARMACEUTICO",4,12,20400,1,6,10200]
[null,"412 SALUD VIRU","RDR","CAS","DIGITADOR(A)",1100,"40025782","ALLAIN SILVA YAHAIRA","TECNICO EN COMPUTACÓN E INFORMATICA","TECNICA","TECNICO EN COMPUTACÓN E INFORMATICA",4,12,13200,1,6,6600]
[null,"412 SALUD VIRU","RDR","CAS","TECNICO ADMINISTRATIVO",1500,"70386267","CASTILLO VELASQUEZ LUIS MIGUEL","TECNICO ADMINISTRATIVO","SUPERIOR INCOMPLETO","TECNICO ADMINISTRATIVO",4,12,18000,1,6,9000]
[null,"412 SALUD VIRU","RDR","CAS","TECNICO ADMINISTRATIVO",1000,"47185860","NAZARIO NEYRA KENLLY RENE","TECNICO EN CONTABILIDAD","TECNICO","TECNICO EN CONTABILIDAD",4,12,12000,1,6,6000]
[null,"412 SALUD VIRU","RDR","CAS","TECNICO ADMINISTRATIVO",1200,"18129234","NEYRA TUYEME HORTENCIA LILIANA","TECNICO ADMINISTRATIVO","TECNICO","TECNICO ADMINISTRATIVO",4,12,14400,1,6,7200]
[null,"412 SALUD VIRU","RDR","CAS","TECNICO ADMINISTRATIVO",1200,"80398014","POLO CISNEROS YOLANDA","BACHILLER EN CIENCIAS ECONOMICAS","BACHILLER","BACHILLER EN CIENCIAS ECONOMICAS",4,12,14400,1,6,7200]
[null,"412 SALUD VIRU","RDR","CAS","ENFERMERA(O)",1800,"45096020","NARVAEZ AYCHO CINTHIA YACKELINE","ENFERMERA","LICENCIADA","LICENCIADA EN ENFERMERIA",4,12,21600,1,6,10800]
[null,"412 SALUD VIRU","RDR","CAS","TECNICO EN ENFERMERIA",1200,"43660021","CUBA GALLARDO MAYRA KATHERINE","TECNICA DE ENFERMERIA","TECNICA","TECNICA DE ENFERMERIA",4,12,14400,1,6,7200]
[null,"412 SALUD VIRU","RDR","CAS","DIGITADOR(A)",1200,"70110618","LOYOLA SOLES ALEX RAUL","TECNICO EN COMPUTACIÓN","TECNICO","TECNICO EN COMPUTACIÓN",4,12,14400,1,6,7200]
[null,"412 SALUD VIRU","RDR","CAS","DIGITADOR(A)",1200,"41991378","MESTANZA LLANOS JORGE LUIS","TECNICO EN COMPUTACIÓN","TECNICO","TECNICO EN COMPUTACIÓN",4,12,{"$f":"+F5082*M5082","v":14400},1,6,{"$f":"+F5082*P5082","v":7200}]
[null,"412 SALUD VIRU","RDR","CAS","DIGITADOR(A)",1000,"46829574","NEYRA CASTILLO LUIS FERNANDO","TECNICO EN COMPUTACIÓN","TECNICO","TECNICO EN COMPUTACIÓN",4,12,12000,1,6,6000]
[null,"412 SALUD VIRU","RDR","CAS","TECNICO EN ENFERMERIA",1200,"43199121","POLO TRUJILLO EULALIA","TECNICA DE ENFERMERIA","TECNICA","TECNICA DE ENFERMERIA",4,12,14400,1,6,7200]
[null,"412 SALUD VIRU","RDR","CAS","TRABAJADOR DE SERVICIO",930,"40304360","RAMIREZ BERNABE CARLOS ANRREDI","TRABAJADOR DE SERVICIO","SECUNDARIA COMPLETA","TRABAJADOR DE SERVICIO",4,12,11160,1,6,5580]
[null,"412 SALUD VIRU","RDR","CAS","TRABAJADOR DE SERVICIO",930,"18882842","PELAEZ LOPEZ ASCENCION JAMES","TRABAJADOR DE SERVICIO","SECUNDARIA COMPLETA","TRABAJADOR DE SERVICIO",4,12,11160,1,6,5580]
[null,"412 SALUD VIRU","RDR","CAS","TRABAJADOR DE SERVICIO",930,"46877861","QUIROGA MARCOS ROBERT ALEXANDER","TRABAJADOR DE SERVICIO","SECUNDARIA COMPLETA","TRABAJADOR DE SERVICIO",{"$f":"1+3","v":4},12,11160,1,6,5580]
[null,"412 SALUD VIRU","RDR","CAS","TECNICO EN ENFERMERIA",1200,"19250641","SIESQUEN DIAZ SONIA ANGELITA","TECNICA DE ENFERMERIA","TECNICA","TECNICA DE ENFERMERIA",4,12,14400,1,6,7200]
[null,"412 SALUD VIRU","RDR","CAS","TRABAJADOR DE SERVICIO",930,"75578720","ZAVALETA REYES BRAYAN JUNIOR GUILLERMO","TRABAJADOR DE SERVICIO","SECUNDARIA COMPLETA","TRABAJADOR DE SERVICIO",4,12,11160,1,6,5580]
[null,"412 SALUD VIRU","RDR","CAS","TRABAJADOR DE SERVICIO",930,"18189187","SANTISTEBAN RECALDE ZOILA VERONICA","TRABAJADOR DE SERVICIO","SECUNDARIA COMPLETA","TRABAJADOR DE SERVICIO",4,12,11160,1,6,5580]
[null,"412 SALUD VIRU","RDR","CAS","TECNICO EN ENFERMERIA",1200,"18112283","VARGAS VASQUEZ JESUS AMPARO","TECNICA DE ENFERMERIA","TECNICA","TECNICA DE ENFERMERIA",4,12,14400,1,6,7200]
[null,"412 SALUD VIRU","RDR","CAS","TRABAJADOR DE SERVICIO",930,"18208349","CALDERON ALFARO PEDRO","TRABAJADOR DE SERVICIO","SECUNDARIA COMPLETA","TRABAJADOR DE SERVICIO",4,12,11160,1,6,5580]
[null,"412 SALUD VIRU","RDR","CAS","MEDICO",3000,"40637085","QUIROZ PAREDES MARCO ANTONIO","MEDICO CIRUJANO","MEDICO","MEDICO CIRUJANO",4,12,36000,1,6,18000]
[null,"412 SALUD VIRU","RDR","CAS","TRABAJADOR DE SERVICIO",930,"71464474","BARRETO LUNA INGRID LEIDY","TRABAJADOR DE SERVICIO","SECUNDARIA COMPLETA","TRABAJADOR DE SERVICIO",4,12,11160,1,6,5580]
[null,"412 SALUD VIRU","RDR","CAS","TECNICO EN ENFERMERIA",1000,"42542674","SEVILLA PASTOR DE MEDINA GEMMA KARINA","TECNICA DE ENFERMERIA","TECNICA","TECNICA DE ENFERMERIA",4,12,12000,1,6,6000]
[null,"412 SALUD VIRU","RDR","CAS","TRABAJADOR DE SERVICIO",930,"19568468","PAREDES RODRIGUEZ EDILBERTO","TRABAJADOR DE SERVICIO","SECUNDARIA COMPLETA","TRABAJADOR DE SERVICIO",4,12,11160,1,6,5580]
[]
[null,null,null,null,null,{"$f":"SUM(F5017:F5097)","v":130848},null,null,null,null,null,null,null,{"$f":"SUM(N5017:N5097)","v":1548576},null,null,{"$f":"SUM(Q5017:Q5097)","v":783288}]
[null,"UE. 413 ASCOPE","RO","CAS","CHOFER",1000,"10863473","RODRIGUEZ PLASENCIA JEMRRY JORGE","CHOFER","SECUNDARIA","CERTIFICADO",12,12,{"$f":"M5099*F5099","v":12000},12,6,{"$f":"P5099*F5099","v":6000}]
[null,"UE. 413 ASCOPE","RO","CAS","OBSTETRIZ I",1300,"18859078","COSAVALENTE FLORES CARMEN ELIZABETH","OBSTETRIZ I","SUPERIOR","TITULO PROFESONAL",12,12,15600,12,6,7800]
[null,"UE. 413 ASCOPE","RO","CAS","DIGITADOR",1200,"46240779","CHUQUIRUNA BAUTISTA CARMEN DEL PILAR","DIGITADOR","SECUNDARIA","CERTIFICADO",12,12,14400,12,6,7200]
[null,"UE. 413 ASCOPE","RO","CAS","TRABAJADOR DE SERVICIOS",930,"18840822","ALCALDE MENDOZA TOMAS","TRABAJADOR DE SERVICIOS","SECUNDARIA","CERTIFICADO",12,12,11160,12,6,5580]
[null,"UE. 413 ASCOPE","RO","CAS","ENFERMERA/O",1500,"40018684","MORENO PACHAMANGO SILVANA DEL ROCIO","ENFERMERA/O","SUPERIOR ","TITULO PROFESIONAL",12,12,18000,12,6,9000]
[null,"UE. 413 ASCOPE","RO","CAS","ENFERMERA/O",1500,"80301216","FLORES MORENO YESICA YESENIA","ENFERMERA/O","SUPERIOR ","TITULO PROFESIONAL",12,12,18000,12,6,9000]
[null,"UE. 413 ASCOPE","RO","CAS","ENFERMERA/O",1150,"18849139","MENDOZA NAVARRETE DE BAUTISTA MARIA ISABEL","ENFERMERA/O","SUPERIOR ","TITULO PROFESIONAL",12,12,13800,12,6,6900]
[null,"UE. 413 ASCOPE","RO","CAS","QUIMICO FARMACEUTICO",1500,"18855902","GOICOCHEA QUISPE LUIS ALBERTO","QUIMICO FARMACEUTICO","SUPERIOR ","TITULO PROFESIONAL",12,12,18000,12,6,9000]
[null,"UE. 413 ASCOPE","RO","CAS","ENFERMERA/O",1500,"43546526","FLORES OBANDO ELENA ROSA INES","ENFERMERA/O","SUPERIOR ","TITULO PROFESIONAL",12,12,18000,12,6,9000]
[null,"UE. 413 ASCOPE","RO","CAS","ENFERMERA/O",1500,"47711119","LEIVA DIAZ JENNIFFER EDITH","ENFERMERA/O","SUPERIOR ","TITULO PROFESIONAL",12,12,18000,12,6,9000]
[null,"UE. 413 ASCOPE","RO","CAS","DIGITADOR",1200,"18893393","MUÑOZ CABRERA MERY ELIZABETH","DIGITADOR","SECUNDARIA","CERTIFICADO",12,12,14400,12,6,7200]
[null,"UE. 413 ASCOPE","RO","CAS","DIGITADOR",1000,"45591734","ALCANTARA ALCANTARA NICKY ALBERTO","DIGITADOR","SECUNDARIA","CERTIFICADO",12,12,12000,12,6,6000]
[null,"UE. 413 ASCOPE","RO","CAS","DIGITADOR",930,"18903641","MEDINA JIMENEZ MIRTHA PAOLA","DIGITADOR","SECUNDARIA","CERTIFICADO",12,12,11160,12,6,5580]
[null,"UE. 413 ASCOPE","RO","CAS","TECNICO EN ENFERMERIA",930,"18897326","LULICHAC MINEZ LUZ MARIA","TECNICO EN ENFERMERIA","TECNICO","CERTIFICADO",12,12,11160,12,6,5580]
[null,"UE. 413 ASCOPE","RO","CAS","DIGITADOR",1000,"43223555","CASTILLO PACHAMANGO DE URIOL NATALI MARIANELLA","DIGITADOR","TECNICO","CERTIFICADO",12,12,12000,12,6,6000]
[null,"UE. 413 ASCOPE","RO","CAS","CONTADOR",2500,"18844604","CHALAN CIRIACO HOWARD WILSON","CONTADOR","SUPERIOR","TITULO PROFESIONAL",12,12,30000,12,6,15000]
[null,"UE. 413 ASCOPE","RO","CAS","ASISTENTE ADMINISTRATIVO",1500,"45962281","CHUQUIRUNA LEON HILDEMARO ALEXANDER","ASISTENTE ADMINISTRATIVO","TECNICO","CERTIFICADO",12,12,18000,12,6,9000]
[null,"UE. 413 ASCOPE","RO","CAS","OBSTETRA",2000,"18149717","ROBLES PASTOR MARY DANNA","OBSTETRA","SUPERIOR","TITULO PROFESIONAL",12,12,24000,12,6,12000]
[null,"UE. 413 ASCOPE","RO","CAS","OBSTETRA",1500,"18028712","GUTIERREZ RAMIREZ GEORGINA ROSMERY","OBSTETRA","SUPERIOR","TITULO PROFESIONAL",12,12,18000,12,6,9000]
[null,"UE. 413 ASCOPE","RO","CAS","TECNICO EN ENFERMERIA",1834,"18905280","ASUNCION MERCADO JESUS ROSMERY","TECNICO EN ENFERMERIA","TECNICO","CERTIFICADO",12,12,22008,12,6,11004]
[null,"UE. 413 ASCOPE","RO","CAS","ENFERMERA/O",2689,"43481433","GONZALES LEON ANA CECILIA","ENFERMERA/O","SUPERIOR","TITULO PROFESIONAL",12,12,32268,12,6,16134]
[null,"UE. 413 ASCOPE","RO","CAS","ASISTENTE SOCIAL",2689,"19090136","PELAEZ HUACANJULCA LENNY ELIZABETH","ASISTENTE SOCIAL","SUPERIOR","TITULO PROFESIONAL",12,12,32268,12,6,16134]
[null,"UE. 413 ASCOPE","RO","CAS","TECNICO EN ENFERMERIA",1834,"18896966","SEMINARIO MENDOZA ROCIO DEL PILAR","TECNICO EN ENFERMERIA","TECNICO","CERTIFICADO",12,12,22008,12,6,11004]
[null,"UE. 413 ASCOPE","RO","CAS","PSICOLOGO",2689,"44911594","FARIAS ROSALES ANTHONY JIMMY","PSICOLOGO","SUPERIOR","TITULO PROFESIONAL",12,12,32268,12,6,16134]
[null,"UE. 413 ASCOPE","RO","CAS","ENFERMERA/O",2689,"42256760","ELLEN MORILLO ERNESTINA ROSA ISABEL","ENFERMERA/O","SUPERIOR","TITULO PROFESIONAL",12,12,32268,12,6,16134]
[null,"UE. 413 ASCOPE","RO","CAS","MEDICO I",5025,"44676776","JULCA GUERRERO ROSA ANALI","MEDICO I","SUPERIOR","TITULO PROFESIONAL",12,12,60300,12,6,30150]
[null,"UE. 413 ASCOPE","RO","CAS","NUTRICIONISTA",2689,"47543606","REYES HILARIO DE CABRERA SHEYLA MELISSA","NUTRICIONISTA","SUPERIOR","TITULO PROFESIONAL",12,12,32268,12,6,16134]
[null,"UE. 413 ASCOPE","RO","CAS","BIOLOGO",2689,"42585709","SANTILLAN ALAYO ANTONIO JOSE RUBEN","BIOLOGO","SUPERIOR","TITULO PROFESIONAL",12,12,32268,12,6,16134]
[null,"UE. 413 ASCOPE","RO","CAS","TECNICO EN LABORATORIO",2097,"40857594","CABALLERO GONZALES VANESSA LISSETH","TECNICO EN LABORATORIO","TECNICO","CERTIFICADO",12,12,25164,12,6,12582]
[null,"UE. 413 ASCOPE","RO","CAS","TECNICO EN ENFERMERIA",1834,"40290534","CARRASCO PINEDO MARGARITA YOLANDA","TECNICO EN ENFERMERIA","TECNICO","CERTIFICADO",12,12,22008,12,6,11004]
[null,"UE. 413 ASCOPE","RO","CAS","ENFERMERA/O",2689,"47370162","GUTIERREZ MARTINEZ DE FLORES LEYDEE ANN","ENFERMERA/O","SUPERIOR","TITULO PROFESIONAL",12,12,32268,12,6,16134]
[null,"UE. 413 ASCOPE","RO","CAS","TECNICO EN ENFERMERIA",1834,"45253991","ESQUIVEL JULCA MARIA VERONICA","TECNICO EN ENFERMERIA","TECNICO","CERTIFICADO",12,12,22008,12,6,11004]
[null,"UE. 413 ASCOPE","RO","CAS","TECNICO EN ENFERMERIA I",930,"40739957","MUÑOZ CABRERA DEYSI YAQUELIN","TECNICO EN ENFERMERIA I","TECNICO","CERTIFICADO",12,12,11160,12,6,5580]
[null,"UE. 413 ASCOPE","RO","CAS","CHOFER",1300,"18827562","LLERENA ARANA JULIO CESAR","CHOFER","SECUNDARIA","CERTIFICADO",12,12,15600,12,6,7800]
[null,"TOTAL",null,null,null,{"$f":"SUM(F5099:F5132)","v":61151},null,null,null,null,null,null,null,{"$f":"SUM(N5099:N5132)","v":733812},null,null,{"$f":"SUM(Q5099:Q5132)","v":366906}]
[null,"414 SALUD GRAN CHIMU","RO","CAS","ASITENCIAL",1800,46860561,"AGAPITO ESQUERRE KARLA FIORELLA","ENFERMERA(O)","SUPERIOR UNIVERSITARIO","TITULLO PROFESIONAL","01",12,{"$f":"(F5134*M5134)","v":21600},"01",6,{"$f":"F5134*P5134","v":10800}]
[null,"414 SALUD GRAN CHIMU","RO","CAS","ASITENCIAL",1100,27151486,"AGUILAR FLORES FRANKLIN LEONARDO","TECNICO EN ENFERMERIA","SUPERIOR NO UNIVERSITARIO","TITULO TECNICO","02",12,{"$f":"(F5135*M5135)","v":13200},"02",6,{"$f":"F5135*P5135","v":6600}]
[null,"414 SALUD GRAN CHIMU","RO","CAS","ADMINISTRATIVO",1800,40687640,"ASMAT ASMAD YOEL YOVANY","TECNICO ADMINISTRATIVO","SUPERIOR NO UNIVERSITARIO","TITULO TECNICO","03",12,21600,"03",6,10800]
[null,"414 SALUD GRAN CHIMU","RO","CAS","ASITENCIAL",1100,42577668,"AZAÑERO COTRINA LUIS ELOIN","TECNICO EN ENFERMERIA","SUPERIOR NO UNIVERSITARIO","TITULO TECNICO","04",12,13200,"04",6,6600]
[null,"414 SALUD GRAN CHIMU","RO","CAS","ADMINISTRATIVO",1100,70224391,"CAMACHO CACHAY MERCEDES ALEXANDRA","DIGITADOR(A)","SUPERIOR UNIVERSITARIO","TITULLO PROFESIONAL","05",12,13200,"05",6,6600]
[null,"414 SALUD GRAN CHIMU","RO","CAS","ASITENCIAL",1700,47524721,"CARRANZA REYES RICARDINA ISABEL","ENFERMERA(O)","SUPERIOR UNIVERSITARIO","TITULLO PROFESIONAL","06",12,20400,"06",6,10200]
[null,"414 SALUD GRAN CHIMU","RO","CAS","ASITENCIAL",1500,42901792,"DIAZ ASMAT SEGUNDO AMADO","TECNICO EN ENFERMERIA","SUPERIOR NO UNIVERSITARIO","TITULO TECNICO","07",12,18000,"07",6,9000]
[null,"414 SALUD GRAN CHIMU","RO","CAS","ASITENCIAL",1100,47831735,"DIAZ JAVE SILVERT YAIL","TECNICO EN ENFERMERIA","SUPERIOR NO UNIVERSITARIO","TITULO TECNICO","08",12,13200,"08",6,6600]
[null,"415 SALUD GRAN CHIMU","RO","CAS","ASITENCIAL",1100,42244170,"GUARNIZ ABANTO WILDOR LAZARO","TECNICO EN ENFERMERIA","SUPERIOR NO UNIVERSITARIO","TITULO TECNICO","09",12,13200,"09",6,6600]
[null,"414 SALUD GRAN CHIMU","RO","CAS","ASITENCIAL",2000,45875118,"HUAMAN FLORIAN MARIA DEL PILAR","OBSTETRA","SUPERIOR UNIVERSITARIO","TITULLO PROFESIONAL","10",12,24000,"10",6,12000]
[null,"414 SALUD GRAN CHIMU","RO","CAS","ADMINISTRATIVO",1500,45668143,"MORALES ORDINOLA DIANA ISABEL","TECNICO EN CONTABILIDAD","SUPERIOR NO UNIVERSITARIO","TITULO TECNICO","11",12,18000,"11",1,1500]
[null,"414 SALUD GRAN CHIMU","RO","CAS","ASITENCIAL",2000,46643625,"PALMA ASMAD MARILYA ROSELLA","ENFERMERA(O)","SUPERIOR UNIVERSITARIO","TITULLO PROFESIONAL","12",12,24000,"12",6,12000]
[null,"415 SALUD GRAN CHIMU","RO","CAS","ASITENCIAL",1700,42641887,"SARMIENTO PEREZ VIVIANA GRACIELA","ENFERMERA(O)","SUPERIOR UNIVERSITARIO","TITULLO PROFESIONAL","13",12,20400,"13",1,1700]
[null,"414 SALUD GRAN CHIMU","RO","CAS","ASITENCIAL",1800,47444832,"ZAPATA GUERRERO CLAUDIA LISSET ","ENFERMERA(O)","SUPERIOR UNIVERSITARIO","TITULLO PROFESIONAL","14",12,21600,"14",6,10800]
[null,"414 SALUD GRAN CHIMU","RO","CAS","ASITENCIAL",1700,47177371,"NIQUEN SALAZAR MARIA ALEJANDRA","ENFERMERA(O)","SUPERIOR UNIVERSITARIO","TITULLO PROFESIONAL","15",12,20400,"15",6,10200]
[null,"414 SALUD GRAN CHIMU","RO","CAS","ASITENCIAL",1400,40725582,"PEDRO ABANTO ESMERY MEDALIT","BIOLOGA(O)","SUPERIOR UNIVERSITARIO","TITULLO PROFESIONAL","16",12,16800,"16",1,1400]
[null,"414 SALUD GRAN CHIMU","RO","CAS","ASISTENCIAL",1100,40828477,"DIAZ TERRONES ESTHER YOVANY","TRABAJADOR DE SERVICIOS","SECUNDARIA COMPLETA",null,"17",12,13200,"17",6,6600]
[null,"414 SALUD GRAN CHIMU","RO","CAS","ASISTENCIAL",1100,19104047,"VELASQUEZ VARGAS ISIDORO ABRAHAM","TRABAJADOR DE SERVICIOS","SECUNDARIA COMPLETA",null,"18",12,13200,"18",6,6600]
[null,"414 SALUD GRAN CHIMU","RO","CAS","ASISTENCIAL",1100,18029270,"JULCA RENGIFO WILDER","CHOFER","SECUNDARIA COMPLETA",null,"19",12,13200,"19",6,6600]
[null,"414 SALUD GRAN CHIMU","RO","CAS","ASISTENCIAL",1100,18852860,"MONTOYA CRESPO ANGEL","CHOFER","SECUNDARIA COMPLETA",null,"20",12,13200,"20",6,6600]
[null,"414 SALUD GRAN CHIMU","RO","CAS","ASITENCIAL",3500,45548961,"SAGASTEGUI SANCHEZ ANDY WILLIAM","MEDICO CIRUJANO","SUPERIOR UNIVERSITARIO","TITULLO PROFESIONAL","21",12,42000,"21",6,21000]
[null,"414 SALUD GRAN CHIMU","RO","CAS","ASITENCIAL",1100,72374798,"AGUILAR DIAZ SUSY JUDITH","TECNICA EN ENFERMERIA","SUPERIOR NO UNIVERSITARIO","TITULO TECNICO","22",12,13200,"22",6,6600]
[null,"414 SALUD GRAN CHIMU","RO","CAS","ADMINISTRATIVO",2100,76910988,"DEZA VILLALOBOS JENNIFER ALEXANDRA","CONTADOR(A)","SUPERIOR UNIVERSITARIO","TITULLO PROFESIONAL","23",12,25200,"23",6,12600]
[null,"414 SALUD GRAN CHIMU","RO","CAS","ASITENCIAL",3500,46258075,"LEON NUREÑA JUAN CARLOS","MEDICO CIRUJANO","SUPERIOR UNIVERSITARIO","TITULLO PROFESIONAL","24",12,42000,"24",6,21000]
[null,"414 SALUD GRAN CHIMU","RO","CAS","ASITENCIAL",1700,46874220,"SANCHEZ TISNADO DENIS ANDREE","BIOLOGO","SUPERIOR UNIVERSITARIO","TITULLO PROFESIONAL","25",12,20400,"25",6,10200]
[null,"414 SALUD GRAN CHIMU","RO","CAS","ASITENCIAL",1100,19104124,"AMBROCIO NARVA HENRY ELVIS","TECNICO EN ENFERMERIA","SUPERIOR NO UNIVERSITARIO","TITULO TECNICO","27",12,13200,"27",6,6600]
[null,"414 SALUD GRAN CHIMU","RO","CAS","ASITENCIAL",1700,42961497,"ASENCIO ALTAMIRANO MAIRA MIRELLA","ENFERMERA(O)","SUPERIOR UNIVERSITARIO","TITULLO PROFESIONAL","28",12,20400,"28",1,1700]
[null,"414 SALUD GRAN CHIMU","RO","CAS","ADMINISTRATIVO",1100,19104027,"DIAZ LEON EDY JOHNY","TRABAJADOR DE SERVICIOS","SECUNDARIA COMPLETA",null,"29",12,13200,"29",1,1100]
[null,"414 SALUD GRAN CHIMU","RO","CAS","ADMINISTRATIVO",1100,27152244,"PLASENCIA PAREDES HUBERT ANTONIO","TRABAJADOR DE SERVICIOS","SECUNDARIA COMPLETA",null,"30",12,13200,"30",1,1100]
[null,"414 SALUD GRAN CHIMU","RO","CAS","ADMINISTRATIVO",1100,46684416,"SANCHEZ MURRUGARRA VICTOR JONEL","DIGITADOR(A)","SUPERIOR NO UNIVERSITARIO","TITULO TECNICO","31",12,13200,"31",6,6600]
[null,"414 SALUD GRAN CHIMU","RO","CAS","ASITENCIAL",3500,43678195,"ZAVALETA ROBLES JUNIOR ALTOBELLI","MEDICO CIRUJANO","SUPERIOR UNIVERSITARIO","TITULLO PROFESIONAL","32",12,42000,"32",6,21000]
[null,"414 SALUD GRAN CHIMU","RO","CAS","ASITENCIAL",1900,71471453,"ARANDA MOSTACERO ANTHONY RAUL","CIRUJANO DENTISTA","SUPERIOR UNIVERSITARIO","TITULLO PROFESIONAL","33",12,22800,"33",6,11400]
[null,"414 SALUD GRAN CHIMU","RO","CAS","ADMINISTRATIVO",2000,45051487,"SAAVEDRA RODRIGUEZ HAYDEE JOSEFINA","ABOGADA","SUPERIOR UNIVERSITARIO","TITULLO PROFESIONAL","34",8,16000,"34",6,12000]
[null,"414 SALUD GRAN CHIMU","RO","CAS","ADMINISTRATIVO",1100,70822912,"TERRONES CHIGNE MIXI YANINA","AUXILIAR  ADMINISTRATIVO","SUPERIOR NO UNIVERSITARIO","TITULO TECNICO","35",2,2200,"35",1,1100]
[null,"414 SALUD GRAN CHIMU","RO","CAS","ASITENCIAL",3500,45500631,"AGUILAR VILLANUEVA SABY KATHERINY","MEDICO CIRUJANO","SUPERIOR UNIVERSITARIO","TITULLO PROFESIONAL","36",null,0,"36",3,10500]
[null,"414 SALUD GRAN CHIMU","RO","CAS","ASITENCIAL",1700,41570936," ABANTO GARCIA ZULEMA SOLEDAD","ENFERMERA(O)","SUPERIOR UNIVERSITARIO","TITULLO PROFESIONAL","37",null,0,"37",3,5100]
[null,"414 SALUD GRAN CHIMU","RO","CAS","ASITENCIAL",1700,44512835,"AREDO GUEVARA MILDRD JULIANA","ENFERMERA(O)","SUPERIOR UNIVERSITARIO","TITULLO PROFESIONAL","38",null,0,"38",3,5100]
[null,"414 SALUD GRAN CHIMU","RO","CAS","ADMINISTRATIVO",1100,45601800,"AMAYA TORRES  DENNIS JHOEL","TRABAJADOR DE SERVICIOS","SUPERIOR NO UNIVERSITARIO","TITULO TECNICO","39",null,0,"39",3,3300]
[null,"414 SALUD GRAN CHIMU","RO","CAS","ADMINISTRATIVO",1500,45668143,"MORALES ORDINOLA DIANA ISABEL","TECNICO EN CONTABILIDAD","SUPERIOR NO UNIVERSITARIO","TITULO TECNICO",40,null,0,40,3,4500]
[null,"414 SALUD GRAN CHIMU","RO","CAS","ASITENCIAL",1400,40725582,"PEDRO ABANTO ESMERY MEDALIT","BIOLOGA(O)","SUPERIOR UNIVERSITARIO","TITULLO PROFESIONAL",41,null,0,41,3,4200]
[null,"414 SALUD GRAN CHIMU","RO","CAS","ADMINISTRATIVO",1100,27152244,"PLASENCIA PAREDES HUBERT ANTONIO","TRABAJADOR DE SERVICIOS","SECUNDARIA COMPLETA",null,42,null,0,42,3,3300]
[null,"414 SALUD GRAN CHIMU","RO","CAS","ADMINISTRATIVO",1100,70822912,"TERRONES CHIGNE MIXI YANINA","AUXILIAR  ADMINISTRATIVO","SUPERIOR NO UNIVERSITARIO","TITULO TECNICO",43,null,0,43,3,3300]
[null,"414 SALUD GRAN CHIMU","RO","CAS","ASITENCIAL",1700,42286771,"LEON GUARNIZ ROCIO KATHERYNE ","ENFERMERA(O)","SUPERIOR UNIVERSITARIO","TITULLO PROFESIONAL",44,null,0,44,1,1700]
[null,"414 SALUD GRAN CHIMU","RO","CAS","ASITENCIAL",1700,42972935,"PUELLES VALQUI JULISSA ","ENFERMERA(O)","SUPERIOR UNIVERSITARIO","TITULLO PROFESIONAL",45,null,0,45,1,1700]
[null,"414 SALUD GRAN CHIMU","RO","CAS","ASITENCIAL",1700,72206377,"BERNUI SALAS GUINI LILIANA","ENFERMERA(O)","SUPERIOR UNIVERSITARIO","TITULLO PROFESIONAL",46,null,0,46,1,1700]
[null,"414 SALUD GRAN CHIMU","RO","CAS","ASITENCIAL",1800,72621396,"FLORES FLORES MIGUEL ANGEL ","NUTRICION ","SUPERIOR UNIVERSITARIO","TITULLO PROFESIONAL",47,null,0,47,1,1800]
[null,"414 SALUD GRAN CHIMU","RO","CAS","ASITENCIAL",2000,71327801,"HUAMAN CARRANZA GENESIS LUCERO","ENFERMERA(O)","SUPERIOR UNIVERSITARIO","TITULLO PROFESIONAL",48,null,0,48,1,2000]
[null,"TOTAL",null,null,null,{"$f":"SUM(F5134:F5180)","v":77300},null,null,null,null,null,null,null,{"$f":"SUM(N5134:N5180)","v":644600},null,null,{"$f":"SUM(Q5134:Q5180)","v":332000}]
[null,"(*) = Al 30 de junio de 2018"]

{"sheet":"F.18","index":20,"n_rows":255,"n_cols":15,"rows_kept":255,"cut":false,"hidden":false,"merged":[[1,1,1,12],[2,1,2,12],[3,1,3,12],[6,14,7,14],[6,1,6,2],[6,3,6,4],[6,5,6,9],[6,10,6,12],[6,13,7,13]]}
[]
[null,"FORMATO 18"]
[null,"ALQUILER DE INMUEBLES EN LOS AÑOS FISCALES 2018 Y 2019"]
[null,"PROYECTO DE PRESUPUESTO - 2020"]
[null,"SECTOR : 99 GOBIERNOS REGIONALES"]
[null,"PLIEGO  : 451 GOBIERNO REGIONAL LA LIBERTAD"]
[null,"ARRENDATARIO",null,"ARRENDADOR",null,"INMUEBLE",null,null,null,null,"CONTRATO",null,null,"EJECUCION 2018","EJECUCION 2019 (*)"]
[null,"PLIEGO","UNIDAD EJECUTORA","APELLIDOS Y NOMBRES O DENOMINACION","DNI O PARTIDA REGISTRAL","BIEN PROPIO DE TERCEROS O AJENO","PARTIDA REGISTRAL DE INSCRIPCION DE PROPIEDAD","METROS CUADRADOS","COCHERAS","OTROS","VIGENCIA DEL CONTRATO","MONTO MENSUAL","FORMA DE PAGO (MENSUAL O ANUAL) Y FECHA DE PAGO"]
[]
[null,"2018",null,null,null,null,null,null,null,null,null,null,null,{"$f":"SUM(N11:N16)","v":160400}]
[null,"451 GOBIERNO REGIONAL LA LIBERTAD","001 SEDE LA LIBERTAD","ROGER ORLANDO CABELLERO HENRIQUEZ","DNI 17816653","BIEN PROPIO",null,null,null,"ALMACEN PATAZ","02/01/2018 AL 31/12/2018",850,"MENSUAL ",10200]
[null,"451 GOBIERNO REGIONAL LA LIBERTAD","001 SEDE LA LIBERTAD","DELIA ELVIRA LEON ALAYO","DNI 40596096","BIEN PROPIO",null,null,null,"ALMACEN SANTIAGO DE CHUCO","02/01/2018 AL 31/12/2018",550,"MENSUAL ",6600]
[null,"451 GOBIERNO REGIONAL LA LIBERTAD","001 SEDE LA LIBERTAD","ALFREDO ADOLFO GUTIERREZ PAJARES","DNI 08716897","APODERADO ",null,null,null,"ALMACEN OTUZCO","02-01-2018 al 31-12-2018",600,"MENSUAL ",7200]
[null,"451 GOBIERNO REGIONAL LA LIBERTAD","001 SEDE LA LIBERTAD","CARLOS ALFONSO CALDERON ALVARADO","DNI 191830033","BIEN PROPIO",null,null,null,"LOCAL SAN PEDRO  - GRTPE","02-01-2018 al 31-12-2018",950,"MENSUAL ",11400]
[null,"451 GOBIERNO REGIONAL LA LIBERTAD","001 SEDE LA LIBERTAD","CARLOS MANUEL BALTONADO TAPIA","DNI 42791881","BIEN PROPIO",null,null,null,"LOCAL - GR DESARROLLO SOCIAL","01/03/2018 al 01/03/2019",4500,"MENSUAL ",45000]
[null,"451 GOBIERNO REGIONAL LA LIBERTAD","001 SEDE LA LIBERTAD","GINO ENRIQUE CASTAÑEDA RAMIREZ","DNI 18134185","BIEN PROPIO",null,null,null,"LOCAL SG PROMOCION DEL EMPLEO","30/05/2018 AL 30/10/2018",16000,"MENSUAL",80000]
[]
[null,"2019",null,null,null,null,null,null,null,null,null,null,null,null,{"$f":"SUM(O19:O23)","v":31050}]
[null,"451 GOBIERNO REGIONAL LA LIBERTAD","001 SEDE LA LIBERTAD","ROGER ORLANDO CABELLERO HENRIQUEZ","DNI 17816653","BIEN PROPIO",null,null,null,"ALMACEN PATAZ","01/01/2019 AL 31/12/2019",850,"MENSUAL ",null,3400]
[null,"451 GOBIERNO REGIONAL LA LIBERTAD","001 SEDE LA LIBERTAD","DELIA ELVIRA LEON ALAYO","DNI 40596096","BIEN PROPIO",null,"Area de 40 M2",null,"ALMACEN SANTIAGO DE CHUCO","02/01/2019 AL 31/12/2019",550,"MENSUAL ",null,2750]
[null,"451 GOBIERNO REGIONAL LA LIBERTAD","001 SEDE LA LIBERTAD","ALFREDO ADOLFO GUTIERREZ PAJARES","DNI 08716897","APODERADO ",null,null,null,"ALMACEN OTUZCO","01/01/2019 AL 31/12/2019",600,"MENSUAL ",null,2400]
[null,"451 GOBIERNO REGIONAL LA LIBERTAD","001 SEDE LA LIBERTAD","MARIA ANTONIETA PONCE DE LEON","DNI 19181031","BIEN PROPIO",null,null,null,"LOCAL SAN PEDRO  - GRTPE","01-01-2019 al 31-12-2019",950,"Mensual ",null,0]
[null,"451 GOBIERNO REGIONAL LA LIBERTAD","001 SEDE LA LIBERTAD","CARLOS MANUEL BALTONADO TAPIA","DNI 42791881","BIEN PROPIO",null,null,null,"LOCAL - GR DESARROLLO SOCIAL","01/03/2018 al 01/03/2019 se realizo una adenda hasta el 31 de Diciembre",4500,"MENSUAL ",null,{"$f":"9000+13500","v":22500}]
[]
[null,"2020"]
[null,"451 GOBIERNO REGIONAL LA LIBERTAD","001 SEDE LA LIBERTAD","ROGER ORLANDO CABELLERO HENRIQUEZ","DNI 17816653","BIEN PROPIO",null,null,null,"ALMACEN PATAZ",null,null,"MENSUAL"]
[null,"451 GOBIERNO REGIONAL LA LIBERTAD","001 SEDE LA LIBERTAD","DELIA ELVIRA LEON ALAYO","DNI 40596096","BIEN PROPIO",null,"Area de 40 M2",null,"ALMACEN SANTIAGO DE CHUCO","0",null,"MENSUAL"]
[null,"451 GOBIERNO REGIONAL LA LIBERTAD","001 SEDE LA LIBERTAD","ALFREDO ADOLFO GUTIERREZ PAJARES","DNI 08716897","APODERADO ",null,null,null,"ALMACEN OTUZCO","0",null,"MENSUAL"]
[null,"451 GOBIERNO REGIONAL LA LIBERTAD","001 SEDE LA LIBERTAD","MARIA ANTONIETA PONCE DE LEON","DNI 19181031","BIEN PROPIO",null,null,null,"LOCAL SAN PEDRO  - GRTPE","0",null,"MENSUAL"]
[]
[null,"TOTAL",null,null,null,null,null,null,null,null,null,null,null,{"$f":"+N10+N18+N25","v":160400},{"$f":"+O10+O18+O25","v":31050}]
[]
[null,"2018"]
[null,"451 GOBIERNO REGIONAL LA LIBERTAD","100 AGRICULTURA LA LIBERTAD","ALVARO PECHE SORIANO","10189816524","BIEN PROPIO","P14165992","70",null,null,"31/12/2018",320,"MENSUAL, 30 DE CADA MES ",{"$f":"+L34*12","v":3840}]
[null,"451 GOBIERNO REGIONAL LA LIBERTAD","100 AGRICULTURA LA LIBERTAD","ROMELIA LOPEZ FLORES","10194016862","BIEN PROPIO",null,"72",null,null,"31/12/2018",280,"MENSUAL, 30 DE CADA MES ",{"$f":"+L35*12","v":3360}]
[null,"451 GOBIERNO REGIONAL LA LIBERTAD","100 AGRICULTURA LA LIBERTAD","MARIA HERMINIA FLORES DONET","  10182257431","BIEN PROPIO","P29001929","20",null,null,"31/12/2018",130,"MENSUAL, 30 DE CADA MES ",{"$f":"+L36*12","v":1560}]
[null,"451 GOBIERNO REGIONAL LA LIBERTAD","100 AGRICULTURA LA LIBERTAD","PERSEBERANDA PROPETIZA GAMBOA ARTEAGA","  10179617477","BIEN PROPIO",null,null,null,null,"31/12/2018",200,"MENSUAL, 30 DE CADA MES ",{"$f":"+L37*12","v":2400}]
[]
[null,"2019"]
[null,"451 GOBIERNO REGIONAL LA LIBERTAD","100 AGRICULTURA LA LIBERTAD","ALVARO PECHE SORIANO","10189816524","BIEN PROPIO","P14165992","70",null,null,"31/12/2019",320,"MENSUAL, 30 DE CADA MES ",null,{"$f":"+L40*6","v":1920}]
[null,"451 GOBIERNO REGIONAL LA LIBERTAD","100 AGRICULTURA LA LIBERTAD","ROMELIA LOPEZ FLORES","10194016862","BIEN PROPIO",null,"72",null,null,"31/12/2019",280,"MENSUAL, 30 DE CADA MES ",null,{"$f":"+L41*6","v":1680}]
[null,"451 GOBIERNO REGIONAL LA LIBERTAD","100 AGRICULTURA LA LIBERTAD","MARIA HERMINIA FLORES DONET","  10182257431","BIEN PROPIO","P29001929","20",null,null,"31/12/2019",130,"MENSUAL, 30 DE CADA MES ",null,{"$f":"+L42*6","v":780}]
[null,"451 GOBIERNO REGIONAL LA LIBERTAD","100 AGRICULTURA LA LIBERTAD","PERSEBERANDA PROPETIZA GAMBOA ARTEAGA","  10179617477","BIEN PROPIO",null,null,null,null,"31/12/2019",200,"MENSUAL, 30 DE CADA MES ",null,{"$f":"+L43*6","v":1200}]
[null,"2020"]
[null,"451 GOBIERNO REGIONAL LA LIBERTAD","100 AGRICULTURA LA LIBERTAD","ALVARO PECHE SORIANO","10189816524","BIEN PROPIO","P14165992","70",null,null,"31/12/2020",320,"MENSUAL, 30 DE CADA MES "]
[null,"451 GOBIERNO REGIONAL LA LIBERTAD","100 AGRICULTURA LA LIBERTAD","ROMELIA LOPEZ FLORES","10194016862","BIEN PROPIO",null,"72",null,null,"31/12/2020",280,"MENSUAL, 30 DE CADA MES "]
[null,"451 GOBIERNO REGIONAL LA LIBERTAD","100 AGRICULTURA LA LIBERTAD","MARIA HERMINIA FLORES DONET","  10182257431","BIEN PROPIO","P29001929","20",null,null,"31/12/2020",130,"MENSUAL, 30 DE CADA MES "]
[null,"451 GOBIERNO REGIONAL LA LIBERTAD","100 AGRICULTURA LA LIBERTAD","PERSEBERANDA PROPETIZA GAMBOA ARTEAGA","  10179617477","BIEN PROPIO",null,null,null,null,"31/12/2020",200,"MENSUAL, 30 DE CADA MES "]
[]
[null,"TOTAL",null,null,null,null,null,null,null,null,null,null,null,{"$f":"SUM(N34:N49)","v":11160},{"$f":"SUM(O34:O49)","v":5580}]
[]
[null,"2018"]
[null,"451- GOBIERNO REGIONAL LA LIBERTAD","303 Educación Ascope","HILDA VICTORIA SANCHEZ VDA DE RIOS","18826073","PROPIO",null,null,null,null,"01/01/2018 AL 31/12/2018",610,"MENSUAL",{"$f":"+L53*12","v":7320}]
[]
[null,null,"303 Educación Ascope","GLADYS HAYDEE RUIZ CERDAN","18825670","PROPIO",null,null,null,null,"01/01/2018 AL 31/12/2018",2200,"MENSUAL",{"$f":"+L55*12","v":26400}]
[]
[null,"2019"]
[null,"451- GOBIERNO REGIONAL LA LIBERTAD","303 Educación Ascope","HILDA VICTORIA SANCHEZ VDA DE RIOS","18826073","PROPIO",null,null,null,null,"01/01/2019 AL 18/08/2019",610,"MENSUAL",null,{"$f":"+L58*6","v":3660}]
[]
[]
[null,"2020"]
[]
[]
[null,"TOTAL",null,null,null,null,null,null,null,null,null,null,null,{"$f":"SUM(N53:N63)","v":33720},{"$f":"SUM(O53:O63)","v":3660}]
[]
[null,"2018"]
[null,"451 GOBIERNO REGIONAL LA LIBERTAD","304- GRAN CHIMU","ANGULO DIAZ CARLOS MANUEL","D.N.I. 19096097","PROPIO ","P14148913"," 600 M 2 APROX.","1",null,"01 /01 AL 31/12-2018",2200,"MENSUAL",{"$f":"+L67*12","v":26400}]
[null,"451 GOBIERNO REGIONAL LA LIBERTAD","304- GRAN CHIMU","PICHEN ANGULO MARIA DEL CARMEN","27149252","PROPIO",null,null,"0",null,"01/01 AL 31/12/2018",1400,"MENSUAL",{"$f":"+L68*12","v":16800}]
[null,"451 GOBIERNO REGIONAL LA LIBERTAD","304- GRAN CHIMU","AMAYA COTRINA ZOILA MAGALY","0","PROPIO","27149252","120 M2 APROX.","0","ESPACIO A DPBE ALTURA","01/01 AL 31/12/2018",1000,"MENSUAL",{"$f":"+L69*12","v":12000}]
[null,"451 GOBIERNO REGIONAL LA LIBERTAD","304- GRAN CHIMU","MUNICIPALIDAD PRVINCIAL GRAN CHIMU","19091348","PROPIO","14149006"," segundo piso 342 M2 y 51.75  primer piso aprox. . ","0",null,"01/01/2017 a 01/01/2022",1500,"MENSUAL",{"$f":"+L70*12","v":18000}]
[null,"451 GOBIERNO REGIONAL LA LIBERTAD","304- GRAN CHIMU","ALCANTARA NUÑEZ FATIMA LEONOR","75774100","PROPIO",null,"70 M2  APROX.","0",null,"25/01/2018 AL 25/07/2018",875,"MENSUAL",{"$f":"+L71*7","v":6125}]
[]
[null,"2019"]
[null,"451 GOBIERNO REGIONAL LA LIBERTAD","304- GRAN CHIMU","ANGULO DIAZ CARLOS MANUEL","D.N.I. 19096097","PROPIO ","P14148913"," 600 M 2 APROX.","1","2 PISOS","01 /01 AL 31/12-2019",2200,"MENSUAL",null,{"$f":"+L74*6","v":13200}]
[null,"451 GOBIERNO REGIONAL LA LIBERTAD","304- GRAN CHIMU","TIZNADO LEYVA  BENANCIO ABELARDO","D.N.I. 00257238","PROPIO ",null,"1000 M2 APROX.","0",null,"01/01/ AL 31/12/2019",2000,"MENSUAL",null,{"$f":"+L75*6","v":12000}]
[null,"451 GOBIERNO REGIONAL LA LIBERTAD","304- GRAN CHIMU","MUNICIPALIDAD PROVINCIAL GRAN CHIMU","D.N.I  19091348","PROPIO ","14149006"," segundo piso 342 M2 y 51.75  primer piso aprox. . ","0",null,"01/01/2017 a 01/01/2022",1500,"MENSUAL",null,{"$f":"+L76*6","v":9000}]
[null,"451 GOBIERNO REGIONAL LA LIBERTAD","304- GRAN CHIMU","AMAYA COTRINA ZOILA MAGALY","D.N.I.19104075","PROPIO ","27149252","120 M2 APROX.","0","ESPACIO A DPBE ALTURA","01/01 AL 30/07/2019",1000,"MENSUAL",null,{"$f":"+L77*6","v":6000}]
[null,"451 GOBIERNO REGIONAL LA LIBERTAD","304- GRAN CHIMU","PICHEN ANGULO MARIA DEL CARMEN","D.N.I.27149252","PROPIO",null,null,"0",null,"01/01 AL 31/12/2019",1400,"MENSUAL",null,{"$f":"+L78*6","v":8400}]
[]
[null,"2020"]
[null,"451 GOBIERNO REGIONAL LA LIBERTAD","304- GRAN CHIMU","ANGULO DIAZ CARLOS MANUEL","D.N.I. 19096097","PROPIO","P14148913"," 600 M 2 APROX.","1","2 PISOS","01/01/2019 AL 31/12/2020",2200,"MENSUAL"]
[null,"451 GOBIERNO REGIONAL LA LIBERTAD","304- GRAN CHIMU","TIZNADO LEYVA  BENANCIO ABELARDO","D.N.I. 00257238","PROPIO",null,"1000 M2 APROX.","0",null,"01/01/2019 AL 31/12/2021",2000,"MENSUAL"]
[null,"451 GOBIERNO REGIONAL LA LIBERTAD","304- GRAN CHIMU","MUNICIPALIDAD PROVINCIAL GRAN CHIMU","D.N.I  19091348","PROPIO","14149006"," segundo piso 342 M2 y 51.75  primer piso aprox. . ","0",null,"01/01/2017 a 01/01/2022",1500,"MENSUAL"]
[]
[null,"TOTAL",null,null,null,null,null,null,null,null,null,null,null,{"$f":"SUM(N66:N77)","v":79325},{"$f":"SUM(O72:O81)","v":48600}]
[]
[null,"2018",null,null,null,null,null,null,null,null,null,{"$f":"SUM(L88:L91)","v":10500},null,{"$f":"SUM(N88:N91)","v":113300}]
[null,"451","305 EDUCACION OTUZCO","GONZALES BACILIO CARMEN DEL ROSARIO","40370613","PROPIO",null,"800",null,null,"02/01/2018 al 30/04/2018",800,"MENSUAL",{"$f":"+L88*4","v":3200}]
[null,"451","305 EDUCACION OTUZCO","EVANGELISTA VARGAS JOSE EUSEBIO","17827029","PROPIO",null,"400",null,null,"ENERO-SETIEMBRE",2100,"TRIMESTRAL",{"$f":"+L89*9","v":18900}]
[null,"451","305 EDUCACION OTUZCO","JESICA EVELIN MIGUEL OTINIANO","47556677",null,"P14150005","200",null,null,"01/01/2018 AL 31/12/2018",5500,"TRIMESTRAL",{"$f":"+L90*12","v":66000}]
[null,"451","305 EDUCACION OTUZCO","JOSE EUSEBIO EVANGELISTA VARGAS","17827029",null,null,"400",null,null,"01/01/2018 AL 31/12/2018",2100,"MENSUAL ",{"$f":"+L91*12","v":25200}]
[null,"2019",null,null,null,null,null,null,null,null,null,{"$f":"SUM(L93:L95)","v":9200},null,null,{"$f":"SUM(O93:O95)","v":55200}]
[null,"451","305 EDUCACION OTUZCO","JESICA EVELIN MIGUEL OTINIANO","47556677","PROPIO","P14150005","200",null,null,"01/01/2018 AL 31/12/2018",6000,"TRIMESTRAL",null,{"$f":"+L93*6","v":36000}]
[null,"451","305 EDUCACION OTUZCO","GONZALES BACILIO CARMEN DEL ROSARIO","40370613","PROPIO",null,"800",null,null,"01/01/2018 AL 31/12/2018",1100,"MENSUAL",null,{"$f":"+L94*6","v":6600}]
[null,"451","305 EDUCACION OTUZCO","EVANGELISTA VARGAS JOSE EUSEBIO","17827029","PROPIO",null,"400",null,null,"01/01/2018 AL 31/06/2018",2100,"TRIMESTRAL",null,{"$f":"+L95*6","v":12600}]
[null,"2020",null,null,null,null,null,null,null,null,null,{"$f":"SUM(L97:L98)","v":8300}]
[null,"451","305 EDUCACION OTUZCO","MIGUEL OTINIANO JESICA EVELIN","47556677","PROPIO","P14150005","200",null,null,null,6000,"TRIMESTRAL"]
[null,"451","305 EDUCACION OTUZCO","GONZALES BACILIO CARMEN DEL ROSARIO","40370613","PROPIO",null,"600",null,null,null,2300,"MENSUAL"]
[]
[]
[null,"TOTAL",null,null,null,null,null,null,null,null,null,{"$f":"+L87+L92+L96","v":28000},null,{"$f":"+N87+N92+N96","v":113300},{"$f":"+O87+O92+O96","v":55200}]
[null,"2018"]
[null,"451 GOBIERNO REGIONAL LA LIBERTAD","306 EDUCACION SANTIAGO DE HUCO","LEON ALAYO DELIA ELVIRA","40596096","PROPIO","ESCRITURA PUBLICA","141.1",null,"ALMACEN","2 MES",1500,"MENSUAL",{"$f":"2*1500","v":3000}]
[null,"451 GOBIERNO REGIONAL LA LIBERTAD","306 EDUCACION SANTIAGO DE HUCO","LEON ALAYO DELIA ELVIRA","40596096","PROPIO","ESCRITURA PUBLICA","430",null,"SEDE CENTRAL","12 MESES",3800,"MENSUAL",{"$f":"12*3800","v":45600}]
[null,"451 GOBIERNO REGIONAL LA LIBERTAD","306 EDUCACION SANTIAGO DE HUCO","ULLOA LLERENA VDA DE CARBAJAL EMMA ROSA","19664999","PROPIO","ESCRITURA PUBLICA","73.6",null,"ALMACEN","11 MESES",300,"MENSUAL",{"$f":"11*300","v":3300}]
[null,"451 GOBIERNO REGIONAL LA LIBERTAD","306 EDUCACION SANTIAGO DE HUCO","LEON ALAYO DELIA ELVIRA","40596096","PROPIO","ESCRITURA PUBLICA","90.3",null,"ALMACEN","4 MESES",300,"MENSUAL",{"$f":"4*300","v":1200}]
[null,"451 GOBIERNO REGIONAL LA LIBERTAD","306 EDUCACION SANTIAGO DE HUCO","CARBAJAL CERNA ANGEL YHONI","10203914","PROPIO","ESCRITURA PUBLICA","77.3",null,"ALMACEN","12 MESES ",380,"MENSUAL",{"$f":"12*380+161.9","v":4721.8999999999996}]
[null,"2019"]
[null,"451 GOBIERNO REGIONAL LA LIBERTAD","306 EDUCACION SANTIAGO DE HUCO","BENITES GUTIERREZ ANTONIA ADELINA","19667355","PROPIO","ESCRITURA PUBLICA","63.5",null,"ALMACEN","8 MESES",320,"MENSUAL",null,2100]
[null,"451 GOBIERNO REGIONAL LA LIBERTAD","306 EDUCACION SANTIAGO DE HUCO","BENITES MORILLA EVA AESPERANZA","19670572","PROPIO","ESCRITURA PUBLICA","79.8",null,"ALMACEN","12 MESES",500,"MENSUAL",null,{"$f":"6*500","v":3000}]
[null,"451 GOBIERNO REGIONAL LA LIBERTAD","306 EDUCACION SANTIAGO DE HUCO","PAREDES GABRIEL ALBERTANO","9692759","PROPIO","ESCRITURA PUBLICA","52.6",null,"ALMACEN","12 MESES",300,"MENSUAL",null,{"$f":"300*6","v":1800}]
[null,"451 GOBIERNO REGIONAL LA LIBERTAD","306 EDUCACION SANTIAGO DE HUCO","PAREDES GABRIEL ALBERTANO","9692759","PROPIO","ESCRITURA PUBLICA","55.3",null,"ALMACEN","5 MESES",300,"MENSUAL",null,{"$f":"300*5","v":1500}]
[null,"2020"]
[null,"451 GOBIERNO REGIONAL LA LIBERTAD","306 EDUCACION SANTIAGO DE HUCO","0",null,null,null,110.3,null,"ALMACEN","4 MESES",1000,"MENSUAL"]
[null,"451 GOBIERNO REGIONAL LA LIBERTAD","306 EDUCACION SANTIAGO DE HUCO","0",null,null,null,81.5,null,"ALMACEN","8 MESES",750,"MENSUAL"]
[null,"451 GOBIERNO REGIONAL LA LIBERTAD","306 EDUCACION SANTIAGO DE HUCO","0",null,null,null,83.2,null,"ALMACEN","8 MESES",750,"MENSUAL"]
[null,"451 GOBIERNO REGIONAL LA LIBERTAD","306 EDUCACION SANTIAGO DE HUCO","0",null,null,null,85.4,null,"ALMACEN","8 MESES",750,"MENSUAL"]
[null,"451 GOBIERNO REGIONAL LA LIBERTAD","306 EDUCACION SANTIAGO DE HUCO","0",null,null,null,82.9,null,"ALMACEN","8 MESES",750,"MENSUAL"]
[null,"TOTAL",null,null,null,null,null,null,null,null,null,null,null,{"$f":"SUM(N103:N118)","v":57821.9},{"$f":"SUM(O103:O118)","v":8400}]
[]
[null,"2018",null,null,null,null,null,null,null,null,null,{"$f":"SUM(L122:L125)","v":4060},null,{"$f":"SUM(N122:N125)","v":48720}]
[null,"451","308 EDUCACION PATAZ","FRANK SOLORZANO ROJAS","42605195",null,null,"1200",null,null,"31/12/2018",1300,"MENSUAL",{"$f":"+L122*12","v":15600}]
[null,"451","308 EDUCACION PATAZ","EDWIN FIGUEROA HERAS","19416696",null,null,"120",null,null,"31/12/2018",500,"MENSUAL",{"$f":"+L123*12","v":6000}]
[null,"451","308 EDUCACION PATAZ","HERMINIO FLORES GUILLEN","19401512",null,null,"60","SI",null,"31/12/2018",360,"MENSUAL",{"$f":"+L124*12","v":4320}]
[null,"451","308 EDUCACION PATAZ","JOSE AQUILES ROMERO PONTE","19424538",null,null,"450",null,null,"31/12/2018",1900,"MENSUAL",{"$f":"+L125*12","v":22800}]
[]
[null,"2019",null,null,null,null,null,null,null,null,null,{"$f":"SUM(L128:L131)","v":4060},null,{"$f":"SUM(N128:N131)","v":0},{"$f":"SUM(O128:O131)","v":24360}]
[null,"451","308 EDUCACION PATAZ","FRANK SOLORZANO ROJAS","42605195",null,null,"1200",null,null,"31/12/2019",1300,"MENSUAL",null,{"$f":"+L128*6","v":7800}]
[null,"451","308 EDUCACION PATAZ","EDWIN FIGUEROA HERAS","19416696",null,null,"120",null,null,"31/12/2019",500,"MENSUAL",null,{"$f":"+L129*6","v":3000}]
[null,"451","308 EDUCACION PATAZ","HERMINIO FLORES GUILLEN","19401512",null,null,"60","SI",null,"31/12/2019",360,"MENSUAL",null,{"$f":"+L130*6","v":2160}]
[null,"451","308 EDUCACION PATAZ","JOSE AQUILES ROMERO PONTE","19424538",null,null,"450",null,null,"31/12/2019",1900,"MENSUAL",null,{"$f":"+L131*6","v":11400}]
[]
[null,"2020"]
[]
[null,"TOTAL",null,null,null,null,null,null,null,null,null,{"$f":"+L121+L127","v":8120},null,{"$f":"+N121+N127","v":48720},{"$f":"+O121+O127","v":24360}]
[]
[null,"2018"]
[null,"451","309 REGION LA LIBERTAD-EDUCACIÓN BOLIVAR-000843","DAVILA MERINO OCTAVIO","08159234","TERCERA","S/N","24",null,"ALMACEN PARA MATERIAL","1 ENERO HASTA EL 30 DE SETIEMBRE 2018",150,"ANUAL ",{"$f":"+L138*12","v":1800}]
[null,"451","309 REGION LA LIBERTAD-EDUCACIÓN BOLIVAR-000843","HUMAN CHACON ESTHER DEL CARMEN","42613865","TERCERA","S/N","24",null,"ALMACEN PARA MATERIAL","13 DE SETIEMBRE AL 30 DE NOVIEMBRE DEL 2018                     180                  ",180,"ANUAL ",{"$f":"+L139*12","v":2160}]
[null,"541","309 REGION LA LIBERTAD-EDUCACIÓN BOLIVAR-000843","JOSE WILFREDO DAVILA REGIFO","18184261","TERCERA","S/N","90 ",null,"ALMACEN PARA MATERIAL","1 DE ABRIL HASTA EL 30 DE JUNIO DEL 2018.",20,"ANUAL "]
[]
[null,"2019"]
[null,"451","309 REGION LA LIBERTAD-EDUCACIÓN BOLIVAR-000843","DAVILA MERINO OCTAVIO","08159234","TERCERA","S/N","24",null,"ALMACEN PARA MATERIAL","1 DE OCTUBRE HASTE LE 31 DE DICIEMBRE DEL 2018",150,"ANUAL ",null,{"$f":"+L143*6","v":900}]
[null,"451","309 REGION LA LIBERTAD-EDUCACIÓN BOLIVAR-000843","HUMAN CHACON ESTHER DEL CARMEN","42613865","TERCERA","S/N","24",null,"ALMACEN PARA MATERIAL","13 DE DICIEMBRE HASTA EL 31 DICIEMBRE DEL 2018.",180,"ANUAL ",null,{"$f":"+L144*6","v":1080}]
[null,"451","309 REGION LA LIBERTAD-EDUCACIÓN BOLIVAR-000843","JOSE WILFREDO DAVILA REGIFO","18184261","TERCERA","S/N","24",null,"ALMACEN PARA MATERIAL","15 DE ABRIL HASTA EL 15 DE JULIO DEL 2019",700,"ANUAL ",null,4200]
[null,"451","309 REGION LA LIBERTAD-EDUCACIÓN BOLIVAR-000843","JOSE WILFREDO DAVILA REGIFO","18184261","TERCERA","S/N","24",null,"ALMACEN PARA MATERIAL","1 DE JULIO HASTA EL 30 DE SETIEMBRE DEL 2018",200,"ANUAL ",null,1200]
[null,"451","309 REGION LA LIBERTAD-EDUCACIÓN BOLIVAR-000843","PECHE RENGIFO LORENZO","18981217","TERCERA","S/N","32",null,"ALMACEN PARA MATERIAL","1DE ENERO HASTA EL 30 ABRIL DEL 2019",802.5,"ANUAL ",null,4815]
[null,"451","309 REGION LA LIBERTAD-EDUCACIÓN BOLIVAR-000843","PECHE RENGIFO LORENZO","18981217","TERCERA","S/N","32",null,"ALMACEN PARA MATERIAL","1 DE AGOSTO HASTA EL 31 AGOSTO DEL 2018",800,"ANUAL ",null,4800]
[]
[null,"TOTAL",null,null,null,null,null,null,null,null,null,null,null,{"$f":"SUM(N138:N149)","v":3960},{"$f":"SUM(O138:O149)","v":16995}]
[]
[null,"2018",null,null,null,null,null,null,null,null,null,null,null,{"$f":"SUM(N153:N154)","v":33600}]
[null,"451","311 EDUCACIÓN JULCAN","RODRIGUEZ GUTIERREZ ELVA","43055969","PROPIO",null,"300",null,null,"31/01/2018 AL 31/12/2018",2000,"MENSUAL",{"$f":"+L153*12","v":24000}]
[null,"451","311 EDUCACIÓN JULCAN","LIZARRAGA LUJAN BLANCA YUBANI ","19076578","PROPIO",null,"205",null,"X","31/01/2018 AL 31/12/2018",800,"MENSUAL",{"$f":"+L154*12","v":9600}]
[]
[null,"2019",null,null,null,null,null,null,null,null,null,null,null,null,{"$f":"SUM(O157:O158)","v":18000}]
[null,"451","311 EDUCACIÓN JULCAN","RODRIGUEZ GUTIERREZ ELBA",null,"PROPIO",null,"300",null,null,"31/01/2019 AL 31/12/2019",2200,"MENSUAL",null,{"$f":"+L157*6","v":13200}]
[null,"451","311 EDUCACIÓN JULCAN","LIZARRAGA LUJAN BLANCA YUBANI ","43055969","PROPIO",null,"205",null,"X","31/01/2019 AL 31/12/2019",800,"MENSUAL",null,{"$f":"+L158*6","v":4800}]
[]
[null,"2020"]
[null,"451","311 EDUCACIÓN JULCAN","RODRIGUEZ GUTIERREZ ELBA","43055969","PROPIO",null,"300",null,null,"31/01/2020 AL 31/12/2020",2500,"MENSUAL"]
[null,"451","311 EDUCACIÓN JULCAN","LIZARRAGA LUJAN BLANCA YUBANI ","19076578","PROPIO",null,"205",null,"X","31/01/2020 AL 31/12/2020",1000,"MENSUAL"]
[null,"TOTAL ====>",null,null,null,null,null,null,null,null,null,null,null,{"$f":"+N152+N156","v":33600},{"$f":"+O152+O156","v":18000}]
[]
[null,"2018",null,null,null,null,null,null,null,null,null,{"$f":"SUM(L166:L167)","v":3500}]
[null,"451 Gob. Reg. La Libertad","312 Educacion Viru ","GALICIA PELAEZ EDUARDO ALEJANDRO","32941989","BIEN PROPIO  02 PISOS",11067292,"324 ",null,"SEDE UGEL VIRU ","31/12/2018",2400,"MENSUAL ",{"$f":"+L166*12","v":28800}]
[null,"451 Gob. Reg. La Libertad","312 Educacion Viru ","PAREDES NARVAEZ KAREN LIZETH ","45110044","BIEN PROPIO  01 PISO ","AUTOVALUO ","207 ",null,"ALMACEN UGEL VIRU ","31/12/2018",1100,"MENSUAL ",{"$f":"+L167*12","v":13200}]
[]
[null,"2019",null,null,null,null,null,null,null,null,null,{"$f":"SUM(L170:L171)","v":3750}]
[null,"451 Gob. Reg. La Libertad","312 Educacion Viru ","GALICIA PELAEZ EDUARDO ALEJANDRO","32941989","BIEN PROPIO ",11067292,"324 ",null,"SEDE UGEL VIRU ","31/12/2019",2400,"MENSUAL ",null,{"$f":"+L170*6","v":14400}]
[null,"451 Gob. Reg. La Libertad","312 Educacion Viru ","PAREDES NARVAEZ KAREN LIZETH ","45110044","BIEN PROPIO ","AUTOVALUO ","207 ",null,"ALMACEN UGEL VIRU ","31/12/2019",1350,"MENSUAL ",null,{"$f":"(1100*2)+1350*4","v":7600}]
[]
[null,"2020",null,null,null,null,null,null,null,null,null,{"$f":"SUM(L174:L175)","v":4150}]
[null,"451 Gob. Reg. La Libertad","312 Educacion Viru ","GALICIA PELAEZ EDUARDO ALEJANDRO","32941989","BIEN PROPIO ",11067292,"324",null,"SEDE UGEL VIRU ","31/12/2020",2800,"MENSUAL "]
[null,"451 Gob. Reg. La Libertad","312 Educacion Viru ","PAREDES NARVAEZ KAREN LIZETH ","45110044","BIEN PROPIO ","AUTOVALUO ","207",null,"ALMACEN UGEL VIRU ","31/12/2020",1350,"MENSUAL "]
[]
[null,null,null,null,null,null,null,null,null,null,null,null,null,{"$f":"SUM(N166:N176)","v":42000},{"$f":"SUM(O166:O176)","v":22000}]
[]
[null,"2018",null,null,null,null,null,null,null,null,null,{"$f":"SUM(L180:L181)","v":6800},null,{"$f":"SUM(N180:N181)","v":81600}]
[null,"451 GOBIERNO REGIONAL LA LIBERTAD","313 EDUCACION EL PORVENIR","Gutierrez Loyola Genaro Martin","181640231","PROPIO","P14032445","76.5325","NO","NO","ENE-DIC",5500,"MENSUAL",{"$f":"+L180*12","v":66000}]
[null,null,"313 EDUCACION EL PORVENIR","Rodríguez Horna Estanislao","180753261","PROPIO","P14039829","255.8400","NO","NO","ENE-DIC",1300,"MENSUAL",{"$f":"+L181*12","v":15600}]
[]
[null,"2019",null,null,null,null,null,null,null,null,null,{"$f":"SUM(L184:L185)","v":7000},null,null,{"$f":"SUM(O184:O185)","v":42000}]
[null,"451 GOBIERNO REGIONAL LA LIBERTAD","313 EDUCACION EL PORVENIR","Gutierrez Loyola Genaro Martin","181640231","PROPIO","P14032445","76.5325","NO","NO","ENE-DIC",5500,"MENSUAL",null,{"$f":"+L184*6","v":33000}]
[null,null,"313 EDUCACION EL PORVENIR","Sánchez Castro Luis Alberto","180753261","PROPIO","P14039829","255.8400","NO","NO","ENE-DIC",1500,"MENSUAL",null,{"$f":"+L185*6","v":9000}]
[]
[null,"2020"]
[null,"451 GOBIERNO REGIONAL LA LIBERTAD","313 EDUCACION EL PORVENIR","Gutierrez Loyola Genaro Martin","181640231","PROPIO","P14032445","76.5325","NO","NO","ENE-DIC"]
[null,null,"313 EDUCACION EL PORVENIR","Sánchez Castro Luis Alberto","180753261","PROPIO","P14039829","255.8400","NO","NO","ENE-DIC"]
[]
[]
[null,"TOTAL",null,null,null,null,null,null,null,null,null,{"$f":"+L179+L183","v":13800},null,{"$f":"+N179+N183","v":81600},{"$f":"+O179+O183","v":42000}]
[]
[null,"2018",null,null,null,null,null,null,null,null,null,null,null,{"$f":"+N195","v":600480}]
[null,"451 GOBIERNO REGIONAL LA LIBERTAD","314 EDUCACION LA ESPERANZA","RODRIGUEZLEON ANGEL ALBERTO","18107330","BIEN PROPIO",null,"200 M2",null,null,"31/12/2019",5040,"PAGO MENSUAL",600480]
[]
[null,"2019",null,null,null,null,null,null,null,null,null,null,null,null,{"$f":"+O198","v":30240}]
[null,"451 GOBIERNO REGIONAL LA LIBERTAD","314 EDUCACION LA ESPERANZA","RODRIGUEZLEON ANGEL ALBERTO","18107330","BIEN PROPIO",null,"200 M2",null,null,"31/12/2019",5040,"MENSUL/PRIMER DIA HABIL DE CADA MES",null,{"$f":"+L198*6","v":30240}]
[]
[null,"2020"]
[null,"451 GOBIERNO REGIONAL LA LIBERTAD","314 EDUCACION LA ESPERANZA","-",null,"BIEN PROPIO",null,"200 M2",null,null,"31/12/2019",5040,"MENSUL/PRIMER DIA HABIL DE CADA MES"]
[]
[null,"TOTAL",null,null,null,null,null,null,null,null,null,{"$f":"+L195+L198+L201","v":15120},null,{"$f":"+N195+N198+N201","v":600480},{"$f":"+O195+O198+O201","v":30240}]
[]
[null,"2018",null,null,null,null,null,null,null,null,null,{"$f":"+L206","v":6000},null,{"$f":"+N206","v":72000},{"$f":"+O206","v":0}]
[null,"451 GOBIERNO REGIONAL LA LIBERTAD","316 EDUCACION TRUJILLO SUR ESTE","ALVARADO ORBEGOZO MARTHA ALICIA","1018109361","PROPIO",null,"175.7 M",null,null,"31/12/2018",6000,"MENSUAL",{"$f":"+L206*12","v":72000}]
[]
[null,"2019",null,null,null,null,null,null,null,null,null,{"$f":"+L209","v":6000},null,{"$f":"+N209","v":0},{"$f":"+O209","v":36000}]
[null,"451 GOBIERNO REGIONAL LA LIBERTAD","316 EDUCACION TRUJILLO SUR ESTE","ALVARADO ORBEGOZO MARTHA ALICIA","1018109361","PROPIO",null,"175.7 M",null,null,"31/12/2019",6000,"MENSUAL",null,{"$f":"+L209*6","v":36000}]
[]
[null,"2020",null,null,null,null,null,null,null,null,null,{"$f":"+L212","v":6000},null,{"$f":"+N212","v":0},{"$f":"+O212","v":0}]
[null,"451 GOBIERNO REGIONAL LA LIBERTAD","316 EDUCACION TRUJILLO SUR ESTE","ALVARADO ORBEGOZO MARTHA ALICIA","1018109361","PROPIO",null,"175.7.M",null,null,"31/12/2019",6000,"MENSUAL"]
[]
[null,"TOTAL",null,null,null,null,null,null,null,null,null,{"$f":"+L205+L208+L211","v":18000},null,{"$f":"+N205+N208+N211","v":72000},{"$f":"+O205+O208+O211","v":36000}]
[]
[null,2018,null,null,null,null,null,null,null,null,null,{"$f":"SUM(L217:L219)","v":10750},null,{"$f":"SUM(N217:N219)","v":129000}]
[null,"451 GOBIERNO REGIONAL LA LIBERTAD","400 SALUD LA LIBERTAD","ESPINO AMAYA ELIAS FRANCISCO",18010626,"Propio","03096422","300 m2","No",null,"Anual ",3100,"Mensual ",{"$f":"+L217*12","v":37200}]
[null,"451 GOBIERNO REGIONAL LA LIBERTAD","400 SALUD LA LIBERTAD","KOIDE MANKAY CECILIA VERONIKA",18097487,"Propio","03114095","400m2",null,null,"Anual ",3150,"Mensual ",{"$f":"+L218*12","v":37800}]
[null,"451 GOBIERNO REGIONAL LA LIBERTAD","400 SALUD LA LIBERTAD","MEDINA BARRIOS HECTOR ALFREDO ",29352619,"Propio","03103028","300 m2","No",null,"Anual ",4500,"Mensual ",{"$f":"+L219*12","v":54000}]
[]
[null,2019,null,null,null,null,null,null,null,null,null,{"$f":"SUM(L222:L224)","v":10750},null,null,{"$f":"SUM(O222:O224)","v":64500}]
[null,"451 GOBIERNO REGIONAL LA LIBERTAD","400 SALUD LA LIBERTAD","ESPINO AMAYA ELIAS FRANCISCO",18010626,"Propio","03096422","300 m2","No",null,"Anual ",3100,"Mensual ",null,{"$f":"+L222*6","v":18600}]
[null,"451 GOBIERNO REGIONAL LA LIBERTAD","400 SALUD LA LIBERTAD","KOIDE MANKAY CECILIA VERONIKA",18097487,"Propio","03114095","400m2",null,null,"Anual ",3150,"Mensual ",null,{"$f":"+L223*6","v":18900}]
[null,"451 GOBIERNO REGIONAL LA LIBERTAD","400 SALUD LA LIBERTAD","MEDINA BARRIOS HECTOR ALFREDO ",29352619,"Propio","03103028","300 m2","No",null,"Anual ",4500,"Mensual ",null,{"$f":"+L224*6","v":27000}]
[]
[null,"PROYECTO 2020",null,null,null,null,null,null,null,null,null,{"$f":"SUM(L227:L229)","v":10750}]
[null,"451 GOBIERNO REGIONAL LA LIBERTAD","400 SALUD LA LIBERTAD","ESPINO AMAYA ELIAS FRANCISCO",18010626,"Propio","03096422","300 m2","No",null,"Anual ",3100,"Mensual "]
[null,"451 GOBIERNO REGIONAL LA LIBERTAD","400 SALUD LA LIBERTAD","KOIDE MANKAY CECILIA VERONIKA",18097487,"Propio","03114095","400m2",null,null,"Anual ",3150,"Mensual "]
[null,"451 GOBIERNO REGIONAL LA LIBERTAD","400 SALUD LA LIBERTAD","MEDINA BARRIOS HECTOR ALFREDO ",29352619,"Propio","03103028","300 m2","No",null,"Anual ",4500,"Mensual "]
[]
[null,null,null,null,null,null,null,null,null,null,null,{"$f":"+L216+L221+L226","v":32250},null,{"$f":"+N216+N221+N226","v":129000},{"$f":"+O216+O221+O226","v":64500}]
[]
[null,"2018",null,null,null,null,null,null,null,null,null,{"$f":"SUM(L234:L236)","v":13800},null,{"$f":"SUM(N234:N236)","v":165600}]
[null,"451 GOBIERNO REGIONAL LA LIBERTAD","409 SALUD TRUJILLO ESTE","SANTOS ROJAS VICTORIA GRACIELA","17911324","PROPIO","03002231",null,null,null,"06/02/2018",6300,"MENSUAL",{"$f":"L234*12","v":75600}]
[null,"451 GOBIERNO REGIONAL LA LIBERTAD","409 SALUD TRUJILLO ESTE","ZORRILA GALVEZ HERNAN","18180018","PROPIO","11303492",null,null,null,"03/09/2018",3900,"MENSUAL",{"$f":"L235*12","v":46800}]
[null,"451 GOBIERNO REGIONAL LA LIBERTAD","409 SALUD TRUJILLO ESTE","SUAREZ ALBURQUEQUE JULIANA","03884984","PROPIO","03109310",null,null,null,"27/09/2018",3600,"MENSUAL",{"$f":"L236*12","v":43200}]
[]
[null,"2019",null,null,null,null,null,null,null,null,null,{"$f":"SUM(L239:L241)","v":13800},null,null,{"$f":"SUM(O239:O241)","v":82800}]
[null,"451 GOBIERNO REGIONAL LA LIBERTAD","409 SALUD TRUJILLO ESTE","SANTOS ROJAS VICTORIA GRACIELA","17911324","PROPIO","03002231",null,null,null,"VIGENTE",6300,"MENSUAL","",{"$f":"L239*6","v":37800}]
[null,"451 GOBIERNO REGIONAL LA LIBERTAD","409 SALUD TRUJILLO ESTE","ZORRILA GALVEZ HERNAN","18180018","PROPIO","11303492",null,null,null,"VIGENTE",3900,"MENSUAL",null,{"$f":"L240*6","v":23400}]
[null,"451 GOBIERNO REGIONAL LA LIBERTAD","409 SALUD TRUJILLO ESTE","SUAREZ ALBURQUEQUE JULIANA","03884984","PROPIO","03109310",null,null,null,"VIGENTE",3600,"MENSUAL",null,{"$f":"L241*6","v":21600}]
[]
[null,"2020"]
[]
[null,"TOTAL",null,null,null,null,null,null,null,null,null,{"$f":"+L233+L238","v":27600},null,{"$f":"+N233+N238","v":165600},{"$f":"+O233+O238","v":82800}]
[]
[null,2018,null,null,null,null,null,null,null,null,null,{"$f":"+L248","v":1800},null,{"$f":"+N248","v":21600}]
[null,"451 GOBIERNO REGIONAL LA LIBERTAD","414 SALUD GRAN CHIMU","CAMACHO DE CHIGNE VIOLETA VICTORIA ",27147284,"PROPIO",null,"160 m2",null,null,"1 AÑO",1800,"MENSUAL",{"$f":"L248*12","v":21600}]
[null,2019,null,null,null,null,null,null,null,null,null,{"$f":"+L250","v":2000},null,null,{"$f":"+O250","v":12000}]
[null,"451 GOBIERNO REGIONAL LA LIBERTAD","414 SALUD GRAN CHIMU","CAMACHO DE CHIGNE VIOLETA VICTORIA ",27147284,"PROPIO",null,"160 m2",null,null,"1 AÑO",2000,"MENSUAL",null,{"$f":"L250*6","v":12000}]
[null,2020,null,null,null,null,null,null,null,null,null,{"$f":"+L252","v":2000}]
[null,"451 GOBIERNO REGIONAL LA LIBERTAD","414 SALUD GRAN CHIMU","CAMACHO DE CHIGNE VIOLETA VICTORIA ",27147284,"PROPIO",null,"160 m2",null,null,"1 AÑO",2000,"MENSUAL"]
[]
[null,"TOTAL",null,null,null,null,null,null,null,null,null,{"$f":"+L247+L249+L251","v":5800},null,{"$f":"+N247+N249+N251","v":21600},{"$f":"+O247+O249+O251","v":12000}]
[null,"(*)= Al 30 de junio de 2019"]

{"sheet":"Hoja3","index":21,"n_rows":0,"n_cols":0,"rows_kept":0,"cut":false,"hidden":true,"merged":[]}